{"text_format":"1","workbook":"xlsx","n_sheets":14,"sheets":["MatchDay","Track (Match 1)","Field (Match 1)","Relay (Match 1)","Boys (Match 1)","Girls (Match 1)","Track (Match 2)","Field (Match 2)","Relay (Match 2)","Boys (Match 2)","Girls (Match 2)","Handbook","Distance","Height"],"not_rendered":{"charts":0,"images":2,"macros":1,"external_links":0,"defined_names":85,"comments":0,"pivot_tables":0},"unopened":[],"bounds":{"document_bytes":16777216,"sheet_cells":100000,"rows_first":2000,"rows_last":500,"rows_between":2000,"halvings":0,"cell_chars":16384,"cell_head_chars":4096},"cells_cut":0,"cells_raw":0,"read":"whole","date_system":"1900"}

{"sheet":"MatchDay","index":0,"n_rows":213,"n_cols":33,"rows_kept":213,"cut":false,"hidden":false,"merged":[[2,11,3,11],[19,2,22,4],[2,7,3,7],[4,7,5,7],[8,8,9,9],[8,10,9,10],[10,10,11,10],[12,10,13,10],[14,10,15,10],[12,7,13,7],[12,2,13,3],[6,7,7,7],[8,7,9,7],[10,6,11,6],[12,6,13,6],[8,2,9,3],[2,8,3,10],[14,7,15,7],[2,5,3,5],[10,4,11,4],[12,4,13,4],[4,2,5,4],[14,6,15,6],[14,8,15,9],[10,8,11,9],[10,7,11,7],[12,8,13,9],[2,1,3,1],[4,1,5,1],[6,1,7,1],[8,1,9,1],[10,2,11,3],[8,6,9,6],[10,1,11,1],[12,1,13,1],[6,8,7,10],[2,2,3,4],[6,2,7,4],[8,4,9,4],[4,8,5,10],[10,0,11,0],[12,0,13,0],[14,0,15,0],[16,0,17,0],[8,0,9,0],[14,1,15,1],[16,1,17,1],[14,2,15,3],[16,2,17,3],[14,4,15,4],[16,4,17,4],[43,4,44,4],[39,1,40,1],[39,2,40,3],[39,4,40,4],[35,2,36,3],[35,4,36,4],[37,1,38,1],[37,2,38,3],[37,4,38,4],[35,1,36,1],[41,1,42,1],[41,2,42,3],[41,4,42,4],[41,7,42,7],[41,8,42,9],[35,7,36,7],[43,7,44,7],[41,10,42,10],[39,7,40,7],[39,8,40,9],[39,10,40,10],[43,8,44,9],[43,10,44,10],[16,7,17,7],[16,8,17,9],[16,10,17,10],[37,7,38,7],[37,8,38,9],[37,10,38,10],[35,8,36,9],[35,10,36,10],[57,1,58,1],[57,2,58,2],[59,1,60,1],[59,2,60,2],[51,1,52,1],[51,2,52,2],[53,1,54,1],[53,2,54,2],[55,1,56,1],[55,2,56,2],[47,1,48,1],[47,2,48,2],[49,1,50,1],[49,2,50,2],[43,1,44,1],[43,2,44,3]]}
[null,null,null,null,null,null,null,null,null,null,null,null,null,"Bib","Midlands Premier North","Northern Premier West","Northern 2 SE","Northern 2 North","Northern 2 West","Southern Premier East","Southern 2 West","Southern 2 A24","Northern 2 SW",null,null,null,"Leagues",null,null,null,null,"Clubs","AW/POT"]
[null,null,null,null,null,null,null,null,null,null,null,null,null,"A","Birchfield","Blackburn",null,"Jarrow","Colwyn Bay","Tonbridge","Abingdon AC","Dorking/Reigate Priory","Blackley & N Manchester",null,null,null,{"$f":"INDIRECT(AD2)","v":"Midlands Premier North"},2,"o",{"$f":"CONCATENATE(AC2,1)","v":"o1"},null,"2DASH","DASH"]
[null,"League","Northern Premier East",null,null,{"$f":"IF(OR(C3=0,C3=\"\",ISERROR(VLOOKUP(C3,$AA$2:$AB$33,2,FALSE)=TRUE)),\"\",VLOOKUP(C3,$AA$2:$AB$33,2,FALSE))","v":5},null,"League","Northern 1 SE",null,null,{"$f":"IF(OR(I3=0,I3=\"\",ISERROR(VLOOKUP(I3,$AA$2:$AB$33,2,FALSE)=TRUE)),\"\",VLOOKUP(I3,$AA$2:$AB$33,2,FALSE))","v":7},null,"B","Cannock & Staffs","Blackpool, Wyre & Fylde","Grimsby/Barton & District","North Shield Poly","Deeside","Blackheath & Bromley","City of Salisbury","East Grinstead","Longwood",null,null,null,{"$f":"INDIRECT(AD3)","v":"Northern Premier West"},3,"p",{"$f":"CONCATENATE(AC3,1)","v":"p1"},null,"A.F.D.","AFD"]
[null,null,null,null,null,null,null,null,null,null,null,null,null,"C","Charnwood","Liverpool Harr","Boston","South Shields","Halton & Frodsham","City of Norwich AC",null,"Hercules Wimbledon","Manchester Harr",null,null,null,"Northern 2 SE",4,"q","q1",null,"Abingdon AC","Abing"]
[null,"Date","Sunday 8th May 2011",null,null,null,null,"Date",{"$f":"C5","v":"Sunday 8th May 2011"},null,null,null,null,"D","Mansfield","Preston",null,"Sunderland Harr","Isle of Man","Croydon Harriers","Guernsey / Jersey","Holland Sports","Oldham",null,null,null,"Northern 2 North",5,"r","r1",null,"Alnwick & Blyth","Aln & Blyth"]
[null,null,null,null,null,null,null,null,null,null,null,null,null,"E","City of Stoke","Sale HM","Sleaford","Tynedale",null,"Enfield & Haringey",null,"Sutton & District","Salford",null,null,null,"Northern 2 West",6,"s","s1",null,"Altrincham & Dist","Alt"]
[null,"Venue","Thornes Park Stadium, Wakefield",null,null,null,null,"Venue",{"$f":"C7","v":"Thornes Park Stadium, Wakefield"},null,null,null,null,"F","Coventry Godiva","Crewe & Nantwich",null,null,"Maldwyn","Havering Mayesbrook",null,"Walton","Stockport",null,null,null,"Southern Premier East",7,"t","t1",null,"Ashford","Ashf"]
[null,null,null,null,null,null,null,null,null,null,null,null,null,"G","Wolverhampton & Bilston","Warrington",null,null,"Menai","Herne Hill Harriers",null,"Fleet & Crookham","Leigh Harr",null,null,null,"Southern 2 West",8,"u","u1",null,"Barnsley","Barns"]
[null,"Bib","MATCH 1",null,"AW",null,null,"Bib","MATCH 2",null,"AW",null,null,"H","Nene Valley","West Cheshire",null,null,null,"St Albans",null,null,null,null,null,null,"Southern 2 A24",9,"v","v1",null,"Barton & District","Bart"]
[null,null,null,null,null,null,null,null,null,null,null,null,null,"I","Notts AC","Horwich",null,null,null,"Woodford Gn / Essex Ld.",null,null,null,null,null,null,"Northern 2 SW",10,"w","w1",null,"Bedford & County AC","Bed C"]
[1,9,{"$f":"IF(OR($F$3=0,$F$3=\"\",B11=0,B11=\"\",ISERROR(VLOOKUP(B11,clubs,$F$3,FALSE)=TRUE)),\"\",VLOOKUP(B11,clubs,$F$3,FALSE))","v":"Wakefield"},null,{"$f":"IF(OR(B11=0,B11=\"\"),\"\",VLOOKUP(C11,teams_aw,2,FALSE))","v":"Wake"},null,4,1,{"$f":"IF(OR($L$3=0,$L$3=\"\",H11=0,H11=\"\",ISERROR(VLOOKUP(H11,clubs,$L$3,FALSE)=TRUE)),\"\",VLOOKUP(H11,clubs,$L$3,FALSE))","v":"2DASH"},null,{"$f":"IF(OR(H11=0,H11=\"\"),\"\",VLOOKUP(I11,teams_aw,2,FALSE))","v":"DASH"},null,null,null,null,null,null,null,null,null,null,null,null,null,null,null,"Midland 1 SW",2,"o",{"$f":"CONCATENATE(AC11,12)","v":"o12"},null,"Bexley","Bex"]
[null,null,null,null,null,null,null,null,null,null,null,null,null,null,"Midland 1 SW","Midland 1 NE","Northern 1 SW","Northern 1 NE","Northern 2 NE","N2 West Central",null,"Southern 1 SW","Southern 1 NE","Southern 2 Thames","Midland 2",null,"Midland 1 NE",3,"p",{"$f":"CONCATENATE(AC12,12)","v":"p12"},null,"Bicester Banbury","Bic & Banb"]
[2,8,{"$f":"IF(OR($F$3=0,$F$3=\"\",B13=0,B13=\"\",ISERROR(VLOOKUP(B13,clubs,$F$3,FALSE)=TRUE)),\"\",VLOOKUP(B13,clubs,$F$3,FALSE))","v":"City of York"},null,{"$f":"IF(OR(B13=0,B13=\"\"),\"\",VLOOKUP(C13,teams_aw,2,FALSE))","v":"York"},null,5,2,{"$f":"IF(OR($L$3=0,$L$3=\"\",H13=0,H13=\"\",ISERROR(VLOOKUP(H13,clubs,$L$3,FALSE)=TRUE)),\"\",VLOOKUP(H13,clubs,$L$3,FALSE))","v":"Lincoln Wellington"},null,{"$f":"IF(OR(H13=0,H13=\"\"),\"\",VLOOKUP(I13,teams_aw,2,FALSE))","v":"Linc W"},null,null,"K","Bridgend","Burton","Deesdie","Harrogate ","Darlington","Burnley",null,"A.F.D.","Cambridge Harriers","Eton Manor",null,null,"Northern 1 SW",4,"q","q12",null,"Bingley","Bing"]
[null,null,null,null,null,null,null,null,null,null,null,null,null,"L","Bristol","Corby","East Cheshire","Birtley","Durham City","Holmfirth",null,"Walton","Dartford","Highgate",null,null,"Northern 1 NE",5,"r","r12",null,"Birchfield","Bir"]
[3,7,{"$f":"IF(OR($F$3=0,$F$3=\"\",B15=0,B15=\"\",ISERROR(VLOOKUP(B15,clubs,$F$3,FALSE)=TRUE)),\"\",VLOOKUP(B15,clubs,$F$3,FALSE))","v":"Leeds City"},null,{"$f":"IF(OR(B15=0,B15=\"\"),\"\",VLOOKUP(C15,teams_aw,2,FALSE))","v":"Leeds C"},null,6,3,{"$f":"IF(OR($L$3=0,$L$3=\"\",H15=0,H15=\"\",ISERROR(VLOOKUP(H15,clubs,$L$3,FALSE)=TRUE)),\"\",VLOOKUP(H15,clubs,$L$3,FALSE))","v":"Hallamshire Harr"},null,{"$f":"IF(OR(H15=0,H15=\"\"),\"\",VLOOKUP(I15,teams_aw,2,FALSE))","v":"Hallam"},null,null,"M","Carmarthen","Daventry","Wirral","Blaydon","New Marske","Hyndburn",null,"Guildford & Goldalming","Herts Phoenix","Ilford",null,null,"Northern 2 NE",6,"s","s12",null,"Birtley","Birt"]
[null,null,null,null,null,null,null,null,null,null,null,null,null,"O","City Of Plymouth","Grantham","Macclesfield","Chester-Le-Street","Richmond & Zetland","Kendal",null,"Abingdon AC","Highgate","London Heathside",null,null,"N2 West Central",7,"t","t12",null,"Blackburn","B'burn"]
[null,null,{"$f":"IF(OR($F$3=0,$F$3=\"\",B17=0,B17=\"\",ISERROR(VLOOKUP(B17,clubs,$F$3,FALSE)=TRUE)),\"\",VLOOKUP(B17,clubs,$F$3,FALSE))","v":""},null,{"$f":"IF(OR(B17=0,B17=\"\"),\"\",VLOOKUP(C17,teams_aw,2,FALSE))","v":""},null,null,null,{"$f":"IF(OR($F$3=0,$F$3=\"\",H17=0,H17=\"\",ISERROR(VLOOKUP(H17,clubs,$F$3,FALSE)=TRUE)),\"\",VLOOKUP(H17,clubs,$F$3,FALSE))","v":""},null,{"$f":"IF(OR(H17=0,H17=\"\"),\"\",VLOOKUP(I17,teams_aw,2,FALSE))","v":""},null,null,"P","Cwmbran","Kettering","Liv Pem Sefton","Alnwick & Blyth","Shildon","Pudsey & Bramley",null,"Bournemouth AC/Poole Runners","Medway","Vic Pk & Tower Hamlets",null,null,0,8,"u","u12",null,"Blackheath & Bromley","B&B"]
[null,null,null,null,null,null,null,null,null,null,null,null,null,"S","Lllanelli Neath","Leicester Coritanian","Southport Wat.","New Marske",null,null,null,"Portsmouth","Newham & Essex","Queens Park H",null,null,"Southern 1 SW",9,"v","v12",null,"Blackley & N Manchester","Black NM"]
[null,null,null,null,null,null,null,null,null,null,null,null,null,"T","Newport","Nene Valley","Colwyn Bay","Barnsley",null,null,null,"New Forest","Orion",null,null,null,"Southern 1 NE",10,"w","w12",null,"Blackpool, Wyre & Fylde","BWF"]
[null,null,"IF YOU NEED ANY HELP SETTING UP OR ON THE DAY PLEASE PHONE 07507 853112",null,null,null,null,null,null,null,null,null,null,"U","Team Bath","OWLS","Trafford","Morpeth",null,null,null,"Winchester","Basildon",null,null,null,"Southern 2 Thames",11,"x","x12",null,"Blaydon","Blay"]
[null,null,null,null,null,null,null,null,null,null,null,null,null,"W","Yeovil Olympiads AC","Sutton-in-Ashfield","Wigan","Jarrow",null,null,null,"Chichester","Sutton & District",null,null,null,"Midland 2",12,"y","y12",null,"Bolton","Bolt"]
[null,null,null,null,null,null,null,null,null,null,null,null,null,"X",null,null,null,null,null,null,null,null,null,null,"Kidderminster",null,"Midland Premier South",2,"o",{"$f":"CONCATENATE(AC22,24)","v":"o24"},null,"Border","Bord H"]
[null,null,null,null,null,null,null,null,null,null,null,null,null,"Y",null,null,null,null,null,null,null,null,null,"Medway Park Phoenix","A.N OTHER",null,"Midland 1 NW",3,"p",{"$f":"CONCATENATE(AC23,24)","v":"p24"},null,"Boston","Bost"]
[null,null,null,null,null,null,null,null,null,null,null,null,null,null,"Midland Premier South","Midland 1 NW","Midland 1 SE","Northern Premier East","Northern 1 NW","Northern 1 SE","Southern Premier West","Southern 1 NW","Southern 1 SE",null,null,null,"Midland 1 SE",4,"q","q24",null,"Bournemouth AC / Poole Runners","B'mth & Poole R"]
[null,null,null,null,null,null,null,null,null,null,null,null,null,1,"Cardiff","Bridgnorth","Bicester Banbury","Gateshead","Bingley","2DASH","Brighton & Hove","Hillingdon AC","Ashford",null,null,null,"Northern Premier East",5,"r","r24",null,"Bracknell ","Brack"]
[null,null,null,null,null,null,null,null,null,null,null,null,null,2,"Halesowen","Telford","Kidderminster","City of Sheffield","Border","Lincoln Wellington","Bracknell","Camberley","Worthing",null,null,null,"Northern 1 NW",6,"s","s24",null,"Bridgend","B'end"]
[null,null,null,null,null,null,null,null,null,null,null,null,null,3,"Cheltenham","Dudley & Stourbridge","Leamington","Kingston-u-Hull","Halifax Harr","Hallamshire Harr","Harrow","Chiltern","Crawley AC",null,null,null,"Northern 1 SE",7,"t","t24",null,"Bridgnorth","B'nth"]
[null,null,null,null,null,null,null,null,null,null,null,null,null,4,"Solihull & Small Heath","Halesowen","Hereford/Worcester","Doncaster","Holmfirth","Boston","Bedford & County AC","Ealing","Bexley",null,null,null,"Southern Premier West",8,"u","u24",null,"Brighton & Hove","B&H"]
[null,null,null,null,null,null,null,null,null,null,null,null,null,5,"Rugby & Northampton","Nuneaton","Gloucester","Middlesbro Mandale","Team North Cumbria","Cleethorpes","Reading AC","Kingston Poly","Epsom",null,null,null,"Southern 1 NW",9,"v",{"$f":"CONCATENATE(AC29,24)","v":"v24"},null,"Bristol","B&W"]
[null,null,null,null,null,null,null,null,null,null,null,null,null,6,"Swansea","Oswestry","Oxford City","Chesterfield","Lancaster & Morecombe","Rotherham","Shaftesbury Barnet","St Marys Richmond","Hastings",null,null,null,"Southern 1 SE",10,"w",{"$f":"CONCATENATE(AC30,24)","v":"w24"},null,"Bromsgrove & Redditch","B&R"]
[null,null,null,null,null,null,null,null,null,null,null,null,null,7,"Telford","Tamworth","Radley AC","Leeds City","Pendle","Oldham","Team Dorset","Thames Vall Harr","Horsham Blue Star",null,null,null,null,null,null,null,null,"Burnley","Burn"]
[null,null,null,null,null,null,null,null,null,null,null,null,null,8,"Wolverhampton & Bilston","Tipton","Stratford-u-Avon","City of York","Bolton","Scunthorpe","Southampton AC","Woking","Lewes",null,null,null,null,null,null,null,null,"Burton","Burton"]
[null,null,null,null,null,null,null,null,null,null,null,null,null,9,"Yate & District","Wrexham","Swindon","Wakefield","SKYRAC","Spenborough ","WSEH","Wycombe Phoenix","South London",null,null,null,null,null,null,null,null,"Bury AC","Bury"]
[null,null,null,null,null,null,null,null,null,null,null,null,null,null,null,null,null,null,null,null,null,null,null,null,null,null,null,null,null,null,null,"Camberley","C'ley"]
[null,null,null,null,null,null,null,null,null,null,null,null,null,null,null,null,null,null,null,null,null,null,null,null,null,null,null,null,null,null,null,"Cambridge Harriers","Camb H"]
[null,"Bib","MATCH 1",null,"AW",null,null,"Bib","MATCH 2",null,"AW",null,null,null,null,null,null,null,null,null,null,null,null,null,null,null,null,null,null,null,null,"Cannock & Staffs","C&S"]
[null,null,null,null,null,null,null,null,null,null,null,null,null,null,null,null,null,null,null,null,null,null,null,null,null,null,null,null,null,null,null,"Cardiff","Card"]
[null,{"$f":"IF(OR(B11=0,B11=\"\"),\"\",IF(T(B11)=\"\",B11*11,CONCATENATE(B11,B11)))","v":99},{"$f":"C11","v":"Wakefield"},null,{"$f":"IF(OR(B38=0,B38=\"\"),\"\",VLOOKUP(C38,teams_aw,2,FALSE))","v":"Wake"},null,null,{"$f":"IF(OR(H11=0,H11=\"\"),\"\",IF(T(H11)=\"\",H11*11,CONCATENATE(H11,H11)))","v":11},{"$f":"I11","v":"2DASH"},null,{"$f":"IF(OR(H38=0,H38=\"\"),\"\",VLOOKUP(I38,teams_aw,2,FALSE))","v":"DASH"},null,null,null,null,null,null,null,null,null,null,null,null,null,null,null,null,null,null,null,null,"Carmarthen","Carm"]
[null,null,null,null,null,null,null,null,null,null,null,null,null,null,null,null,null,null,null,null,null,null,null,null,null,null,null,null,null,null,null,"Charnwood","Charn"]
[null,{"$f":"IF(OR(B13=0,B13=\"\"),\"\",IF(T(B13)=\"\",B13*11,CONCATENATE(B13,B13)))","v":88},{"$f":"C13","v":"City of York"},null,{"$f":"IF(OR(B40=0,B40=\"\"),\"\",VLOOKUP(C40,teams_aw,2,FALSE))","v":"York"},null,null,{"$f":"IF(OR(H13=0,H13=\"\"),\"\",IF(T(H13)=\"\",H13*11,CONCATENATE(H13,H13)))","v":22},{"$f":"I13","v":"Lincoln Wellington"},null,{"$f":"IF(OR(H40=0,H40=\"\"),\"\",VLOOKUP(I40,teams_aw,2,FALSE))","v":"Linc W"},null,null,null,null,null,null,null,null,null,null,null,null,null,null,null,null,null,null,null,null,"Cheltenham","Chelt"]
[null,null,null,null,null,null,null,null,null,null,null,null,null,null,null,null,null,null,null,null,null,null,null,null,null,null,null,null,null,null,null,"Chesterfield","C'field"]
[null,{"$f":"IF(OR(B15=0,B15=\"\"),\"\",IF(T(B15)=\"\",B15*11,CONCATENATE(B15,B15)))","v":77},{"$f":"C15","v":"Leeds City"},null,{"$f":"IF(OR(B42=0,B42=\"\"),\"\",VLOOKUP(C42,teams_aw,2,FALSE))","v":"Leeds C"},null,null,{"$f":"IF(OR(H15=0,H15=\"\"),\"\",IF(T(H15)=\"\",H15*11,CONCATENATE(H15,H15)))","v":33},{"$f":"I15","v":"Hallamshire Harr"},null,{"$f":"IF(OR(H42=0,H42=\"\"),\"\",VLOOKUP(I42,teams_aw,2,FALSE))","v":"Hallam"},null,null,null,null,null,null,null,null,null,null,null,null,null,null,null,null,null,null,null,null,"Chester-Le-Street","CleS"]
[null,null,null,null,null,null,null,null,null,null,null,null,null,null,null,null,null,null,null,null,null,null,null,null,null,null,null,null,null,null,null,"Chichester","Chich"]
[null,{"$f":"IF(OR(B17=0,B17=\"\"),\"\",IF(T(B17)=\"\",B17*11,CONCATENATE(B17,B17)))","v":""},{"$f":"IF(OR($F$3=0,$F$3=\"\",B44=0,B44=\"\",ISERROR(VLOOKUP(B44,clubs,$F$3,FALSE)=TRUE)),\"\",VLOOKUP(B44,clubs,$F$3,FALSE))","v":""},null,{"$f":"IF(OR(B44=0,B44=\"\"),\"\",VLOOKUP(C44,teams_aw,2,FALSE))","v":""},null,null,{"$f":"IF(OR(H17=0,H17=\"\"),\"\",IF(T(H17)=\"\",H17*11,CONCATENATE(H17,H17)))","v":""},{"$f":"I17","v":""},null,{"$f":"IF(OR(H44=0,H44=\"\"),\"\",VLOOKUP(I44,teams_aw,2,FALSE))","v":""},null,null,null,null,null,null,null,null,null,null,null,null,null,null,null,null,null,null,null,null,"Chiltern","Chilt"]
[null,null,null,null,null,null,null,null,null,null,null,null,null,null,null,null,null,null,null,null,null,null,null,null,null,null,null,null,null,null,null,"City of Norwich AC","Norw"]
[null,null,null,null,null,null,null,null,null,null,null,null,null,null,null,null,null,null,null,null,null,null,null,null,null,null,null,null,null,null,null,"City Of Plymouth","Ply"]
[null,null,null,null,null,null,null,null,null,null,null,null,null,null,null,null,null,null,null,null,null,null,null,null,null,null,null,null,null,null,null,"City of Salisbury","Salis"]
[null,"posn","points",null,null,null,null,null,null,null,null,null,null,null,null,null,null,null,null,null,null,null,null,null,null,null,null,null,null,null,null,"City of Sheffield","Sheff"]
[null,null,null,null,null,null,null,null,null,null,null,null,null,null,null,null,null,null,null,null,null,null,null,null,null,null,null,null,null,null,null,"City of Stoke","Stoke"]
[null,1,6,null,null,null,null,null,null,null,null,null,null,null,null,null,null,null,null,null,null,null,null,null,null,null,null,null,null,null,null,"City of York","York"]
[null,null,null,null,null,null,null,null,null,null,null,null,null,null,null,null,null,null,null,null,null,null,null,null,null,null,null,null,null,null,null,"Cleethorpes","Clee"]
[null,2,5,null,null,null,null,null,null,null,null,null,null,null,null,null,null,null,null,null,null,null,null,null,null,null,null,null,null,null,null,"Colwyn Bay","Col B"]
[null,null,null,null,null,null,null,null,null,null,null,null,null,null,null,null,null,null,null,null,null,null,null,null,null,null,null,null,null,null,null,"Corby","Corby"]
[null,3,4,null,null,null,null,null,null,null,null,null,null,null,null,null,null,null,null,null,null,null,null,null,null,null,null,null,null,null,null,"Coventry Godiva","Cov"]
[null,null,null,null,null,null,null,null,null,null,null,null,null,null,null,null,null,null,null,null,null,null,null,null,null,null,null,null,null,null,null,"Crawley AC","Craw"]
[null,4,3,null,null,null,null,null,null,null,null,null,null,null,null,null,null,null,null,null,null,null,null,null,null,null,null,null,null,null,null,"Crewe & Nantwich","C&N"]
[null,null,null,null,null,null,null,null,null,null,null,null,null,null,null,null,null,null,null,null,null,null,null,null,null,null,null,null,null,null,null,"Croydon Harriers","Croy"]
[null,5,2,null,null,null,null,null,null,null,null,null,null,null,null,null,null,null,null,null,null,null,null,null,null,null,null,null,null,null,null,"Cwmbran","Cwmb"]
[null,null,null,null,null,null,null,null,null,null,null,null,null,null,null,null,null,null,null,null,null,null,null,null,null,null,null,null,null,null,null,"Darlington","Darl"]
[null,6,1,null,null,null,null,null,null,null,null,null,null,null,null,null,null,null,null,null,null,null,null,null,null,null,null,null,null,null,null,"Dartford","Dartf"]
[null,null,null,null,null,null,null,null,null,null,null,null,null,null,null,null,null,null,null,null,null,null,null,null,null,null,null,null,null,null,null,"Daventry","Dav"]
[null,null,null,null,null,null,null,null,null,null,null,null,null,null,null,null,null,null,null,null,null,null,null,null,null,null,null,null,null,null,null,"Deeside","Dees"]
[null,null,null,null,null,null,null,null,null,null,null,null,null,null,null,null,null,null,null,null,null,null,null,null,null,null,null,null,null,null,null,"Derby AC","Der"]
[null,null,null,null,null,null,null,null,null,null,null,null,null,null,null,null,null,null,null,null,null,null,null,null,null,null,null,null,null,null,null,"Doncaster","Don"]
[null,null,null,null,null,null,null,null,null,null,null,null,null,null,null,null,null,null,null,null,null,null,null,null,null,null,null,null,null,null,null,"Dorking/Reigate Priory","DMW & Reig"]
[null,null,null,null,null,null,null,null,null,null,null,null,null,null,null,null,null,null,null,null,null,null,null,null,null,null,null,null,null,null,null,"Dudley & Stourbridge","D&S"]
[null,null,null,null,null,null,null,null,null,null,null,null,null,null,null,null,null,null,null,null,null,null,null,null,null,null,null,null,null,null,null,"Durham City","Dur"]
[null,null,null,null,null,null,null,null,null,null,null,null,null,null,null,null,null,null,null,null,null,null,null,null,null,null,null,null,null,null,null,"Ealing","ESM"]
[null,null,null,null,null,null,null,null,null,null,null,null,null,null,null,null,null,null,null,null,null,null,null,null,null,null,null,null,null,null,null,"East Cheshire","E Ches"]
[null,null,null,null,null,null,null,null,null,null,null,null,null,null,null,null,null,null,null,null,null,null,null,null,null,null,null,null,null,null,null,"East Grinstead","E Grin"]
[null,null,null,null,null,null,null,null,null,null,null,null,null,null,null,null,null,null,null,null,null,null,null,null,null,null,null,null,null,null,null,"Eastbourne","E'bne"]
[null,null,null,null,null,null,null,null,null,null,null,null,null,null,null,null,null,null,null,null,null,null,null,null,null,null,null,null,null,null,null,"Enfield & Haringey","E&H"]
[null,null,null,null,null,null,null,null,null,null,null,null,null,null,null,null,null,null,null,null,null,null,null,null,null,null,null,null,null,null,null,"Epsom","E&E"]
[null,null,null,null,null,null,null,null,null,null,null,null,null,null,null,null,null,null,null,null,null,null,null,null,null,null,null,null,null,null,null,"Eton Manor","Eton M"]
[null,null,null,null,null,null,null,null,null,null,null,null,null,null,null,null,null,null,null,null,null,null,null,null,null,null,null,null,null,null,null,"Fleet & Crookham","Fleet"]
[null,null,null,null,null,null,null,null,null,null,null,null,null,null,null,null,null,null,null,null,null,null,null,null,null,null,null,null,null,null,null,"Gateshead","Gate"]
[null,null,null,null,null,null,null,null,null,null,null,null,null,null,null,null,null,null,null,null,null,null,null,null,null,null,null,null,null,null,null,"Gloucester","Glou"]
[null,null,null,null,null,null,null,null,null,null,null,null,null,null,null,null,null,null,null,null,null,null,null,null,null,null,null,null,null,null,null,"Grantham","Gran"]
[null,null,null,null,null,null,null,null,null,null,null,null,null,null,null,null,null,null,null,null,null,null,null,null,null,null,null,null,null,null,null,"Grimsby & Bart","Grim & Bart"]
[null,null,null,null,null,null,null,null,null,null,null,null,null,null,null,null,null,null,null,null,null,null,null,null,null,null,null,null,null,null,null,"Guernsey / Jersey","Guern & Jer"]
[null,null,null,null,null,null,null,null,null,null,null,null,null,null,null,null,null,null,null,null,null,null,null,null,null,null,null,null,null,null,null,"Guildford & Goldalming","G&G"]
[null,null,null,null,null,null,null,null,null,null,null,null,null,null,null,null,null,null,null,null,null,null,null,null,null,null,null,null,null,null,null,"Halesowen","Hale"]
[null,null,null,null,null,null,null,null,null,null,null,null,null,null,null,null,null,null,null,null,null,null,null,null,null,null,null,null,null,null,null,"Halifax Harr","Hal"]
[null,null,null,null,null,null,null,null,null,null,null,null,null,null,null,null,null,null,null,null,null,null,null,null,null,null,null,null,null,null,null,"Hallamshire Harr","Hallam"]
[null,null,null,null,null,null,null,null,null,null,null,null,null,null,null,null,null,null,null,null,null,null,null,null,null,null,null,null,null,null,null,"Halton & Frodsham","H&F"]
[null,null,null,null,null,null,null,null,null,null,null,null,null,null,null,null,null,null,null,null,null,null,null,null,null,null,null,null,null,null,null,"Harrogate ","H'gate"]
[null,null,null,null,null,null,null,null,null,null,null,null,null,null,null,null,null,null,null,null,null,null,null,null,null,null,null,null,null,null,null,"Harrow","Harrow"]
[null,null,null,null,null,null,null,null,null,null,null,null,null,null,null,null,null,null,null,null,null,null,null,null,null,null,null,null,null,null,null,"Hastings","Hast"]
[null,null,null,null,null,null,null,null,null,null,null,null,null,null,null,null,null,null,null,null,null,null,null,null,null,null,null,null,null,null,null,"Havant","Havant"]
[null,null,null,null,null,null,null,null,null,null,null,null,null,null,null,null,null,null,null,null,null,null,null,null,null,null,null,null,null,null,null,"Havering Mayesbrook","Hav M"]
[null,null,null,null,null,null,null,null,null,null,null,null,null,null,null,null,null,null,null,null,null,null,null,null,null,null,null,null,null,null,null,"Hercules Wimbledon","HW"]
[null,null,null,null,null,null,null,null,null,null,null,null,null,null,null,null,null,null,null,null,null,null,null,null,null,null,null,null,null,null,null,"Hereford","Here"]
[null,null,null,null,null,null,null,null,null,null,null,null,null,null,null,null,null,null,null,null,null,null,null,null,null,null,null,null,null,null,null,"Herne Hill Harriers","Herne H"]
[null,null,null,null,null,null,null,null,null,null,null,null,null,null,null,null,null,null,null,null,null,null,null,null,null,null,null,null,null,null,null,"Herts Phoenix","Herts P"]
[null,null,null,null,null,null,null,null,null,null,null,null,null,null,null,null,null,null,null,null,null,null,null,null,null,null,null,null,null,null,null,"Highgate","High"]
[null,null,null,null,null,null,null,null,null,null,null,null,null,null,null,null,null,null,null,null,null,null,null,null,null,null,null,null,null,null,null,"Hillingdon  AC","Hill"]
[null,null,null,null,null,null,null,null,null,null,null,null,null,null,null,null,null,null,null,null,null,null,null,null,null,null,null,null,null,null,null,"Holland Sports","Holl S"]
[null,null,null,null,null,null,null,null,null,null,null,null,null,null,null,null,null,null,null,null,null,null,null,null,null,null,null,null,null,null,null,"Holmfirth","Holm"]
[null,null,null,null,null,null,null,null,null,null,null,null,null,null,null,null,null,null,null,null,null,null,null,null,null,null,null,null,null,null,null,"Horsham Blue Star","Horsh BS"]
[null,null,null,null,null,null,null,null,null,null,null,null,null,null,null,null,null,null,null,null,null,null,null,null,null,null,null,null,null,null,null,"Horwich","Horw"]
[null,null,null,null,null,null,null,null,null,null,null,null,null,null,null,null,null,null,null,null,null,null,null,null,null,null,null,null,null,null,null,"Houghton AC","H&P"]
[null,null,null,null,null,null,null,null,null,null,null,null,null,null,null,null,null,null,null,null,null,null,null,null,null,null,null,null,null,null,null,"Hull Achilles","Hull A"]
[null,null,null,null,null,null,null,null,null,null,null,null,null,null,null,null,null,null,null,null,null,null,null,null,null,null,null,null,null,null,null,"Hyndburn","Hynd"]
[null,null,null,null,null,null,null,null,null,null,null,null,null,null,null,null,null,null,null,null,null,null,null,null,null,null,null,null,null,null,null,"Ilford","Ilf"]
[null,null,null,null,null,null,null,null,null,null,null,null,null,null,null,null,null,null,null,null,null,null,null,null,null,null,null,null,null,null,null,"Isle of Man","IOM"]
[null,null,null,null,null,null,null,null,null,null,null,null,null,null,null,null,null,null,null,null,null,null,null,null,null,null,null,null,null,null,null,"Isle of Wight","IOW"]
[null,null,null,null,null,null,null,null,null,null,null,null,null,null,null,null,null,null,null,null,null,null,null,null,null,null,null,null,null,null,null,"Jarrow","J&H"]
[null,null,null,null,null,null,null,null,null,null,null,null,null,null,null,null,null,null,null,null,null,null,null,null,null,null,null,null,null,null,null,"Kendal","Kend"]
[null,null,null,null,null,null,null,null,null,null,null,null,null,null,null,null,null,null,null,null,null,null,null,null,null,null,null,null,null,null,null,"Kettering","Kett"]
[null,null,null,null,null,null,null,null,null,null,null,null,null,null,null,null,null,null,null,null,null,null,null,null,null,null,null,null,null,null,null,"Kidderminster","K&S"]
[null,null,null,null,null,null,null,null,null,null,null,null,null,null,null,null,null,null,null,null,null,null,null,null,null,null,null,null,null,null,null,"Kingston Poly","K&P"]
[null,null,null,null,null,null,null,null,null,null,null,null,null,null,null,null,null,null,null,null,null,null,null,null,null,null,null,null,null,null,null,"Kingston-u-Hull","KuH"]
[null,null,null,null,null,null,null,null,null,null,null,null,null,null,null,null,null,null,null,null,null,null,null,null,null,null,null,null,null,null,null,"Lancaster & Morecombe","L&M"]
[null,null,null,null,null,null,null,null,null,null,null,null,null,null,null,null,null,null,null,null,null,null,null,null,null,null,null,null,null,null,null,"Leamington","Leam"]
[null,null,null,null,null,null,null,null,null,null,null,null,null,null,null,null,null,null,null,null,null,null,null,null,null,null,null,null,null,null,null,"Leeds City","Leeds C"]
[null,null,null,null,null,null,null,null,null,null,null,null,null,null,null,null,null,null,null,null,null,null,null,null,null,null,null,null,null,null,null,"Leicester Coritanian","Leic C"]
[null,null,null,null,null,null,null,null,null,null,null,null,null,null,null,null,null,null,null,null,null,null,null,null,null,null,null,null,null,null,null,"Leigh Harr","Leigh"]
[null,null,null,null,null,null,null,null,null,null,null,null,null,null,null,null,null,null,null,null,null,null,null,null,null,null,null,null,null,null,null,"Lewes","Lewes"]
[null,null,null,null,null,null,null,null,null,null,null,null,null,null,null,null,null,null,null,null,null,null,null,null,null,null,null,null,null,null,null,"Lincoln Wellington","Linc W"]
[null,null,null,null,null,null,null,null,null,null,null,null,null,null,null,null,null,null,null,null,null,null,null,null,null,null,null,null,null,null,null,"Liv Pem Sefton","Liv PS"]
[null,null,null,null,null,null,null,null,null,null,null,null,null,null,null,null,null,null,null,null,null,null,null,null,null,null,null,null,null,null,null,"Liverpool Harr","Liv H"]
[null,null,null,null,null,null,null,null,null,null,null,null,null,null,null,null,null,null,null,null,null,null,null,null,null,null,null,null,null,null,null,"Lllanelli Neath","L'nelli & Neath"]
[null,null,null,null,null,null,null,null,null,null,null,null,null,null,null,null,null,null,null,null,null,null,null,null,null,null,null,null,null,null,null,"London Heathside","Lon Hth"]
[null,null,null,null,null,null,null,null,null,null,null,null,null,null,null,null,null,null,null,null,null,null,null,null,null,null,null,null,null,null,null,"Longwood","Long"]
[null,null,null,null,null,null,null,null,null,null,null,null,null,null,null,null,null,null,null,null,null,null,null,null,null,null,null,null,null,null,null,"M.Milton Keynes ","Mil K"]
[null,null,null,null,null,null,null,null,null,null,null,null,null,null,null,null,null,null,null,null,null,null,null,null,null,null,null,null,null,null,null,"Macclesfield","Macc"]
[null,null,null,null,null,null,null,null,null,null,null,null,null,null,null,null,null,null,null,null,null,null,null,null,null,null,null,null,null,null,null,"Maldwyn","Maldwyn"]
[null,null,null,null,null,null,null,null,null,null,null,null,null,null,null,null,null,null,null,null,null,null,null,null,null,null,null,null,null,null,null,"Manchester Harr","Manc H"]
[null,null,null,null,null,null,null,null,null,null,null,null,null,null,null,null,null,null,null,null,null,null,null,null,null,null,null,null,null,null,null,"Mansfield","Mans"]
[null,null,null,null,null,null,null,null,null,null,null,null,null,null,null,null,null,null,null,null,null,null,null,null,null,null,null,null,null,null,null,"Marlborough","Marl"]
[null,null,null,null,null,null,null,null,null,null,null,null,null,null,null,null,null,null,null,null,null,null,null,null,null,null,null,null,null,null,null,"Medway","M&M"]
[null,null,null,null,null,null,null,null,null,null,null,null,null,null,null,null,null,null,null,null,null,null,null,null,null,null,null,null,null,null,null,"Medway Pk Phoenix","MedPkP"]
[null,null,null,null,null,null,null,null,null,null,null,null,null,null,null,null,null,null,null,null,null,null,null,null,null,null,null,null,null,null,null,"Menai","Menai"]
[null,null,null,null,null,null,null,null,null,null,null,null,null,null,null,null,null,null,null,null,null,null,null,null,null,null,null,null,null,null,null,"Middlesbro Mandale","M'bro"]
[null,null,null,null,null,null,null,null,null,null,null,null,null,null,null,null,null,null,null,null,null,null,null,null,null,null,null,null,null,null,null,"Morpeth","Morp"]
[null,null,null,null,null,null,null,null,null,null,null,null,null,null,null,null,null,null,null,null,null,null,null,null,null,null,null,null,null,null,null,"Nene Valley","Nene V"]
[null,null,null,null,null,null,null,null,null,null,null,null,null,null,null,null,null,null,null,null,null,null,null,null,null,null,null,null,null,null,null,"New Forest","New FJ"]
[null,null,null,null,null,null,null,null,null,null,null,null,null,null,null,null,null,null,null,null,null,null,null,null,null,null,null,null,null,null,null,"New Marske","New M"]
[null,null,null,null,null,null,null,null,null,null,null,null,null,null,null,null,null,null,null,null,null,null,null,null,null,null,null,null,null,null,null,"Newham & Essex","NEB"]
[null,null,null,null,null,null,null,null,null,null,null,null,null,null,null,null,null,null,null,null,null,null,null,null,null,null,null,null,null,null,null,"Newport","Newp"]
[null,null,null,null,null,null,null,null,null,null,null,null,null,null,null,null,null,null,null,null,null,null,null,null,null,null,null,null,null,null,null,"North Shield Poly","NSP"]
[null,null,null,null,null,null,null,null,null,null,null,null,null,null,null,null,null,null,null,null,null,null,null,null,null,null,null,null,null,null,null,"Notts AC","Notts"]
[null,null,null,null,null,null,null,null,null,null,null,null,null,null,null,null,null,null,null,null,null,null,null,null,null,null,null,null,null,null,null,"Nuneaton","Nun"]
[null,null,null,null,null,null,null,null,null,null,null,null,null,null,null,null,null,null,null,null,null,null,null,null,null,null,null,null,null,null,null,"Oldham","O&R"]
[null,null,null,null,null,null,null,null,null,null,null,null,null,null,null,null,null,null,null,null,null,null,null,null,null,null,null,null,null,null,null,"Orion","Orion"]
[null,null,null,null,null,null,null,null,null,null,null,null,null,null,null,null,null,null,null,null,null,null,null,null,null,null,null,null,null,null,null,"Oswestry","Osw"]
[null,null,null,null,null,null,null,null,null,null,null,null,null,null,null,null,null,null,null,null,null,null,null,null,null,null,null,null,null,null,null,"OWLS","OWLS"]
[null,null,null,null,null,null,null,null,null,null,null,null,null,null,null,null,null,null,null,null,null,null,null,null,null,null,null,null,null,null,null,"Oxford City","Oxf C"]
[null,null,null,null,null,null,null,null,null,null,null,null,null,null,null,null,null,null,null,null,null,null,null,null,null,null,null,null,null,null,null,"Pendle","Pend"]
[null,null,null,null,null,null,null,null,null,null,null,null,null,null,null,null,null,null,null,null,null,null,null,null,null,null,null,null,null,null,null,"Pontefract AC","Pont"]
[null,null,null,null,null,null,null,null,null,null,null,null,null,null,null,null,null,null,null,null,null,null,null,null,null,null,null,null,null,null,null,"Portsmouth","Ports"]
[null,null,null,null,null,null,null,null,null,null,null,null,null,null,null,null,null,null,null,null,null,null,null,null,null,null,null,null,null,null,null,"Preston","Prest"]
[null,null,null,null,null,null,null,null,null,null,null,null,null,null,null,null,null,null,null,null,null,null,null,null,null,null,null,null,null,null,null,"Pudsey & Bramley","Pud & B"]
[null,null,null,null,null,null,null,null,null,null,null,null,null,null,null,null,null,null,null,null,null,null,null,null,null,null,null,null,null,null,null,"Queens Park H","QPH"]
[null,null,null,null,null,null,null,null,null,null,null,null,null,null,null,null,null,null,null,null,null,null,null,null,null,null,null,null,null,null,null,"Radley AC","Rad"]
[null,null,null,null,null,null,null,null,null,null,null,null,null,null,null,null,null,null,null,null,null,null,null,null,null,null,null,null,null,null,null,"Reading AC","Read"]
[null,null,null,null,null,null,null,null,null,null,null,null,null,null,null,null,null,null,null,null,null,null,null,null,null,null,null,null,null,null,null,"Ribble Valley","Ribb"]
[null,null,null,null,null,null,null,null,null,null,null,null,null,null,null,null,null,null,null,null,null,null,null,null,null,null,null,null,null,null,null,"Richmond & Zetland","R&Z"]
[null,null,null,null,null,null,null,null,null,null,null,null,null,null,null,null,null,null,null,null,null,null,null,null,null,null,null,null,null,null,null,"Rotherham","Roth"]
[null,null,null,null,null,null,null,null,null,null,null,null,null,null,null,null,null,null,null,null,null,null,null,null,null,null,null,null,null,null,null,"Royal Sutton Coldfield","RSC"]
[null,null,null,null,null,null,null,null,null,null,null,null,null,null,null,null,null,null,null,null,null,null,null,null,null,null,null,null,null,null,null,"Rugby & Northampton","R&N"]
[null,null,null,null,null,null,null,null,null,null,null,null,null,null,null,null,null,null,null,null,null,null,null,null,null,null,null,null,null,null,null,"Sale HM","Sale"]
[null,null,null,null,null,null,null,null,null,null,null,null,null,null,null,null,null,null,null,null,null,null,null,null,null,null,null,null,null,null,null,"Salford","Salf"]
[null,null,null,null,null,null,null,null,null,null,null,null,null,null,null,null,null,null,null,null,null,null,null,null,null,null,null,null,null,null,null,"Scarborough","Scar"]
[null,null,null,null,null,null,null,null,null,null,null,null,null,null,null,null,null,null,null,null,null,null,null,null,null,null,null,null,null,null,null,"Scunthorpe","Scun"]
[null,null,null,null,null,null,null,null,null,null,null,null,null,null,null,null,null,null,null,null,null,null,null,null,null,null,null,null,null,null,null,"Shaftesbury Barnet","SB"]
[null,null,null,null,null,null,null,null,null,null,null,null,null,null,null,null,null,null,null,null,null,null,null,null,null,null,null,null,null,null,null,"Shildon","Shild"]
[null,null,null,null,null,null,null,null,null,null,null,null,null,null,null,null,null,null,null,null,null,null,null,null,null,null,null,null,null,null,null,"SKYRAC","Sky"]
[null,null,null,null,null,null,null,null,null,null,null,null,null,null,null,null,null,null,null,null,null,null,null,null,null,null,null,null,null,null,null,"Sleaford","Slea"]
[null,null,null,null,null,null,null,null,null,null,null,null,null,null,null,null,null,null,null,null,null,null,null,null,null,null,null,null,null,null,null,"Solihull & Small Heath","SSH"]
[null,null,null,null,null,null,null,null,null,null,null,null,null,null,null,null,null,null,null,null,null,null,null,null,null,null,null,null,null,null,null,"South London","S Lon"]
[null,null,null,null,null,null,null,null,null,null,null,null,null,null,null,null,null,null,null,null,null,null,null,null,null,null,null,null,null,null,null,"South Shields","SSh"]
[null,null,null,null,null,null,null,null,null,null,null,null,null,null,null,null,null,null,null,null,null,null,null,null,null,null,null,null,null,null,null,"Southend","S'end"]
[null,null,null,null,null,null,null,null,null,null,null,null,null,null,null,null,null,null,null,null,null,null,null,null,null,null,null,null,null,null,null,"Southport Wat.","S'port W"]
[null,null,null,null,null,null,null,null,null,null,null,null,null,null,null,null,null,null,null,null,null,null,null,null,null,null,null,null,null,null,null,"Spenborough ","Spen"]
[null,null,null,null,null,null,null,null,null,null,null,null,null,null,null,null,null,null,null,null,null,null,null,null,null,null,null,null,null,null,null,"St Albans","St Alb"]
[null,null,null,null,null,null,null,null,null,null,null,null,null,null,null,null,null,null,null,null,null,null,null,null,null,null,null,null,null,null,null,"St Helens","SHS"]
[null,null,null,null,null,null,null,null,null,null,null,null,null,null,null,null,null,null,null,null,null,null,null,null,null,null,null,null,null,null,null,"St Marys Richmond","SMR"]
[null,null,null,null,null,null,null,null,null,null,null,null,null,null,null,null,null,null,null,null,null,null,null,null,null,null,null,null,null,null,null,"Stockport","Stock H"]
[null,null,null,null,null,null,null,null,null,null,null,null,null,null,null,null,null,null,null,null,null,null,null,null,null,null,null,null,null,null,null,"Stratford-u-Avon","Strat"]
[null,null,null,null,null,null,null,null,null,null,null,null,null,null,null,null,null,null,null,null,null,null,null,null,null,null,null,null,null,null,null,"Sunderland Harr","Sun"]
[null,null,null,null,null,null,null,null,null,null,null,null,null,null,null,null,null,null,null,null,null,null,null,null,null,null,null,null,null,null,null,"Sutton & District","Sutt"]
[null,null,null,null,null,null,null,null,null,null,null,null,null,null,null,null,null,null,null,null,null,null,null,null,null,null,null,null,null,null,null,"Sutton-in-Ashfield","SinA"]
[null,null,null,null,null,null,null,null,null,null,null,null,null,null,null,null,null,null,null,null,null,null,null,null,null,null,null,null,null,null,null,"Swansea","Swan"]
[null,null,null,null,null,null,null,null,null,null,null,null,null,null,null,null,null,null,null,null,null,null,null,null,null,null,null,null,null,null,null,"Swindon","Swin"]
[null,null,null,null,null,null,null,null,null,null,null,null,null,null,null,null,null,null,null,null,null,null,null,null,null,null,null,null,null,null,null,"Tamworth","Tam"]
[null,null,null,null,null,null,null,null,null,null,null,null,null,null,null,null,null,null,null,null,null,null,null,null,null,null,null,null,null,null,null,"Team Bath","Bath"]
[null,null,null,null,null,null,null,null,null,null,null,null,null,null,null,null,null,null,null,null,null,null,null,null,null,null,null,null,null,null,null,"Team Dorset","Team D"]
[null,null,null,null,null,null,null,null,null,null,null,null,null,null,null,null,null,null,null,null,null,null,null,null,null,null,null,null,null,null,null,"Team North Cumbria","TNC"]
[null,null,null,null,null,null,null,null,null,null,null,null,null,null,null,null,null,null,null,null,null,null,null,null,null,null,null,null,null,null,null,"Southampton AC","Soton"]
[null,null,null,null,null,null,null,null,null,null,null,null,null,null,null,null,null,null,null,null,null,null,null,null,null,null,null,null,null,null,null,"Telford","Tel"]
[null,null,null,null,null,null,null,null,null,null,null,null,null,null,null,null,null,null,null,null,null,null,null,null,null,null,null,null,null,null,null,"Thames Vall Harr","TVH"]
[null,null,null,null,null,null,null,null,null,null,null,null,null,null,null,null,null,null,null,null,null,null,null,null,null,null,null,null,null,null,null,"Tipton","Tip"]
[null,null,null,null,null,null,null,null,null,null,null,null,null,null,null,null,null,null,null,null,null,null,null,null,null,null,null,null,null,null,null,"Tonbridge","Ton"]
[null,null,null,null,null,null,null,null,null,null,null,null,null,null,null,null,null,null,null,null,null,null,null,null,null,null,null,null,null,null,null,"Trafford","Traff"]
[null,null,null,null,null,null,null,null,null,null,null,null,null,null,null,null,null,null,null,null,null,null,null,null,null,null,null,null,null,null,null,"Tynedale","Tyne"]
[null,null,null,null,null,null,null,null,null,null,null,null,null,null,null,null,null,null,null,null,null,null,null,null,null,null,null,null,null,null,null,"Vic Pk & Tower Hamlets","VP&TH"]
[null,null,null,null,null,null,null,null,null,null,null,null,null,null,null,null,null,null,null,null,null,null,null,null,null,null,null,null,null,null,null,"Wakefield","Wake"]
[null,null,null,null,null,null,null,null,null,null,null,null,null,null,null,null,null,null,null,null,null,null,null,null,null,null,null,null,null,null,null,"Walton","Walt"]
[null,null,null,null,null,null,null,null,null,null,null,null,null,null,null,null,null,null,null,null,null,null,null,null,null,null,null,null,null,null,null,"Warrington","Warr"]
[null,null,null,null,null,null,null,null,null,null,null,null,null,null,null,null,null,null,null,null,null,null,null,null,null,null,null,null,null,null,null,"West Cheshire","W Ches"]
[null,null,null,null,null,null,null,null,null,null,null,null,null,null,null,null,null,null,null,null,null,null,null,null,null,null,null,null,null,null,null,"Wigan","Wig D"]
[null,null,null,null,null,null,null,null,null,null,null,null,null,null,null,null,null,null,null,null,null,null,null,null,null,null,null,null,null,null,null,"Winchester","Win"]
[null,null,null,null,null,null,null,null,null,null,null,null,null,null,null,null,null,null,null,null,null,null,null,null,null,null,null,null,null,null,null,"Wirral","Wirr"]
[null,null,null,null,null,null,null,null,null,null,null,null,null,null,null,null,null,null,null,null,null,null,null,null,null,null,null,null,null,null,null,"Woking","Woking"]
[null,null,null,null,null,null,null,null,null,null,null,null,null,null,null,null,null,null,null,null,null,null,null,null,null,null,null,null,null,null,null,"Wolverhampton & Bilston","W&B"]
[null,null,null,null,null,null,null,null,null,null,null,null,null,null,null,null,null,null,null,null,null,null,null,null,null,null,null,null,null,null,null,"Woodford Gn / Essex Ld.","WG&EL"]
[null,null,null,null,null,null,null,null,null,null,null,null,null,null,null,null,null,null,null,null,null,null,null,null,null,null,null,null,null,null,null,"Worthing","Worth"]
[null,null,null,null,null,null,null,null,null,null,null,null,null,null,null,null,null,null,null,null,null,null,null,null,null,null,null,null,null,null,null,"Wrexham","Wrex"]
[null,null,null,null,null,null,null,null,null,null,null,null,null,null,null,null,null,null,null,null,null,null,null,null,null,null,null,null,null,null,null,"WSEH","WSEH"]
[null,null,null,null,null,null,null,null,null,null,null,null,null,null,null,null,null,null,null,null,null,null,null,null,null,null,null,null,null,null,null,"Wycombe Phoenix","Wyc P"]
[null,null,null,null,null,null,null,null,null,null,null,null,null,null,null,null,null,null,null,null,null,null,null,null,null,null,null,null,null,null,null,"Yate & District","Yate"]
[null,null,null,null,null,null,null,null,null,null,null,null,null,null,null,null,null,null,null,null,null,null,null,null,null,null,null,null,null,null,null,"Yeovil Olympiads AC","Yeov"]

{"sheet":"Track (Match 1)","index":1,"n_rows":133,"n_cols":38,"rows_kept":133,"cut":false,"hidden":false,"merged":[[0,10,0,12]]}
[null,{"$f":"CONCATENATE(MatchDay!C3,\", \",MatchDay!C7)","v":"Northern Premier East, Thornes Park Stadium, Wakefield"},null,null,null,null,null,null,null,null,{"$f":"MatchDay!C5","v":"Sunday 8th May 2011"},null,null,null,null,null,null,null,null,null,null,null,"Points","Points","Points",{"$f":"MatchDay!E11","v":"Wake"},{"$f":"MatchDay!E13","v":"York"},{"$f":"MatchDay!E15","v":"Leeds C"},"Scored","Validations",null,"Posn","Points"]
[null,null,null,null,null,null,null,null,null,null,null,null,null,null,null,null,null,null,null,null,null,"Track (Match 2)","Col 1","Col 2","Col 3",{"$f":"SUMIF($E$8:$E$200,Z$1,$W$8:$W$200)+SUMIF($L$8:$L$200,Z$1,$X$8:$X$200)+SUMIF($S$8:$S$200,Z$1,$Y$8:$Y$200)","v":314},{"$f":"SUMIF($E$8:$E$200,AA$1,$W$8:$W$200)+SUMIF($L$8:$L$200,AA$1,$X$8:$X$200)+SUMIF($S$8:$S$200,AA$1,$Y$8:$Y$200)","v":199},{"$f":"SUMIF($E$8:$E$200,AB$1,$W$8:$W$200)+SUMIF($L$8:$L$200,AB$1,$X$8:$X$200)+SUMIF($S$8:$S$200,AB$1,$Y$8:$Y$200)","v":254},{"$f":"COUNTIF($W$8:$W$200,\"6\")+COUNTIF($X$8:$X$200,\"6\")+COUNTIF($Y$8:$Y$200,\"6\")","v":38},null,null,null,"n","n=","n==","n===","n====","n====="]
[null,"Club",null,null," Match Points","Posn","League Points",null,null,null,"Match Statistics",null,null,null,null,"Athletes",null,null,"Events",null,null,null,null,null,null,null,null,null,null,{"$f":"MatchDay!B11","v":9},null,{"$f":"MatchDay!B50","v":1},{"$f":"MatchDay!C50","v":6},{"$f":"SUM(AG3:AG4)/LEN($AH$2)","v":5.5},{"$f":"SUM(AG3:AG5)/LEN($AI$2)","v":5},{"$f":"SUM(AG3:AG6)/LEN($AJ$2)","v":4.5},{"$f":"SUM(AG3:AG7)/LEN($AK$2)","v":4},{"$f":"SUM(AG3:AG8)/LEN($AL$2)","v":3.5}]
[null,{"$f":"MatchDay!C11","v":"Wakefield"},null,null,{"$f":"Z2+'Field (Match 1)'!AE2+'Relay (Match 1)'!M2","v":678},{"$f":"RANK(E4,$E$4:$E$6)","v":1},{"$f":"IF(OR(F4=0,F4=\"\"),\"\",VLOOKUP(F4,matchpoints,2,FALSE))","v":3},null,null,null,"New League Records",{"$f":"COUNTIF($G$8:$G$200,\"LR\")+COUNTIF($N$8:$N$200,\"LR\")+COUNTIF($U$8:$U$200,\"LR\")+COUNTIF('Field (Match 1)'!$H$7:$H$205,\"LR\")+COUNTIF('Field (Match 1)'!$P$7:$P$205,\"LR\")+COUNTIF('Field (Match 1)'!$X$7:$X$205,\"LR\")+COUNTIF('Relay (Match 1)'!$J$10:$J$208,\"LR\")","v":0},"Grade 2",{"$f":"COUNTIF($G$8:$G$200,\"2\")+COUNTIF($N$8:$N$200,\"2\")+COUNTIF($U$8:$U$200,\"2\")+COUNTIF('Field (Match 1)'!$H$7:$H$205,\"2\")+COUNTIF('Field (Match 1)'!$P$7:$P$205,\"2\")+COUNTIF('Field (Match 1)'!$X$7:$X$205,\"2\")+COUNTIF('Relay (Match 1)'!$J$10:$J$208,\"2\")","v":13},null,"Boys",{"$f":"COUNTA('Boys (Match 1)'!B4:B20,'Boys (Match 1)'!B24:B48,'Boys (Match 1)'!B52:B78,'Boys (Match 1)'!V52:V78,'Boys (Match 1)'!V4:V20,'Boys (Match 1)'!V24:V48,'Boys (Match 1)'!AP4:AP20,'Boys (Match 1)'!AP24:AP48,'Boys (Match 1)'!AP52:AP78)","v":82},null,"Scored",{"$f":"AC2+'Field (Match 1)'!AH2+'Relay (Match 1)'!P2","v":82},null,"Field (Match 2)",null,null,null,null,null,null,"Cancelled",{"$f":"MatchDay!B13","v":8},null,{"$f":"MatchDay!B52","v":2},{"$f":"MatchDay!C52","v":5},{"$f":"SUM(AG4:AG5)/LEN($AH$2)","v":4.5},{"$f":"SUM(AG4:AG6)/LEN($AI$2)","v":4},{"$f":"SUM(AG4:AG7)/LEN($AJ$2)","v":3.5},{"$f":"SUM(AG4:AG8)/LEN($AK$2)","v":3},"-"]
[null,{"$f":"MatchDay!C13","v":"City of York"},null,null,{"$f":"AA2+'Field (Match 1)'!AF2+'Relay (Match 1)'!N2","v":402},{"$f":"RANK(E5,$E$4:$E$6)","v":3},{"$f":"IF(OR(F5=0,F5=\"\"),\"\",VLOOKUP(F5,matchpoints,2,FALSE))","v":1},null,null,null,"= League Records",{"$f":"COUNTIF($G$8:$G$200,\"LR=\")+COUNTIF($N$8:$N$200,\"LR=\")+COUNTIF($U$8:$U$200,\"LR=\")+COUNTIF('Field (Match 1)'!$H$7:$H$205,\"LR=\")+COUNTIF('Field (Match 1)'!$P$7:$P$205,\"LR=\")+COUNTIF('Field (Match 1)'!$X$7:$X$205,\"LR=\")+COUNTIF('Relay (Match 1)'!$J$10:$J$208,\"LR=\")","v":0},"Grade 3",{"$f":"COUNTIF($G$8:$G$200,\"3\")+COUNTIF($N$8:$N$200,\"3\")+COUNTIF($U$8:$U$200,\"3\")+COUNTIF('Field (Match 1)'!$H$7:$H$205,\"3\")+COUNTIF('Field (Match 1)'!$P$7:$P$205,\"3\")+COUNTIF('Field (Match 1)'!$X$7:$X$205,\"3\")+COUNTIF('Relay (Match 1)'!$J$10:$J$208,\"3\")","v":22},null,"Girls",{"$f":"COUNTA('Girls (Match 1)'!B4:B20,'Girls (Match 1)'!B24:B48,'Girls (Match 1)'!B52:B78,'Girls (Match 1)'!V4:V20,'Girls (Match 1)'!V24:V48,'Girls (Match 1)'!V52:V78,'Girls (Match 1)'!AP4:AP20,'Girls (Match 1)'!AP24:AP48,'Girls (Match 1)'!AP52:AP78)","v":81},null,"Not Held",{"$f":"AC5+'Field (Match 1)'!AH5+'Relay (Match 1)'!P5","v":0},null,null,null,null,null,null,null,null,{"$f":"COUNTIF($C$8:$C$200,\"101\")+COUNTIF($J$8:$J$200,\"101\")+COUNTIF($Q$8:$Q$200,\"101\")+COUNTIF($C$8:$C$200,\"102\")+COUNTIF($J$8:$J$200,\"102\")+COUNTIF($Q$8:$Q$200,\"102\")+COUNTIF($C$8:$C$200,\"103\")+COUNTIF($J$8:$J$200,\"103\")+COUNTIF($Q$8:$Q$200,\"103\")","v":0},{"$f":"MatchDay!B15","v":7},null,{"$f":"MatchDay!B54","v":3},{"$f":"MatchDay!C54","v":4},{"$f":"SUM(AG5:AG6)/LEN($AH$2)","v":3.5},{"$f":"SUM(AG5:AG7)/LEN($AI$2)","v":3},{"$f":"SUM(AG5:AG8)/LEN($AJ$2)","v":2.5},"-"]
[null,{"$f":"MatchDay!C15","v":"Leeds City"},null,null,{"$f":"AB2+'Field (Match 1)'!AG2+'Relay (Match 1)'!O2","v":560},{"$f":"RANK(E6,$E$4:$E$6)","v":2},{"$f":"IF(OR(F6=0,F6=\"\"),\"\",VLOOKUP(F6,matchpoints,2,FALSE))","v":2},null,null,null,"Grade 1",{"$f":"COUNTIF($G$8:$G$200,\"1\")+COUNTIF($N$8:$N$200,\"1\")+COUNTIF($U$8:$U$200,\"1\")+COUNTIF('Field (Match 1)'!$H$7:$H$205,\"1\")+COUNTIF('Field (Match 1)'!$P$7:$P$205,\"1\")+COUNTIF('Field (Match 1)'!$X$7:$X$205,\"1\")+COUNTIF('Relay (Match 1)'!$J$10:$J$208,\"1\")","v":5},"Grade 4",{"$f":"COUNTIF($G$8:$G$200,\"4\")+COUNTIF($N$8:$N$200,\"4\")+COUNTIF($U$8:$U$200,\"4\")+COUNTIF('Field (Match 1)'!$H$7:$H$205,\"4\")+COUNTIF('Field (Match 1)'!$P$7:$P$205,\"4\")+COUNTIF('Field (Match 1)'!$X$7:$X$205,\"4\")+COUNTIF('Relay (Match 1)'!$J$10:$J$208,\"4\")","v":37},null,null,null,null,"Not Scored",{"$f":"47+25+10-T4-T5","v":0},null,"Relay Match 2",null,null,null,null,null,null,null,{"$f":"IF(T(AD3)=\"\",AD3*11,CONCATENATE(AD3,AD3))","v":99},null,{"$f":"MatchDay!B56","v":4},{"$f":"MatchDay!C56","v":3},{"$f":"SUM(AG6:AG7)/LEN($AH$2)","v":2.5},{"$f":"SUM(AG6:AG8)/LEN($AI$2)","v":2},"-"]
[null,null,null,null,null,null,null,null,null,null,null,null,null,null,null,null,null,null,null,null,null,null,null,null,null,null,null,null,null,{"$f":"IF(T(AD4)=\"\",AD4*11,CONCATENATE(AD4,AD4))","v":88},null,{"$f":"MatchDay!B58","v":5},{"$f":"MatchDay!C58","v":2},{"$f":"SUM(AG7:AG8)/LEN($AH$2)","v":1.5},"-"]
[{"$f":"VLOOKUP(B8,eventno,5,FALSE)","v":"F"},"T1",{"$f":"VLOOKUP(B8,eventno,4,FALSE)","v":"U13G 70m H"},null,{"$f":"IF(A11=\"W\",\"Wind =\",\"\")","v":"Wind ="},null,{"$f":"IF(OR(F10=0,F10=\"\",A12=0,A12=\"\"),\"\",IF(A10=\"T\",IF(F10<A12,\"LR\",IF(F10=A12,\"LR=\",\"\"))))","v":""},{"$f":"VLOOKUP(I8,eventno,5,FALSE)","v":"M"},"T2",{"$f":"VLOOKUP(I8,eventno,4,FALSE)","v":"U13B 75m H"},null,{"$f":"IF(H11=\"W\",\"Wind =\",\"\")","v":"Wind ="},null,{"$f":"IF(OR(M10=0,M10=\"\",H12=0,H12=\"\"),\"\",IF(H10=\"T\",IF(M10<H12,\"LR\",IF(M10=H12,\"LR=\",\"\"))))","v":""},{"$f":"VLOOKUP(P8,eventno,5,FALSE)","v":"F"},"T3",{"$f":"VLOOKUP(P8,eventno,4,FALSE)","v":"U15G 75m H"},null,{"$f":"IF(O11=\"W\",\"Wind =\",\"\")","v":"Wind ="},null,{"$f":"IF(OR(T10=0,T10=\"\",O12=0,O12=\"\"),\"\",IF(O10=\"T\",IF(T10<O12,\"LR\",IF(T10=O12,\"LR=\",\"\"))))","v":""},null,{"$f":"IF(OR(B8=0,B8=\"\",C8=0,C8=\"\",F8=0,F8=\"\",LEFT(F8,1)=\"D\"),0,VLOOKUP(B8,points,2,FALSE))","v":0},{"$f":"IF(OR(I8=0,I8=\"\",J8=0,J8=\"\",M8=0,M8=\"\",LEFT(M8,1)=\"D\"),0,VLOOKUP(I8,points,2,FALSE))","v":0},{"$f":"IF(OR(P8=0,P8=\"\",Q8=0,Q8=\"\",T8=0,T8=\"\",LEFT(T8,1)=\"D\"),0,VLOOKUP(P8,points,2,FALSE))","v":0},null,null,null,null,{"$f":"IF(T(AD5)=\"\",AD5*11,CONCATENATE(AD5,AD5))","v":77},null,{"$f":"MatchDay!B60","v":6},{"$f":"MatchDay!C60","v":1},"-"]
[{"$f":"IF(A8=\"M\",VLOOKUP(B8,males,15,FALSE),VLOOKUP(B8,females,15,FALSE))","v":2},"Posn","Bib","Athlete","Club","Perf","Gr",{"$f":"IF(H8=\"M\",VLOOKUP(I8,males,15,FALSE),VLOOKUP(I8,females,15,FALSE))","v":2},"Posn","Bib","Athlete","Club","Perf","Gr",{"$f":"IF(O8=\"M\",VLOOKUP(P8,males,15,FALSE),VLOOKUP(P8,females,15,FALSE))","v":3},"Posn","Bib","Athlete","Club","Perf","Gr",null,{"$error":"#N/A"},{"$error":"#N/A"},{"$error":"#N/A"},null,null,null,null,101,null,"1=",{"$f":"AH3","v":5.5}]
[{"$f":"LEFT(B8,1)","v":"T"},1,8,{"$f":"IF(OR(C10=0,C10=\"\"),\"\",IF(A8=\"F\",HLOOKUP(C10,females,A9,FALSE),IF(A8=\"M\",HLOOKUP(C10,males,A9,FALSE),\"\")))","v":"Rachel White"},{"$f":"IF(OR(C10=0,C10=\"\",ISERROR(VLOOKUP(C10,match_teams,4,FALSE)=TRUE)),\"\",VLOOKUP(C10,match_teams,4,FALSE))","v":"York"},12.15,{"$f":"IF(OR(F10=0,F10=\"\",A13=0,A13=\"\",A14=0,A14=\"\",A15=0,A15=\"\",A16=0,A16=\"\"),\"\",IF(F10<=A13,1,IF(F10<=A14,2,IF(F10<=A15,3,IF(F10<=A16,4,\"\")))))","v":1},{"$f":"LEFT(I8,1)","v":"T"},1,8,{"$f":"IF(OR(J10=0,J10=\"\"),\"\",IF(H8=\"F\",HLOOKUP(J10,females,H9,FALSE),IF(H8=\"M\",HLOOKUP(J10,males,H9,FALSE),\"\")))","v":"Alex Botterill"},{"$f":"IF(OR(J10=0,J10=\"\",ISERROR(VLOOKUP(J10,match_teams,4,FALSE)=TRUE)),\"\",VLOOKUP(J10,match_teams,4,FALSE))","v":"York"},15.48,{"$f":"IF(OR(M10=0,M10=\"\",H13=0,H13=\"\",H14=0,H14=\"\",H15=0,H15=\"\",H16=0,H16=\"\"),\"\",IF(M10<=H13,1,IF(M10<=H14,2,IF(M10<=H15,3,IF(M10<=H16,4,\"\")))))","v":""},{"$f":"LEFT(P8,1)","v":"T"},1,77,{"$f":"IF(OR(Q10=0,Q10=\"\"),\"\",IF(O8=\"F\",HLOOKUP(Q10,females,O9,FALSE),IF(O8=\"M\",HLOOKUP(Q10,males,O9,FALSE),\"\")))","v":"Caoimhe Crampton"},{"$f":"IF(OR(Q10=0,Q10=\"\",ISERROR(VLOOKUP(Q10,match_teams,4,FALSE)=TRUE)),\"\",VLOOKUP(Q10,match_teams,4,FALSE))","v":"Leeds C"},11.8,{"$f":"IF(OR(T10=0,T10=\"\",O13=0,O13=\"\",O14=0,O14=\"\",O15=0,O15=\"\",O16=0,O16=\"\"),\"\",IF(T10<=O13,1,IF(T10<=O14,2,IF(T10<=O15,3,IF(T10<=O16,4,\"\")))))","v":1},null,6,6,6,null,null,null,null,102,null,"1==",{"$f":"AI3","v":5}]
[{"$f":"VLOOKUP(B8,eventno,6,FALSE)","v":"W"},2,88,{"$f":"IF(OR(C11=0,C11=\"\"),\"\",IF(A8=\"F\",HLOOKUP(C11,females,A9,FALSE),IF(A8=\"M\",HLOOKUP(C11,males,A9,FALSE),\"\")))","v":"Charlotte Stamp"},"York",13.3,{"$f":"IF(OR(F11=0,F11=\"\",A13=0,A13=\"\",A14=0,A14=\"\",A15=0,A15=\"\",A16=0,A16=\"\"),\"\",IF(F11<=A13,1,IF(F11<=A14,2,IF(F11<=A15,3,IF(F11<=A16,4,\"\")))))","v":4},{"$f":"VLOOKUP(I8,eventno,6,FALSE)","v":"W"},2,9,{"$f":"IF(OR(J11=0,J11=\"\"),\"\",IF(H8=\"F\",HLOOKUP(J11,females,H9,FALSE),IF(H8=\"M\",HLOOKUP(J11,males,H9,FALSE),\"\")))","v":"Dylan Roberts"},"Wake",15.91,{"$f":"IF(OR(M11=0,M11=\"\",H13=0,H13=\"\",H14=0,H14=\"\",H15=0,H15=\"\",H16=0,H16=\"\"),\"\",IF(M11<=H13,1,IF(M11<=H14,2,IF(M11<=H15,3,IF(M11<=H16,4,\"\")))))","v":""},{"$f":"VLOOKUP(P8,eventno,6,FALSE)","v":"W"},2,8,{"$f":"IF(OR(Q11=0,Q11=\"\"),\"\",IF(O8=\"F\",HLOOKUP(Q11,females,O9,FALSE),IF(O8=\"M\",HLOOKUP(Q11,males,O9,FALSE),\"\")))","v":"Josie Parry"},"York",12,{"$f":"IF(OR(T11=0,T11=\"\",O13=0,O13=\"\",O14=0,O14=\"\",O15=0,O15=\"\",O16=0,O16=\"\"),\"\",IF(T11<=O13,1,IF(T11<=O14,2,IF(T11<=O15,3,IF(T11<=O16,4,\"\")))))","v":1},null,5,5,5,null,null,null,null,103,null,"1===",{"$f":"AJ3","v":4.5}]
[{"$f":"VLOOKUP(B8,eventno,7,FALSE)","v":11.1},3,7,{"$f":"IF(OR(C12=0,C12=\"\"),\"\",IF(A8=\"F\",HLOOKUP(C12,females,A9,FALSE),IF(A8=\"M\",HLOOKUP(C12,males,A9,FALSE),\"\")))","v":"Jessica Barker"},"Leeds C",13.83,{"$f":"IF(OR(F12=0,F12=\"\",A13=0,A13=\"\",A14=0,A14=\"\",A15=0,A15=\"\",A16=0,A16=\"\"),\"\",IF(F12<=A13,1,IF(F12<=A14,2,IF(F12<=A15,3,IF(F12<=A16,4,\"\")))))","v":""},{"$f":"VLOOKUP(I8,eventno,7,FALSE)","v":11.9},3,7,{"$f":"IF(OR(J12=0,J12=\"\"),\"\",IF(H8=\"F\",HLOOKUP(J12,females,H9,FALSE),IF(H8=\"M\",HLOOKUP(J12,males,H9,FALSE),\"\")))","v":"Owen Sage"},"Leeds C",16.71,{"$f":"IF(OR(M12=0,M12=\"\",H13=0,H13=\"\",H14=0,H14=\"\",H15=0,H15=\"\",H16=0,H16=\"\"),\"\",IF(M12<=H13,1,IF(M12<=H14,2,IF(M12<=H15,3,IF(M12<=H16,4,\"\")))))","v":""},{"$f":"VLOOKUP(P8,eventno,7,FALSE)","v":11.1},3,7,{"$f":"IF(OR(Q12=0,Q12=\"\"),\"\",IF(O8=\"F\",HLOOKUP(Q12,females,O9,FALSE),IF(O8=\"M\",HLOOKUP(Q12,males,O9,FALSE),\"\")))","v":"Melissa Fletcher"},"Leeds C",12.23,{"$f":"IF(OR(T12=0,T12=\"\",O13=0,O13=\"\",O14=0,O14=\"\",O15=0,O15=\"\",O16=0,O16=\"\"),\"\",IF(T12<=O13,1,IF(T12<=O14,2,IF(T12<=O15,3,IF(T12<=O16,4,\"\")))))","v":2},null,4,4,4,null,null,null,null,104,null,"1====",{"$f":"AK3","v":4}]
[{"$f":"VLOOKUP(B8,eventno,8,FALSE)","v":12.2},4,77,{"$f":"IF(OR(C13=0,C13=\"\"),\"\",IF(A8=\"F\",HLOOKUP(C13,females,A9,FALSE),IF(A8=\"M\",HLOOKUP(C13,males,A9,FALSE),\"\")))","v":"Megan Sanders"},"Leeds C",13.83,{"$f":"IF(OR(F13=0,F13=\"\",A13=0,A13=\"\",A14=0,A14=\"\",A15=0,A15=\"\",A16=0,A16=\"\"),\"\",IF(F13<=A13,1,IF(F13<=A14,2,IF(F13<=A15,3,IF(F13<=A16,4,\"\")))))","v":""},{"$f":"VLOOKUP(I8,eventno,8,FALSE)","v":13},4,99,{"$f":"IF(OR(J13=0,J13=\"\"),\"\",IF(H8=\"F\",HLOOKUP(J13,females,H9,FALSE),IF(H8=\"M\",HLOOKUP(J13,males,H9,FALSE),\"\")))","v":"Harry England"},"Wake",16.87,{"$f":"IF(OR(M13=0,M13=\"\",H13=0,H13=\"\",H14=0,H14=\"\",H15=0,H15=\"\",H16=0,H16=\"\"),\"\",IF(M13<=H13,1,IF(M13<=H14,2,IF(M13<=H15,3,IF(M13<=H16,4,\"\")))))","v":""},{"$f":"VLOOKUP(P8,eventno,8,FALSE)","v":12},4,88,{"$f":"IF(OR(Q13=0,Q13=\"\"),\"\",IF(O8=\"F\",HLOOKUP(Q13,females,O9,FALSE),IF(O8=\"M\",HLOOKUP(Q13,males,O9,FALSE),\"\")))","v":"Chelsea Walker"},"York",12.6,{"$f":"IF(OR(T13=0,T13=\"\",O13=0,O13=\"\",O14=0,O14=\"\",O15=0,O15=\"\",O16=0,O16=\"\"),\"\",IF(T13<=O13,1,IF(T13<=O14,2,IF(T13<=O15,3,IF(T13<=O16,4,\"\")))))","v":3},null,3,3,3,null,null,null,null,null,null,"1=====",{"$f":"AL3","v":3.5}]
[{"$f":"VLOOKUP(B8,eventno,9,FALSE)","v":12.5},5,9,{"$f":"IF(OR(C14=0,C14=\"\"),\"\",IF(A8=\"F\",HLOOKUP(C14,females,A9,FALSE),IF(A8=\"M\",HLOOKUP(C14,males,A9,FALSE),\"\")))","v":"Charlotte Sampson"},"Wake",14.58,{"$f":"IF(OR(F14=0,F14=\"\",A13=0,A13=\"\",A14=0,A14=\"\",A15=0,A15=\"\",A16=0,A16=\"\"),\"\",IF(F14<=A13,1,IF(F14<=A14,2,IF(F14<=A15,3,IF(F14<=A16,4,\"\")))))","v":""},{"$f":"VLOOKUP(I8,eventno,9,FALSE)","v":13.4},5,77,{"$f":"IF(OR(J14=0,J14=\"\"),\"\",IF(H8=\"F\",HLOOKUP(J14,females,H9,FALSE),IF(H8=\"M\",HLOOKUP(J14,males,H9,FALSE),\"\")))","v":"Khalil Abdelaziz"},"Leeds C",17.36,{"$f":"IF(OR(M14=0,M14=\"\",H13=0,H13=\"\",H14=0,H14=\"\",H15=0,H15=\"\",H16=0,H16=\"\"),\"\",IF(M14<=H13,1,IF(M14<=H14,2,IF(M14<=H15,3,IF(M14<=H16,4,\"\")))))","v":""},{"$f":"VLOOKUP(P8,eventno,9,FALSE)","v":12.3},5,null,{"$f":"IF(OR(Q14=0,Q14=\"\"),\"\",IF(O8=\"F\",HLOOKUP(Q14,females,O9,FALSE),IF(O8=\"M\",HLOOKUP(Q14,males,O9,FALSE),\"\")))","v":""},"",null,{"$f":"IF(OR(T14=0,T14=\"\",O13=0,O13=\"\",O14=0,O14=\"\",O15=0,O15=\"\",O16=0,O16=\"\"),\"\",IF(T14<=O13,1,IF(T14<=O14,2,IF(T14<=O15,3,IF(T14<=O16,4,\"\")))))","v":""},null,2,2,0,null,null,null,null,null,null,"2=",{"$f":"AH4","v":4.5}]
[{"$f":"VLOOKUP(B8,eventno,10,FALSE)","v":12.8},6,99,{"$f":"IF(OR(C15=0,C15=\"\"),\"\",IF(A8=\"F\",HLOOKUP(C15,females,A9,FALSE),IF(A8=\"M\",HLOOKUP(C15,males,A9,FALSE),\"\")))","v":"Niamh Docherty"},"Wake",16.46,{"$f":"IF(OR(F15=0,F15=\"\",A13=0,A13=\"\",A14=0,A14=\"\",A15=0,A15=\"\",A16=0,A16=\"\"),\"\",IF(F15<=A13,1,IF(F15<=A14,2,IF(F15<=A15,3,IF(F15<=A16,4,\"\")))))","v":""},{"$f":"VLOOKUP(I8,eventno,10,FALSE)","v":14},6,null,{"$f":"IF(OR(J15=0,J15=\"\"),\"\",IF(H8=\"F\",HLOOKUP(J15,females,H9,FALSE),IF(H8=\"M\",HLOOKUP(J15,males,H9,FALSE),\"\")))","v":""},"",null,{"$f":"IF(OR(M15=0,M15=\"\",H13=0,H13=\"\",H14=0,H14=\"\",H15=0,H15=\"\",H16=0,H16=\"\"),\"\",IF(M15<=H13,1,IF(M15<=H14,2,IF(M15<=H15,3,IF(M15<=H16,4,\"\")))))","v":""},{"$f":"VLOOKUP(P8,eventno,10,FALSE)","v":12.7},6,null,{"$f":"IF(OR(Q15=0,Q15=\"\"),\"\",IF(O8=\"F\",HLOOKUP(Q15,females,O9,FALSE),IF(O8=\"M\",HLOOKUP(Q15,males,O9,FALSE),\"\")))","v":""},"",null,{"$f":"IF(OR(T15=0,T15=\"\",O13=0,O13=\"\",O14=0,O14=\"\",O15=0,O15=\"\",O16=0,O16=\"\"),\"\",IF(T15<=O13,1,IF(T15<=O14,2,IF(T15<=O15,3,IF(T15<=O16,4,\"\")))))","v":""},null,{"$f":"IF(OR(B15=0,B15=\"\",C15=0,C15=\"\",F15=0,F15=\"\",LEFT(F15,1)=\"D\"),0,VLOOKUP(B15,points,2,FALSE))","v":1},{"$f":"IF(OR(I15=0,I15=\"\",J15=0,J15=\"\",M15=0,M15=\"\",LEFT(M15,1)=\"D\"),0,VLOOKUP(I15,points,2,FALSE))","v":0},{"$f":"IF(OR(P15=0,P15=\"\",Q15=0,Q15=\"\",T15=0,T15=\"\",LEFT(T15,1)=\"D\"),0,VLOOKUP(P15,points,2,FALSE))","v":0},null,null,null,null,null,null,"2==",{"$f":"AI4","v":4}]
[{"$f":"VLOOKUP(B8,eventno,11,FALSE)","v":13.4},null,null,null,null,null,null,{"$f":"VLOOKUP(I8,eventno,11,FALSE)","v":15.2},null,null,null,null,null,null,{"$f":"VLOOKUP(P8,eventno,11,FALSE)","v":13.3},null,null,null,null,null,null,null,0,0,0,null,null,null,null,null,null,"2===",{"$f":"AJ4","v":3.5}]
[{"$f":"VLOOKUP(B17,eventno,5,FALSE)","v":"F"},"T4",{"$f":"VLOOKUP(B17,eventno,4,FALSE)","v":"U17W 80m H"},null,{"$f":"IF(A20=\"W\",\"Wind =\",\"\")","v":"Wind ="},null,{"$f":"IF(OR(F19=0,F19=\"\",A21=0,A21=\"\"),\"\",IF(A19=\"T\",IF(F19<A21,\"LR\",IF(F19=A21,\"LR=\",\"\"))))","v":""},{"$f":"VLOOKUP(I17,eventno,5,FALSE)","v":"M"},"T5",{"$f":"VLOOKUP(I17,eventno,4,FALSE)","v":"U15B 80m H"},null,{"$f":"IF(H20=\"W\",\"Wind =\",\"\")","v":"Wind ="},null,{"$f":"IF(OR(M19=0,M19=\"\",H21=0,H21=\"\"),\"\",IF(H19=\"T\",IF(M19<H21,\"LR\",IF(M19=H21,\"LR=\",\"\"))))","v":""},{"$f":"VLOOKUP(P17,eventno,5,FALSE)","v":"M"},"T6",{"$f":"VLOOKUP(P17,eventno,4,FALSE)","v":"U17M 100m H"},null,{"$f":"IF(O20=\"W\",\"Wind =\",\"\")","v":"Wind ="},null,{"$f":"IF(OR(T19=0,T19=\"\",O21=0,O21=\"\"),\"\",IF(O19=\"T\",IF(T19<O21,\"LR\",IF(T19=O21,\"LR=\",\"\"))))","v":""},null,0,0,0,null,null,null,null,null,null,"2====",{"$f":"AK4","v":3}]
[{"$f":"IF(A17=\"M\",VLOOKUP(B17,males,15,FALSE),VLOOKUP(B17,females,15,FALSE))","v":4},"Posn","Bib","Athlete","Club","Perf","Gr",{"$f":"IF(H17=\"M\",VLOOKUP(I17,males,15,FALSE),VLOOKUP(I17,females,15,FALSE))","v":3},"Posn","Bib","Athlete","Club","Perf","Gr",{"$f":"IF(O17=\"M\",VLOOKUP(P17,males,15,FALSE),VLOOKUP(P17,females,15,FALSE))","v":4},"Posn","Bib","Athlete","Club","Perf","Gr",null,{"$error":"#N/A"},{"$error":"#N/A"},{"$error":"#N/A"},null,null,null,null,null,null,"3=",{"$f":"AH5","v":3.5}]
[{"$f":"LEFT(B17,1)","v":"T"},1,9,{"$f":"IF(OR(C19=0,C19=\"\"),\"\",IF(A17=\"F\",HLOOKUP(C19,females,A18,FALSE),IF(A17=\"M\",HLOOKUP(C19,males,A18,FALSE),\"\")))","v":"Bethany Porter"},{"$f":"IF(OR(C19=0,C19=\"\",ISERROR(VLOOKUP(C19,match_teams,4,FALSE)=TRUE)),\"\",VLOOKUP(C19,match_teams,4,FALSE))","v":"Wake"},12.49,{"$f":"IF(OR(F19=0,F19=\"\",A22=0,A22=\"\",A23=0,A23=\"\",A24=0,A24=\"\",A25=0,A25=\"\"),\"\",IF(F19<=A22,1,IF(F19<=A23,2,IF(F19<=A24,3,IF(F19<=A25,4,\"\")))))","v":3},{"$f":"LEFT(I17,1)","v":"T"},1,7,{"$f":"IF(OR(J19=0,J19=\"\"),\"\",IF(H17=\"F\",HLOOKUP(J19,females,H18,FALSE),IF(H17=\"M\",HLOOKUP(J19,males,H18,FALSE),\"\")))","v":"Jacob Fincham-Dukes"},{"$f":"IF(OR(J19=0,J19=\"\",ISERROR(VLOOKUP(J19,match_teams,4,FALSE)=TRUE)),\"\",VLOOKUP(J19,match_teams,4,FALSE))","v":"Leeds C"},12.51,{"$f":"IF(OR(M19=0,M19=\"\",H22=0,H22=\"\",H23=0,H23=\"\",H24=0,H24=\"\",H25=0,H25=\"\"),\"\",IF(M19<=H22,1,IF(M19<=H23,2,IF(M19<=H24,3,IF(M19<=H25,4,\"\")))))","v":3},{"$f":"LEFT(P17,1)","v":"T"},1,7,{"$f":"IF(OR(Q19=0,Q19=\"\"),\"\",IF(O17=\"F\",HLOOKUP(Q19,females,O18,FALSE),IF(O17=\"M\",HLOOKUP(Q19,males,O18,FALSE),\"\")))","v":"Matthew Campleman"},{"$f":"IF(OR(Q19=0,Q19=\"\",ISERROR(VLOOKUP(Q19,match_teams,4,FALSE)=TRUE)),\"\",VLOOKUP(Q19,match_teams,4,FALSE))","v":"Leeds C"},14.93,{"$f":"IF(OR(T19=0,T19=\"\",O22=0,O22=\"\",O23=0,O23=\"\",O24=0,O24=\"\",O25=0,O25=\"\"),\"\",IF(T19<=O22,1,IF(T19<=O23,2,IF(T19<=O24,3,IF(T19<=O25,4,\"\")))))","v":4},null,6,6,6,null,null,null,null,null,null,"3==",{"$f":"AI5","v":3}]
[{"$f":"VLOOKUP(B17,eventno,6,FALSE)","v":"W"},2,7,{"$f":"IF(OR(C20=0,C20=\"\"),\"\",IF(A17=\"F\",HLOOKUP(C20,females,A18,FALSE),IF(A17=\"M\",HLOOKUP(C20,males,A18,FALSE),\"\")))","v":"Hannah Ukandu"},"Leeds C",13.36,{"$f":"IF(OR(F20=0,F20=\"\",A22=0,A22=\"\",A23=0,A23=\"\",A24=0,A24=\"\",A25=0,A25=\"\"),\"\",IF(F20<=A22,1,IF(F20<=A23,2,IF(F20<=A24,3,IF(F20<=A25,4,\"\")))))","v":""},{"$f":"VLOOKUP(I17,eventno,6,FALSE)","v":"W"},2,9,{"$f":"IF(OR(J20=0,J20=\"\"),\"\",IF(H17=\"F\",HLOOKUP(J20,females,H18,FALSE),IF(H17=\"M\",HLOOKUP(J20,males,H18,FALSE),\"\")))","v":"Patrick Thackray"},"Wake",13.8,{"$f":"IF(OR(M20=0,M20=\"\",H22=0,H22=\"\",H23=0,H23=\"\",H24=0,H24=\"\",H25=0,H25=\"\"),\"\",IF(M20<=H22,1,IF(M20<=H23,2,IF(M20<=H24,3,IF(M20<=H25,4,\"\")))))","v":""},{"$f":"VLOOKUP(P17,eventno,6,FALSE)","v":"W"},2,8,{"$f":"IF(OR(Q20=0,Q20=\"\"),\"\",IF(O17=\"F\",HLOOKUP(Q20,females,O18,FALSE),IF(O17=\"M\",HLOOKUP(Q20,males,O18,FALSE),\"\")))","v":"Adam Robinson"},"York",15.58,{"$f":"IF(OR(T20=0,T20=\"\",O22=0,O22=\"\",O23=0,O23=\"\",O24=0,O24=\"\",O25=0,O25=\"\"),\"\",IF(T20<=O22,1,IF(T20<=O23,2,IF(T20<=O24,3,IF(T20<=O25,4,\"\")))))","v":""},null,5,5,5,null,null,null,null,null,null,"3===",{"$f":"AJ5","v":2.5}]
[{"$f":"VLOOKUP(B17,eventno,7,FALSE)","v":11.2},3,99,{"$f":"IF(OR(C21=0,C21=\"\"),\"\",IF(A17=\"F\",HLOOKUP(C21,females,A18,FALSE),IF(A17=\"M\",HLOOKUP(C21,males,A18,FALSE),\"\")))","v":"Dannielle Anderson"},"Wake",13.76,{"$f":"IF(OR(F21=0,F21=\"\",A22=0,A22=\"\",A23=0,A23=\"\",A24=0,A24=\"\",A25=0,A25=\"\"),\"\",IF(F21<=A22,1,IF(F21<=A23,2,IF(F21<=A24,3,IF(F21<=A25,4,\"\")))))","v":""},{"$f":"VLOOKUP(I17,eventno,7,FALSE)","v":10.9},3,77,{"$f":"IF(OR(J21=0,J21=\"\"),\"\",IF(H17=\"F\",HLOOKUP(J21,females,H18,FALSE),IF(H17=\"M\",HLOOKUP(J21,males,H18,FALSE),\"\")))","v":"Jack Gape"},"Leeds C",13.8,{"$f":"IF(OR(M21=0,M21=\"\",H22=0,H22=\"\",H23=0,H23=\"\",H24=0,H24=\"\",H25=0,H25=\"\"),\"\",IF(M21<=H22,1,IF(M21<=H23,2,IF(M21<=H24,3,IF(M21<=H25,4,\"\")))))","v":""},{"$f":"VLOOKUP(P17,eventno,7,FALSE)","v":12.8},3,9,{"$f":"IF(OR(Q21=0,Q21=\"\"),\"\",IF(O17=\"F\",HLOOKUP(Q21,females,O18,FALSE),IF(O17=\"M\",HLOOKUP(Q21,males,O18,FALSE),\"\")))","v":"George Brown"},"Wake",16.37,{"$f":"IF(OR(T21=0,T21=\"\",O22=0,O22=\"\",O23=0,O23=\"\",O24=0,O24=\"\",O25=0,O25=\"\"),\"\",IF(T21<=O22,1,IF(T21<=O23,2,IF(T21<=O24,3,IF(T21<=O25,4,\"\")))))","v":""},null,4,4,4,null,null,null,null,null,null,"4=",{"$f":"AH6","v":2.5}]
[{"$f":"VLOOKUP(B17,eventno,8,FALSE)","v":12},4,88,{"$f":"IF(OR(C22=0,C22=\"\"),\"\",IF(A17=\"F\",HLOOKUP(C22,females,A18,FALSE),IF(A17=\"M\",HLOOKUP(C22,males,A18,FALSE),\"\")))","v":"Polly Morris"},"York",14.91,{"$f":"IF(OR(F22=0,F22=\"\",A22=0,A22=\"\",A23=0,A23=\"\",A24=0,A24=\"\",A25=0,A25=\"\"),\"\",IF(F22<=A22,1,IF(F22<=A23,2,IF(F22<=A24,3,IF(F22<=A25,4,\"\")))))","v":""},{"$f":"VLOOKUP(I17,eventno,8,FALSE)","v":11.9},4,99,{"$f":"IF(OR(J22=0,J22=\"\"),\"\",IF(H17=\"F\",HLOOKUP(J22,females,H18,FALSE),IF(H17=\"M\",HLOOKUP(J22,males,H18,FALSE),\"\")))","v":"Declan Sheehan"},"Wake",15.16,{"$f":"IF(OR(M22=0,M22=\"\",H22=0,H22=\"\",H23=0,H23=\"\",H24=0,H24=\"\",H25=0,H25=\"\"),\"\",IF(M22<=H22,1,IF(M22<=H23,2,IF(M22<=H24,3,IF(M22<=H25,4,\"\")))))","v":""},{"$f":"VLOOKUP(P17,eventno,8,FALSE)","v":13.7},4,77,{"$f":"IF(OR(Q22=0,Q22=\"\"),\"\",IF(O17=\"F\",HLOOKUP(Q22,females,O18,FALSE),IF(O17=\"M\",HLOOKUP(Q22,males,O18,FALSE),\"\")))","v":"Andrew Russell"},"Leeds C",16.95,{"$f":"IF(OR(T22=0,T22=\"\",O22=0,O22=\"\",O23=0,O23=\"\",O24=0,O24=\"\",O25=0,O25=\"\"),\"\",IF(T22<=O22,1,IF(T22<=O23,2,IF(T22<=O24,3,IF(T22<=O25,4,\"\")))))","v":""},null,3,3,3,null,null,null,null,null,null,"4==",{"$f":"AI6","v":2}]
[{"$f":"VLOOKUP(B17,eventno,9,FALSE)","v":12.2},5,77,{"$f":"IF(OR(C23=0,C23=\"\"),\"\",IF(A17=\"F\",HLOOKUP(C23,females,A18,FALSE),IF(A17=\"M\",HLOOKUP(C23,males,A18,FALSE),\"\")))","v":"Melody Peterson"},"Leeds C",15.35,{"$f":"IF(OR(F23=0,F23=\"\",A22=0,A22=\"\",A23=0,A23=\"\",A24=0,A24=\"\",A25=0,A25=\"\"),\"\",IF(F23<=A22,1,IF(F23<=A23,2,IF(F23<=A24,3,IF(F23<=A25,4,\"\")))))","v":""},{"$f":"VLOOKUP(I17,eventno,9,FALSE)","v":12.2},5,8,{"$f":"IF(OR(J23=0,J23=\"\"),\"\",IF(H17=\"F\",HLOOKUP(J23,females,H18,FALSE),IF(H17=\"M\",HLOOKUP(J23,males,H18,FALSE),\"\")))","v":"Tom Wood"},"York",16.670000000000002,{"$f":"IF(OR(M23=0,M23=\"\",H22=0,H22=\"\",H23=0,H23=\"\",H24=0,H24=\"\",H25=0,H25=\"\"),\"\",IF(M23<=H22,1,IF(M23<=H23,2,IF(M23<=H24,3,IF(M23<=H25,4,\"\")))))","v":""},{"$f":"VLOOKUP(P17,eventno,9,FALSE)","v":14},5,null,{"$f":"IF(OR(Q23=0,Q23=\"\"),\"\",IF(O17=\"F\",HLOOKUP(Q23,females,O18,FALSE),IF(O17=\"M\",HLOOKUP(Q23,males,O18,FALSE),\"\")))","v":""},"",null,{"$f":"IF(OR(T23=0,T23=\"\",O22=0,O22=\"\",O23=0,O23=\"\",O24=0,O24=\"\",O25=0,O25=\"\"),\"\",IF(T23<=O22,1,IF(T23<=O23,2,IF(T23<=O24,3,IF(T23<=O25,4,\"\")))))","v":""},null,2,2,0,null,null,null,null,null,null,"5=",{"$f":"AH7","v":1.5}]
[{"$f":"VLOOKUP(B17,eventno,10,FALSE)","v":12.7},6,8,{"$f":"IF(OR(C24=0,C24=\"\"),\"\",IF(A17=\"F\",HLOOKUP(C24,females,A18,FALSE),IF(A17=\"M\",HLOOKUP(C24,males,A18,FALSE),\"\")))","v":"Megan Savage"},"York",16.239999999999998,{"$f":"IF(OR(F24=0,F24=\"\",A22=0,A22=\"\",A23=0,A23=\"\",A24=0,A24=\"\",A25=0,A25=\"\"),\"\",IF(F24<=A22,1,IF(F24<=A23,2,IF(F24<=A24,3,IF(F24<=A25,4,\"\")))))","v":""},{"$f":"VLOOKUP(I17,eventno,10,FALSE)","v":12.7},6,88,{"$f":"IF(OR(J24=0,J24=\"\"),\"\",IF(H17=\"F\",HLOOKUP(J24,females,H18,FALSE),IF(H17=\"M\",HLOOKUP(J24,males,H18,FALSE),\"\")))","v":"Phil Nesom"},"York",18.329999999999998,{"$f":"IF(OR(M24=0,M24=\"\",H22=0,H22=\"\",H23=0,H23=\"\",H24=0,H24=\"\",H25=0,H25=\"\"),\"\",IF(M24<=H22,1,IF(M24<=H23,2,IF(M24<=H24,3,IF(M24<=H25,4,\"\")))))","v":""},{"$f":"VLOOKUP(P17,eventno,10,FALSE)","v":14.6},6,null,{"$f":"IF(OR(Q24=0,Q24=\"\"),\"\",IF(O17=\"F\",HLOOKUP(Q24,females,O18,FALSE),IF(O17=\"M\",HLOOKUP(Q24,males,O18,FALSE),\"\")))","v":""},"",null,{"$f":"IF(OR(T24=0,T24=\"\",O22=0,O22=\"\",O23=0,O23=\"\",O24=0,O24=\"\",O25=0,O25=\"\"),\"\",IF(T24<=O22,1,IF(T24<=O23,2,IF(T24<=O24,3,IF(T24<=O25,4,\"\")))))","v":""},null,1,1,0]
[{"$f":"VLOOKUP(B17,eventno,11,FALSE)","v":13.2},null,null,null,null,null,null,{"$f":"VLOOKUP(I17,eventno,11,FALSE)","v":13.4},null,null,null,null,null,null,{"$f":"VLOOKUP(P17,eventno,11,FALSE)","v":15.4},null,null,null,null,null,null,null,0,0,0,null,null,null,null,null,null,"Match"]
[{"$f":"VLOOKUP(B26,eventno,5,FALSE)","v":"F"},"T7",{"$f":"VLOOKUP(B26,eventno,4,FALSE)","v":"U17W 800m"},null,{"$f":"IF(A29=\"W\",\"Wind =\",\"\")","v":""},null,{"$f":"IF(OR(F28=0,F28=\"\",A30=0,A30=\"\"),\"\",IF(A28=\"T\",IF(F28<A30,\"LR\",IF(F28=A30,\"LR=\",\"\"))))","v":""},{"$f":"VLOOKUP(I26,eventno,5,FALSE)","v":"F"},"T8",{"$f":"VLOOKUP(I26,eventno,4,FALSE)","v":"U15G 800m"},null,{"$f":"IF(H29=\"W\",\"Wind =\",\"\")","v":""},null,{"$f":"IF(OR(M28=0,M28=\"\",H30=0,H30=\"\"),\"\",IF(H28=\"T\",IF(M28<H30,\"LR\",IF(M28=H30,\"LR=\",\"\"))))","v":""},{"$f":"VLOOKUP(P26,eventno,5,FALSE)","v":"F"},"T9",{"$f":"VLOOKUP(P26,eventno,4,FALSE)","v":"U13G 800m"},null,{"$f":"IF(O29=\"W\",\"Wind =\",\"\")","v":""},null,{"$f":"IF(OR(T28=0,T28=\"\",O30=0,O30=\"\"),\"\",IF(O28=\"T\",IF(T28<O30,\"LR\",IF(T28=O30,\"LR=\",\"\"))))","v":""},null,0,0,0,null,null,null,null,null,null,1,3]
[{"$f":"IF(A26=\"M\",VLOOKUP(B26,males,15,FALSE),VLOOKUP(B26,females,15,FALSE))","v":5},"Posn","Bib","Athlete","Club","Perf","Gr",{"$f":"IF(H26=\"M\",VLOOKUP(I26,males,15,FALSE),VLOOKUP(I26,females,15,FALSE))","v":6},"Posn","Bib","Athlete","Club","Perf","Gr",{"$f":"IF(O26=\"M\",VLOOKUP(P26,males,15,FALSE),VLOOKUP(P26,females,15,FALSE))","v":7},"Posn","Bib","Athlete","Club","Perf","Gr",null,{"$error":"#N/A"},{"$error":"#N/A"},{"$error":"#N/A"},null,null,null,null,null,null,2,2]
[{"$f":"LEFT(B26,1)","v":"T"},1,8,{"$f":"IF(OR(C28=0,C28=\"\"),\"\",IF(A26=\"F\",HLOOKUP(C28,females,A27,FALSE),IF(A26=\"M\",HLOOKUP(C28,males,A27,FALSE),\"\")))","v":"Kate Harris"},{"$f":"IF(OR(C28=0,C28=\"\",ISERROR(VLOOKUP(C28,match_teams,4,FALSE)=TRUE)),\"\",VLOOKUP(C28,match_teams,4,FALSE))","v":"York"},"00:02:25.230",{"$f":"IF(OR(F28=0,F28=\"\",A31=0,A31=\"\",A32=0,A32=\"\",A33=0,A33=\"\",A34=0,A34=\"\"),\"\",IF(F28<=A31,1,IF(F28<=A32,2,IF(F28<=A33,3,IF(F28<=A34,4,\"\")))))","v":4},{"$f":"LEFT(I26,1)","v":"T"},1,9,{"$f":"IF(OR(J28=0,J28=\"\"),\"\",IF(H26=\"F\",HLOOKUP(J28,females,H27,FALSE),IF(H26=\"M\",HLOOKUP(J28,males,H27,FALSE),\"\")))","v":"Sophie Woollin"},{"$f":"IF(OR(J28=0,J28=\"\",ISERROR(VLOOKUP(J28,match_teams,4,FALSE)=TRUE)),\"\",VLOOKUP(J28,match_teams,4,FALSE))","v":"Wake"},"00:02:27.310",{"$f":"IF(OR(M28=0,M28=\"\",H31=0,H31=\"\",H32=0,H32=\"\",H33=0,H33=\"\",H34=0,H34=\"\"),\"\",IF(M28<=H31,1,IF(M28<=H32,2,IF(M28<=H33,3,IF(M28<=H34,4,\"\")))))","v":4},{"$f":"LEFT(P26,1)","v":"T"},1,8,{"$f":"IF(OR(Q28=0,Q28=\"\"),\"\",IF(O26=\"F\",HLOOKUP(Q28,females,O27,FALSE),IF(O26=\"M\",HLOOKUP(Q28,males,O27,FALSE),\"\")))","v":"Nicole Grenier"},{"$f":"IF(OR(Q28=0,Q28=\"\",ISERROR(VLOOKUP(Q28,match_teams,4,FALSE)=TRUE)),\"\",VLOOKUP(Q28,match_teams,4,FALSE))","v":"York"},"00:02:40.230",{"$f":"IF(OR(T28=0,T28=\"\",O31=0,O31=\"\",O32=0,O32=\"\",O33=0,O33=\"\",O34=0,O34=\"\"),\"\",IF(T28<=O31,1,IF(T28<=O32,2,IF(T28<=O33,3,IF(T28<=O34,4,\"\")))))","v":4},null,6,6,6,null,null,null,null,null,null,3,1]
[{"$f":"VLOOKUP(B26,eventno,6,FALSE)","v":0},2,9,{"$f":"IF(OR(C29=0,C29=\"\"),\"\",IF(A26=\"F\",HLOOKUP(C29,females,A27,FALSE),IF(A26=\"M\",HLOOKUP(C29,males,A27,FALSE),\"\")))","v":"Zoe Kerins"},"Wake","00:02:25.430",{"$f":"IF(OR(F29=0,F29=\"\",A31=0,A31=\"\",A32=0,A32=\"\",A33=0,A33=\"\",A34=0,A34=\"\"),\"\",IF(F29<=A31,1,IF(F29<=A32,2,IF(F29<=A33,3,IF(F29<=A34,4,\"\")))))","v":4},{"$f":"VLOOKUP(I26,eventno,6,FALSE)","v":0},2,99,{"$f":"IF(OR(J29=0,J29=\"\"),\"\",IF(H26=\"F\",HLOOKUP(J29,females,H27,FALSE),IF(H26=\"M\",HLOOKUP(J29,males,H27,FALSE),\"\")))","v":"Rebecca Firth"},"Wake","00:02:31.930",{"$f":"IF(OR(M29=0,M29=\"\",H31=0,H31=\"\",H32=0,H32=\"\",H33=0,H33=\"\",H34=0,H34=\"\"),\"\",IF(M29<=H31,1,IF(M29<=H32,2,IF(M29<=H33,3,IF(M29<=H34,4,\"\")))))","v":""},{"$f":"VLOOKUP(P26,eventno,6,FALSE)","v":0},2,9,{"$f":"IF(OR(Q29=0,Q29=\"\"),\"\",IF(O26=\"F\",HLOOKUP(Q29,females,O27,FALSE),IF(O26=\"M\",HLOOKUP(Q29,males,O27,FALSE),\"\")))","v":"Olivia Theaker"},"Wake","00:02:42.690",{"$f":"IF(OR(T29=0,T29=\"\",O31=0,O31=\"\",O32=0,O32=\"\",O33=0,O33=\"\",O34=0,O34=\"\"),\"\",IF(T29<=O31,1,IF(T29<=O32,2,IF(T29<=O33,3,IF(T29<=O34,4,\"\")))))","v":""},null,5,5,5]
[{"$f":"VLOOKUP(B26,eventno,7,FALSE)","v":1.5046296296296294E-3},3,7,{"$f":"IF(OR(C30=0,C30=\"\"),\"\",IF(A26=\"F\",HLOOKUP(C30,females,A27,FALSE),IF(A26=\"M\",HLOOKUP(C30,males,A27,FALSE),\"\")))","v":"Georgia Yearby"},"Leeds C","00:02:25.980",{"$f":"IF(OR(F30=0,F30=\"\",A31=0,A31=\"\",A32=0,A32=\"\",A33=0,A33=\"\",A34=0,A34=\"\"),\"\",IF(F30<=A31,1,IF(F30<=A32,2,IF(F30<=A33,3,IF(F30<=A34,4,\"\")))))","v":""},{"$f":"VLOOKUP(I26,eventno,7,FALSE)","v":1.5300925925925924E-3},3,88,{"$f":"IF(OR(J30=0,J30=\"\"),\"\",IF(H26=\"F\",HLOOKUP(J30,females,H27,FALSE),IF(H26=\"M\",HLOOKUP(J30,males,H27,FALSE),\"\")))","v":"Libby Brown"},"York","00:02:42.810",{"$f":"IF(OR(M30=0,M30=\"\",H31=0,H31=\"\",H32=0,H32=\"\",H33=0,H33=\"\",H34=0,H34=\"\"),\"\",IF(M30<=H31,1,IF(M30<=H32,2,IF(M30<=H33,3,IF(M30<=H34,4,\"\")))))","v":""},{"$f":"VLOOKUP(P26,eventno,7,FALSE)","v":1.6192129629629629E-3},3,99,{"$f":"IF(OR(Q30=0,Q30=\"\"),\"\",IF(O26=\"F\",HLOOKUP(Q30,females,O27,FALSE),IF(O26=\"M\",HLOOKUP(Q30,males,O27,FALSE),\"\")))","v":"Niamh Docherty"},"Wake","00:03:03.140",{"$f":"IF(OR(T30=0,T30=\"\",O31=0,O31=\"\",O32=0,O32=\"\",O33=0,O33=\"\",O34=0,O34=\"\"),\"\",IF(T30<=O31,1,IF(T30<=O32,2,IF(T30<=O33,3,IF(T30<=O34,4,\"\")))))","v":""},null,4,4,4]
[{"$f":"VLOOKUP(B26,eventno,8,FALSE)","v":1.5601851851851851E-3},4,99,{"$f":"IF(OR(C31=0,C31=\"\"),\"\",IF(A26=\"F\",HLOOKUP(C31,females,A27,FALSE),IF(A26=\"M\",HLOOKUP(C31,males,A27,FALSE),\"\")))","v":"Olivia Radcliffe"},"Wake","00:02:26.550",{"$f":"IF(OR(F31=0,F31=\"\",A31=0,A31=\"\",A32=0,A32=\"\",A33=0,A33=\"\",A34=0,A34=\"\"),\"\",IF(F31<=A31,1,IF(F31<=A32,2,IF(F31<=A33,3,IF(F31<=A34,4,\"\")))))","v":""},{"$f":"VLOOKUP(I26,eventno,8,FALSE)","v":1.6145833333333333E-3},4,7,{"$f":"IF(OR(J31=0,J31=\"\"),\"\",IF(H26=\"F\",HLOOKUP(J31,females,H27,FALSE),IF(H26=\"M\",HLOOKUP(J31,males,H27,FALSE),\"\")))","v":"Nicola Sawyer"},"Leeds C","00:02:55.780",{"$f":"IF(OR(M31=0,M31=\"\",H31=0,H31=\"\",H32=0,H32=\"\",H33=0,H33=\"\",H34=0,H34=\"\"),\"\",IF(M31<=H31,1,IF(M31<=H32,2,IF(M31<=H33,3,IF(M31<=H34,4,\"\")))))","v":""},{"$f":"VLOOKUP(P26,eventno,8,FALSE)","v":1.7303240740740742E-3},4,7,{"$f":"IF(OR(Q31=0,Q31=\"\"),\"\",IF(O26=\"F\",HLOOKUP(Q31,females,O27,FALSE),IF(O26=\"M\",HLOOKUP(Q31,males,O27,FALSE),\"\")))","v":"Lois Fish"},"Leeds C","00:03:15.730",{"$f":"IF(OR(T31=0,T31=\"\",O31=0,O31=\"\",O32=0,O32=\"\",O33=0,O33=\"\",O34=0,O34=\"\"),\"\",IF(T31<=O31,1,IF(T31<=O32,2,IF(T31<=O33,3,IF(T31<=O34,4,\"\")))))","v":""},null,3,3,3]
[{"$f":"VLOOKUP(B26,eventno,9,FALSE)","v":1.5914351851851851E-3},5,null,{"$f":"IF(OR(C32=0,C32=\"\"),\"\",IF(A26=\"F\",HLOOKUP(C32,females,A27,FALSE),IF(A26=\"M\",HLOOKUP(C32,males,A27,FALSE),\"\")))","v":""},"",null,{"$f":"IF(OR(F32=0,F32=\"\",A31=0,A31=\"\",A32=0,A32=\"\",A33=0,A33=\"\",A34=0,A34=\"\"),\"\",IF(F32<=A31,1,IF(F32<=A32,2,IF(F32<=A33,3,IF(F32<=A34,4,\"\")))))","v":""},{"$f":"VLOOKUP(I26,eventno,9,FALSE)","v":1.6550925925925926E-3},5,77,{"$f":"IF(OR(J32=0,J32=\"\"),\"\",IF(H26=\"F\",HLOOKUP(J32,females,H27,FALSE),IF(H26=\"M\",HLOOKUP(J32,males,H27,FALSE),\"\")))","v":"Jemma Ibbetson"},"Leeds C","00:03:01.960",{"$f":"IF(OR(M32=0,M32=\"\",H31=0,H31=\"\",H32=0,H32=\"\",H33=0,H33=\"\",H34=0,H34=\"\"),\"\",IF(M32<=H31,1,IF(M32<=H32,2,IF(M32<=H33,3,IF(M32<=H34,4,\"\")))))","v":""},{"$f":"VLOOKUP(P26,eventno,9,FALSE)","v":1.7534722222222222E-3},5,null,{"$f":"IF(OR(Q32=0,Q32=\"\"),\"\",IF(O26=\"F\",HLOOKUP(Q32,females,O27,FALSE),IF(O26=\"M\",HLOOKUP(Q32,males,O27,FALSE),\"\")))","v":""},"",null,{"$f":"IF(OR(T32=0,T32=\"\",O31=0,O31=\"\",O32=0,O32=\"\",O33=0,O33=\"\",O34=0,O34=\"\"),\"\",IF(T32<=O31,1,IF(T32<=O32,2,IF(T32<=O33,3,IF(T32<=O34,4,\"\")))))","v":""},null,0,2,0]
[{"$f":"VLOOKUP(B26,eventno,10,FALSE)","v":1.6296296296296295E-3},6,null,{"$f":"IF(OR(C33=0,C33=\"\"),\"\",IF(A26=\"F\",HLOOKUP(C33,females,A27,FALSE),IF(A26=\"M\",HLOOKUP(C33,males,A27,FALSE),\"\")))","v":""},"",null,{"$f":"IF(OR(F33=0,F33=\"\",A31=0,A31=\"\",A32=0,A32=\"\",A33=0,A33=\"\",A34=0,A34=\"\"),\"\",IF(F33<=A31,1,IF(F33<=A32,2,IF(F33<=A33,3,IF(F33<=A34,4,\"\")))))","v":""},{"$f":"VLOOKUP(I26,eventno,10,FALSE)","v":1.6956018518518518E-3},6,8,{"$f":"IF(OR(J33=0,J33=\"\"),\"\",IF(H26=\"F\",HLOOKUP(J33,females,H27,FALSE),IF(H26=\"M\",HLOOKUP(J33,males,H27,FALSE),\"\")))","v":"Georgie Fenny"},"York","00:03:09.730",{"$f":"IF(OR(M33=0,M33=\"\",H31=0,H31=\"\",H32=0,H32=\"\",H33=0,H33=\"\",H34=0,H34=\"\"),\"\",IF(M33<=H31,1,IF(M33<=H32,2,IF(M33<=H33,3,IF(M33<=H34,4,\"\")))))","v":""},{"$f":"VLOOKUP(P26,eventno,10,FALSE)","v":1.7997685185185185E-3},6,null,{"$f":"IF(OR(Q33=0,Q33=\"\"),\"\",IF(O26=\"F\",HLOOKUP(Q33,females,O27,FALSE),IF(O26=\"M\",HLOOKUP(Q33,males,O27,FALSE),\"\")))","v":""},"",null,{"$f":"IF(OR(T33=0,T33=\"\",O31=0,O31=\"\",O32=0,O32=\"\",O33=0,O33=\"\",O34=0,O34=\"\"),\"\",IF(T33<=O31,1,IF(T33<=O32,2,IF(T33<=O33,3,IF(T33<=O34,4,\"\")))))","v":""},null,0,1,0]
[{"$f":"VLOOKUP(B26,eventno,11,FALSE)","v":1.6886574074074076E-3},null,null,null,null,null,null,{"$f":"VLOOKUP(I26,eventno,11,FALSE)","v":1.7476851851851852E-3},null,null,null,null,null,null,{"$f":"VLOOKUP(P26,eventno,11,FALSE)","v":1.8634259259259261E-3},null,null,null,null,null,null,null,0,0,0]
[{"$f":"VLOOKUP(B35,eventno,5,FALSE)","v":"M"},"T10",{"$f":"VLOOKUP(B35,eventno,4,FALSE)","v":"U13B 800m"},null,{"$f":"IF(A38=\"W\",\"Wind =\",\"\")","v":""},null,{"$f":"IF(OR(F37=0,F37=\"\",A39=0,A39=\"\"),\"\",IF(A37=\"T\",IF(F37<A39,\"LR\",IF(F37=A39,\"LR=\",\"\"))))","v":""},{"$f":"VLOOKUP(I35,eventno,5,FALSE)","v":"M"},"T11",{"$f":"VLOOKUP(I35,eventno,4,FALSE)","v":"U15B 800m"},null,{"$f":"IF(H38=\"W\",\"Wind =\",\"\")","v":""},null,{"$f":"IF(OR(M37=0,M37=\"\",H39=0,H39=\"\"),\"\",IF(H37=\"T\",IF(M37<H39,\"LR\",IF(M37=H39,\"LR=\",\"\"))))","v":""},{"$f":"VLOOKUP(P35,eventno,5,FALSE)","v":"M"},"T12",{"$f":"VLOOKUP(P35,eventno,4,FALSE)","v":"U17M 800m"},null,{"$f":"IF(O38=\"W\",\"Wind =\",\"\")","v":""},null,{"$f":"IF(OR(T37=0,T37=\"\",O39=0,O39=\"\"),\"\",IF(O37=\"T\",IF(T37<O39,\"LR\",IF(T37=O39,\"LR=\",\"\"))))","v":""},null,0,0,0]
[{"$f":"IF(A35=\"M\",VLOOKUP(B35,males,15,FALSE),VLOOKUP(B35,females,15,FALSE))","v":5},"Posn","Bib","Athlete","Club","Perf","Gr",{"$f":"IF(H35=\"M\",VLOOKUP(I35,males,15,FALSE),VLOOKUP(I35,females,15,FALSE))","v":6},"Posn","Bib","Athlete","Club","Perf","Gr",{"$f":"IF(O35=\"M\",VLOOKUP(P35,males,15,FALSE),VLOOKUP(P35,females,15,FALSE))","v":7},"Posn","Bib","Athlete","Club","Perf","Gr",null,{"$error":"#N/A"},{"$error":"#N/A"},{"$error":"#N/A"}]
[{"$f":"LEFT(B35,1)","v":"T"},1,7,{"$f":"IF(OR(C37=0,C37=\"\"),\"\",IF(A35=\"F\",HLOOKUP(C37,females,A36,FALSE),IF(A35=\"M\",HLOOKUP(C37,males,A36,FALSE),\"\")))","v":"Billy Dawson"},{"$f":"IF(OR(C37=0,C37=\"\",ISERROR(VLOOKUP(C37,match_teams,4,FALSE)=TRUE)),\"\",VLOOKUP(C37,match_teams,4,FALSE))","v":"Leeds C"},"00:02:36.220",{"$f":"IF(OR(F37=0,F37=\"\",A40=0,A40=\"\",A41=0,A41=\"\",A42=0,A42=\"\",A43=0,A43=\"\"),\"\",IF(F37<=A40,1,IF(F37<=A41,2,IF(F37<=A42,3,IF(F37<=A43,4,\"\")))))","v":""},{"$f":"LEFT(I35,1)","v":"T"},1,9,{"$f":"IF(OR(J37=0,J37=\"\"),\"\",IF(H35=\"F\",HLOOKUP(J37,females,H36,FALSE),IF(H35=\"M\",HLOOKUP(J37,males,H36,FALSE),\"\")))","v":"Sam Convery"},{"$f":"IF(OR(J37=0,J37=\"\",ISERROR(VLOOKUP(J37,match_teams,4,FALSE)=TRUE)),\"\",VLOOKUP(J37,match_teams,4,FALSE))","v":"Wake"},"00:02:18.860",{"$f":"IF(OR(M37=0,M37=\"\",H40=0,H40=\"\",H41=0,H41=\"\",H42=0,H42=\"\",H43=0,H43=\"\"),\"\",IF(M37<=H40,1,IF(M37<=H41,2,IF(M37<=H42,3,IF(M37<=H43,4,\"\")))))","v":""},{"$f":"LEFT(P35,1)","v":"T"},1,9,{"$f":"IF(OR(Q37=0,Q37=\"\"),\"\",IF(O35=\"F\",HLOOKUP(Q37,females,O36,FALSE),IF(O35=\"M\",HLOOKUP(Q37,males,O36,FALSE),\"\")))","v":"Matthew O'Connnor"},{"$f":"IF(OR(Q37=0,Q37=\"\",ISERROR(VLOOKUP(Q37,match_teams,4,FALSE)=TRUE)),\"\",VLOOKUP(Q37,match_teams,4,FALSE))","v":"Wake"},"00:02:00.770",{"$f":"IF(OR(T37=0,T37=\"\",O40=0,O40=\"\",O41=0,O41=\"\",O42=0,O42=\"\",O43=0,O43=\"\"),\"\",IF(T37<=O40,1,IF(T37<=O41,2,IF(T37<=O42,3,IF(T37<=O43,4,\"\")))))","v":3},null,6,6,6]
[{"$f":"VLOOKUP(B35,eventno,6,FALSE)","v":0},2,8,{"$f":"IF(OR(C38=0,C38=\"\"),\"\",IF(A35=\"F\",HLOOKUP(C38,females,A36,FALSE),IF(A35=\"M\",HLOOKUP(C38,males,A36,FALSE),\"\")))","v":"Alex Botterill"},"York","00:02:40.030",{"$f":"IF(OR(F38=0,F38=\"\",A40=0,A40=\"\",A41=0,A41=\"\",A42=0,A42=\"\",A43=0,A43=\"\"),\"\",IF(F38<=A40,1,IF(F38<=A41,2,IF(F38<=A42,3,IF(F38<=A43,4,\"\")))))","v":""},{"$f":"VLOOKUP(I35,eventno,6,FALSE)","v":0},2,7,{"$f":"IF(OR(J38=0,J38=\"\"),\"\",IF(H35=\"F\",HLOOKUP(J38,females,H36,FALSE),IF(H35=\"M\",HLOOKUP(J38,males,H36,FALSE),\"\")))","v":"John Hubball"},"Leeds C","00:02:19.620",{"$f":"IF(OR(M38=0,M38=\"\",H40=0,H40=\"\",H41=0,H41=\"\",H42=0,H42=\"\",H43=0,H43=\"\"),\"\",IF(M38<=H40,1,IF(M38<=H41,2,IF(M38<=H42,3,IF(M38<=H43,4,\"\")))))","v":""},{"$f":"VLOOKUP(P35,eventno,6,FALSE)","v":0},2,99,{"$f":"IF(OR(Q38=0,Q38=\"\"),\"\",IF(O35=\"F\",HLOOKUP(Q38,females,O36,FALSE),IF(O35=\"M\",HLOOKUP(Q38,males,O36,FALSE),\"\")))","v":"James Saxton"},"Wake","00:02:01.140",{"$f":"IF(OR(T38=0,T38=\"\",O40=0,O40=\"\",O41=0,O41=\"\",O42=0,O42=\"\",O43=0,O43=\"\"),\"\",IF(T38<=O40,1,IF(T38<=O41,2,IF(T38<=O42,3,IF(T38<=O43,4,\"\")))))","v":3},null,5,5,5]
[{"$f":"VLOOKUP(B35,eventno,7,FALSE)","v":1.4641203703703706E-3},3,9,{"$f":"IF(OR(C39=0,C39=\"\"),\"\",IF(A35=\"F\",HLOOKUP(C39,females,A36,FALSE),IF(A35=\"M\",HLOOKUP(C39,males,A36,FALSE),\"\")))","v":"Carter Bower-Stead"},"Wake","00:03:01.110",{"$f":"IF(OR(F39=0,F39=\"\",A40=0,A40=\"\",A41=0,A41=\"\",A42=0,A42=\"\",A43=0,A43=\"\"),\"\",IF(F39<=A40,1,IF(F39<=A41,2,IF(F39<=A42,3,IF(F39<=A43,4,\"\")))))","v":""},{"$f":"VLOOKUP(I35,eventno,7,FALSE)","v":1.3622685185185185E-3},3,77,{"$f":"IF(OR(J39=0,J39=\"\"),\"\",IF(H35=\"F\",HLOOKUP(J39,females,H36,FALSE),IF(H35=\"M\",HLOOKUP(J39,males,H36,FALSE),\"\")))","v":"Jack Allison"},"Leeds C","00:02:22.630",{"$f":"IF(OR(M39=0,M39=\"\",H40=0,H40=\"\",H41=0,H41=\"\",H42=0,H42=\"\",H43=0,H43=\"\"),\"\",IF(M39<=H40,1,IF(M39<=H41,2,IF(M39<=H42,3,IF(M39<=H43,4,\"\")))))","v":""},{"$f":"VLOOKUP(P35,eventno,7,FALSE)","v":1.3113425925925925E-3},3,7,{"$f":"IF(OR(Q39=0,Q39=\"\"),\"\",IF(O35=\"F\",HLOOKUP(Q39,females,O36,FALSE),IF(O35=\"M\",HLOOKUP(Q39,males,O36,FALSE),\"\")))","v":"Luke Cooper"},"Leeds C","00:02:10.190",{"$f":"IF(OR(T39=0,T39=\"\",O40=0,O40=\"\",O41=0,O41=\"\",O42=0,O42=\"\",O43=0,O43=\"\"),\"\",IF(T39<=O40,1,IF(T39<=O41,2,IF(T39<=O42,3,IF(T39<=O43,4,\"\")))))","v":""},null,4,4,4]
[{"$f":"VLOOKUP(B35,eventno,8,FALSE)","v":1.6435185185185183E-3},4,77,{"$f":"IF(OR(C40=0,C40=\"\"),\"\",IF(A35=\"F\",HLOOKUP(C40,females,A36,FALSE),IF(A35=\"M\",HLOOKUP(C40,males,A36,FALSE),\"\")))","v":"Owen Sage"},"Leeds C","00:03:09.750",{"$f":"IF(OR(F40=0,F40=\"\",A40=0,A40=\"\",A41=0,A41=\"\",A42=0,A42=\"\",A43=0,A43=\"\"),\"\",IF(F40<=A40,1,IF(F40<=A41,2,IF(F40<=A42,3,IF(F40<=A43,4,\"\")))))","v":""},{"$f":"VLOOKUP(I35,eventno,8,FALSE)","v":1.4641203703703706E-3},4,99,{"$f":"IF(OR(J40=0,J40=\"\"),\"\",IF(H35=\"F\",HLOOKUP(J40,females,H36,FALSE),IF(H35=\"M\",HLOOKUP(J40,males,H36,FALSE),\"\")))","v":"Ben Read"},"Wake","00:02:28.820",{"$f":"IF(OR(M40=0,M40=\"\",H40=0,H40=\"\",H41=0,H41=\"\",H42=0,H42=\"\",H43=0,H43=\"\"),\"\",IF(M40<=H40,1,IF(M40<=H41,2,IF(M40<=H42,3,IF(M40<=H43,4,\"\")))))","v":""},{"$f":"VLOOKUP(P35,eventno,8,FALSE)","v":1.3541666666666667E-3},4,8,{"$f":"IF(OR(Q40=0,Q40=\"\"),\"\",IF(O35=\"F\",HLOOKUP(Q40,females,O36,FALSE),IF(O35=\"M\",HLOOKUP(Q40,males,O36,FALSE),\"\")))","v":"Peirre Weller"},"York","00:02:15.040",{"$f":"IF(OR(T40=0,T40=\"\",O40=0,O40=\"\",O41=0,O41=\"\",O42=0,O42=\"\",O43=0,O43=\"\"),\"\",IF(T40<=O40,1,IF(T40<=O41,2,IF(T40<=O42,3,IF(T40<=O43,4,\"\")))))","v":""},null,{"$f":"IF(OR(B40=0,B40=\"\",C40=0,C40=\"\",F40=0,F40=\"\",LEFT(F40,1)=\"D\"),0,VLOOKUP(B40,points,2,FALSE))","v":3},{"$f":"IF(OR(I40=0,I40=\"\",J40=0,J40=\"\",M40=0,M40=\"\",LEFT(M40,1)=\"D\"),0,VLOOKUP(I40,points,2,FALSE))","v":3},{"$f":"IF(OR(P40=0,P40=\"\",Q40=0,Q40=\"\",T40=0,T40=\"\",LEFT(T40,1)=\"D\"),0,VLOOKUP(P40,points,2,FALSE))","v":3}]
[{"$f":"VLOOKUP(B35,eventno,9,FALSE)","v":1.6724537037037036E-3},5,null,{"$f":"IF(OR(C41=0,C41=\"\"),\"\",IF(A35=\"F\",HLOOKUP(C41,females,A36,FALSE),IF(A35=\"M\",HLOOKUP(C41,males,A36,FALSE),\"\")))","v":""},"",null,{"$f":"IF(OR(F41=0,F41=\"\",A40=0,A40=\"\",A41=0,A41=\"\",A42=0,A42=\"\",A43=0,A43=\"\"),\"\",IF(F41<=A40,1,IF(F41<=A41,2,IF(F41<=A42,3,IF(F41<=A43,4,\"\")))))","v":""},{"$f":"VLOOKUP(I35,eventno,9,FALSE)","v":1.5046296296296294E-3},5,88,{"$f":"IF(OR(J41=0,J41=\"\"),\"\",IF(H35=\"F\",HLOOKUP(J41,females,H36,FALSE),IF(H35=\"M\",HLOOKUP(J41,males,H36,FALSE),\"\")))","v":"Tom Hobson"},"York","00:02:34.730",{"$f":"IF(OR(M41=0,M41=\"\",H40=0,H40=\"\",H41=0,H41=\"\",H42=0,H42=\"\",H43=0,H43=\"\"),\"\",IF(M41<=H40,1,IF(M41<=H41,2,IF(M41<=H42,3,IF(M41<=H43,4,\"\")))))","v":""},{"$f":"VLOOKUP(P35,eventno,9,FALSE)","v":1.3831018518518517E-3},5,null,{"$f":"IF(OR(Q41=0,Q41=\"\"),\"\",IF(O35=\"F\",HLOOKUP(Q41,females,O36,FALSE),IF(O35=\"M\",HLOOKUP(Q41,males,O36,FALSE),\"\")))","v":""},"",null,{"$f":"IF(OR(T41=0,T41=\"\",O40=0,O40=\"\",O41=0,O41=\"\",O42=0,O42=\"\",O43=0,O43=\"\"),\"\",IF(T41<=O40,1,IF(T41<=O41,2,IF(T41<=O42,3,IF(T41<=O43,4,\"\")))))","v":""},null,0,2,0]
[{"$f":"VLOOKUP(B35,eventno,10,FALSE)","v":1.71875E-3},6,null,{"$f":"IF(OR(C42=0,C42=\"\"),\"\",IF(A35=\"F\",HLOOKUP(C42,females,A36,FALSE),IF(A35=\"M\",HLOOKUP(C42,males,A36,FALSE),\"\")))","v":""},"",null,{"$f":"IF(OR(F42=0,F42=\"\",A40=0,A40=\"\",A41=0,A41=\"\",A42=0,A42=\"\",A43=0,A43=\"\"),\"\",IF(F42<=A40,1,IF(F42<=A41,2,IF(F42<=A42,3,IF(F42<=A43,4,\"\")))))","v":""},{"$f":"VLOOKUP(I35,eventno,10,FALSE)","v":1.5451388888888891E-3},6,8,{"$f":"IF(OR(J42=0,J42=\"\"),\"\",IF(H35=\"F\",HLOOKUP(J42,females,H36,FALSE),IF(H35=\"M\",HLOOKUP(J42,males,H36,FALSE),\"\")))","v":"Phil Nesom"},"York","00:02:38",{"$f":"IF(OR(M42=0,M42=\"\",H40=0,H40=\"\",H41=0,H41=\"\",H42=0,H42=\"\",H43=0,H43=\"\"),\"\",IF(M42<=H40,1,IF(M42<=H41,2,IF(M42<=H42,3,IF(M42<=H43,4,\"\")))))","v":""},{"$f":"VLOOKUP(P35,eventno,10,FALSE)","v":1.4120370370370369E-3},6,null,{"$f":"IF(OR(Q42=0,Q42=\"\"),\"\",IF(O35=\"F\",HLOOKUP(Q42,females,O36,FALSE),IF(O35=\"M\",HLOOKUP(Q42,males,O36,FALSE),\"\")))","v":""},"",null,{"$f":"IF(OR(T42=0,T42=\"\",O40=0,O40=\"\",O41=0,O41=\"\",O42=0,O42=\"\",O43=0,O43=\"\"),\"\",IF(T42<=O40,1,IF(T42<=O41,2,IF(T42<=O42,3,IF(T42<=O43,4,\"\")))))","v":""},null,0,1,0]
[{"$f":"VLOOKUP(B35,eventno,11,FALSE)","v":1.7881944444444447E-3},null,null,null,null,null,null,{"$f":"VLOOKUP(I35,eventno,11,FALSE)","v":1.6030092592592595E-3},null,null,null,null,null,null,{"$f":"VLOOKUP(P35,eventno,11,FALSE)","v":1.4641203703703706E-3},null,null,null,null,null,null,null,0,0,0]
[{"$f":"VLOOKUP(B44,eventno,5,FALSE)","v":"F"},"T13",{"$f":"VLOOKUP(B44,eventno,4,FALSE)","v":"U13G 75m"},null,{"$f":"IF(A47=\"W\",\"Wind =\",\"\")","v":"Wind ="},null,{"$f":"IF(OR(F46=0,F46=\"\",A48=0,A48=\"\"),\"\",IF(A46=\"T\",IF(F46<A48,\"LR\",IF(F46=A48,\"LR=\",\"\"))))","v":""},{"$f":"VLOOKUP(I44,eventno,5,FALSE)","v":"F"},"T14",{"$f":"VLOOKUP(I44,eventno,4,FALSE)","v":"U17W 100m"},null,{"$f":"IF(H47=\"W\",\"Wind =\",\"\")","v":"Wind ="},null,{"$f":"IF(OR(M46=0,M46=\"\",H48=0,H48=\"\"),\"\",IF(H46=\"T\",IF(M46<H48,\"LR\",IF(M46=H48,\"LR=\",\"\"))))","v":""},{"$f":"VLOOKUP(P44,eventno,5,FALSE)","v":"F"},"T15",{"$f":"VLOOKUP(P44,eventno,4,FALSE)","v":"U15G 100m"},null,{"$f":"IF(O47=\"W\",\"Wind =\",\"\")","v":"Wind ="},null,{"$f":"IF(OR(T46=0,T46=\"\",O48=0,O48=\"\"),\"\",IF(O46=\"T\",IF(T46<O48,\"LR\",IF(T46=O48,\"LR=\",\"\"))))","v":""},null,0,0,0]
[{"$f":"IF(A44=\"M\",VLOOKUP(B44,males,15,FALSE),VLOOKUP(B44,females,15,FALSE))","v":8},"Posn","Bib","Athlete","Club","Perf","Gr",{"$f":"IF(H44=\"M\",VLOOKUP(I44,males,15,FALSE),VLOOKUP(I44,females,15,FALSE))","v":9},"Posn","Bib","Athlete","Club","Perf","Gr",{"$f":"IF(O44=\"M\",VLOOKUP(P44,males,15,FALSE),VLOOKUP(P44,females,15,FALSE))","v":10},"Posn","Bib","Athlete","Club","Perf","Gr",null,{"$error":"#N/A"},{"$error":"#N/A"},{"$error":"#N/A"}]
[{"$f":"LEFT(B44,1)","v":"T"},1,8,{"$f":"IF(OR(C46=0,C46=\"\"),\"\",IF(A44=\"F\",HLOOKUP(C46,females,A45,FALSE),IF(A44=\"M\",HLOOKUP(C46,males,A45,FALSE),\"\")))","v":"Rachel White"},{"$f":"IF(OR(C46=0,C46=\"\",ISERROR(VLOOKUP(C46,match_teams,4,FALSE)=TRUE)),\"\",VLOOKUP(C46,match_teams,4,FALSE))","v":"York"},10.89,{"$f":"IF(OR(F46=0,F46=\"\",A49=0,A49=\"\",A50=0,A50=\"\",A51=0,A51=\"\",A52=0,A52=\"\"),\"\",IF(F46<=A49,1,IF(F46<=A50,2,IF(F46<=A51,3,IF(F46<=A52,4,\"\")))))","v":3},{"$f":"LEFT(I44,1)","v":"T"},1,9,{"$f":"IF(OR(J46=0,J46=\"\"),\"\",IF(H44=\"F\",HLOOKUP(J46,females,H45,FALSE),IF(H44=\"M\",HLOOKUP(J46,males,H45,FALSE),\"\")))","v":"Grace Eyles"},{"$f":"IF(OR(J46=0,J46=\"\",ISERROR(VLOOKUP(J46,match_teams,4,FALSE)=TRUE)),\"\",VLOOKUP(J46,match_teams,4,FALSE))","v":"Wake"},12.52,{"$f":"IF(OR(M46=0,M46=\"\",H49=0,H49=\"\",H50=0,H50=\"\",H51=0,H51=\"\",H52=0,H52=\"\"),\"\",IF(M46<=H49,1,IF(M46<=H50,2,IF(M46<=H51,3,IF(M46<=H52,4,\"\")))))","v":2},{"$f":"LEFT(P44,1)","v":"T"},1,99,{"$f":"IF(OR(Q46=0,Q46=\"\"),\"\",IF(O44=\"F\",HLOOKUP(Q46,females,O45,FALSE),IF(O44=\"M\",HLOOKUP(Q46,males,O45,FALSE),\"\")))","v":"Lauren Higson"},{"$f":"IF(OR(Q46=0,Q46=\"\",ISERROR(VLOOKUP(Q46,match_teams,4,FALSE)=TRUE)),\"\",VLOOKUP(Q46,match_teams,4,FALSE))","v":"Wake"},13.47,{"$f":"IF(OR(T46=0,T46=\"\",O49=0,O49=\"\",O50=0,O50=\"\",O51=0,O51=\"\",O52=0,O52=\"\"),\"\",IF(T46<=O49,1,IF(T46<=O50,2,IF(T46<=O51,3,IF(T46<=O52,4,\"\")))))","v":4},null,6,6,6]
[{"$f":"VLOOKUP(B44,eventno,6,FALSE)","v":"W"},2,9,{"$f":"IF(OR(C47=0,C47=\"\"),\"\",IF(A44=\"F\",HLOOKUP(C47,females,A45,FALSE),IF(A44=\"M\",HLOOKUP(C47,males,A45,FALSE),\"\")))","v":"Madeleine Gerrard"},"Wake",11.04,{"$f":"IF(OR(F47=0,F47=\"\",A49=0,A49=\"\",A50=0,A50=\"\",A51=0,A51=\"\",A52=0,A52=\"\"),\"\",IF(F47<=A49,1,IF(F47<=A50,2,IF(F47<=A51,3,IF(F47<=A52,4,\"\")))))","v":4},{"$f":"VLOOKUP(I44,eventno,6,FALSE)","v":"W"},2,8,{"$f":"IF(OR(J47=0,J47=\"\"),\"\",IF(H44=\"F\",HLOOKUP(J47,females,H45,FALSE),IF(H44=\"M\",HLOOKUP(J47,males,H45,FALSE),\"\")))","v":"Emily Haigh"},"York",13.32,{"$f":"IF(OR(M47=0,M47=\"\",H49=0,H49=\"\",H50=0,H50=\"\",H51=0,H51=\"\",H52=0,H52=\"\"),\"\",IF(M47<=H49,1,IF(M47<=H50,2,IF(M47<=H51,3,IF(M47<=H52,4,\"\")))))","v":""},{"$f":"VLOOKUP(P44,eventno,6,FALSE)","v":"W"},2,8,{"$f":"IF(OR(Q47=0,Q47=\"\"),\"\",IF(O44=\"F\",HLOOKUP(Q47,females,O45,FALSE),IF(O44=\"M\",HLOOKUP(Q47,males,O45,FALSE),\"\")))","v":"Chloe Hopper"},"York",13.51,{"$f":"IF(OR(T47=0,T47=\"\",O49=0,O49=\"\",O50=0,O50=\"\",O51=0,O51=\"\",O52=0,O52=\"\"),\"\",IF(T47<=O49,1,IF(T47<=O50,2,IF(T47<=O51,3,IF(T47<=O52,4,\"\")))))","v":""},null,5,5,5]
[{"$f":"VLOOKUP(B44,eventno,7,FALSE)","v":9.5},3,99,{"$f":"IF(OR(C48=0,C48=\"\"),\"\",IF(A44=\"F\",HLOOKUP(C48,females,A45,FALSE),IF(A44=\"M\",HLOOKUP(C48,males,A45,FALSE),\"\")))","v":"Charlotte Sampson"},"Wake",11.1,{"$f":"IF(OR(F48=0,F48=\"\",A49=0,A49=\"\",A50=0,A50=\"\",A51=0,A51=\"\",A52=0,A52=\"\"),\"\",IF(F48<=A49,1,IF(F48<=A50,2,IF(F48<=A51,3,IF(F48<=A52,4,\"\")))))","v":4},{"$f":"VLOOKUP(I44,eventno,7,FALSE)","v":11.7},3,7,{"$f":"IF(OR(J48=0,J48=\"\"),\"\",IF(H44=\"F\",HLOOKUP(J48,females,H45,FALSE),IF(H44=\"M\",HLOOKUP(J48,males,H45,FALSE),\"\")))","v":"India Wilson"},"Leeds C",13.32,{"$f":"IF(OR(M48=0,M48=\"\",H49=0,H49=\"\",H50=0,H50=\"\",H51=0,H51=\"\",H52=0,H52=\"\"),\"\",IF(M48<=H49,1,IF(M48<=H50,2,IF(M48<=H51,3,IF(M48<=H52,4,\"\")))))","v":""},{"$f":"VLOOKUP(P44,eventno,7,FALSE)","v":11.9},3,9,{"$f":"IF(OR(Q48=0,Q48=\"\"),\"\",IF(O44=\"F\",HLOOKUP(Q48,females,O45,FALSE),IF(O44=\"M\",HLOOKUP(Q48,males,O45,FALSE),\"\")))","v":"Jessica Fisher"},"Wake",13.86,{"$f":"IF(OR(T48=0,T48=\"\",O49=0,O49=\"\",O50=0,O50=\"\",O51=0,O51=\"\",O52=0,O52=\"\"),\"\",IF(T48<=O49,1,IF(T48<=O50,2,IF(T48<=O51,3,IF(T48<=O52,4,\"\")))))","v":""},null,4,4,4]
[{"$f":"VLOOKUP(B44,eventno,8,FALSE)","v":10.4},4,88,{"$f":"IF(OR(C49=0,C49=\"\"),\"\",IF(A44=\"F\",HLOOKUP(C49,females,A45,FALSE),IF(A44=\"M\",HLOOKUP(C49,males,A45,FALSE),\"\")))","v":"Annabel Ashton"},"York",11.28,{"$f":"IF(OR(F49=0,F49=\"\",A49=0,A49=\"\",A50=0,A50=\"\",A51=0,A51=\"\",A52=0,A52=\"\"),\"\",IF(F49<=A49,1,IF(F49<=A50,2,IF(F49<=A51,3,IF(F49<=A52,4,\"\")))))","v":4},{"$f":"VLOOKUP(I44,eventno,8,FALSE)","v":12.4},4,77,{"$f":"IF(OR(J49=0,J49=\"\"),\"\",IF(H44=\"F\",HLOOKUP(J49,females,H45,FALSE),IF(H44=\"M\",HLOOKUP(J49,males,H45,FALSE),\"\")))","v":"Melody Peterson"},"Leeds C",13.93,{"$f":"IF(OR(M49=0,M49=\"\",H49=0,H49=\"\",H50=0,H50=\"\",H51=0,H51=\"\",H52=0,H52=\"\"),\"\",IF(M49<=H49,1,IF(M49<=H50,2,IF(M49<=H51,3,IF(M49<=H52,4,\"\")))))","v":""},{"$f":"VLOOKUP(P44,eventno,8,FALSE)","v":12.8},4,77,{"$f":"IF(OR(Q49=0,Q49=\"\"),\"\",IF(O44=\"F\",HLOOKUP(Q49,females,O45,FALSE),IF(O44=\"M\",HLOOKUP(Q49,males,O45,FALSE),\"\")))","v":"Sian Gilmartin-Green"},"Leeds C",14.07,{"$f":"IF(OR(T49=0,T49=\"\",O49=0,O49=\"\",O50=0,O50=\"\",O51=0,O51=\"\",O52=0,O52=\"\"),\"\",IF(T49<=O49,1,IF(T49<=O50,2,IF(T49<=O51,3,IF(T49<=O52,4,\"\")))))","v":""},null,3,3,3]
[{"$f":"VLOOKUP(B44,eventno,9,FALSE)","v":10.6},5,7,{"$f":"IF(OR(C50=0,C50=\"\"),\"\",IF(A44=\"F\",HLOOKUP(C50,females,A45,FALSE),IF(A44=\"M\",HLOOKUP(C50,males,A45,FALSE),\"\")))","v":"Jessie Mogridge"},"Leeds C",12.12,{"$f":"IF(OR(F50=0,F50=\"\",A49=0,A49=\"\",A50=0,A50=\"\",A51=0,A51=\"\",A52=0,A52=\"\"),\"\",IF(F50<=A49,1,IF(F50<=A50,2,IF(F50<=A51,3,IF(F50<=A52,4,\"\")))))","v":""},{"$f":"VLOOKUP(I44,eventno,9,FALSE)","v":12.6},5,99,{"$f":"IF(OR(J50=0,J50=\"\"),\"\",IF(H44=\"F\",HLOOKUP(J50,females,H45,FALSE),IF(H44=\"M\",HLOOKUP(J50,males,H45,FALSE),\"\")))","v":"Emily Wadge"},"Wake",14.86,{"$f":"IF(OR(M50=0,M50=\"\",H49=0,H49=\"\",H50=0,H50=\"\",H51=0,H51=\"\",H52=0,H52=\"\"),\"\",IF(M50<=H49,1,IF(M50<=H50,2,IF(M50<=H51,3,IF(M50<=H52,4,\"\")))))","v":""},{"$f":"VLOOKUP(P44,eventno,9,FALSE)","v":12.9},5,88,{"$f":"IF(OR(Q50=0,Q50=\"\"),\"\",IF(O44=\"F\",HLOOKUP(Q50,females,O45,FALSE),IF(O44=\"M\",HLOOKUP(Q50,males,O45,FALSE),\"\")))","v":"Jenny Harrison"},"York",14.17,{"$f":"IF(OR(T50=0,T50=\"\",O49=0,O49=\"\",O50=0,O50=\"\",O51=0,O51=\"\",O52=0,O52=\"\"),\"\",IF(T50<=O49,1,IF(T50<=O50,2,IF(T50<=O51,3,IF(T50<=O52,4,\"\")))))","v":""},null,2,2,2]
[{"$f":"VLOOKUP(B44,eventno,10,FALSE)","v":10.9},6,77,{"$f":"IF(OR(C51=0,C51=\"\"),\"\",IF(A44=\"F\",HLOOKUP(C51,females,A45,FALSE),IF(A44=\"M\",HLOOKUP(C51,males,A45,FALSE),\"\")))","v":"Chloe Brooks"},"Leeds C",12.97,{"$f":"IF(OR(F51=0,F51=\"\",A49=0,A49=\"\",A50=0,A50=\"\",A51=0,A51=\"\",A52=0,A52=\"\"),\"\",IF(F51<=A49,1,IF(F51<=A50,2,IF(F51<=A51,3,IF(F51<=A52,4,\"\")))))","v":""},{"$f":"VLOOKUP(I44,eventno,10,FALSE)","v":12.8},6,null,{"$f":"IF(OR(J51=0,J51=\"\"),\"\",IF(H44=\"F\",HLOOKUP(J51,females,H45,FALSE),IF(H44=\"M\",HLOOKUP(J51,males,H45,FALSE),\"\")))","v":""},"",null,{"$f":"IF(OR(M51=0,M51=\"\",H49=0,H49=\"\",H50=0,H50=\"\",H51=0,H51=\"\",H52=0,H52=\"\"),\"\",IF(M51<=H49,1,IF(M51<=H50,2,IF(M51<=H51,3,IF(M51<=H52,4,\"\")))))","v":""},{"$f":"VLOOKUP(P44,eventno,10,FALSE)","v":13.1},6,7,{"$f":"IF(OR(Q51=0,Q51=\"\"),\"\",IF(O44=\"F\",HLOOKUP(Q51,females,O45,FALSE),IF(O44=\"M\",HLOOKUP(Q51,males,O45,FALSE),\"\")))","v":"Molly Yearby"},"Leeds C",14.59,{"$f":"IF(OR(T51=0,T51=\"\",O49=0,O49=\"\",O50=0,O50=\"\",O51=0,O51=\"\",O52=0,O52=\"\"),\"\",IF(T51<=O49,1,IF(T51<=O50,2,IF(T51<=O51,3,IF(T51<=O52,4,\"\")))))","v":""},null,1,0,1]
[{"$f":"VLOOKUP(B44,eventno,11,FALSE)","v":11.3},null,null,null,null,null,null,{"$f":"VLOOKUP(I44,eventno,11,FALSE)","v":13.1},null,null,null,null,null,null,{"$f":"VLOOKUP(P44,eventno,11,FALSE)","v":13.5},null,null,null,null,null,null,null,0,0,0]
[{"$f":"VLOOKUP(B53,eventno,5,FALSE)","v":"M"},"T16",{"$f":"VLOOKUP(B53,eventno,4,FALSE)","v":"U17M 100m"},null,{"$f":"IF(A56=\"W\",\"Wind =\",\"\")","v":"Wind ="},null,{"$f":"IF(OR(F55=0,F55=\"\",A57=0,A57=\"\"),\"\",IF(A55=\"T\",IF(F55<A57,\"LR\",IF(F55=A57,\"LR=\",\"\"))))","v":""},{"$f":"VLOOKUP(I53,eventno,5,FALSE)","v":"M"},"T17",{"$f":"VLOOKUP(I53,eventno,4,FALSE)","v":"U15B 100m"},null,{"$f":"IF(H56=\"W\",\"Wind =\",\"\")","v":"Wind ="},null,{"$f":"IF(OR(M55=0,M55=\"\",H57=0,H57=\"\"),\"\",IF(H55=\"T\",IF(M55<H57,\"LR\",IF(M55=H57,\"LR=\",\"\"))))","v":""},{"$f":"VLOOKUP(P53,eventno,5,FALSE)","v":"M"},"T18",{"$f":"VLOOKUP(P53,eventno,4,FALSE)","v":"U13B 100m"},null,{"$f":"IF(O56=\"W\",\"Wind =\",\"\")","v":"Wind ="},null,{"$f":"IF(OR(T55=0,T55=\"\",O57=0,O57=\"\"),\"\",IF(O55=\"T\",IF(T55<O57,\"LR\",IF(T55=O57,\"LR=\",\"\"))))","v":""},null,0,0,0]
[{"$f":"IF(A53=\"M\",VLOOKUP(B53,males,15,FALSE),VLOOKUP(B53,females,15,FALSE))","v":8},"Posn","Bib","Athlete","Club","Perf","Gr",{"$f":"IF(H53=\"M\",VLOOKUP(I53,males,15,FALSE),VLOOKUP(I53,females,15,FALSE))","v":9},"Posn","Bib","Athlete","Club","Perf","Gr",{"$f":"IF(O53=\"M\",VLOOKUP(P53,males,15,FALSE),VLOOKUP(P53,females,15,FALSE))","v":10},"Posn","Bib","Athlete","Club","Perf","Gr",null,{"$error":"#N/A"},{"$error":"#N/A"},{"$error":"#N/A"}]
[{"$f":"LEFT(B53,1)","v":"T"},1,7,{"$f":"IF(OR(C55=0,C55=\"\"),\"\",IF(A53=\"F\",HLOOKUP(C55,females,A54,FALSE),IF(A53=\"M\",HLOOKUP(C55,males,A54,FALSE),\"\")))","v":"Elliott Hurley"},{"$f":"IF(OR(C55=0,C55=\"\",ISERROR(VLOOKUP(C55,match_teams,4,FALSE)=TRUE)),\"\",VLOOKUP(C55,match_teams,4,FALSE))","v":"Leeds C"},11.3,{"$f":"IF(OR(F55=0,F55=\"\",A58=0,A58=\"\",A59=0,A59=\"\",A60=0,A60=\"\",A61=0,A61=\"\"),\"\",IF(F55<=A58,1,IF(F55<=A59,2,IF(F55<=A60,3,IF(F55<=A61,4,\"\")))))","v":2},{"$f":"LEFT(I53,1)","v":"T"},1,8,{"$f":"IF(OR(J55=0,J55=\"\"),\"\",IF(H53=\"F\",HLOOKUP(J55,females,H54,FALSE),IF(H53=\"M\",HLOOKUP(J55,males,H54,FALSE),\"\")))","v":"Chris Searle"},{"$f":"IF(OR(J55=0,J55=\"\",ISERROR(VLOOKUP(J55,match_teams,4,FALSE)=TRUE)),\"\",VLOOKUP(J55,match_teams,4,FALSE))","v":"York"},11.73,{"$f":"IF(OR(M55=0,M55=\"\",H58=0,H58=\"\",H59=0,H59=\"\",H60=0,H60=\"\",H61=0,H61=\"\"),\"\",IF(M55<=H58,1,IF(M55<=H59,2,IF(M55<=H60,3,IF(M55<=H61,4,\"\")))))","v":2},{"$f":"LEFT(P53,1)","v":"T"},1,7,{"$f":"IF(OR(Q55=0,Q55=\"\"),\"\",IF(O53=\"F\",HLOOKUP(Q55,females,O54,FALSE),IF(O53=\"M\",HLOOKUP(Q55,males,O54,FALSE),\"\")))","v":"Lewis Renton"},{"$f":"IF(OR(Q55=0,Q55=\"\",ISERROR(VLOOKUP(Q55,match_teams,4,FALSE)=TRUE)),\"\",VLOOKUP(Q55,match_teams,4,FALSE))","v":"Leeds C"},13.21,{"$f":"IF(OR(T55=0,T55=\"\",O58=0,O58=\"\",O59=0,O59=\"\",O60=0,O60=\"\",O61=0,O61=\"\"),\"\",IF(T55<=O58,1,IF(T55<=O59,2,IF(T55<=O60,3,IF(T55<=O61,4,\"\")))))","v":3},null,6,6,6]
[{"$f":"VLOOKUP(B53,eventno,6,FALSE)","v":"W"},2,9,{"$f":"IF(OR(C56=0,C56=\"\"),\"\",IF(A53=\"F\",HLOOKUP(C56,females,A54,FALSE),IF(A53=\"M\",HLOOKUP(C56,males,A54,FALSE),\"\")))","v":"James McBorrough"},"Wake",11.67,{"$f":"IF(OR(F56=0,F56=\"\",A58=0,A58=\"\",A59=0,A59=\"\",A60=0,A60=\"\",A61=0,A61=\"\"),\"\",IF(F56<=A58,1,IF(F56<=A59,2,IF(F56<=A60,3,IF(F56<=A61,4,\"\")))))","v":4},{"$f":"VLOOKUP(I53,eventno,6,FALSE)","v":"W"},2,77,{"$f":"IF(OR(J56=0,J56=\"\"),\"\",IF(H53=\"F\",HLOOKUP(J56,females,H54,FALSE),IF(H53=\"M\",HLOOKUP(J56,males,H54,FALSE),\"\")))","v":"Finlay Fuller"},"Leeds C",12.08,{"$f":"IF(OR(M56=0,M56=\"\",H58=0,H58=\"\",H59=0,H59=\"\",H60=0,H60=\"\",H61=0,H61=\"\"),\"\",IF(M56<=H58,1,IF(M56<=H59,2,IF(M56<=H60,3,IF(M56<=H61,4,\"\")))))","v":3},{"$f":"VLOOKUP(P53,eventno,6,FALSE)","v":"W"},2,9,{"$f":"IF(OR(Q56=0,Q56=\"\"),\"\",IF(O53=\"F\",HLOOKUP(Q56,females,O54,FALSE),IF(O53=\"M\",HLOOKUP(Q56,males,O54,FALSE),\"\")))","v":"Harry England"},"Wake",14.06,{"$f":"IF(OR(T56=0,T56=\"\",O58=0,O58=\"\",O59=0,O59=\"\",O60=0,O60=\"\",O61=0,O61=\"\"),\"\",IF(T56<=O58,1,IF(T56<=O59,2,IF(T56<=O60,3,IF(T56<=O61,4,\"\")))))","v":""},null,5,5,5]
[{"$f":"VLOOKUP(B53,eventno,7,FALSE)","v":10.5},3,8,{"$f":"IF(OR(C57=0,C57=\"\"),\"\",IF(A53=\"F\",HLOOKUP(C57,females,A54,FALSE),IF(A53=\"M\",HLOOKUP(C57,males,A54,FALSE),\"\")))","v":"Ash  Hart"},"York",11.74,{"$f":"IF(OR(F57=0,F57=\"\",A58=0,A58=\"\",A59=0,A59=\"\",A60=0,A60=\"\",A61=0,A61=\"\"),\"\",IF(F57<=A58,1,IF(F57<=A59,2,IF(F57<=A60,3,IF(F57<=A61,4,\"\")))))","v":4},{"$f":"VLOOKUP(I53,eventno,7,FALSE)","v":10.9},3,7,{"$f":"IF(OR(J57=0,J57=\"\"),\"\",IF(H53=\"F\",HLOOKUP(J57,females,H54,FALSE),IF(H53=\"M\",HLOOKUP(J57,males,H54,FALSE),\"\")))","v":"Jack Gape"},"Leeds C",12.54,{"$f":"IF(OR(M57=0,M57=\"\",H58=0,H58=\"\",H59=0,H59=\"\",H60=0,H60=\"\",H61=0,H61=\"\"),\"\",IF(M57<=H58,1,IF(M57<=H59,2,IF(M57<=H60,3,IF(M57<=H61,4,\"\")))))","v":""},{"$f":"VLOOKUP(P53,eventno,7,FALSE)","v":11.71},3,77,{"$f":"IF(OR(Q57=0,Q57=\"\"),\"\",IF(O53=\"F\",HLOOKUP(Q57,females,O54,FALSE),IF(O53=\"M\",HLOOKUP(Q57,males,O54,FALSE),\"\")))","v":"Dominic Peterson"},"Leeds C",14.21,{"$f":"IF(OR(T57=0,T57=\"\",O58=0,O58=\"\",O59=0,O59=\"\",O60=0,O60=\"\",O61=0,O61=\"\"),\"\",IF(T57<=O58,1,IF(T57<=O59,2,IF(T57<=O60,3,IF(T57<=O61,4,\"\")))))","v":""},null,4,4,4]
[{"$f":"VLOOKUP(B53,eventno,8,FALSE)","v":11.2},4,99,{"$f":"IF(OR(C58=0,C58=\"\"),\"\",IF(A53=\"F\",HLOOKUP(C58,females,A54,FALSE),IF(A53=\"M\",HLOOKUP(C58,males,A54,FALSE),\"\")))","v":"Oliver Edmunds"},"Wake",12.03,{"$f":"IF(OR(F58=0,F58=\"\",A58=0,A58=\"\",A59=0,A59=\"\",A60=0,A60=\"\",A61=0,A61=\"\"),\"\",IF(F58<=A58,1,IF(F58<=A59,2,IF(F58<=A60,3,IF(F58<=A61,4,\"\")))))","v":""},{"$f":"VLOOKUP(I53,eventno,8,FALSE)","v":11.7},4,88,{"$f":"IF(OR(J58=0,J58=\"\"),\"\",IF(H53=\"F\",HLOOKUP(J58,females,H54,FALSE),IF(H53=\"M\",HLOOKUP(J58,males,H54,FALSE),\"\")))","v":"Luke Nichols"},"York",13.03,{"$f":"IF(OR(M58=0,M58=\"\",H58=0,H58=\"\",H59=0,H59=\"\",H60=0,H60=\"\",H61=0,H61=\"\"),\"\",IF(M58<=H58,1,IF(M58<=H59,2,IF(M58<=H60,3,IF(M58<=H61,4,\"\")))))","v":""},{"$f":"VLOOKUP(P53,eventno,8,FALSE)","v":12.9},4,99,{"$f":"IF(OR(Q58=0,Q58=\"\"),\"\",IF(O53=\"F\",HLOOKUP(Q58,females,O54,FALSE),IF(O53=\"M\",HLOOKUP(Q58,males,O54,FALSE),\"\")))","v":"Edward Dunbavin"},"Wake",15.99,{"$f":"IF(OR(T58=0,T58=\"\",O58=0,O58=\"\",O59=0,O59=\"\",O60=0,O60=\"\",O61=0,O61=\"\"),\"\",IF(T58<=O58,1,IF(T58<=O59,2,IF(T58<=O60,3,IF(T58<=O61,4,\"\")))))","v":""},null,3,3,3]
[{"$f":"VLOOKUP(B53,eventno,9,FALSE)","v":11.4},5,77,{"$f":"IF(OR(C59=0,C59=\"\"),\"\",IF(A53=\"F\",HLOOKUP(C59,females,A54,FALSE),IF(A53=\"M\",HLOOKUP(C59,males,A54,FALSE),\"\")))","v":"Lamar Lewis"},"Leeds C",12.99,{"$f":"IF(OR(F59=0,F59=\"\",A58=0,A58=\"\",A59=0,A59=\"\",A60=0,A60=\"\",A61=0,A61=\"\"),\"\",IF(F59<=A58,1,IF(F59<=A59,2,IF(F59<=A60,3,IF(F59<=A61,4,\"\")))))","v":""},{"$f":"VLOOKUP(I53,eventno,9,FALSE)","v":11.9},5,9,{"$f":"IF(OR(J59=0,J59=\"\"),\"\",IF(H53=\"F\",HLOOKUP(J59,females,H54,FALSE),IF(H53=\"M\",HLOOKUP(J59,males,H54,FALSE),\"\")))","v":"Declan Sheehan"},"Wake",13.1,{"$f":"IF(OR(M59=0,M59=\"\",H58=0,H58=\"\",H59=0,H59=\"\",H60=0,H60=\"\",H61=0,H61=\"\"),\"\",IF(M59<=H58,1,IF(M59<=H59,2,IF(M59<=H60,3,IF(M59<=H61,4,\"\")))))","v":""},{"$f":"VLOOKUP(P53,eventno,9,FALSE)","v":13.1},5,8,{"$f":"IF(OR(Q59=0,Q59=\"\"),\"\",IF(O53=\"F\",HLOOKUP(Q59,females,O54,FALSE),IF(O53=\"M\",HLOOKUP(Q59,males,O54,FALSE),\"\")))","v":"Matt Hobson"},"York",16.350000000000001,{"$f":"IF(OR(T59=0,T59=\"\",O58=0,O58=\"\",O59=0,O59=\"\",O60=0,O60=\"\",O61=0,O61=\"\"),\"\",IF(T59<=O58,1,IF(T59<=O59,2,IF(T59<=O60,3,IF(T59<=O61,4,\"\")))))","v":""},null,2,2,2]
[{"$f":"VLOOKUP(B53,eventno,10,FALSE)","v":11.5},6,88,{"$f":"IF(OR(C60=0,C60=\"\"),\"\",IF(A53=\"F\",HLOOKUP(C60,females,A54,FALSE),IF(A53=\"M\",HLOOKUP(C60,males,A54,FALSE),\"\")))","v":"James Stanton"},"York",13.05,{"$f":"IF(OR(F60=0,F60=\"\",A58=0,A58=\"\",A59=0,A59=\"\",A60=0,A60=\"\",A61=0,A61=\"\"),\"\",IF(F60<=A58,1,IF(F60<=A59,2,IF(F60<=A60,3,IF(F60<=A61,4,\"\")))))","v":""},{"$f":"VLOOKUP(I53,eventno,10,FALSE)","v":12.1},6,99,{"$f":"IF(OR(J60=0,J60=\"\"),\"\",IF(H53=\"F\",HLOOKUP(J60,females,H54,FALSE),IF(H53=\"M\",HLOOKUP(J60,males,H54,FALSE),\"\")))","v":"Robert Sanderson"},"Wake",13.21,{"$f":"IF(OR(M60=0,M60=\"\",H58=0,H58=\"\",H59=0,H59=\"\",H60=0,H60=\"\",H61=0,H61=\"\"),\"\",IF(M60<=H58,1,IF(M60<=H59,2,IF(M60<=H60,3,IF(M60<=H61,4,\"\")))))","v":""},{"$f":"VLOOKUP(P53,eventno,10,FALSE)","v":13.4},6,null,{"$f":"IF(OR(Q60=0,Q60=\"\"),\"\",IF(O53=\"F\",HLOOKUP(Q60,females,O54,FALSE),IF(O53=\"M\",HLOOKUP(Q60,males,O54,FALSE),\"\")))","v":""},"",null,{"$f":"IF(OR(T60=0,T60=\"\",O58=0,O58=\"\",O59=0,O59=\"\",O60=0,O60=\"\",O61=0,O61=\"\"),\"\",IF(T60<=O58,1,IF(T60<=O59,2,IF(T60<=O60,3,IF(T60<=O61,4,\"\")))))","v":""},null,1,1,0]
[{"$f":"VLOOKUP(B53,eventno,11,FALSE)","v":11.8},null,null,null,null,null,null,{"$f":"VLOOKUP(I53,eventno,11,FALSE)","v":12.5},null,null,null,null,null,null,{"$f":"VLOOKUP(P53,eventno,11,FALSE)","v":13.9},null,null,null,null,null,null,null,0,0,0]
[{"$f":"VLOOKUP(B62,eventno,5,FALSE)","v":"M"},"T19",{"$f":"VLOOKUP(B62,eventno,4,FALSE)","v":"U17M 3000m"},null,{"$f":"IF(A65=\"W\",\"Wind =\",\"\")","v":""},null,{"$f":"IF(OR(F64=0,F64=\"\",A66=0,A66=\"\"),\"\",IF(A64=\"T\",IF(F64<A66,\"LR\",IF(F64=A66,\"LR=\",\"\"))))","v":""},{"$f":"VLOOKUP(I62,eventno,5,FALSE)","v":"F"},"T20",{"$f":"VLOOKUP(I62,eventno,4,FALSE)","v":"U17W 3000m"},null,{"$f":"IF(H65=\"W\",\"Wind =\",\"\")","v":""},null,{"$f":"IF(OR(M64=0,M64=\"\",H66=0,H66=\"\"),\"\",IF(H64=\"T\",IF(M64<H66,\"LR\",IF(M64=H66,\"LR=\",\"\"))))","v":""},null,null,null,null,null,null,null,null,0,0,0]
[{"$f":"IF(A62=\"M\",VLOOKUP(B62,males,15,FALSE),VLOOKUP(B62,females,15,FALSE))","v":11},"Posn","Bib","Athlete","Club","Perf","Gr",{"$f":"IF(H62=\"M\",VLOOKUP(I62,males,15,FALSE),VLOOKUP(I62,females,15,FALSE))","v":11},"Posn","Bib","Athlete","Club","Perf","Gr",null,null,null,null,null,null,null,null,{"$error":"#N/A"},{"$error":"#N/A"},0]
[{"$f":"LEFT(B62,1)","v":"T"},1,7,{"$f":"IF(OR(C64=0,C64=\"\"),\"\",IF(A62=\"F\",HLOOKUP(C64,females,A63,FALSE),IF(A62=\"M\",HLOOKUP(C64,males,A63,FALSE),\"\")))","v":"Daniel Harrison"},{"$f":"IF(OR(C64=0,C64=\"\",ISERROR(VLOOKUP(C64,match_teams,4,FALSE)=TRUE)),\"\",VLOOKUP(C64,match_teams,4,FALSE))","v":"Leeds C"},"00:11:44.830",{"$f":"IF(OR(F64=0,F64=\"\",A67=0,A67=\"\",A68=0,A68=\"\",A69=0,A69=\"\",A70=0,A70=\"\"),\"\",IF(F64<=A67,1,IF(F64<=A68,2,IF(F64<=A69,3,IF(F64<=A70,4,\"\")))))","v":""},{"$f":"LEFT(I62,1)","v":"T"},1,8,{"$f":"IF(OR(J64=0,J64=\"\"),\"\",IF(H62=\"F\",HLOOKUP(J64,females,H63,FALSE),IF(H62=\"M\",HLOOKUP(J64,males,H63,FALSE),\"\")))","v":"Katy Wood"},{"$f":"IF(OR(J64=0,J64=\"\",ISERROR(VLOOKUP(J64,match_teams,4,FALSE)=TRUE)),\"\",VLOOKUP(J64,match_teams,4,FALSE))","v":"York"},"00:11:06.490",{"$f":"IF(OR(M64=0,M64=\"\",H67=0,H67=\"\",H68=0,H68=\"\",H69=0,H69=\"\",H70=0,H70=\"\"),\"\",IF(M64<=H67,1,IF(M64<=H68,2,IF(M64<=H69,3,IF(M64<=H70,4,\"\")))))","v":4},null,null,null,null,null,null,null,null,6,6,0]
[{"$f":"VLOOKUP(B62,eventno,6,FALSE)","v":0},2,null,{"$f":"IF(OR(C65=0,C65=\"\"),\"\",IF(A62=\"F\",HLOOKUP(C65,females,A63,FALSE),IF(A62=\"M\",HLOOKUP(C65,males,A63,FALSE),\"\")))","v":""},"",null,{"$f":"IF(OR(F65=0,F65=\"\",A67=0,A67=\"\",A68=0,A68=\"\",A69=0,A69=\"\",A70=0,A70=\"\"),\"\",IF(F65<=A67,1,IF(F65<=A68,2,IF(F65<=A69,3,IF(F65<=A70,4,\"\")))))","v":""},{"$f":"VLOOKUP(I62,eventno,6,FALSE)","v":0},2,9,{"$f":"IF(OR(J65=0,J65=\"\"),\"\",IF(H62=\"F\",HLOOKUP(J65,females,H63,FALSE),IF(H62=\"M\",HLOOKUP(J65,males,H63,FALSE),\"\")))","v":"Jessica Timmins"},"Wake","00:12:50.260",{"$f":"IF(OR(M65=0,M65=\"\",H67=0,H67=\"\",H68=0,H68=\"\",H69=0,H69=\"\",H70=0,H70=\"\"),\"\",IF(M65<=H67,1,IF(M65<=H68,2,IF(M65<=H69,3,IF(M65<=H70,4,\"\")))))","v":""},null,null,null,null,null,null,null,null,0,5,0]
[{"$f":"VLOOKUP(B62,eventno,7,FALSE)","v":5.9050925925925929E-3},3,null,{"$f":"IF(OR(C66=0,C66=\"\"),\"\",IF(A62=\"F\",HLOOKUP(C66,females,A63,FALSE),IF(A62=\"M\",HLOOKUP(C66,males,A63,FALSE),\"\")))","v":""},"",null,{"$f":"IF(OR(F66=0,F66=\"\",A67=0,A67=\"\",A68=0,A68=\"\",A69=0,A69=\"\",A70=0,A70=\"\"),\"\",IF(F66<=A67,1,IF(F66<=A68,2,IF(F66<=A69,3,IF(F66<=A70,4,\"\")))))","v":""},{"$f":"VLOOKUP(I62,eventno,7,FALSE)","v":6.7175925925925936E-3},3,7,{"$f":"IF(OR(J66=0,J66=\"\"),\"\",IF(H62=\"F\",HLOOKUP(J66,females,H63,FALSE),IF(H62=\"M\",HLOOKUP(J66,males,H63,FALSE),\"\")))","v":"Ellie Dooley"},"Leeds C","13.:21.70",{"$f":"IF(OR(M66=0,M66=\"\",H67=0,H67=\"\",H68=0,H68=\"\",H69=0,H69=\"\",H70=0,H70=\"\"),\"\",IF(M66<=H67,1,IF(M66<=H68,2,IF(M66<=H69,3,IF(M66<=H70,4,\"\")))))","v":""},null,null,null,null,null,null,null,null,0,4,0]
[{"$f":"VLOOKUP(B62,eventno,8,FALSE)","v":6.1284722222222218E-3},4,null,{"$f":"IF(OR(C67=0,C67=\"\"),\"\",IF(A62=\"F\",HLOOKUP(C67,females,A63,FALSE),IF(A62=\"M\",HLOOKUP(C67,males,A63,FALSE),\"\")))","v":""},"",null,{"$f":"IF(OR(F67=0,F67=\"\",A67=0,A67=\"\",A68=0,A68=\"\",A69=0,A69=\"\",A70=0,A70=\"\"),\"\",IF(F67<=A67,1,IF(F67<=A68,2,IF(F67<=A69,3,IF(F67<=A70,4,\"\")))))","v":""},{"$f":"VLOOKUP(I62,eventno,8,FALSE)","v":7.0428240740740755E-3},4,null,{"$f":"IF(OR(J67=0,J67=\"\"),\"\",IF(H62=\"F\",HLOOKUP(J67,females,H63,FALSE),IF(H62=\"M\",HLOOKUP(J67,males,H63,FALSE),\"\")))","v":""},"",null,{"$f":"IF(OR(M67=0,M67=\"\",H67=0,H67=\"\",H68=0,H68=\"\",H69=0,H69=\"\",H70=0,H70=\"\"),\"\",IF(M67<=H67,1,IF(M67<=H68,2,IF(M67<=H69,3,IF(M67<=H70,4,\"\")))))","v":""},null,null,null,null,null,null,null,null,0,0,0]
[{"$f":"VLOOKUP(B62,eventno,9,FALSE)","v":6.2615740740740748E-3},5,null,{"$f":"IF(OR(C68=0,C68=\"\"),\"\",IF(A62=\"F\",HLOOKUP(C68,females,A63,FALSE),IF(A62=\"M\",HLOOKUP(C68,males,A63,FALSE),\"\")))","v":""},"",null,{"$f":"IF(OR(F68=0,F68=\"\",A67=0,A67=\"\",A68=0,A68=\"\",A69=0,A69=\"\",A70=0,A70=\"\"),\"\",IF(F68<=A67,1,IF(F68<=A68,2,IF(F68<=A69,3,IF(F68<=A70,4,\"\")))))","v":""},{"$f":"VLOOKUP(I62,eventno,9,FALSE)","v":7.3032407407407412E-3},5,null,{"$f":"IF(OR(J68=0,J68=\"\"),\"\",IF(H62=\"F\",HLOOKUP(J68,females,H63,FALSE),IF(H62=\"M\",HLOOKUP(J68,males,H63,FALSE),\"\")))","v":""},"",null,{"$f":"IF(OR(M68=0,M68=\"\",H67=0,H67=\"\",H68=0,H68=\"\",H69=0,H69=\"\",H70=0,H70=\"\"),\"\",IF(M68<=H67,1,IF(M68<=H68,2,IF(M68<=H69,3,IF(M68<=H70,4,\"\")))))","v":""},null,null,null,null,null,null,null,null,0,0,0]
[{"$f":"VLOOKUP(B62,eventno,10,FALSE)","v":6.4293981481481485E-3},6,null,{"$f":"IF(OR(C69=0,C69=\"\"),\"\",IF(A62=\"F\",HLOOKUP(C69,females,A63,FALSE),IF(A62=\"M\",HLOOKUP(C69,males,A63,FALSE),\"\")))","v":""},"",null,{"$f":"IF(OR(F69=0,F69=\"\",A67=0,A67=\"\",A68=0,A68=\"\",A69=0,A69=\"\",A70=0,A70=\"\"),\"\",IF(F69<=A67,1,IF(F69<=A68,2,IF(F69<=A69,3,IF(F69<=A70,4,\"\")))))","v":""},{"$f":"VLOOKUP(I62,eventno,10,FALSE)","v":7.5289351851851845E-3},6,null,{"$f":"IF(OR(J69=0,J69=\"\"),\"\",IF(H62=\"F\",HLOOKUP(J69,females,H63,FALSE),IF(H62=\"M\",HLOOKUP(J69,males,H63,FALSE),\"\")))","v":""},"",null,{"$f":"IF(OR(M69=0,M69=\"\",H67=0,H67=\"\",H68=0,H68=\"\",H69=0,H69=\"\",H70=0,H70=\"\"),\"\",IF(M69<=H67,1,IF(M69<=H68,2,IF(M69<=H69,3,IF(M69<=H70,4,\"\")))))","v":""},null,null,null,null,null,null,null,null,0,0,0]
[{"$f":"VLOOKUP(B62,eventno,11,FALSE)","v":6.6956018518518519E-3},null,null,null,null,null,null,{"$f":"VLOOKUP(I62,eventno,11,FALSE)","v":7.9571759259259266E-3},null,null,null,null,null,null,null,null,null,null,null,null,null,null,0,0,0]
[{"$f":"VLOOKUP(B71,eventno,5,FALSE)","v":"F"},"T21",{"$f":"VLOOKUP(B71,eventno,4,FALSE)","v":"U17W 300m H"},null,{"$f":"IF(A74=\"W\",\"Wind =\",\"\")","v":""},null,{"$f":"IF(OR(F73=0,F73=\"\",A75=0,A75=\"\"),\"\",IF(A73=\"T\",IF(F73<A75,\"LR\",IF(F73=A75,\"LR=\",\"\"))))","v":""},{"$f":"VLOOKUP(I71,eventno,5,FALSE)","v":"M"},"T22",{"$f":"VLOOKUP(I71,eventno,4,FALSE)","v":"U17M 400m H"},null,{"$f":"IF(H74=\"W\",\"Wind =\",\"\")","v":""},null,{"$f":"IF(OR(M73=0,M73=\"\",H75=0,H75=\"\"),\"\",IF(H73=\"T\",IF(M73<H75,\"LR\",IF(M73=H75,\"LR=\",\"\"))))","v":""},null,null,null,null,null,null,null,null,0,0,0]
[{"$f":"IF(A71=\"M\",VLOOKUP(B71,males,15,FALSE),VLOOKUP(B71,females,15,FALSE))","v":12},"Posn","Bib","Athlete","Club","Perf","Gr",{"$f":"IF(H71=\"M\",VLOOKUP(I71,males,15,FALSE),VLOOKUP(I71,females,15,FALSE))","v":12},"Posn","Bib","Athlete","Club","Perf","Gr",null,null,null,null,null,null,null,null,{"$f":"IF(OR(B72=0,B72=\"\",C72=0,C72=\"\",F72=0,F72=\"\",LEFT(F72,1)=\"D\"),0,VLOOKUP(B72,points,2,FALSE))","v":{"$error":"#N/A"}},{"$f":"IF(OR(I72=0,I72=\"\",J72=0,J72=\"\",M72=0,M72=\"\",LEFT(M72,1)=\"D\"),0,VLOOKUP(I72,points,2,FALSE))","v":{"$error":"#N/A"}},{"$f":"IF(OR(P72=0,P72=\"\",Q72=0,Q72=\"\",T72=0,T72=\"\",LEFT(T72,1)=\"D\"),0,VLOOKUP(P72,points,2,FALSE))","v":0}]
[{"$f":"LEFT(B71,1)","v":"T"},1,9,{"$f":"IF(OR(C73=0,C73=\"\"),\"\",IF(A71=\"F\",HLOOKUP(C73,females,A72,FALSE),IF(A71=\"M\",HLOOKUP(C73,males,A72,FALSE),\"\")))","v":"Bethany Sharp"},{"$f":"IF(OR(C73=0,C73=\"\",ISERROR(VLOOKUP(C73,match_teams,4,FALSE)=TRUE)),\"\",VLOOKUP(C73,match_teams,4,FALSE))","v":"Wake"},45.87,{"$f":"IF(OR(F73=0,F73=\"\",A76=0,A76=\"\",A77=0,A77=\"\",A78=0,A78=\"\",A79=0,A79=\"\"),\"\",IF(F73<=A76,1,IF(F73<=A77,2,IF(F73<=A78,3,IF(F73<=A79,4,\"\")))))","v":2},{"$f":"LEFT(I71,1)","v":"T"},1,9,{"$f":"IF(OR(J73=0,J73=\"\"),\"\",IF(H71=\"F\",HLOOKUP(J73,females,H72,FALSE),IF(H71=\"M\",HLOOKUP(J73,males,H72,FALSE),\"\")))","v":"George Brown"},{"$f":"IF(OR(J73=0,J73=\"\",ISERROR(VLOOKUP(J73,match_teams,4,FALSE)=TRUE)),\"\",VLOOKUP(J73,match_teams,4,FALSE))","v":"Wake"},63.42,{"$f":"IF(OR(M73=0,M73=\"\",H76=0,H76=\"\",H77=0,H77=\"\",H78=0,H78=\"\",H79=0,H79=\"\"),\"\",IF(M73<=H76,1,IF(M73<=H77,2,IF(M73<=H78,3,IF(M73<=H79,4,\"\")))))","v":""},null,null,null,null,null,null,null,null,6,6,0]
[{"$f":"VLOOKUP(B71,eventno,6,FALSE)","v":0},2,99,{"$f":"IF(OR(C74=0,C74=\"\"),\"\",IF(A71=\"F\",HLOOKUP(C74,females,A72,FALSE),IF(A71=\"M\",HLOOKUP(C74,males,A72,FALSE),\"\")))","v":"Leanne Barraclough"},"Wake",55.2,{"$f":"IF(OR(F74=0,F74=\"\",A76=0,A76=\"\",A77=0,A77=\"\",A78=0,A78=\"\",A79=0,A79=\"\"),\"\",IF(F74<=A76,1,IF(F74<=A77,2,IF(F74<=A78,3,IF(F74<=A79,4,\"\")))))","v":""},{"$f":"VLOOKUP(I71,eventno,6,FALSE)","v":0},2,99,{"$f":"IF(OR(J74=0,J74=\"\"),\"\",IF(H71=\"F\",HLOOKUP(J74,females,H72,FALSE),IF(H71=\"M\",HLOOKUP(J74,males,H72,FALSE),\"\")))","v":"Oliver Edmunds"},"Wake",68.36,{"$f":"IF(OR(M74=0,M74=\"\",H76=0,H76=\"\",H77=0,H77=\"\",H78=0,H78=\"\",H79=0,H79=\"\"),\"\",IF(M74<=H76,1,IF(M74<=H77,2,IF(M74<=H78,3,IF(M74<=H79,4,\"\")))))","v":""},null,null,null,null,null,null,null,null,5,5,0]
[{"$f":"VLOOKUP(B71,eventno,7,FALSE)","v":43.76},3,8,{"$f":"IF(OR(C75=0,C75=\"\"),\"\",IF(A71=\"F\",HLOOKUP(C75,females,A72,FALSE),IF(A71=\"M\",HLOOKUP(C75,males,A72,FALSE),\"\")))","v":"Megan Savage"},"York",56.58,{"$f":"IF(OR(F75=0,F75=\"\",A76=0,A76=\"\",A77=0,A77=\"\",A78=0,A78=\"\",A79=0,A79=\"\"),\"\",IF(F75<=A76,1,IF(F75<=A77,2,IF(F75<=A78,3,IF(F75<=A79,4,\"\")))))","v":""},{"$f":"VLOOKUP(I71,eventno,7,FALSE)","v":53.6},3,8,{"$f":"IF(OR(J75=0,J75=\"\"),\"\",IF(H71=\"F\",HLOOKUP(J75,females,H72,FALSE),IF(H71=\"M\",HLOOKUP(J75,males,H72,FALSE),\"\")))","v":"James Stanton"},"York",71.09,{"$f":"IF(OR(M75=0,M75=\"\",H76=0,H76=\"\",H77=0,H77=\"\",H78=0,H78=\"\",H79=0,H79=\"\"),\"\",IF(M75<=H76,1,IF(M75<=H77,2,IF(M75<=H78,3,IF(M75<=H79,4,\"\")))))","v":""},null,null,null,null,null,null,null,null,4,4,0]
[{"$f":"VLOOKUP(B71,eventno,8,FALSE)","v":45.5},4,null,{"$f":"IF(OR(C76=0,C76=\"\"),\"\",IF(A71=\"F\",HLOOKUP(C76,females,A72,FALSE),IF(A71=\"M\",HLOOKUP(C76,males,A72,FALSE),\"\")))","v":""},"",null,{"$f":"IF(OR(F76=0,F76=\"\",A76=0,A76=\"\",A77=0,A77=\"\",A78=0,A78=\"\",A79=0,A79=\"\"),\"\",IF(F76<=A76,1,IF(F76<=A77,2,IF(F76<=A78,3,IF(F76<=A79,4,\"\")))))","v":""},{"$f":"VLOOKUP(I71,eventno,8,FALSE)","v":56.5},4,null,{"$f":"IF(OR(J76=0,J76=\"\"),\"\",IF(H71=\"F\",HLOOKUP(J76,females,H72,FALSE),IF(H71=\"M\",HLOOKUP(J76,males,H72,FALSE),\"\")))","v":""},"",null,{"$f":"IF(OR(M76=0,M76=\"\",H76=0,H76=\"\",H77=0,H77=\"\",H78=0,H78=\"\",H79=0,H79=\"\"),\"\",IF(M76<=H76,1,IF(M76<=H77,2,IF(M76<=H78,3,IF(M76<=H79,4,\"\")))))","v":""},null,null,null,null,null,null,null,null,0,0,0]
[{"$f":"VLOOKUP(B71,eventno,9,FALSE)","v":46.7},5,null,{"$f":"IF(OR(C77=0,C77=\"\"),\"\",IF(A71=\"F\",HLOOKUP(C77,females,A72,FALSE),IF(A71=\"M\",HLOOKUP(C77,males,A72,FALSE),\"\")))","v":""},"",null,{"$f":"IF(OR(F77=0,F77=\"\",A76=0,A76=\"\",A77=0,A77=\"\",A78=0,A78=\"\",A79=0,A79=\"\"),\"\",IF(F77<=A76,1,IF(F77<=A77,2,IF(F77<=A78,3,IF(F77<=A79,4,\"\")))))","v":""},{"$f":"VLOOKUP(I71,eventno,9,FALSE)","v":58.5},5,null,{"$f":"IF(OR(J77=0,J77=\"\"),\"\",IF(H71=\"F\",HLOOKUP(J77,females,H72,FALSE),IF(H71=\"M\",HLOOKUP(J77,males,H72,FALSE),\"\")))","v":""},"",null,{"$f":"IF(OR(M77=0,M77=\"\",H76=0,H76=\"\",H77=0,H77=\"\",H78=0,H78=\"\",H79=0,H79=\"\"),\"\",IF(M77<=H76,1,IF(M77<=H77,2,IF(M77<=H78,3,IF(M77<=H79,4,\"\")))))","v":""},null,null,null,null,null,null,null,null,0,0,0]
[{"$f":"VLOOKUP(B71,eventno,10,FALSE)","v":47.9},6,null,{"$f":"IF(OR(C78=0,C78=\"\"),\"\",IF(A71=\"F\",HLOOKUP(C78,females,A72,FALSE),IF(A71=\"M\",HLOOKUP(C78,males,A72,FALSE),\"\")))","v":""},"",null,{"$f":"IF(OR(F78=0,F78=\"\",A76=0,A76=\"\",A77=0,A77=\"\",A78=0,A78=\"\",A79=0,A79=\"\"),\"\",IF(F78<=A76,1,IF(F78<=A77,2,IF(F78<=A78,3,IF(F78<=A79,4,\"\")))))","v":""},{"$f":"VLOOKUP(I71,eventno,10,FALSE)","v":60.5},6,null,{"$f":"IF(OR(J78=0,J78=\"\"),\"\",IF(H71=\"F\",HLOOKUP(J78,females,H72,FALSE),IF(H71=\"M\",HLOOKUP(J78,males,H72,FALSE),\"\")))","v":""},"",null,{"$f":"IF(OR(M78=0,M78=\"\",H76=0,H76=\"\",H77=0,H77=\"\",H78=0,H78=\"\",H79=0,H79=\"\"),\"\",IF(M78<=H76,1,IF(M78<=H77,2,IF(M78<=H78,3,IF(M78<=H79,4,\"\")))))","v":""},null,null,null,null,null,null,null,null,0,0,0]
[{"$f":"VLOOKUP(B71,eventno,11,FALSE)","v":50},null,null,null,null,null,null,{"$f":"VLOOKUP(I71,eventno,11,FALSE)","v":62.5},null,null,null,null,null,null,null,null,null,null,null,null,null,null,0,0,0]
[{"$f":"VLOOKUP(B80,eventno,5,FALSE)","v":"F"},"T23",{"$f":"VLOOKUP(B80,eventno,4,FALSE)","v":"U13G 150m"},null,{"$f":"IF(A83=\"W\",\"Wind =\",\"\")","v":"Wind ="},null,{"$f":"IF(OR(F82=0,F82=\"\",A84=0,A84=\"\"),\"\",IF(A82=\"T\",IF(F82<A84,\"LR\",IF(F82=A84,\"LR=\",\"\"))))","v":""},{"$f":"VLOOKUP(I80,eventno,5,FALSE)","v":"M"},"T24",{"$f":"VLOOKUP(I80,eventno,4,FALSE)","v":"U13B 200m"},null,{"$f":"IF(H83=\"W\",\"Wind =\",\"\")","v":"Wind ="},null,{"$f":"IF(OR(M82=0,M82=\"\",H84=0,H84=\"\"),\"\",IF(H82=\"T\",IF(M82<H84,\"LR\",IF(M82=H84,\"LR=\",\"\"))))","v":""},{"$f":"VLOOKUP(P80,eventno,5,FALSE)","v":"F"},"T25",{"$f":"VLOOKUP(P80,eventno,4,FALSE)","v":"U15G 200m"},null,{"$f":"IF(O83=\"W\",\"Wind =\",\"\")","v":"Wind ="},null,{"$f":"IF(OR(T82=0,T82=\"\",O84=0,O84=\"\"),\"\",IF(O82=\"T\",IF(T82<O84,\"LR\",IF(T82=O84,\"LR=\",\"\"))))","v":""},null,0,0,0]
[{"$f":"IF(A80=\"M\",VLOOKUP(B80,males,15,FALSE),VLOOKUP(B80,females,15,FALSE))","v":13},"Posn","Bib","Athlete","Club","Perf","Gr",{"$f":"IF(H80=\"M\",VLOOKUP(I80,males,15,FALSE),VLOOKUP(I80,females,15,FALSE))","v":13},"Posn","Bib","Athlete","Club","Perf","Gr",{"$f":"IF(O80=\"M\",VLOOKUP(P80,males,15,FALSE),VLOOKUP(P80,females,15,FALSE))","v":14},"Posn","Bib","Athlete","Club","Perf","Gr",null,{"$error":"#N/A"},{"$error":"#N/A"},{"$error":"#N/A"}]
[{"$f":"LEFT(B80,1)","v":"T"},1,9,{"$f":"IF(OR(C82=0,C82=\"\"),\"\",IF(A80=\"F\",HLOOKUP(C82,females,A81,FALSE),IF(A80=\"M\",HLOOKUP(C82,males,A81,FALSE),\"\")))","v":"Madeleine Gerrard"},{"$f":"IF(OR(C82=0,C82=\"\",ISERROR(VLOOKUP(C82,match_teams,4,FALSE)=TRUE)),\"\",VLOOKUP(C82,match_teams,4,FALSE))","v":"Wake"},21.46,{"$f":"IF(OR(F82=0,F82=\"\",A85=0,A85=\"\",A86=0,A86=\"\",A87=0,A87=\"\",A88=0,A88=\"\"),\"\",IF(F82<=A85,1,IF(F82<=A86,2,IF(F82<=A87,3,IF(F82<=A88,4,\"\")))))","v":3},{"$f":"LEFT(I80,1)","v":"T"},1,7,{"$f":"IF(OR(J82=0,J82=\"\"),\"\",IF(H80=\"F\",HLOOKUP(J82,females,H81,FALSE),IF(H80=\"M\",HLOOKUP(J82,males,H81,FALSE),\"\")))","v":"Lewis Renton"},{"$f":"IF(OR(J82=0,J82=\"\",ISERROR(VLOOKUP(J82,match_teams,4,FALSE)=TRUE)),\"\",VLOOKUP(J82,match_teams,4,FALSE))","v":"Leeds C"},27.01,{"$f":"IF(OR(M82=0,M82=\"\",H85=0,H85=\"\",H86=0,H86=\"\",H87=0,H87=\"\",H88=0,H88=\"\"),\"\",IF(M82<=H85,1,IF(M82<=H86,2,IF(M82<=H87,3,IF(M82<=H88,4,\"\")))))","v":2},{"$f":"LEFT(P80,1)","v":"T"},1,9,{"$f":"IF(OR(Q82=0,Q82=\"\"),\"\",IF(O80=\"F\",HLOOKUP(Q82,females,O81,FALSE),IF(O80=\"M\",HLOOKUP(Q82,males,O81,FALSE),\"\")))","v":"Holly Marshall"},{"$f":"IF(OR(Q82=0,Q82=\"\",ISERROR(VLOOKUP(Q82,match_teams,4,FALSE)=TRUE)),\"\",VLOOKUP(Q82,match_teams,4,FALSE))","v":"Wake"},27.02,{"$f":"IF(OR(T82=0,T82=\"\",O85=0,O85=\"\",O86=0,O86=\"\",O87=0,O87=\"\",O88=0,O88=\"\"),\"\",IF(T82<=O85,1,IF(T82<=O86,2,IF(T82<=O87,3,IF(T82<=O88,4,\"\")))))","v":3},null,6,6,6]
[{"$f":"VLOOKUP(B80,eventno,6,FALSE)","v":"W"},2,88,{"$f":"IF(OR(C83=0,C83=\"\"),\"\",IF(A80=\"F\",HLOOKUP(C83,females,A81,FALSE),IF(A80=\"M\",HLOOKUP(C83,males,A81,FALSE),\"\")))","v":"Charlotte Stamp"},"York",22.41,{"$f":"IF(OR(F83=0,F83=\"\",A85=0,A85=\"\",A86=0,A86=\"\",A87=0,A87=\"\",A88=0,A88=\"\"),\"\",IF(F83<=A85,1,IF(F83<=A86,2,IF(F83<=A87,3,IF(F83<=A88,4,\"\")))))","v":""},{"$f":"VLOOKUP(I80,eventno,6,FALSE)","v":"W"},2,9,{"$f":"IF(OR(J83=0,J83=\"\"),\"\",IF(H80=\"F\",HLOOKUP(J83,females,H81,FALSE),IF(H80=\"M\",HLOOKUP(J83,males,H81,FALSE),\"\")))","v":"Alexander Rogers"},"Wake",27.46,{"$f":"IF(OR(M83=0,M83=\"\",H85=0,H85=\"\",H86=0,H86=\"\",H87=0,H87=\"\",H88=0,H88=\"\"),\"\",IF(M83<=H85,1,IF(M83<=H86,2,IF(M83<=H87,3,IF(M83<=H88,4,\"\")))))","v":2},{"$f":"VLOOKUP(P80,eventno,6,FALSE)","v":"W"},2,77,{"$f":"IF(OR(Q83=0,Q83=\"\"),\"\",IF(O80=\"F\",HLOOKUP(Q83,females,O81,FALSE),IF(O80=\"M\",HLOOKUP(Q83,males,O81,FALSE),\"\")))","v":"Caoimhe Crampton"},"Leeds C",27.89,{"$f":"IF(OR(T83=0,T83=\"\",O85=0,O85=\"\",O86=0,O86=\"\",O87=0,O87=\"\",O88=0,O88=\"\"),\"\",IF(T83<=O85,1,IF(T83<=O86,2,IF(T83<=O87,3,IF(T83<=O88,4,\"\")))))","v":4},null,5,5,5]
[{"$f":"VLOOKUP(B80,eventno,7,FALSE)","v":18.8},3,8,{"$f":"IF(OR(C84=0,C84=\"\"),\"\",IF(A80=\"F\",HLOOKUP(C84,females,A81,FALSE),IF(A80=\"M\",HLOOKUP(C84,males,A81,FALSE),\"\")))","v":"Lucy Hadaway"},"York",22.97,{"$f":"IF(OR(F84=0,F84=\"\",A85=0,A85=\"\",A86=0,A86=\"\",A87=0,A87=\"\",A88=0,A88=\"\"),\"\",IF(F84<=A85,1,IF(F84<=A86,2,IF(F84<=A87,3,IF(F84<=A88,4,\"\")))))","v":""},{"$f":"VLOOKUP(I80,eventno,7,FALSE)","v":23.7},3,8,{"$f":"IF(OR(J84=0,J84=\"\"),\"\",IF(H80=\"F\",HLOOKUP(J84,females,H81,FALSE),IF(H80=\"M\",HLOOKUP(J84,males,H81,FALSE),\"\")))","v":"Alex Botterill"},"York",30.25,{"$f":"IF(OR(M84=0,M84=\"\",H85=0,H85=\"\",H86=0,H86=\"\",H87=0,H87=\"\",H88=0,H88=\"\"),\"\",IF(M84<=H85,1,IF(M84<=H86,2,IF(M84<=H87,3,IF(M84<=H88,4,\"\")))))","v":""},{"$f":"VLOOKUP(P80,eventno,7,FALSE)","v":24.18},3,99,{"$f":"IF(OR(Q84=0,Q84=\"\"),\"\",IF(O80=\"F\",HLOOKUP(Q84,females,O81,FALSE),IF(O80=\"M\",HLOOKUP(Q84,males,O81,FALSE),\"\")))","v":"Jessica Eyles"},"Wake",28.51,{"$f":"IF(OR(T84=0,T84=\"\",O85=0,O85=\"\",O86=0,O86=\"\",O87=0,O87=\"\",O88=0,O88=\"\"),\"\",IF(T84<=O85,1,IF(T84<=O86,2,IF(T84<=O87,3,IF(T84<=O88,4,\"\")))))","v":""},null,4,4,4]
[{"$f":"VLOOKUP(B80,eventno,8,FALSE)","v":20.6},4,99,{"$f":"IF(OR(C85=0,C85=\"\"),\"\",IF(A80=\"F\",HLOOKUP(C85,females,A81,FALSE),IF(A80=\"M\",HLOOKUP(C85,males,A81,FALSE),\"\")))","v":"Georgia Green"},"Wake",23.38,{"$f":"IF(OR(F85=0,F85=\"\",A85=0,A85=\"\",A86=0,A86=\"\",A87=0,A87=\"\",A88=0,A88=\"\"),\"\",IF(F85<=A85,1,IF(F85<=A86,2,IF(F85<=A87,3,IF(F85<=A88,4,\"\")))))","v":""},{"$f":"VLOOKUP(I80,eventno,8,FALSE)","v":26.7},4,77,{"$f":"IF(OR(J85=0,J85=\"\"),\"\",IF(H80=\"F\",HLOOKUP(J85,females,H81,FALSE),IF(H80=\"M\",HLOOKUP(J85,males,H81,FALSE),\"\")))","v":"Billy Dawson"},"Leeds C",30.44,{"$f":"IF(OR(M85=0,M85=\"\",H85=0,H85=\"\",H86=0,H86=\"\",H87=0,H87=\"\",H88=0,H88=\"\"),\"\",IF(M85<=H85,1,IF(M85<=H86,2,IF(M85<=H87,3,IF(M85<=H88,4,\"\")))))","v":""},{"$f":"VLOOKUP(P80,eventno,8,FALSE)","v":26.3},4,88,{"$f":"IF(OR(Q85=0,Q85=\"\"),\"\",IF(O80=\"F\",HLOOKUP(Q85,females,O81,FALSE),IF(O80=\"M\",HLOOKUP(Q85,males,O81,FALSE),\"\")))","v":"Anna Richardson"},"York",29.55,{"$f":"IF(OR(T85=0,T85=\"\",O85=0,O85=\"\",O86=0,O86=\"\",O87=0,O87=\"\",O88=0,O88=\"\"),\"\",IF(T85<=O85,1,IF(T85<=O86,2,IF(T85<=O87,3,IF(T85<=O88,4,\"\")))))","v":""},null,3,3,3]
[{"$f":"VLOOKUP(B80,eventno,9,FALSE)","v":21},5,7,{"$f":"IF(OR(C86=0,C86=\"\"),\"\",IF(A80=\"F\",HLOOKUP(C86,females,A81,FALSE),IF(A80=\"M\",HLOOKUP(C86,males,A81,FALSE),\"\")))","v":"Jessie Mogridge"},"Leeds C",25.02,{"$f":"IF(OR(F86=0,F86=\"\",A85=0,A85=\"\",A86=0,A86=\"\",A87=0,A87=\"\",A88=0,A88=\"\"),\"\",IF(F86<=A85,1,IF(F86<=A86,2,IF(F86<=A87,3,IF(F86<=A88,4,\"\")))))","v":""},{"$f":"VLOOKUP(I80,eventno,9,FALSE)","v":27.6},5,99,{"$f":"IF(OR(J86=0,J86=\"\"),\"\",IF(H80=\"F\",HLOOKUP(J86,females,H81,FALSE),IF(H80=\"M\",HLOOKUP(J86,males,H81,FALSE),\"\")))","v":"Carter Bower-Stead"},"Wake",32.89,{"$f":"IF(OR(M86=0,M86=\"\",H85=0,H85=\"\",H86=0,H86=\"\",H87=0,H87=\"\",H88=0,H88=\"\"),\"\",IF(M86<=H85,1,IF(M86<=H86,2,IF(M86<=H87,3,IF(M86<=H88,4,\"\")))))","v":""},{"$f":"VLOOKUP(P80,eventno,9,FALSE)","v":26.7},5,7,{"$f":"IF(OR(Q86=0,Q86=\"\"),\"\",IF(O80=\"F\",HLOOKUP(Q86,females,O81,FALSE),IF(O80=\"M\",HLOOKUP(Q86,males,O81,FALSE),\"\")))","v":"Molly Yearby"},"Leeds C",30.63,{"$f":"IF(OR(T86=0,T86=\"\",O85=0,O85=\"\",O86=0,O86=\"\",O87=0,O87=\"\",O88=0,O88=\"\"),\"\",IF(T86<=O85,1,IF(T86<=O86,2,IF(T86<=O87,3,IF(T86<=O88,4,\"\")))))","v":""},null,2,2,2]
[{"$f":"VLOOKUP(B80,eventno,10,FALSE)","v":21.5},6,77,{"$f":"IF(OR(C87=0,C87=\"\"),\"\",IF(A80=\"F\",HLOOKUP(C87,females,A81,FALSE),IF(A80=\"M\",HLOOKUP(C87,males,A81,FALSE),\"\")))","v":"Chloe Brooks"},"Leeds C",27.06,{"$f":"IF(OR(F87=0,F87=\"\",A85=0,A85=\"\",A86=0,A86=\"\",A87=0,A87=\"\",A88=0,A88=\"\"),\"\",IF(F87<=A85,1,IF(F87<=A86,2,IF(F87<=A87,3,IF(F87<=A88,4,\"\")))))","v":""},{"$f":"VLOOKUP(I80,eventno,10,FALSE)","v":28},6,null,{"$f":"IF(OR(J87=0,J87=\"\"),\"\",IF(H80=\"F\",HLOOKUP(J87,females,H81,FALSE),IF(H80=\"M\",HLOOKUP(J87,males,H81,FALSE),\"\")))","v":""},"",null,{"$f":"IF(OR(M87=0,M87=\"\",H85=0,H85=\"\",H86=0,H86=\"\",H87=0,H87=\"\",H88=0,H88=\"\"),\"\",IF(M87<=H85,1,IF(M87<=H86,2,IF(M87<=H87,3,IF(M87<=H88,4,\"\")))))","v":""},{"$f":"VLOOKUP(P80,eventno,10,FALSE)","v":27.2},6,8,{"$f":"IF(OR(Q87=0,Q87=\"\"),\"\",IF(O80=\"F\",HLOOKUP(Q87,females,O81,FALSE),IF(O80=\"M\",HLOOKUP(Q87,males,O81,FALSE),\"\")))","v":"Jade Kerrison"},"York",32.590000000000003,{"$f":"IF(OR(T87=0,T87=\"\",O85=0,O85=\"\",O86=0,O86=\"\",O87=0,O87=\"\",O88=0,O88=\"\"),\"\",IF(T87<=O85,1,IF(T87<=O86,2,IF(T87<=O87,3,IF(T87<=O88,4,\"\")))))","v":""},null,1,0,1]
[{"$f":"VLOOKUP(B80,eventno,11,FALSE)","v":22.4},null,null,null,null,null,null,{"$f":"VLOOKUP(I80,eventno,11,FALSE)","v":29},null,null,null,null,null,null,{"$f":"VLOOKUP(P80,eventno,11,FALSE)","v":28},null,null,null,null,null,null,null,0,0,0]
[{"$f":"VLOOKUP(B89,eventno,5,FALSE)","v":"M"},"T26",{"$f":"VLOOKUP(B89,eventno,4,FALSE)","v":"U15B 200m"},null,{"$f":"IF(A92=\"W\",\"Wind =\",\"\")","v":"Wind ="},null,{"$f":"IF(OR(F91=0,F91=\"\",A93=0,A93=\"\"),\"\",IF(A91=\"T\",IF(F91<A93,\"LR\",IF(F91=A93,\"LR=\",\"\"))))","v":""},{"$f":"VLOOKUP(I89,eventno,5,FALSE)","v":"F"},"T27",{"$f":"VLOOKUP(I89,eventno,4,FALSE)","v":"U17W 200m"},null,{"$f":"IF(H92=\"W\",\"Wind =\",\"\")","v":"Wind ="},null,{"$f":"IF(OR(M91=0,M91=\"\",H93=0,H93=\"\"),\"\",IF(H91=\"T\",IF(M91<H93,\"LR\",IF(M91=H93,\"LR=\",\"\"))))","v":""},{"$f":"VLOOKUP(P89,eventno,5,FALSE)","v":"M"},"T28",{"$f":"VLOOKUP(P89,eventno,4,FALSE)","v":"U17M 200m"},null,{"$f":"IF(O92=\"W\",\"Wind =\",\"\")","v":"Wind ="},null,{"$f":"IF(OR(T91=0,T91=\"\",O93=0,O93=\"\"),\"\",IF(O91=\"T\",IF(T91<O93,\"LR\",IF(T91=O93,\"LR=\",\"\"))))","v":""},null,0,0,0]
[{"$f":"IF(A89=\"M\",VLOOKUP(B89,males,15,FALSE),VLOOKUP(B89,females,15,FALSE))","v":14},"Posn","Bib","Athlete","Club","Perf","Gr",{"$f":"IF(H89=\"M\",VLOOKUP(I89,males,15,FALSE),VLOOKUP(I89,females,15,FALSE))","v":15},"Posn","Bib","Athlete","Club","Perf","Gr",{"$f":"IF(O89=\"M\",VLOOKUP(P89,males,15,FALSE),VLOOKUP(P89,females,15,FALSE))","v":15},"Posn","Bib","Athlete","Club","Perf","Gr",null,{"$error":"#N/A"},{"$error":"#N/A"},{"$error":"#N/A"}]
[{"$f":"LEFT(B89,1)","v":"T"},1,7,{"$f":"IF(OR(C91=0,C91=\"\"),\"\",IF(A89=\"F\",HLOOKUP(C91,females,A90,FALSE),IF(A89=\"M\",HLOOKUP(C91,males,A90,FALSE),\"\")))","v":"Finlay Fuller"},{"$f":"IF(OR(C91=0,C91=\"\",ISERROR(VLOOKUP(C91,match_teams,4,FALSE)=TRUE)),\"\",VLOOKUP(C91,match_teams,4,FALSE))","v":"Leeds C"},24.62,{"$f":"IF(OR(F91=0,F91=\"\",A94=0,A94=\"\",A95=0,A95=\"\",A96=0,A96=\"\",A97=0,A97=\"\"),\"\",IF(F91<=A94,1,IF(F91<=A95,2,IF(F91<=A96,3,IF(F91<=A97,4,\"\")))))","v":3},{"$f":"LEFT(I89,1)","v":"T"},1,9,{"$f":"IF(OR(J91=0,J91=\"\"),\"\",IF(H89=\"F\",HLOOKUP(J91,females,H90,FALSE),IF(H89=\"M\",HLOOKUP(J91,males,H90,FALSE),\"\")))","v":"Zoe Kerins"},{"$f":"IF(OR(J91=0,J91=\"\",ISERROR(VLOOKUP(J91,match_teams,4,FALSE)=TRUE)),\"\",VLOOKUP(J91,match_teams,4,FALSE))","v":"Wake"},26.84,{"$f":"IF(OR(M91=0,M91=\"\",H94=0,H94=\"\",H95=0,H95=\"\",H96=0,H96=\"\",H97=0,H97=\"\"),\"\",IF(M91<=H94,1,IF(M91<=H95,2,IF(M91<=H96,3,IF(M91<=H97,4,\"\")))))","v":4},{"$f":"LEFT(P89,1)","v":"T"},1,7,{"$f":"IF(OR(Q91=0,Q91=\"\"),\"\",IF(O89=\"F\",HLOOKUP(Q91,females,O90,FALSE),IF(O89=\"M\",HLOOKUP(Q91,males,O90,FALSE),\"\")))","v":"Aqib Javed"},{"$f":"IF(OR(Q91=0,Q91=\"\",ISERROR(VLOOKUP(Q91,match_teams,4,FALSE)=TRUE)),\"\",VLOOKUP(Q91,match_teams,4,FALSE))","v":"Leeds C"},23.42,{"$f":"IF(OR(T91=0,T91=\"\",O94=0,O94=\"\",O95=0,O95=\"\",O96=0,O96=\"\",O97=0,O97=\"\"),\"\",IF(T91<=O94,1,IF(T91<=O95,2,IF(T91<=O96,3,IF(T91<=O97,4,\"\")))))","v":3},null,6,6,6]
[{"$f":"VLOOKUP(B89,eventno,6,FALSE)","v":"W"},2,8,{"$f":"IF(OR(C92=0,C92=\"\"),\"\",IF(A89=\"F\",HLOOKUP(C92,females,A90,FALSE),IF(A89=\"M\",HLOOKUP(C92,males,A90,FALSE),\"\")))","v":"Chris Searle"},"York",25.15,{"$f":"IF(OR(F92=0,F92=\"\",A94=0,A94=\"\",A95=0,A95=\"\",A96=0,A96=\"\",A97=0,A97=\"\"),\"\",IF(F92<=A94,1,IF(F92<=A95,2,IF(F92<=A96,3,IF(F92<=A97,4,\"\")))))","v":4},{"$f":"VLOOKUP(I89,eventno,6,FALSE)","v":"W"},2,7,{"$f":"IF(OR(J92=0,J92=\"\"),\"\",IF(H89=\"F\",HLOOKUP(J92,females,H90,FALSE),IF(H89=\"M\",HLOOKUP(J92,males,H90,FALSE),\"\")))","v":"India Wilson"},"Leeds C",27.43,{"$f":"IF(OR(M92=0,M92=\"\",H94=0,H94=\"\",H95=0,H95=\"\",H96=0,H96=\"\",H97=0,H97=\"\"),\"\",IF(M92<=H94,1,IF(M92<=H95,2,IF(M92<=H96,3,IF(M92<=H97,4,\"\")))))","v":""},{"$f":"VLOOKUP(P89,eventno,6,FALSE)","v":"W"},2,9,{"$f":"IF(OR(Q92=0,Q92=\"\"),\"\",IF(O89=\"F\",HLOOKUP(Q92,females,O90,FALSE),IF(O89=\"M\",HLOOKUP(Q92,males,O90,FALSE),\"\")))","v":"James McBorrough"},"Wake",23.86,{"$f":"IF(OR(T92=0,T92=\"\",O94=0,O94=\"\",O95=0,O95=\"\",O96=0,O96=\"\",O97=0,O97=\"\"),\"\",IF(T92<=O94,1,IF(T92<=O95,2,IF(T92<=O96,3,IF(T92<=O97,4,\"\")))))","v":4},null,5,5,5]
[{"$f":"VLOOKUP(B89,eventno,7,FALSE)","v":22.3},3,9,{"$f":"IF(OR(C93=0,C93=\"\"),\"\",IF(A89=\"F\",HLOOKUP(C93,females,A90,FALSE),IF(A89=\"M\",HLOOKUP(C93,males,A90,FALSE),\"\")))","v":"Patrick Thackray"},"Wake",25.36,{"$f":"IF(OR(F93=0,F93=\"\",A94=0,A94=\"\",A95=0,A95=\"\",A96=0,A96=\"\",A97=0,A97=\"\"),\"\",IF(F93<=A94,1,IF(F93<=A95,2,IF(F93<=A96,3,IF(F93<=A97,4,\"\")))))","v":4},{"$f":"VLOOKUP(I89,eventno,7,FALSE)","v":24.1},3,8,{"$f":"IF(OR(J93=0,J93=\"\"),\"\",IF(H89=\"F\",HLOOKUP(J93,females,H90,FALSE),IF(H89=\"M\",HLOOKUP(J93,males,H90,FALSE),\"\")))","v":"Emily Haigh"},"York",28.5,{"$f":"IF(OR(M93=0,M93=\"\",H94=0,H94=\"\",H95=0,H95=\"\",H96=0,H96=\"\",H97=0,H97=\"\"),\"\",IF(M93<=H94,1,IF(M93<=H95,2,IF(M93<=H96,3,IF(M93<=H97,4,\"\")))))","v":""},{"$f":"VLOOKUP(P89,eventno,7,FALSE)","v":21.33},3,77,{"$f":"IF(OR(Q93=0,Q93=\"\"),\"\",IF(O89=\"F\",HLOOKUP(Q93,females,O90,FALSE),IF(O89=\"M\",HLOOKUP(Q93,males,O90,FALSE),\"\")))","v":"Liam Braithwaite"},"Leeds C",24.7,{"$f":"IF(OR(T93=0,T93=\"\",O94=0,O94=\"\",O95=0,O95=\"\",O96=0,O96=\"\",O97=0,O97=\"\"),\"\",IF(T93<=O94,1,IF(T93<=O95,2,IF(T93<=O96,3,IF(T93<=O97,4,\"\")))))","v":""},null,4,4,4]
[{"$f":"VLOOKUP(B89,eventno,8,FALSE)","v":24},4,77,{"$f":"IF(OR(C94=0,C94=\"\"),\"\",IF(A89=\"F\",HLOOKUP(C94,females,A90,FALSE),IF(A89=\"M\",HLOOKUP(C94,males,A90,FALSE),\"\")))","v":"Thomas Harrison"},"Leeds C",28.33,{"$f":"IF(OR(F94=0,F94=\"\",A94=0,A94=\"\",A95=0,A95=\"\",A96=0,A96=\"\",A97=0,A97=\"\"),\"\",IF(F94<=A94,1,IF(F94<=A95,2,IF(F94<=A96,3,IF(F94<=A97,4,\"\")))))","v":""},{"$f":"VLOOKUP(I89,eventno,8,FALSE)","v":25.4},4,77,{"$f":"IF(OR(J94=0,J94=\"\"),\"\",IF(H89=\"F\",HLOOKUP(J94,females,H90,FALSE),IF(H89=\"M\",HLOOKUP(J94,males,H90,FALSE),\"\")))","v":"Katie Ward"},"Leeds C",29.28,{"$f":"IF(OR(M94=0,M94=\"\",H94=0,H94=\"\",H95=0,H95=\"\",H96=0,H96=\"\",H97=0,H97=\"\"),\"\",IF(M94<=H94,1,IF(M94<=H95,2,IF(M94<=H96,3,IF(M94<=H97,4,\"\")))))","v":""},{"$f":"VLOOKUP(P89,eventno,8,FALSE)","v":22.8},4,null,{"$f":"IF(OR(Q94=0,Q94=\"\"),\"\",IF(O89=\"F\",HLOOKUP(Q94,females,O90,FALSE),IF(O89=\"M\",HLOOKUP(Q94,males,O90,FALSE),\"\")))","v":""},"",null,{"$f":"IF(OR(T94=0,T94=\"\",O94=0,O94=\"\",O95=0,O95=\"\",O96=0,O96=\"\",O97=0,O97=\"\"),\"\",IF(T94<=O94,1,IF(T94<=O95,2,IF(T94<=O96,3,IF(T94<=O97,4,\"\")))))","v":""},null,3,3,0]
[{"$f":"VLOOKUP(B89,eventno,9,FALSE)","v":24.4},5,99,{"$f":"IF(OR(C95=0,C95=\"\"),\"\",IF(A89=\"F\",HLOOKUP(C95,females,A90,FALSE),IF(A89=\"M\",HLOOKUP(C95,males,A90,FALSE),\"\")))","v":"Ben Read"},"Wake",29.12,{"$f":"IF(OR(F95=0,F95=\"\",A94=0,A94=\"\",A95=0,A95=\"\",A96=0,A96=\"\",A97=0,A97=\"\"),\"\",IF(F95<=A94,1,IF(F95<=A95,2,IF(F95<=A96,3,IF(F95<=A97,4,\"\")))))","v":""},{"$f":"VLOOKUP(I89,eventno,9,FALSE)","v":25.8},5,99,{"$f":"IF(OR(J95=0,J95=\"\"),\"\",IF(H89=\"F\",HLOOKUP(J95,females,H90,FALSE),IF(H89=\"M\",HLOOKUP(J95,males,H90,FALSE),\"\")))","v":"Emily Wadge"},"Wake",31.04,{"$f":"IF(OR(M95=0,M95=\"\",H94=0,H94=\"\",H95=0,H95=\"\",H96=0,H96=\"\",H97=0,H97=\"\"),\"\",IF(M95<=H94,1,IF(M95<=H95,2,IF(M95<=H96,3,IF(M95<=H97,4,\"\")))))","v":""},{"$f":"VLOOKUP(P89,eventno,9,FALSE)","v":23.1},5,null,{"$f":"IF(OR(Q95=0,Q95=\"\"),\"\",IF(O89=\"F\",HLOOKUP(Q95,females,O90,FALSE),IF(O89=\"M\",HLOOKUP(Q95,males,O90,FALSE),\"\")))","v":""},"",null,{"$f":"IF(OR(T95=0,T95=\"\",O94=0,O94=\"\",O95=0,O95=\"\",O96=0,O96=\"\",O97=0,O97=\"\"),\"\",IF(T95<=O94,1,IF(T95<=O95,2,IF(T95<=O96,3,IF(T95<=O97,4,\"\")))))","v":""},null,2,2,0]
[{"$f":"VLOOKUP(B89,eventno,10,FALSE)","v":24.9},6,88,{"$f":"IF(OR(C96=0,C96=\"\"),\"\",IF(A89=\"F\",HLOOKUP(C96,females,A90,FALSE),IF(A89=\"M\",HLOOKUP(C96,males,A90,FALSE),\"\")))","v":"Tom Hobson"},"York",30,{"$f":"IF(OR(F96=0,F96=\"\",A94=0,A94=\"\",A95=0,A95=\"\",A96=0,A96=\"\",A97=0,A97=\"\"),\"\",IF(F96<=A94,1,IF(F96<=A95,2,IF(F96<=A96,3,IF(F96<=A97,4,\"\")))))","v":""},{"$f":"VLOOKUP(I89,eventno,10,FALSE)","v":26.3},6,null,{"$f":"IF(OR(J96=0,J96=\"\"),\"\",IF(H89=\"F\",HLOOKUP(J96,females,H90,FALSE),IF(H89=\"M\",HLOOKUP(J96,males,H90,FALSE),\"\")))","v":""},"",null,{"$f":"IF(OR(M96=0,M96=\"\",H94=0,H94=\"\",H95=0,H95=\"\",H96=0,H96=\"\",H97=0,H97=\"\"),\"\",IF(M96<=H94,1,IF(M96<=H95,2,IF(M96<=H96,3,IF(M96<=H97,4,\"\")))))","v":""},{"$f":"VLOOKUP(P89,eventno,10,FALSE)","v":23.5},6,null,{"$f":"IF(OR(Q96=0,Q96=\"\"),\"\",IF(O89=\"F\",HLOOKUP(Q96,females,O90,FALSE),IF(O89=\"M\",HLOOKUP(Q96,males,O90,FALSE),\"\")))","v":""},"",null,{"$f":"IF(OR(T96=0,T96=\"\",O94=0,O94=\"\",O95=0,O95=\"\",O96=0,O96=\"\",O97=0,O97=\"\"),\"\",IF(T96<=O94,1,IF(T96<=O95,2,IF(T96<=O96,3,IF(T96<=O97,4,\"\")))))","v":""},null,1,0,0]
[{"$f":"VLOOKUP(B89,eventno,11,FALSE)","v":25.6},null,null,null,null,null,null,{"$f":"VLOOKUP(I89,eventno,11,FALSE)","v":27.1},null,null,null,null,null,null,{"$f":"VLOOKUP(P89,eventno,11,FALSE)","v":24.1},null,null,null,null,null,null,null,0,0,0]
[{"$f":"VLOOKUP(B98,eventno,5,FALSE)","v":"F"},"T29",{"$f":"VLOOKUP(B98,eventno,4,FALSE)","v":"U13G 1200m"},null,{"$f":"IF(A101=\"W\",\"Wind =\",\"\")","v":""},null,{"$f":"IF(OR(F100=0,F100=\"\",A102=0,A102=\"\"),\"\",IF(A100=\"T\",IF(F100<A102,\"LR\",IF(F100=A102,\"LR=\",\"\"))))","v":""},{"$f":"VLOOKUP(I98,eventno,5,FALSE)","v":"M"},"T30",{"$f":"VLOOKUP(I98,eventno,4,FALSE)","v":"U13B 1500m"},null,{"$f":"IF(H101=\"W\",\"Wind =\",\"\")","v":""},null,{"$f":"IF(OR(M100=0,M100=\"\",H102=0,H102=\"\"),\"\",IF(H100=\"T\",IF(M100<H102,\"LR\",IF(M100=H102,\"LR=\",\"\"))))","v":""},{"$f":"VLOOKUP(P98,eventno,5,FALSE)","v":"F"},"T31",{"$f":"VLOOKUP(P98,eventno,4,FALSE)","v":"U15G 1500m"},null,{"$f":"IF(O101=\"W\",\"Wind =\",\"\")","v":""},null,{"$f":"IF(OR(T100=0,T100=\"\",O102=0,O102=\"\"),\"\",IF(O100=\"T\",IF(T100<O102,\"LR\",IF(T100=O102,\"LR=\",\"\"))))","v":""},null,0,0,0]
[{"$f":"IF(A98=\"M\",VLOOKUP(B98,males,15,FALSE),VLOOKUP(B98,females,15,FALSE))","v":16},"Posn","Bib","Athlete","Club","Perf","Gr",{"$f":"IF(H98=\"M\",VLOOKUP(I98,males,15,FALSE),VLOOKUP(I98,females,15,FALSE))","v":16},"Posn","Bib","Athlete","Club","Perf","Gr",{"$f":"IF(O98=\"M\",VLOOKUP(P98,males,15,FALSE),VLOOKUP(P98,females,15,FALSE))","v":17},"Posn","Bib","Athlete","Club","Perf","Gr",null,{"$error":"#N/A"},{"$error":"#N/A"},{"$error":"#N/A"}]
[{"$f":"LEFT(B98,1)","v":"T"},1,9,{"$f":"IF(OR(C100=0,C100=\"\"),\"\",IF(A98=\"F\",HLOOKUP(C100,females,A99,FALSE),IF(A98=\"M\",HLOOKUP(C100,males,A99,FALSE),\"\")))","v":"Beth Oates"},{"$f":"IF(OR(C100=0,C100=\"\",ISERROR(VLOOKUP(C100,match_teams,4,FALSE)=TRUE)),\"\",VLOOKUP(C100,match_teams,4,FALSE))","v":"Wake"},"00:04:18.480",{"$f":"IF(OR(F100=0,F100=\"\",A103=0,A103=\"\",A104=0,A104=\"\",A105=0,A105=\"\",A106=0,A106=\"\"),\"\",IF(F100<=A103,1,IF(F100<=A104,2,IF(F100<=A105,3,IF(F100<=A106,4,\"\")))))","v":""},{"$f":"LEFT(I98,1)","v":"T"},1,77,{"$f":"IF(OR(J100=0,J100=\"\"),\"\",IF(H98=\"F\",HLOOKUP(J100,females,H99,FALSE),IF(H98=\"M\",HLOOKUP(J100,males,H99,FALSE),\"\")))","v":"Dominic Peterson"},{"$f":"IF(OR(J100=0,J100=\"\",ISERROR(VLOOKUP(J100,match_teams,4,FALSE)=TRUE)),\"\",VLOOKUP(J100,match_teams,4,FALSE))","v":"Leeds C"},"00:05:13.220",{"$f":"IF(OR(M100=0,M100=\"\",H103=0,H103=\"\",H104=0,H104=\"\",H105=0,H105=\"\",H106=0,H106=\"\"),\"\",IF(M100<=H103,1,IF(M100<=H104,2,IF(M100<=H105,3,IF(M100<=H106,4,\"\")))))","v":4},{"$f":"LEFT(P98,1)","v":"T"},1,7,{"$f":"IF(OR(Q100=0,Q100=\"\"),\"\",IF(O98=\"F\",HLOOKUP(Q100,females,O99,FALSE),IF(O98=\"M\",HLOOKUP(Q100,males,O99,FALSE),\"\")))","v":"Gemma Keir"},{"$f":"IF(OR(Q100=0,Q100=\"\",ISERROR(VLOOKUP(Q100,match_teams,4,FALSE)=TRUE)),\"\",VLOOKUP(Q100,match_teams,4,FALSE))","v":"Leeds C"},"00:04:52.460",{"$f":"IF(OR(T100=0,T100=\"\",O103=0,O103=\"\",O104=0,O104=\"\",O105=0,O105=\"\",O106=0,O106=\"\"),\"\",IF(T100<=O103,1,IF(T100<=O104,2,IF(T100<=O105,3,IF(T100<=O106,4,\"\")))))","v":2},null,6,6,6]
[{"$f":"VLOOKUP(B98,eventno,6,FALSE)","v":0},2,99,{"$f":"IF(OR(C101=0,C101=\"\"),\"\",IF(A98=\"F\",HLOOKUP(C101,females,A99,FALSE),IF(A98=\"M\",HLOOKUP(C101,males,A99,FALSE),\"\")))","v":"Laura Sanderson"},"Wake","00:04:25.670",{"$f":"IF(OR(F101=0,F101=\"\",A103=0,A103=\"\",A104=0,A104=\"\",A105=0,A105=\"\",A106=0,A106=\"\"),\"\",IF(F101<=A103,1,IF(F101<=A104,2,IF(F101<=A105,3,IF(F101<=A106,4,\"\")))))","v":""},{"$f":"VLOOKUP(I98,eventno,6,FALSE)","v":0},2,9,{"$f":"IF(OR(J101=0,J101=\"\"),\"\",IF(H98=\"F\",HLOOKUP(J101,females,H99,FALSE),IF(H98=\"M\",HLOOKUP(J101,males,H99,FALSE),\"\")))","v":"Edward Dunbavin"},"Wake","00:05:21.920",{"$f":"IF(OR(M101=0,M101=\"\",H103=0,H103=\"\",H104=0,H104=\"\",H105=0,H105=\"\",H106=0,H106=\"\"),\"\",IF(M101<=H103,1,IF(M101<=H104,2,IF(M101<=H105,3,IF(M101<=H106,4,\"\")))))","v":""},{"$f":"VLOOKUP(P98,eventno,6,FALSE)","v":0},2,9,{"$f":"IF(OR(Q101=0,Q101=\"\"),\"\",IF(O98=\"F\",HLOOKUP(Q101,females,O99,FALSE),IF(O98=\"M\",HLOOKUP(Q101,males,O99,FALSE),\"\")))","v":"Stephanie Rodgers"},"Wake","00:05:07.470",{"$f":"IF(OR(T101=0,T101=\"\",O103=0,O103=\"\",O104=0,O104=\"\",O105=0,O105=\"\",O106=0,O106=\"\"),\"\",IF(T101<=O103,1,IF(T101<=O104,2,IF(T101<=O105,3,IF(T101<=O106,4,\"\")))))","v":4},null,5,5,5]
[{"$f":"VLOOKUP(B98,eventno,7,FALSE)","v":2.5671296296296297E-3},3,88,{"$f":"IF(OR(C102=0,C102=\"\"),\"\",IF(A98=\"F\",HLOOKUP(C102,females,A99,FALSE),IF(A98=\"M\",HLOOKUP(C102,males,A99,FALSE),\"\")))","v":"Felicity Edwards"},"York","00:04:41.980",{"$f":"IF(OR(F102=0,F102=\"\",A103=0,A103=\"\",A104=0,A104=\"\",A105=0,A105=\"\",A106=0,A106=\"\"),\"\",IF(F102<=A103,1,IF(F102<=A104,2,IF(F102<=A105,3,IF(F102<=A106,4,\"\")))))","v":""},{"$f":"VLOOKUP(I98,eventno,7,FALSE)","v":3.0520833333333333E-3},3,7,{"$f":"IF(OR(J102=0,J102=\"\"),\"\",IF(H98=\"F\",HLOOKUP(J102,females,H99,FALSE),IF(H98=\"M\",HLOOKUP(J102,males,H99,FALSE),\"\")))","v":"Alex Booth"},"Leeds C","00:05:24.440",{"$f":"IF(OR(M102=0,M102=\"\",H103=0,H103=\"\",H104=0,H104=\"\",H105=0,H105=\"\",H106=0,H106=\"\"),\"\",IF(M102<=H103,1,IF(M102<=H104,2,IF(M102<=H105,3,IF(M102<=H106,4,\"\")))))","v":""},{"$f":"VLOOKUP(P98,eventno,7,FALSE)","v":3.1986111111111108E-3},3,8,{"$f":"IF(OR(Q102=0,Q102=\"\"),\"\",IF(O98=\"F\",HLOOKUP(Q102,females,O99,FALSE),IF(O98=\"M\",HLOOKUP(Q102,males,O99,FALSE),\"\")))","v":"Chelsea Walker"},"York","00:05:24.620",{"$f":"IF(OR(T102=0,T102=\"\",O103=0,O103=\"\",O104=0,O104=\"\",O105=0,O105=\"\",O106=0,O106=\"\"),\"\",IF(T102<=O103,1,IF(T102<=O104,2,IF(T102<=O105,3,IF(T102<=O106,4,\"\")))))","v":""},null,4,4,4]
[{"$f":"VLOOKUP(B98,eventno,8,FALSE)","v":2.7430555555555559E-3},4,8,{"$f":"IF(OR(C103=0,C103=\"\"),\"\",IF(A98=\"F\",HLOOKUP(C103,females,A99,FALSE),IF(A98=\"M\",HLOOKUP(C103,males,A99,FALSE),\"\")))","v":"Georgie Hogarth"},"York","00:05:09.310",{"$f":"IF(OR(F103=0,F103=\"\",A103=0,A103=\"\",A104=0,A104=\"\",A105=0,A105=\"\",A106=0,A106=\"\"),\"\",IF(F103<=A103,1,IF(F103<=A104,2,IF(F103<=A105,3,IF(F103<=A106,4,\"\")))))","v":""},{"$f":"VLOOKUP(I98,eventno,8,FALSE)","v":3.3622685185185183E-3},4,null,{"$f":"IF(OR(J103=0,J103=\"\"),\"\",IF(H98=\"F\",HLOOKUP(J103,females,H99,FALSE),IF(H98=\"M\",HLOOKUP(J103,males,H99,FALSE),\"\")))","v":""},"",null,{"$f":"IF(OR(M103=0,M103=\"\",H103=0,H103=\"\",H104=0,H104=\"\",H105=0,H105=\"\",H106=0,H106=\"\"),\"\",IF(M103<=H103,1,IF(M103<=H104,2,IF(M103<=H105,3,IF(M103<=H106,4,\"\")))))","v":""},{"$f":"VLOOKUP(P98,eventno,8,FALSE)","v":3.3622685185185183E-3},4,99,{"$f":"IF(OR(Q103=0,Q103=\"\"),\"\",IF(O98=\"F\",HLOOKUP(Q103,females,O99,FALSE),IF(O98=\"M\",HLOOKUP(Q103,males,O99,FALSE),\"\")))","v":"Saskia Lewis"},"Wake","00:05:35.230",{"$f":"IF(OR(T103=0,T103=\"\",O103=0,O103=\"\",O104=0,O104=\"\",O105=0,O105=\"\",O106=0,O106=\"\"),\"\",IF(T103<=O103,1,IF(T103<=O104,2,IF(T103<=O105,3,IF(T103<=O106,4,\"\")))))","v":""},null,3,0,3]
[{"$f":"VLOOKUP(B98,eventno,9,FALSE)","v":2.7893518518518519E-3},5,null,{"$f":"IF(OR(C104=0,C104=\"\"),\"\",IF(A98=\"F\",HLOOKUP(C104,females,A99,FALSE),IF(A98=\"M\",HLOOKUP(C104,males,A99,FALSE),\"\")))","v":""},"",null,{"$f":"IF(OR(F104=0,F104=\"\",A103=0,A103=\"\",A104=0,A104=\"\",A105=0,A105=\"\",A106=0,A106=\"\"),\"\",IF(F104<=A103,1,IF(F104<=A104,2,IF(F104<=A105,3,IF(F104<=A106,4,\"\")))))","v":""},{"$f":"VLOOKUP(I98,eventno,9,FALSE)","v":3.4317129629629628E-3},5,null,{"$f":"IF(OR(J104=0,J104=\"\"),\"\",IF(H98=\"F\",HLOOKUP(J104,females,H99,FALSE),IF(H98=\"M\",HLOOKUP(J104,males,H99,FALSE),\"\")))","v":""},"",null,{"$f":"IF(OR(M104=0,M104=\"\",H103=0,H103=\"\",H104=0,H104=\"\",H105=0,H105=\"\",H106=0,H106=\"\"),\"\",IF(M104<=H103,1,IF(M104<=H104,2,IF(M104<=H105,3,IF(M104<=H106,4,\"\")))))","v":""},{"$f":"VLOOKUP(P98,eventno,9,FALSE)","v":3.4432870370370368E-3},5,null,{"$f":"IF(OR(Q104=0,Q104=\"\"),\"\",IF(O98=\"F\",HLOOKUP(Q104,females,O99,FALSE),IF(O98=\"M\",HLOOKUP(Q104,males,O99,FALSE),\"\")))","v":""},"",null,{"$f":"IF(OR(T104=0,T104=\"\",O103=0,O103=\"\",O104=0,O104=\"\",O105=0,O105=\"\",O106=0,O106=\"\"),\"\",IF(T104<=O103,1,IF(T104<=O104,2,IF(T104<=O105,3,IF(T104<=O106,4,\"\")))))","v":""},null,{"$f":"IF(OR(B104=0,B104=\"\",C104=0,C104=\"\",F104=0,F104=\"\",LEFT(F104,1)=\"D\"),0,VLOOKUP(B104,points,2,FALSE))","v":0},{"$f":"IF(OR(I104=0,I104=\"\",J104=0,J104=\"\",M104=0,M104=\"\",LEFT(M104,1)=\"D\"),0,VLOOKUP(I104,points,2,FALSE))","v":0},{"$f":"IF(OR(P104=0,P104=\"\",Q104=0,Q104=\"\",T104=0,T104=\"\",LEFT(T104,1)=\"D\"),0,VLOOKUP(P104,points,2,FALSE))","v":0}]
[{"$f":"VLOOKUP(B98,eventno,10,FALSE)","v":2.8587962962962963E-3},6,null,{"$f":"IF(OR(C105=0,C105=\"\"),\"\",IF(A98=\"F\",HLOOKUP(C105,females,A99,FALSE),IF(A98=\"M\",HLOOKUP(C105,males,A99,FALSE),\"\")))","v":""},"",null,{"$f":"IF(OR(F105=0,F105=\"\",A103=0,A103=\"\",A104=0,A104=\"\",A105=0,A105=\"\",A106=0,A106=\"\"),\"\",IF(F105<=A103,1,IF(F105<=A104,2,IF(F105<=A105,3,IF(F105<=A106,4,\"\")))))","v":""},{"$f":"VLOOKUP(I98,eventno,10,FALSE)","v":3.5127314814814817E-3},6,null,{"$f":"IF(OR(J105=0,J105=\"\"),\"\",IF(H98=\"F\",HLOOKUP(J105,females,H99,FALSE),IF(H98=\"M\",HLOOKUP(J105,males,H99,FALSE),\"\")))","v":""},"",null,{"$f":"IF(OR(M105=0,M105=\"\",H103=0,H103=\"\",H104=0,H104=\"\",H105=0,H105=\"\",H106=0,H106=\"\"),\"\",IF(M105<=H103,1,IF(M105<=H104,2,IF(M105<=H105,3,IF(M105<=H106,4,\"\")))))","v":""},{"$f":"VLOOKUP(P98,eventno,10,FALSE)","v":3.5358796296296297E-3},6,null,{"$f":"IF(OR(Q105=0,Q105=\"\"),\"\",IF(O98=\"F\",HLOOKUP(Q105,females,O99,FALSE),IF(O98=\"M\",HLOOKUP(Q105,males,O99,FALSE),\"\")))","v":""},"",null,{"$f":"IF(OR(T105=0,T105=\"\",O103=0,O103=\"\",O104=0,O104=\"\",O105=0,O105=\"\",O106=0,O106=\"\"),\"\",IF(T105<=O103,1,IF(T105<=O104,2,IF(T105<=O105,3,IF(T105<=O106,4,\"\")))))","v":""},null,0,0,0]
[{"$f":"VLOOKUP(B98,eventno,11,FALSE)","v":2.9513888888888888E-3},null,null,null,null,null,null,{"$f":"VLOOKUP(I98,eventno,11,FALSE)","v":3.6574074074074074E-3},null,null,null,null,null,null,{"$f":"VLOOKUP(P98,eventno,11,FALSE)","v":3.6689814814814814E-3},null,null,null,null,null,null,null,0,0,0]
[{"$f":"VLOOKUP(B107,eventno,5,FALSE)","v":"M"},"T32",{"$f":"VLOOKUP(B107,eventno,4,FALSE)","v":"U15B 1500m"},null,{"$f":"IF(A110=\"W\",\"Wind =\",\"\")","v":""},null,{"$f":"IF(OR(F109=0,F109=\"\",A111=0,A111=\"\"),\"\",IF(A109=\"T\",IF(F109<A111,\"LR\",IF(F109=A111,\"LR=\",\"\"))))","v":""},{"$f":"VLOOKUP(I107,eventno,5,FALSE)","v":"F"},"T33",{"$f":"VLOOKUP(I107,eventno,4,FALSE)","v":"U17W 1500m"},null,{"$f":"IF(H110=\"W\",\"Wind =\",\"\")","v":""},null,{"$f":"IF(OR(M109=0,M109=\"\",H111=0,H111=\"\"),\"\",IF(H109=\"T\",IF(M109<H111,\"LR\",IF(M109=H111,\"LR=\",\"\"))))","v":""},{"$f":"VLOOKUP(P107,eventno,5,FALSE)","v":"M"},"T34",{"$f":"VLOOKUP(P107,eventno,4,FALSE)","v":"U17M 1500m"},null,{"$f":"IF(O110=\"W\",\"Wind =\",\"\")","v":""},null,{"$f":"IF(OR(T109=0,T109=\"\",O111=0,O111=\"\"),\"\",IF(O109=\"T\",IF(T109<O111,\"LR\",IF(T109=O111,\"LR=\",\"\"))))","v":""},null,0,0,0]
[{"$f":"IF(A107=\"M\",VLOOKUP(B107,males,15,FALSE),VLOOKUP(B107,females,15,FALSE))","v":17},"Posn","Bib","Athlete","Club","Perf","Gr",{"$f":"IF(H107=\"M\",VLOOKUP(I107,males,15,FALSE),VLOOKUP(I107,females,15,FALSE))","v":18},"Posn","Bib","Athlete","Club","Perf","Gr",{"$f":"IF(O107=\"M\",VLOOKUP(P107,males,15,FALSE),VLOOKUP(P107,females,15,FALSE))","v":18},"Posn","Bib","Athlete","Club","Perf","Gr",null,{"$error":"#N/A"},{"$error":"#N/A"},{"$error":"#N/A"}]
[{"$f":"LEFT(B107,1)","v":"T"},1,77,{"$f":"IF(OR(C109=0,C109=\"\"),\"\",IF(A107=\"F\",HLOOKUP(C109,females,A108,FALSE),IF(A107=\"M\",HLOOKUP(C109,males,A108,FALSE),\"\")))","v":"Kieran Savage"},{"$f":"IF(OR(C109=0,C109=\"\",ISERROR(VLOOKUP(C109,match_teams,4,FALSE)=TRUE)),\"\",VLOOKUP(C109,match_teams,4,FALSE))","v":"Leeds C"},"00:04:44.890",{"$f":"IF(OR(F109=0,F109=\"\",A112=0,A112=\"\",A113=0,A113=\"\",A114=0,A114=\"\",A115=0,A115=\"\"),\"\",IF(F109<=A112,1,IF(F109<=A113,2,IF(F109<=A114,3,IF(F109<=A115,4,\"\")))))","v":4},{"$f":"LEFT(I107,1)","v":"T"},1,8,{"$f":"IF(OR(J109=0,J109=\"\"),\"\",IF(H107=\"F\",HLOOKUP(J109,females,H108,FALSE),IF(H107=\"M\",HLOOKUP(J109,males,H108,FALSE),\"\")))","v":"Zoe Robson"},{"$f":"IF(OR(J109=0,J109=\"\",ISERROR(VLOOKUP(J109,match_teams,4,FALSE)=TRUE)),\"\",VLOOKUP(J109,match_teams,4,FALSE))","v":"York"},"00:05:47.750",{"$f":"IF(OR(M109=0,M109=\"\",H112=0,H112=\"\",H113=0,H113=\"\",H114=0,H114=\"\",H115=0,H115=\"\"),\"\",IF(M109<=H112,1,IF(M109<=H113,2,IF(M109<=H114,3,IF(M109<=H115,4,\"\")))))","v":""},{"$f":"LEFT(P107,1)","v":"T"},1,9,{"$f":"IF(OR(Q109=0,Q109=\"\"),\"\",IF(O107=\"F\",HLOOKUP(Q109,females,O108,FALSE),IF(O107=\"M\",HLOOKUP(Q109,males,O108,FALSE),\"\")))","v":"Steven Eastwood"},{"$f":"IF(OR(Q109=0,Q109=\"\",ISERROR(VLOOKUP(Q109,match_teams,4,FALSE)=TRUE)),\"\",VLOOKUP(Q109,match_teams,4,FALSE))","v":"Wake"},"00:04:26.760",{"$f":"IF(OR(T109=0,T109=\"\",O112=0,O112=\"\",O113=0,O113=\"\",O114=0,O114=\"\",O115=0,O115=\"\"),\"\",IF(T109<=O112,1,IF(T109<=O113,2,IF(T109<=O114,3,IF(T109<=O115,4,\"\")))))","v":""},null,6,6,6]
[{"$f":"VLOOKUP(B107,eventno,6,FALSE)","v":0},2,9,{"$f":"IF(OR(C110=0,C110=\"\"),\"\",IF(A107=\"F\",HLOOKUP(C110,females,A108,FALSE),IF(A107=\"M\",HLOOKUP(C110,males,A108,FALSE),\"\")))","v":"William Ingram"},"Wake","00:04:46.620",{"$f":"IF(OR(F110=0,F110=\"\",A112=0,A112=\"\",A113=0,A113=\"\",A114=0,A114=\"\",A115=0,A115=\"\"),\"\",IF(F110<=A112,1,IF(F110<=A113,2,IF(F110<=A114,3,IF(F110<=A115,4,\"\")))))","v":""},{"$f":"VLOOKUP(I107,eventno,6,FALSE)","v":0},2,99,{"$f":"IF(OR(J110=0,J110=\"\"),\"\",IF(H107=\"F\",HLOOKUP(J110,females,H108,FALSE),IF(H107=\"M\",HLOOKUP(J110,males,H108,FALSE),\"\")))","v":"Olivia Radcliffe"},"Wake","00:05:50.660",{"$f":"IF(OR(M110=0,M110=\"\",H112=0,H112=\"\",H113=0,H113=\"\",H114=0,H114=\"\",H115=0,H115=\"\"),\"\",IF(M110<=H112,1,IF(M110<=H113,2,IF(M110<=H114,3,IF(M110<=H115,4,\"\")))))","v":""},{"$f":"VLOOKUP(P107,eventno,6,FALSE)","v":0},2,99,{"$f":"IF(OR(Q110=0,Q110=\"\"),\"\",IF(O107=\"F\",HLOOKUP(Q110,females,O108,FALSE),IF(O107=\"M\",HLOOKUP(Q110,males,O108,FALSE),\"\")))","v":"Daniel Franks"},"Wake","00:04:41.770",{"$f":"IF(OR(T110=0,T110=\"\",O112=0,O112=\"\",O113=0,O113=\"\",O114=0,O114=\"\",O115=0,O115=\"\"),\"\",IF(T110<=O112,1,IF(T110<=O113,2,IF(T110<=O114,3,IF(T110<=O115,4,\"\")))))","v":""},null,5,5,5]
[{"$f":"VLOOKUP(B107,eventno,7,FALSE)","v":2.8206018518518519E-3},3,99,{"$f":"IF(OR(C111=0,C111=\"\"),\"\",IF(A107=\"F\",HLOOKUP(C111,females,A108,FALSE),IF(A107=\"M\",HLOOKUP(C111,males,A108,FALSE),\"\")))","v":"George Heppinstall"},"Wake","00:04:47.990",{"$f":"IF(OR(F111=0,F111=\"\",A112=0,A112=\"\",A113=0,A113=\"\",A114=0,A114=\"\",A115=0,A115=\"\"),\"\",IF(F111<=A112,1,IF(F111<=A113,2,IF(F111<=A114,3,IF(F111<=A115,4,\"\")))))","v":""},{"$f":"VLOOKUP(I107,eventno,7,FALSE)","v":3.1354166666666666E-3},3,9,{"$f":"IF(OR(J111=0,J111=\"\"),\"\",IF(H107=\"F\",HLOOKUP(J111,females,H108,FALSE),IF(H107=\"M\",HLOOKUP(J111,males,H108,FALSE),\"\")))","v":"Hannah Marsh"},"Wake","00:05:51.080",{"$f":"IF(OR(M111=0,M111=\"\",H112=0,H112=\"\",H113=0,H113=\"\",H114=0,H114=\"\",H115=0,H115=\"\"),\"\",IF(M111<=H112,1,IF(M111<=H113,2,IF(M111<=H114,3,IF(M111<=H115,4,\"\")))))","v":""},{"$f":"VLOOKUP(P107,eventno,7,FALSE)","v":2.7275462962962961E-3},3,7,{"$f":"IF(OR(Q111=0,Q111=\"\"),\"\",IF(O107=\"F\",HLOOKUP(Q111,females,O108,FALSE),IF(O107=\"M\",HLOOKUP(Q111,males,O108,FALSE),\"\")))","v":"Sean Flanagan"},"Leeds C","00:04:53.030",{"$f":"IF(OR(T111=0,T111=\"\",O112=0,O112=\"\",O113=0,O113=\"\",O114=0,O114=\"\",O115=0,O115=\"\"),\"\",IF(T111<=O112,1,IF(T111<=O113,2,IF(T111<=O114,3,IF(T111<=O115,4,\"\")))))","v":""},null,4,4,4]
[{"$f":"VLOOKUP(B107,eventno,8,FALSE)","v":3.0439814814814821E-3},4,8,{"$f":"IF(OR(C112=0,C112=\"\"),\"\",IF(A107=\"F\",HLOOKUP(C112,females,A108,FALSE),IF(A107=\"M\",HLOOKUP(C112,males,A108,FALSE),\"\")))","v":"Ben Lewis"},"York","00:04:55.980",{"$f":"IF(OR(F112=0,F112=\"\",A112=0,A112=\"\",A113=0,A113=\"\",A114=0,A114=\"\",A115=0,A115=\"\"),\"\",IF(F112<=A112,1,IF(F112<=A113,2,IF(F112<=A114,3,IF(F112<=A115,4,\"\")))))","v":""},{"$f":"VLOOKUP(I107,eventno,8,FALSE)","v":3.2523148148148151E-3},4,7,{"$f":"IF(OR(J112=0,J112=\"\"),\"\",IF(H107=\"F\",HLOOKUP(J112,females,H108,FALSE),IF(H107=\"M\",HLOOKUP(J112,males,H108,FALSE),\"\")))","v":"Ellie Dooley"},"Leeds C","00:06:02.500",{"$f":"IF(OR(M112=0,M112=\"\",H112=0,H112=\"\",H113=0,H113=\"\",H114=0,H114=\"\",H115=0,H115=\"\"),\"\",IF(M112<=H112,1,IF(M112<=H113,2,IF(M112<=H114,3,IF(M112<=H115,4,\"\")))))","v":""},{"$f":"VLOOKUP(P107,eventno,8,FALSE)","v":2.8472222222222219E-3},4,77,{"$f":"IF(OR(Q112=0,Q112=\"\"),\"\",IF(O107=\"F\",HLOOKUP(Q112,females,O108,FALSE),IF(O107=\"M\",HLOOKUP(Q112,males,O108,FALSE),\"\")))","v":"Daniel Harrison"},"Leeds C","00:05:42.510",{"$f":"IF(OR(T112=0,T112=\"\",O112=0,O112=\"\",O113=0,O113=\"\",O114=0,O114=\"\",O115=0,O115=\"\"),\"\",IF(T112<=O112,1,IF(T112<=O113,2,IF(T112<=O114,3,IF(T112<=O115,4,\"\")))))","v":""},null,3,3,3]
[{"$f":"VLOOKUP(B107,eventno,9,FALSE)","v":3.1018518518518522E-3},5,7,{"$f":"IF(OR(C113=0,C113=\"\"),\"\",IF(A107=\"F\",HLOOKUP(C113,females,A108,FALSE),IF(A107=\"M\",HLOOKUP(C113,males,A108,FALSE),\"\")))","v":"Ben Tootle"},"Leeds C","00:04:59.090",{"$f":"IF(OR(F113=0,F113=\"\",A112=0,A112=\"\",A113=0,A113=\"\",A114=0,A114=\"\",A115=0,A115=\"\"),\"\",IF(F113<=A112,1,IF(F113<=A113,2,IF(F113<=A114,3,IF(F113<=A115,4,\"\")))))","v":""},{"$f":"VLOOKUP(I107,eventno,9,FALSE)","v":3.3217592592592591E-3},5,null,{"$f":"IF(OR(J113=0,J113=\"\"),\"\",IF(H107=\"F\",HLOOKUP(J113,females,H108,FALSE),IF(H107=\"M\",HLOOKUP(J113,males,H108,FALSE),\"\")))","v":""},"",null,{"$f":"IF(OR(M113=0,M113=\"\",H112=0,H112=\"\",H113=0,H113=\"\",H114=0,H114=\"\",H115=0,H115=\"\"),\"\",IF(M113<=H112,1,IF(M113<=H113,2,IF(M113<=H114,3,IF(M113<=H115,4,\"\")))))","v":""},{"$f":"VLOOKUP(P107,eventno,9,FALSE)","v":2.9050925925925928E-3},5,null,{"$f":"IF(OR(Q113=0,Q113=\"\"),\"\",IF(O107=\"F\",HLOOKUP(Q113,females,O108,FALSE),IF(O107=\"M\",HLOOKUP(Q113,males,O108,FALSE),\"\")))","v":""},"",null,{"$f":"IF(OR(T113=0,T113=\"\",O112=0,O112=\"\",O113=0,O113=\"\",O114=0,O114=\"\",O115=0,O115=\"\"),\"\",IF(T113<=O112,1,IF(T113<=O113,2,IF(T113<=O114,3,IF(T113<=O115,4,\"\")))))","v":""},null,2,0,0]
[{"$f":"VLOOKUP(B107,eventno,10,FALSE)","v":3.1886574074074074E-3},6,88,{"$f":"IF(OR(C114=0,C114=\"\"),\"\",IF(A107=\"F\",HLOOKUP(C114,females,A108,FALSE),IF(A107=\"M\",HLOOKUP(C114,males,A108,FALSE),\"\")))","v":"James Wright"},"York","00:05:20.760",{"$f":"IF(OR(F114=0,F114=\"\",A112=0,A112=\"\",A113=0,A113=\"\",A114=0,A114=\"\",A115=0,A115=\"\"),\"\",IF(F114<=A112,1,IF(F114<=A113,2,IF(F114<=A114,3,IF(F114<=A115,4,\"\")))))","v":""},{"$f":"VLOOKUP(I107,eventno,10,FALSE)","v":3.4004629629629628E-3},6,null,{"$f":"IF(OR(J114=0,J114=\"\"),\"\",IF(H107=\"F\",HLOOKUP(J114,females,H108,FALSE),IF(H107=\"M\",HLOOKUP(J114,males,H108,FALSE),\"\")))","v":""},"",null,{"$f":"IF(OR(M114=0,M114=\"\",H112=0,H112=\"\",H113=0,H113=\"\",H114=0,H114=\"\",H115=0,H115=\"\"),\"\",IF(M114<=H112,1,IF(M114<=H113,2,IF(M114<=H114,3,IF(M114<=H115,4,\"\")))))","v":""},{"$f":"VLOOKUP(P107,eventno,10,FALSE)","v":2.9745370370370373E-3},6,null,{"$f":"IF(OR(Q114=0,Q114=\"\"),\"\",IF(O107=\"F\",HLOOKUP(Q114,females,O108,FALSE),IF(O107=\"M\",HLOOKUP(Q114,males,O108,FALSE),\"\")))","v":""},"",null,{"$f":"IF(OR(T114=0,T114=\"\",O112=0,O112=\"\",O113=0,O113=\"\",O114=0,O114=\"\",O115=0,O115=\"\"),\"\",IF(T114<=O112,1,IF(T114<=O113,2,IF(T114<=O114,3,IF(T114<=O115,4,\"\")))))","v":""},null,1,0,0]
[{"$f":"VLOOKUP(B107,eventno,11,FALSE)","v":3.3159722222222223E-3},null,null,null,null,null,null,{"$f":"VLOOKUP(I107,eventno,11,FALSE)","v":3.5277777777777777E-3},null,null,null,null,null,null,{"$f":"VLOOKUP(P107,eventno,11,FALSE)","v":3.0844907407407405E-3},null,null,null,null,null,null,null,0,0,0]
[{"$f":"VLOOKUP(B116,eventno,5,FALSE)","v":"F"},"T35",{"$f":"VLOOKUP(B116,eventno,4,FALSE)","v":"U17W 300m"},null,{"$f":"IF(A119=\"W\",\"Wind =\",\"\")","v":""},null,{"$f":"IF(OR(F118=0,F118=\"\",A120=0,A120=\"\"),\"\",IF(A118=\"T\",IF(F118<A120,\"LR\",IF(F118=A120,\"LR=\",\"\"))))","v":""},{"$f":"VLOOKUP(I116,eventno,5,FALSE)","v":"M"},"T36",{"$f":"VLOOKUP(I116,eventno,4,FALSE)","v":"U15B 400m"},null,{"$f":"IF(H119=\"W\",\"Wind =\",\"\")","v":""},null,{"$f":"IF(OR(M118=0,M118=\"\",H120=0,H120=\"\"),\"\",IF(H118=\"T\",IF(M118<H120,\"LR\",IF(M118=H120,\"LR=\",\"\"))))","v":""},{"$f":"VLOOKUP(P116,eventno,5,FALSE)","v":"M"},"T37",{"$f":"VLOOKUP(P116,eventno,4,FALSE)","v":"U17M 400m"},null,{"$f":"IF(O119=\"W\",\"Wind =\",\"\")","v":""},null,{"$f":"IF(OR(T118=0,T118=\"\",O120=0,O120=\"\"),\"\",IF(O118=\"T\",IF(T118<O120,\"LR\",IF(T118=O120,\"LR=\",\"\"))))","v":""},null,0,0,0]
[{"$f":"IF(A116=\"M\",VLOOKUP(B116,males,15,FALSE),VLOOKUP(B116,females,15,FALSE))","v":20},"Posn","Bib","Athlete","Club","Perf","Gr",{"$f":"IF(H116=\"M\",VLOOKUP(I116,males,15,FALSE),VLOOKUP(I116,females,15,FALSE))","v":19},"Posn","Bib","Athlete","Club","Perf","Gr",{"$f":"IF(O116=\"M\",VLOOKUP(P116,males,15,FALSE),VLOOKUP(P116,females,15,FALSE))","v":20},"Posn","Bib","Athlete","Club","Perf","Gr",null,{"$error":"#N/A"},{"$error":"#N/A"},{"$error":"#N/A"}]
[{"$f":"LEFT(B116,1)","v":"T"},1,9,{"$f":"IF(OR(C118=0,C118=\"\"),\"\",IF(A116=\"F\",HLOOKUP(C118,females,A117,FALSE),IF(A116=\"M\",HLOOKUP(C118,males,A117,FALSE),\"\")))","v":"Grace Eyles"},{"$f":"IF(OR(C118=0,C118=\"\",ISERROR(VLOOKUP(C118,match_teams,4,FALSE)=TRUE)),\"\",VLOOKUP(C118,match_teams,4,FALSE))","v":"Wake"},40.15,{"$f":"IF(OR(F118=0,F118=\"\",A121=0,A121=\"\",A122=0,A122=\"\",A123=0,A123=\"\",A124=0,A124=\"\"),\"\",IF(F118<=A121,1,IF(F118<=A122,2,IF(F118<=A123,3,IF(F118<=A124,4,\"\")))))","v":1},{"$f":"LEFT(I116,1)","v":"T"},1,7,{"$f":"IF(OR(J118=0,J118=\"\"),\"\",IF(H116=\"F\",HLOOKUP(J118,females,H117,FALSE),IF(H116=\"M\",HLOOKUP(J118,males,H117,FALSE),\"\")))","v":"Jack Allison"},{"$f":"IF(OR(J118=0,J118=\"\",ISERROR(VLOOKUP(J118,match_teams,4,FALSE)=TRUE)),\"\",VLOOKUP(J118,match_teams,4,FALSE))","v":"Leeds C"},59.57,{"$f":"IF(OR(M118=0,M118=\"\",H121=0,H121=\"\",H122=0,H122=\"\",H123=0,H123=\"\",H124=0,H124=\"\"),\"\",IF(M118<=H121,1,IF(M118<=H122,2,IF(M118<=H123,3,IF(M118<=H124,4,\"\")))))","v":""},{"$f":"LEFT(P116,1)","v":"T"},1,8,{"$f":"IF(OR(Q118=0,Q118=\"\"),\"\",IF(O116=\"F\",HLOOKUP(Q118,females,O117,FALSE),IF(O116=\"M\",HLOOKUP(Q118,males,O117,FALSE),\"\")))","v":"Ash  Hart"},{"$f":"IF(OR(Q118=0,Q118=\"\",ISERROR(VLOOKUP(Q118,match_teams,4,FALSE)=TRUE)),\"\",VLOOKUP(Q118,match_teams,4,FALSE))","v":"York"},53.29,{"$f":"IF(OR(T118=0,T118=\"\",O121=0,O121=\"\",O122=0,O122=\"\",O123=0,O123=\"\",O124=0,O124=\"\"),\"\",IF(T118<=O121,1,IF(T118<=O122,2,IF(T118<=O123,3,IF(T118<=O124,4,\"\")))))","v":4},null,6,6,6]
[{"$f":"VLOOKUP(B116,eventno,6,FALSE)","v":0},2,7,{"$f":"IF(OR(C119=0,C119=\"\"),\"\",IF(A116=\"F\",HLOOKUP(C119,females,A117,FALSE),IF(A116=\"M\",HLOOKUP(C119,males,A117,FALSE),\"\")))","v":"Georgia Yearby"},"Leeds C",42,{"$f":"IF(OR(F119=0,F119=\"\",A121=0,A121=\"\",A122=0,A122=\"\",A123=0,A123=\"\",A124=0,A124=\"\"),\"\",IF(F119<=A121,1,IF(F119<=A122,2,IF(F119<=A123,3,IF(F119<=A124,4,\"\")))))","v":2},{"$f":"VLOOKUP(I116,eventno,6,FALSE)","v":0},2,9,{"$f":"IF(OR(J119=0,J119=\"\"),\"\",IF(H116=\"F\",HLOOKUP(J119,females,H117,FALSE),IF(H116=\"M\",HLOOKUP(J119,males,H117,FALSE),\"\")))","v":"Robert Sanderson"},"Wake",60.38,{"$f":"IF(OR(M119=0,M119=\"\",H121=0,H121=\"\",H122=0,H122=\"\",H123=0,H123=\"\",H124=0,H124=\"\"),\"\",IF(M119<=H121,1,IF(M119<=H122,2,IF(M119<=H123,3,IF(M119<=H124,4,\"\")))))","v":""},{"$f":"VLOOKUP(P116,eventno,6,FALSE)","v":0},2,9,{"$f":"IF(OR(Q119=0,Q119=\"\"),\"\",IF(O116=\"F\",HLOOKUP(Q119,females,O117,FALSE),IF(O116=\"M\",HLOOKUP(Q119,males,O117,FALSE),\"\")))","v":"Matthew O'Connnor"},"Wake",53.8,{"$f":"IF(OR(T119=0,T119=\"\",O121=0,O121=\"\",O122=0,O122=\"\",O123=0,O123=\"\",O124=0,O124=\"\"),\"\",IF(T119<=O121,1,IF(T119<=O122,2,IF(T119<=O123,3,IF(T119<=O124,4,\"\")))))","v":4},null,5,5,5]
[{"$f":"VLOOKUP(B116,eventno,7,FALSE)","v":38.299999999999997},3,99,{"$f":"IF(OR(C120=0,C120=\"\"),\"\",IF(A116=\"F\",HLOOKUP(C120,females,A117,FALSE),IF(A116=\"M\",HLOOKUP(C120,males,A117,FALSE),\"\")))","v":"Bethany Sharp"},"Wake",43.45,{"$f":"IF(OR(F120=0,F120=\"\",A121=0,A121=\"\",A122=0,A122=\"\",A123=0,A123=\"\",A124=0,A124=\"\"),\"\",IF(F120<=A121,1,IF(F120<=A122,2,IF(F120<=A123,3,IF(F120<=A124,4,\"\")))))","v":4},{"$f":"VLOOKUP(I116,eventno,7,FALSE)","v":50.1},3,77,{"$f":"IF(OR(J120=0,J120=\"\"),\"\",IF(H116=\"F\",HLOOKUP(J120,females,H117,FALSE),IF(H116=\"M\",HLOOKUP(J120,males,H117,FALSE),\"\")))","v":"John Hubball"},"Leeds C",61.1,{"$f":"IF(OR(M120=0,M120=\"\",H121=0,H121=\"\",H122=0,H122=\"\",H123=0,H123=\"\",H124=0,H124=\"\"),\"\",IF(M120<=H121,1,IF(M120<=H122,2,IF(M120<=H123,3,IF(M120<=H124,4,\"\")))))","v":""},{"$f":"VLOOKUP(P116,eventno,7,FALSE)","v":48.2},3,99,{"$f":"IF(OR(Q120=0,Q120=\"\"),\"\",IF(O116=\"F\",HLOOKUP(Q120,females,O117,FALSE),IF(O116=\"M\",HLOOKUP(Q120,males,O117,FALSE),\"\")))","v":"James Saxton"},"Wake",55.44,{"$f":"IF(OR(T120=0,T120=\"\",O121=0,O121=\"\",O122=0,O122=\"\",O123=0,O123=\"\",O124=0,O124=\"\"),\"\",IF(T120<=O121,1,IF(T120<=O122,2,IF(T120<=O123,3,IF(T120<=O124,4,\"\")))))","v":""},null,4,4,4]
[{"$f":"VLOOKUP(B116,eventno,8,FALSE)","v":41.4},4,8,{"$f":"IF(OR(C121=0,C121=\"\"),\"\",IF(A116=\"F\",HLOOKUP(C121,females,A117,FALSE),IF(A116=\"M\",HLOOKUP(C121,males,A117,FALSE),\"\")))","v":"Kate Harris"},"York",45.32,{"$f":"IF(OR(F121=0,F121=\"\",A121=0,A121=\"\",A122=0,A122=\"\",A123=0,A123=\"\",A124=0,A124=\"\"),\"\",IF(F121<=A121,1,IF(F121<=A122,2,IF(F121<=A123,3,IF(F121<=A124,4,\"\")))))","v":""},{"$f":"VLOOKUP(I116,eventno,8,FALSE)","v":54.7},4,99,{"$f":"IF(OR(J121=0,J121=\"\"),\"\",IF(H116=\"F\",HLOOKUP(J121,females,H117,FALSE),IF(H116=\"M\",HLOOKUP(J121,males,H117,FALSE),\"\")))","v":"Logan Gibb"},"Wake",61.36,{"$f":"IF(OR(M121=0,M121=\"\",H121=0,H121=\"\",H122=0,H122=\"\",H123=0,H123=\"\",H124=0,H124=\"\"),\"\",IF(M121<=H121,1,IF(M121<=H122,2,IF(M121<=H123,3,IF(M121<=H124,4,\"\")))))","v":""},{"$f":"VLOOKUP(P116,eventno,8,FALSE)","v":51},4,7,{"$f":"IF(OR(Q121=0,Q121=\"\"),\"\",IF(O116=\"F\",HLOOKUP(Q121,females,O117,FALSE),IF(O116=\"M\",HLOOKUP(Q121,males,O117,FALSE),\"\")))","v":"Luke Cooper"},"Leeds C",56.8,{"$f":"IF(OR(T121=0,T121=\"\",O121=0,O121=\"\",O122=0,O122=\"\",O123=0,O123=\"\",O124=0,O124=\"\"),\"\",IF(T121<=O121,1,IF(T121<=O122,2,IF(T121<=O123,3,IF(T121<=O124,4,\"\")))))","v":""},null,3,3,3]
[{"$f":"VLOOKUP(B116,eventno,9,FALSE)","v":42.2},5,88,{"$f":"IF(OR(C122=0,C122=\"\"),\"\",IF(A116=\"F\",HLOOKUP(C122,females,A117,FALSE),IF(A116=\"M\",HLOOKUP(C122,males,A117,FALSE),\"\")))","v":"Olivia Swain"},"York",52.68,{"$f":"IF(OR(F122=0,F122=\"\",A121=0,A121=\"\",A122=0,A122=\"\",A123=0,A123=\"\",A124=0,A124=\"\"),\"\",IF(F122<=A121,1,IF(F122<=A122,2,IF(F122<=A123,3,IF(F122<=A124,4,\"\")))))","v":""},{"$f":"VLOOKUP(I116,eventno,9,FALSE)","v":55.7},5,8,{"$f":"IF(OR(J122=0,J122=\"\"),\"\",IF(H116=\"F\",HLOOKUP(J122,females,H117,FALSE),IF(H116=\"M\",HLOOKUP(J122,males,H117,FALSE),\"\")))","v":"Tom Wood"},"York",62.42,{"$f":"IF(OR(M122=0,M122=\"\",H121=0,H121=\"\",H122=0,H122=\"\",H123=0,H123=\"\",H124=0,H124=\"\"),\"\",IF(M122<=H121,1,IF(M122<=H122,2,IF(M122<=H123,3,IF(M122<=H124,4,\"\")))))","v":""},{"$f":"VLOOKUP(P116,eventno,9,FALSE)","v":51.8},5,77,{"$f":"IF(OR(Q122=0,Q122=\"\"),\"\",IF(O116=\"F\",HLOOKUP(Q122,females,O117,FALSE),IF(O116=\"M\",HLOOKUP(Q122,males,O117,FALSE),\"\")))","v":"Liam Braithwaite"},"Leeds C",57.93,{"$f":"IF(OR(T122=0,T122=\"\",O121=0,O121=\"\",O122=0,O122=\"\",O123=0,O123=\"\",O124=0,O124=\"\"),\"\",IF(T122<=O121,1,IF(T122<=O122,2,IF(T122<=O123,3,IF(T122<=O124,4,\"\")))))","v":""},null,2,2,2]
[{"$f":"VLOOKUP(B116,eventno,10,FALSE)","v":43},6,null,{"$f":"IF(OR(C123=0,C123=\"\"),\"\",IF(A116=\"F\",HLOOKUP(C123,females,A117,FALSE),IF(A116=\"M\",HLOOKUP(C123,males,A117,FALSE),\"\")))","v":""},"",null,{"$f":"IF(OR(F123=0,F123=\"\",A121=0,A121=\"\",A122=0,A122=\"\",A123=0,A123=\"\",A124=0,A124=\"\"),\"\",IF(F123<=A121,1,IF(F123<=A122,2,IF(F123<=A123,3,IF(F123<=A124,4,\"\")))))","v":""},{"$f":"VLOOKUP(I116,eventno,10,FALSE)","v":57},6,88,{"$f":"IF(OR(J123=0,J123=\"\"),\"\",IF(H116=\"F\",HLOOKUP(J123,females,H117,FALSE),IF(H116=\"M\",HLOOKUP(J123,males,H117,FALSE),\"\")))","v":"Phil Nesom"},"York",68.91,{"$f":"IF(OR(M123=0,M123=\"\",H121=0,H121=\"\",H122=0,H122=\"\",H123=0,H123=\"\",H124=0,H124=\"\"),\"\",IF(M123<=H121,1,IF(M123<=H122,2,IF(M123<=H123,3,IF(M123<=H124,4,\"\")))))","v":""},{"$f":"VLOOKUP(P116,eventno,10,FALSE)","v":52.9},6,88,{"$f":"IF(OR(Q123=0,Q123=\"\"),\"\",IF(O116=\"F\",HLOOKUP(Q123,females,O117,FALSE),IF(O116=\"M\",HLOOKUP(Q123,males,O117,FALSE),\"\")))","v":"Peirre Weller"},"York",59.49,{"$f":"IF(OR(T123=0,T123=\"\",O121=0,O121=\"\",O122=0,O122=\"\",O123=0,O123=\"\",O124=0,O124=\"\"),\"\",IF(T123<=O121,1,IF(T123<=O122,2,IF(T123<=O123,3,IF(T123<=O124,4,\"\")))))","v":""},null,0,1,1]
[{"$f":"VLOOKUP(B116,eventno,11,FALSE)","v":44.4},null,null,null,null,null,null,{"$f":"VLOOKUP(I116,eventno,11,FALSE)","v":59},null,null,null,null,null,null,{"$f":"VLOOKUP(P116,eventno,11,FALSE)","v":54.4},null,null,null,null,null,null,null,0,0,0]
[{"$f":"VLOOKUP(B125,eventno,5,FALSE)","v":"M"},"T45",{"$f":"VLOOKUP(B125,eventno,4,FALSE)","v":"U17M 1500m S/Chase"},null,{"$f":"IF(A128=\"W\",\"Wind =\",\"\")","v":""},null,{"$f":"IF(OR(F127=0,F127=\"\",A129=0,A129=\"\"),\"\",IF(A127=\"T\",IF(F127<A129,\"LR\",IF(F127=A129,\"LR=\",\"\"))))","v":""},null,null,null,null,null,null,null,null,"TRACK JUDGE & TIMEKEEPER",null,null,null,null,null,null,0,0,0]
[{"$f":"IF(A125=\"M\",VLOOKUP(B125,males,15,FALSE),VLOOKUP(B125,females,15,FALSE))","v":27},"Posn","Bib","Athlete","Club","Perf","Gr",null,null,null,null,null,null,null,null,null,"Bib",null,"Club","Number",null,null,{"$error":"#N/A"},0,0]
[{"$f":"LEFT(B125,1)","v":"T"},1,9,{"$f":"IF(OR(C127=0,C127=\"\"),\"\",IF(A125=\"F\",HLOOKUP(C127,females,A126,FALSE),IF(A125=\"M\",HLOOKUP(C127,males,A126,FALSE),\"\")))","v":"Jake Worton"},{"$f":"IF(OR(C127=0,C127=\"\",ISERROR(VLOOKUP(C127,match_teams,4,FALSE)=TRUE)),\"\",VLOOKUP(C127,match_teams,4,FALSE))","v":"Wake"},"00:04:46.340",{"$f":"IF(OR(F127=0,F127=\"\",A130=0,A130=\"\",A131=0,A131=\"\",A132=0,A132=\"\",A133=0,A133=\"\"),\"\",IF(F127<=A130,1,IF(F127<=A131,2,IF(F127<=A132,3,IF(F127<=A133,4,\"\")))))","v":3},null,null,null,null,null,null,null,null,null,{"$f":"AD3","v":9},null,{"$f":"IF(OR(Q127=0,Q127=\"\",ISERROR(VLOOKUP(Q127,match_teams,4,FALSE)=TRUE)),\"\",VLOOKUP(Q127,match_teams,4,FALSE))","v":"Wake"},2,null,null,6,0,{"$f":"T127*10","v":20}]
[{"$f":"VLOOKUP(B125,eventno,6,FALSE)","v":0},2,99,{"$f":"IF(OR(C128=0,C128=\"\"),\"\",IF(A125=\"F\",HLOOKUP(C128,females,A126,FALSE),IF(A125=\"M\",HLOOKUP(C128,males,A126,FALSE),\"\")))","v":"Jordan Turner"},"Wake","00:05:00.050",{"$f":"IF(OR(F128=0,F128=\"\",A130=0,A130=\"\",A131=0,A131=\"\",A132=0,A132=\"\",A133=0,A133=\"\"),\"\",IF(F128<=A130,1,IF(F128<=A131,2,IF(F128<=A132,3,IF(F128<=A133,4,\"\")))))","v":4},null,null,null,null,null,null,null,null,null,{"$f":"AD4","v":8},null,{"$f":"IF(OR(Q128=0,Q128=\"\",ISERROR(VLOOKUP(Q128,match_teams,4,FALSE)=TRUE)),\"\",VLOOKUP(Q128,match_teams,4,FALSE))","v":"York"},2,null,null,5,0,{"$f":"T128*10","v":20}]
[{"$f":"VLOOKUP(B125,eventno,7,FALSE)","v":2.9444444444444444E-3},3,null,{"$f":"IF(OR(C129=0,C129=\"\"),\"\",IF(A125=\"F\",HLOOKUP(C129,females,A126,FALSE),IF(A125=\"M\",HLOOKUP(C129,males,A126,FALSE),\"\")))","v":""},"",null,{"$f":"IF(OR(F129=0,F129=\"\",A130=0,A130=\"\",A131=0,A131=\"\",A132=0,A132=\"\",A133=0,A133=\"\"),\"\",IF(F129<=A130,1,IF(F129<=A131,2,IF(F129<=A132,3,IF(F129<=A133,4,\"\")))))","v":""},null,null,null,null,null,null,null,null,null,{"$f":"AD5","v":7},null,{"$f":"IF(OR(Q129=0,Q129=\"\",ISERROR(VLOOKUP(Q129,match_teams,4,FALSE)=TRUE)),\"\",VLOOKUP(Q129,match_teams,4,FALSE))","v":"Leeds C"},2,null,null,0,0,{"$f":"T129*10","v":20}]
[{"$f":"VLOOKUP(B125,eventno,8,FALSE)","v":3.1365740740740742E-3},4,null,{"$f":"IF(OR(C130=0,C130=\"\"),\"\",IF(A125=\"F\",HLOOKUP(C130,females,A126,FALSE),IF(A125=\"M\",HLOOKUP(C130,males,A126,FALSE),\"\")))","v":""},"",null,{"$f":"IF(OR(F130=0,F130=\"\",A130=0,A130=\"\",A131=0,A131=\"\",A132=0,A132=\"\",A133=0,A133=\"\"),\"\",IF(F130<=A130,1,IF(F130<=A131,2,IF(F130<=A132,3,IF(F130<=A133,4,\"\")))))","v":""},null,null,null,null,null,null,null,null,null,null,null,null,null,null,null,0,0,0]
[{"$f":"VLOOKUP(B125,eventno,9,FALSE)","v":3.2060185185185191E-3},5,null,{"$f":"IF(OR(C131=0,C131=\"\"),\"\",IF(A125=\"F\",HLOOKUP(C131,females,A126,FALSE),IF(A125=\"M\",HLOOKUP(C131,males,A126,FALSE),\"\")))","v":""},"",null,{"$f":"IF(OR(F131=0,F131=\"\",A130=0,A130=\"\",A131=0,A131=\"\",A132=0,A132=\"\",A133=0,A133=\"\"),\"\",IF(F131<=A130,1,IF(F131<=A131,2,IF(F131<=A132,3,IF(F131<=A133,4,\"\")))))","v":""},null,null,null,null,null,null,null,null,null,null,null,null,null,null,null,0,0,0]
[{"$f":"VLOOKUP(B125,eventno,10,FALSE)","v":3.3217592592592591E-3},6,null,{"$f":"IF(OR(C132=0,C132=\"\"),\"\",IF(A125=\"F\",HLOOKUP(C132,females,A126,FALSE),IF(A125=\"M\",HLOOKUP(C132,males,A126,FALSE),\"\")))","v":""},"",null,{"$f":"IF(OR(F132=0,F132=\"\",A130=0,A130=\"\",A131=0,A131=\"\",A132=0,A132=\"\",A133=0,A133=\"\"),\"\",IF(F132<=A130,1,IF(F132<=A131,2,IF(F132<=A132,3,IF(F132<=A133,4,\"\")))))","v":""},null,null,null,null,null,null,null,null,null,null,null,null,null,null,null,0,0,0]
[{"$f":"VLOOKUP(B125,eventno,11,FALSE)","v":3.4953703703703705E-3}]

{"sheet":"Field (Match 1)","index":2,"n_rows":115,"n_cols":36,"rows_kept":115,"cut":false,"hidden":false,"merged":[[0,10,0,14]]}
[null,null,{"$f":"CONCATENATE(MatchDay!C3,\", \",MatchDay!C7)","v":"Northern Premier East, Thornes Park Stadium, Wakefield"},null,null,null,null,null,null,null,{"$f":"MatchDay!C5","v":"Sunday 8th May 2011"},null,null,null,null,null,null,null,null,null,null,null,null,null,null,null,null,"Points","Points","Points",{"$f":"MatchDay!E11","v":"Wake"},{"$f":"MatchDay!E13","v":"York"},{"$f":"MatchDay!E15","v":"Leeds C"},"Scored","Validations"]
[null,null,null,null,null,null,null,null,null,null,null,null,null,null,null,null,null,null,null,null,null,null,null,null,"Track (Match 2)",null,null,"Col 1","Col 2","Col 3",{"$f":"SUMIF($F$8:$F$205,AE$1,$AB$8:$AB$205)+SUMIF($N$8:$N$205,AE$1,$AC$8:$AC$205)+SUMIF($V$8:$V$205,AE$1,$AD$8:$AD$205)","v":314},{"$f":"SUMIF($F$8:$F$205,AF$1,$AB$8:$AB$205)+SUMIF($N$8:$N$205,AF$1,$AC$8:$AC$205)+SUMIF($V$8:$V$205,AF$1,$AD$8:$AD$205)","v":178},{"$f":"SUMIF($F$8:$F$205,AG$1,$AB$8:$AB$205)+SUMIF($N$8:$N$205,AG$1,$AC$8:$AC$205)+SUMIF($V$8:$V$205,AG$1,$AD$8:$AD$205)","v":258},{"$f":"COUNTIF($AB$8:$AB$205,\"6\")+COUNTIF($AC$8:$AC$205,\"6\")+COUNTIF($AD$8:$AD$205,\"6\")","v":35}]
[null,null,"Club",null,null," Match Points","Posn","League Points",null,null,null,null,"Match Statistics",null,null,null,null,null,null,"Athletes",null,null,"Events",null,null,null,null,null,null,null,null,null,null,null,{"$f":"MatchDay!B11","v":9}]
[null,null,{"$f":"MatchDay!C11","v":"Wakefield"},null,null,{"$f":"'Track (Match 1)'!E4","v":678},{"$f":"'Track (Match 1)'!F4","v":1},{"$f":"'Track (Match 1)'!G4","v":3},null,null,null,null,{"$f":"'Track (Match 1)'!K4","v":"New League Records"},{"$f":"'Track (Match 1)'!L4","v":0},{"$f":"'Track (Match 1)'!M4","v":"Grade 2"},{"$f":"'Track (Match 1)'!N4","v":13},null,null,null,{"$f":"'Track (Match 1)'!P4","v":"Boys"},{"$f":"'Track (Match 1)'!Q4","v":82},null,{"$f":"'Track (Match 1)'!S4","v":"Scored"},{"$f":"'Track (Match 1)'!T4","v":82},"Field (Match 2)",null,null,null,null,null,null,null,null,"Cancelled",{"$f":"MatchDay!B13","v":8}]
[null,null,{"$f":"MatchDay!C13","v":"City of York"},null,null,{"$f":"'Track (Match 1)'!E5","v":402},{"$f":"'Track (Match 1)'!F5","v":3},{"$f":"'Track (Match 1)'!G5","v":1},null,null,null,null,{"$f":"'Track (Match 1)'!K5","v":"= League Records"},{"$f":"'Track (Match 1)'!L5","v":0},{"$f":"'Track (Match 1)'!M5","v":"Grade 3"},{"$f":"'Track (Match 1)'!N5","v":22},null,null,null,{"$f":"'Track (Match 1)'!P5","v":"Girls"},{"$f":"'Track (Match 1)'!Q5","v":81},null,{"$f":"'Track (Match 1)'!S5","v":"Not Held"},{"$f":"'Track (Match 1)'!T5","v":0},null,null,null,null,null,null,null,null,null,{"$f":"COUNTIF($D$8:$D$205,\"101\")+COUNTIF($L$8:$L$205,\"101\")+COUNTIF($T$8:$T$205,\"101\")+COUNTIF($D$8:$D$205,\"102\")+COUNTIF($L$8:$L$205,\"102\")+COUNTIF($T$8:$T$205,\"102\")+COUNTIF($D$8:$D$205,\"103\")+COUNTIF($L$8:$L$205,\"103\")+COUNTIF($T$8:$T$205,\"103\")","v":0},{"$f":"MatchDay!B15","v":7}]
[null,null,{"$f":"MatchDay!C15","v":"Leeds City"},null,null,{"$f":"'Track (Match 1)'!E6","v":560},{"$f":"'Track (Match 1)'!F6","v":2},{"$f":"'Track (Match 1)'!G6","v":2},null,null,null,null,{"$f":"'Track (Match 1)'!K6","v":"Grade 1"},{"$f":"'Track (Match 1)'!L6","v":5},{"$f":"'Track (Match 1)'!M6","v":"Grade 4"},{"$f":"'Track (Match 1)'!N6","v":37},null,null,null,null,null,null,"Not Scored",{"$f":"'Track (Match 1)'!T6","v":0},"Relay Match 2",null,null,null,null,null,null,null,null,null,{"$f":"CONCATENATE(AI3,AI3)","v":"99"}]
[null,null,null,null,null,null,null,null,null,null,null,null,null,null,null,null,null,null,null,null,null,null,null,null,null,null,null,null,null,null,null,null,null,null,{"$f":"CONCATENATE(AI4,AI4)","v":"88"}]
[{"$f":"VLOOKUP(C8,eventno,5,FALSE)","v":"M"},null,"F1",{"$f":"VLOOKUP(C8,eventno,4,FALSE)","v":"U13B Long Jump"},null,{"$f":"IF(A11=\"W\",\"Wind =\",\"\")","v":""},null,{"$f":"IF(OR(G10=0,G10=\"\",$A$12=0,$A$12=\"\"),\"\",IF($A$10=\"F\",IF(G10>$A$12,\"LR\",IF(G10=$A$12,\"LR=\",\"\"))))","v":""},{"$f":"VLOOKUP(K8,eventno,5,FALSE)","v":"M"},null,"F2",{"$f":"VLOOKUP(K8,eventno,4,FALSE)","v":"U17M High Jump"},null,{"$f":"IF(I11=\"W\",\"Wind =\",\"\")","v":""},null,{"$f":"IF(OR(O10=0,O10=\"\",$I$12=0,$I$12=\"\"),\"\",IF($I$10=\"F\",IF(O10>$I$12,\"LR\",IF(O10=$I$12,\"LR=\",\"\"))))","v":""},{"$f":"VLOOKUP(S8,eventno,5,FALSE)","v":"M"},null,"F3",{"$f":"VLOOKUP(S8,eventno,4,FALSE)","v":"U15B High Jump"},null,{"$f":"IF(Q11=\"W\",\"Wind =\",\"\")","v":""},null,{"$f":"IF(OR(W10=0,W10=\"\",$Q$12=0,$Q$12=\"\"),\"\",IF($Q$10=\"F\",IF(W10>$Q$12,\"LR\",IF(W10=$Q$12,\"LR=\",\"\"))))","v":""},null,"Event","Reason",{"$f":"IF(OR(C8=0,C8=\"\",D8=0,D8=\"\",G8=0,G8=\"\",LEFT(G8,1)=\"D\"),0,VLOOKUP(C8,points,2,FALSE))","v":0},{"$f":"IF(OR(K8=0,K8=\"\",L8=0,L8=\"\",O8=0,O8=\"\",LEFT(O8,1)=\"D\"),0,VLOOKUP(K8,points,2,FALSE))","v":0},{"$f":"IF(OR(S8=0,S8=\"\",T8=0,T8=\"\",W8=0,W8=\"\",LEFT(W8,1)=\"D\"),0,VLOOKUP(S8,points,2,FALSE))","v":0},null,null,null,null,{"$f":"CONCATENATE(AI5,AI5)","v":"77"}]
[{"$f":"IF(A8=\"M\",VLOOKUP(C8,males,15,FALSE),VLOOKUP(C8,females,15,FALSE))","v":32},null,"Posn","Bib","Athlete","Club","Perf","Gr",{"$f":"IF(I8=\"M\",VLOOKUP(K8,males,15,FALSE),VLOOKUP(K8,females,15,FALSE))","v":33},null,"Posn","Bib","Athlete","Club","Perf","Gr",{"$f":"IF(Q8=\"M\",VLOOKUP(S8,males,15,FALSE),VLOOKUP(S8,females,15,FALSE))","v":34},null,"Posn","Bib","Athlete","Club","Perf","Gr",null,"F1",null,{"$error":"#N/A"},{"$error":"#N/A"},{"$error":"#N/A"},null,null,null,null,101,"101 Event Cancelled"]
[{"$f":"LEFT(C8,1)","v":"F"},1,{"$f":"IF(OR(G10=0,G10=\"\",T(G10)<>\"\"),\"\",RANK(G10,$G$10:$G$15,0))","v":2},{"$f":"IF($AA$9=\"\",Distance!$B$14,VALUE(LEFT($AA$9,3)))","v":9},{"$f":"IF(OR(D10=0,D10=\"\",D10=\" \"),\"\",IF($A$8=\"F\",HLOOKUP(D10,females,$A$9,FALSE),IF($A$8=\"M\",HLOOKUP(D10,males,$A$9,FALSE),\"\")))","v":"Harry England"},{"$f":"IF(OR(D10=0,D10=\"\",D10=\" \",ISERROR(VLOOKUP(D10,match_teams,4,FALSE)=TRUE)),\"\",VLOOKUP(D10,match_teams,4,FALSE))","v":"Wake"},3.87,{"$f":"IF(OR(G10=0,G10=\"\",$A$13=0,$A$13=\"\",$A$14=0,$A$14=\"\",$A$15=0,$A$15=\"\",$A$16=0,$A$16=\"\"),\"\",IF(G10>=$A$13,1,IF(G10>=$A$14,2,IF(G10>=$A$15,3,IF(G10>=$A$16,4,\"\")))))","v":""},{"$f":"LEFT(K8,1)","v":"F"},1,{"$f":"IF(OR(O10=0,O10=\"\",T(O10)<>\"\",O10=\"NHC\"),\"\",RANK(O10,$O$10:$O$15,0))","v":""},{"$f":"IF($AA$10=\"\",Height!$B$10,VALUE(LEFT($AA$10,3)))","v":8},{"$f":"IF(OR(L10=0,L10=\"\",L10=\" \"),\"\",IF($I$8=\"F\",HLOOKUP(L10,females,$I$9,FALSE),IF($I$8=\"M\",HLOOKUP(L10,males,$I$9,FALSE),\"\")))","v":"-"},{"$f":"IF(OR(L10=0,L10=\"\",ISERROR(VLOOKUP(L10,match_teams,4,FALSE)=TRUE)),\"\",VLOOKUP(L10,match_teams,4,FALSE))","v":"York"},null,{"$f":"IF(OR(O10=0,O10=\"\",O10=\"NHC\",$I$13=0,$I$13=\"\",$I$14=0,$I$14=\"\",$I$15=0,$I$15=\"\",$I$16=0,$I$16=\"\"),\"\",IF(O10>=$I$13,1,IF(O10>=$I$14,2,IF(O10>=$I$15,3,IF(O10>=$I$16,4,\"\")))))","v":""},{"$f":"LEFT(S8,1)","v":"F"},1,{"$f":"IF(OR(W10=0,W10=\"\",T(W10)<>\"\",W10=\"NHC\"),\"\",RANK(W10,$W$10:$W$15,0))","v":1},{"$f":"IF($AA$11=\"\",Height!$B$42,VALUE(LEFT($AA$11,3)))","v":7},{"$f":"IF(OR(T10=0,T10=\"\",T10=\" \"),\"\",IF($Q$8=\"F\",HLOOKUP(T10,females,$Q$9,FALSE),IF($Q$8=\"M\",HLOOKUP(T10,males,$Q$9,FALSE),\"\")))","v":"Jacob Fincham-Dukes"},{"$f":"IF(OR(T10=0,T10=\"\",ISERROR(VLOOKUP(T10,match_teams,4,FALSE)=TRUE)),\"\",VLOOKUP(T10,match_teams,4,FALSE))","v":"Leeds C"},1.67,{"$f":"IF(OR(W10=0,W10=\"\",W10=\"NHC\",$Q$13=0,$Q$13=\"\",$Q$14=0,$Q$14=\"\",$Q$15=0,$Q$15=\"\",$Q$16=0,$Q$16=\"\"),\"\",IF(W10>=$Q$13,1,IF(W10>=$Q$14,2,IF(W10>=$Q$15,3,IF(W10>=$Q$16,4,\"\")))))","v":2},null,"F2",null,5,0,6,null,null,null,null,102,"102 No Competitors"]
[{"$f":"VLOOKUP(C8,eventno,6,FALSE)","v":0},2,5,{"$f":"IF($AA$9=\"\",Distance!$B$15,\" \")","v":8},"Matt Hobson","York",2.96,"",{"$f":"VLOOKUP(K8,eventno,6,FALSE)","v":0},2,2,{"$f":"IF($AA$10=\"\",Height!$B$11,\" \")","v":7},"Connor Morley","Leeds C",1.65,"",{"$f":"VLOOKUP(S8,eventno,6,FALSE)","v":0},2,"",null,"","",null,"",null,"F3",null,2,5,0,null,null,null,null,103,"103 Opening Height Not Cleared"]
[{"$f":"VLOOKUP(C8,eventno,7,FALSE)","v":5.76},3,1,{"$f":"IF($AA$9=\"\",Distance!$B$16,\" \")","v":7},"Lewis Renton","Leeds C",4.18,4,{"$f":"VLOOKUP(K8,eventno,7,FALSE)","v":2.1},3,3,{"$f":"IF($AA$10=\"\",Height!$B$12,\" \")","v":9},"Mark Stringer","Wake",1.35,"",{"$f":"VLOOKUP(S8,eventno,7,FALSE)","v":1.97},3,3,{"$f":"IF($AA$11=\"\",Height!$B$44,\" \")","v":8},"James Wright","York",1.35,"",null,"F4",null,6,4,4,null,null,null,null,104]
[{"$f":"VLOOKUP(C8,eventno,8,FALSE)","v":4.7},4,3,{"$f":"IF($AA$9=\"\",Distance!$B$17,\" \")","v":99},"Barnaby Drew","Wake",3.61,"",{"$f":"VLOOKUP(K8,eventno,8,FALSE)","v":1.85},4,"",{"$f":"IF($AA$10=\"\",Height!$B$13,\" \")","v":88},"-","York",null,"",{"$f":"VLOOKUP(S8,eventno,8,FALSE)","v":1.7},4,2,{"$f":"IF($AA$11=\"\",Height!$B$45,\" \")","v":77},"Jack Gape","Leeds C",1.4,"",null,"F5",null,4,0,5,null,null,null,null," "]
[{"$f":"VLOOKUP(C8,eventno,9,FALSE)","v":4.5999999999999996},5,"",{"$f":"IF($AA$9=\"\",Distance!$B$18,\" \")","v":88},"-","York",null,"",{"$f":"VLOOKUP(K8,eventno,9,FALSE)","v":1.82},5,1,{"$f":"IF($AA$10=\"\",Height!$B$14,\" \")","v":77},"Dylan Bradley","Leeds C",1.71,4,{"$f":"VLOOKUP(S8,eventno,9,FALSE)","v":1.66},5,4,{"$f":"IF($AA$11=\"\",Height!$B$46,\" \")","v":99},"George Heppinstall","Wake",1.35,"",null,"F6",null,0,6,3]
[{"$f":"VLOOKUP(C8,eventno,10,FALSE)","v":4.5},6,4,{"$f":"IF($AA$9=\"\",Distance!$B$19,\" \")","v":77},"Khalil Abdelaziz","Leeds C",3.34,"",{"$f":"VLOOKUP(K8,eventno,10,FALSE)","v":1.75},6,"",{"$f":"IF($AA$10=\"\",Height!$B$15,\" \")","v":99},"-","Wake",null,"",{"$f":"VLOOKUP(S8,eventno,10,FALSE)","v":1.6},6,5,{"$f":"IF($AA$11=\"\",Height!$B$47,\" \")","v":88},"Matthew Richardson","York",1.25,"",null,"F7",null,3,0,2]
[{"$f":"VLOOKUP(C8,eventno,11,FALSE)","v":4.1500000000000004},null,null,null,null,null,null,null,{"$f":"VLOOKUP(K8,eventno,11,FALSE)","v":1.7},null,null,null,null,null,null,null,{"$f":"VLOOKUP(S8,eventno,11,FALSE)","v":1.55},null,null,null,null,null,null,null,null,"F8",null,0,0,0]
[{"$f":"VLOOKUP(C17,eventno,5,FALSE)","v":"M"},null,"F4",{"$f":"VLOOKUP(C17,eventno,4,FALSE)","v":"U15B Hammer"},null,{"$f":"IF(A20=\"W\",\"Wind =\",\"\")","v":""},null,{"$f":"IF(OR(G19=0,G19=\"\",$A$21=0,$A$21=\"\"),\"\",IF($A$19=\"F\",IF(G19>$A$21,\"LR\",IF(G19=$A$21,\"LR=\",\"\"))))","v":""},{"$f":"VLOOKUP(K17,eventno,5,FALSE)","v":"M"},null,"F5",{"$f":"VLOOKUP(K17,eventno,4,FALSE)","v":"U17M Hammer"},null,{"$f":"IF(I20=\"W\",\"Wind =\",\"\")","v":""},null,{"$f":"IF(OR(O19=0,O19=\"\",$I$21=0,$I$21=\"\"),\"\",IF($I$19=\"F\",IF(O19>$I$21,\"LR\",IF(O19=$I$21,\"LR=\",\"\"))))","v":""},{"$f":"VLOOKUP(S17,eventno,5,FALSE)","v":"F"},null,"F6",{"$f":"VLOOKUP(S17,eventno,4,FALSE)","v":"U17W Hammer"},null,{"$f":"IF(Q20=\"W\",\"Wind =\",\"\")","v":""},null,{"$f":"IF(OR(W19=0,W19=\"\",$Q$21=0,$Q$21=\"\"),\"\",IF($Q$19=\"F\",IF(W19>$Q$21,\"LR\",IF(W19=$Q$21,\"LR=\",\"\"))))","v":""},null,"F9",null,0,0,0]
[{"$f":"IF(A17=\"M\",VLOOKUP(C17,males,15,FALSE),VLOOKUP(C17,females,15,FALSE))","v":35},null,"Posn","Bib","Athlete","Club","Perf","Gr",{"$f":"IF(I17=\"M\",VLOOKUP(K17,males,15,FALSE),VLOOKUP(K17,females,15,FALSE))","v":36},null,"Posn","Bib","Athlete","Club","Perf","Gr",{"$f":"IF(Q17=\"M\",VLOOKUP(S17,males,15,FALSE),VLOOKUP(S17,females,15,FALSE))","v":36},null,"Posn","Bib","Athlete","Club","Perf","Gr",null,"F10",null,{"$error":"#N/A"},{"$error":"#N/A"},{"$error":"#N/A"}]
[{"$f":"LEFT(C17,1)","v":"F"},1,{"$f":"IF(OR(G19=0,G19=\"\",T(G19)<>\"\"),\"\",RANK(G19,$G$19:$G$24,0))","v":1},{"$f":"IF($AA$12=\"\",Distance!$B$46,VALUE(LEFT($AA$12,3)))","v":7},{"$f":"IF(OR(D19=0,D19=\"\",D19=\" \"),\"\",IF($A$17=\"F\",HLOOKUP(D19,females,$A$18,FALSE),IF($A$17=\"M\",HLOOKUP(D19,males,$A$18,FALSE),\"\")))","v":"George Armstrong"},{"$f":"IF(OR(D19=0,D19=\"\",ISERROR(VLOOKUP(D19,match_teams,4,FALSE)=TRUE)),\"\",VLOOKUP(D19,match_teams,4,FALSE))","v":"Leeds C"},24.81,{"$f":"IF(OR(G19=0,G19=\"\",$A$22=0,$A$22=\"\",$A$23=0,$A$23=\"\",$A$24=0,$A$24=\"\",$A$25=0,$A$25=\"\"),\"\",IF(G19>=$A$22,1,IF(G19>=$A$23,2,IF(G19>=$A$24,3,IF(G19>=$A$25,4,\"\")))))","v":""},{"$f":"LEFT(K17,1)","v":"F"},1,{"$f":"IF(OR(O19=0,O19=\"\",T(O19)<>\"\"),\"\",RANK(O19,$O$19:$O$24,0))","v":""},{"$f":"IF($AA$13=\"\",Distance!$B$78,VALUE(LEFT($AA$13,3)))","v":8},{"$f":"IF(OR(L19=0,L19=\"\",L19=\" \"),\"\",IF($I$17=\"F\",HLOOKUP(L19,females,$I$18,FALSE),IF($I$17=\"M\",HLOOKUP(L19,males,$I$18,FALSE),\"\")))","v":"-"},{"$f":"IF(OR(L19=0,L19=\"\",ISERROR(VLOOKUP(L19,match_teams,4,FALSE)=TRUE)),\"\",VLOOKUP(L19,match_teams,4,FALSE))","v":"York"},null,{"$f":"IF(OR(O19=0,O19=\"\",$I$22=0,$I$22=\"\",$I$23=0,$I$23=\"\",$I$24=0,$I$24=\"\",$I$25=0,$I$25=\"\"),\"\",IF(O19>=$I$22,1,IF(O19>=$I$23,2,IF(O19>=$I$24,3,IF(O19>=$I$25,4,\"\")))))","v":""},{"$f":"LEFT(S17,1)","v":"F"},1,{"$f":"IF(OR(W19=0,W19=\"\",T(W19)<>\"\"),\"\",RANK(W19,$W$19:$W$24,0))","v":1},{"$f":"IF($AA$14=\"\",Distance!$B$110,VALUE(LEFT($AA$14,3)))","v":9},{"$f":"IF(OR(T19=0,T19=\"\",T19=\" \"),\"\",IF($Q$17=\"F\",HLOOKUP(T19,females,$Q$18,FALSE),IF($Q$17=\"M\",HLOOKUP(T19,males,$Q$18,FALSE),\"\")))","v":"Hannah Yates"},{"$f":"IF(OR(T19=0,T19=\"\",ISERROR(VLOOKUP(T19,match_teams,4,FALSE)=TRUE)),\"\",VLOOKUP(T19,match_teams,4,FALSE))","v":"Wake"},24.87,{"$f":"IF(OR(W19=0,W19=\"\",$Q$22=0,$Q$22=\"\",$Q$23=0,$Q$23=\"\",$Q$24=0,$Q$24=\"\",$Q$25=0,$Q$25=\"\"),\"\",IF(W19>=$Q$22,1,IF(W19>=$Q$23,2,IF(W19>=$Q$24,3,IF(W19>=$Q$25,4,\"\")))))","v":4},null,"F11",null,6,0,6]
[{"$f":"VLOOKUP(C17,eventno,6,FALSE)","v":0},2,4,{"$f":"IF($AA$12=\"\",Distance!$B$47,\" \")","v":9},"Andrew Jones","Wake",19.829999999999998,"",{"$f":"VLOOKUP(K17,eventno,6,FALSE)","v":0},2,3,{"$f":"IF($AA$13=\"\",Distance!$B$79,\" \")","v":7},"Max Ansell-Wood","Leeds C",19.98,"",{"$f":"VLOOKUP(S17,eventno,6,FALSE)","v":0},2,"",{"$f":"IF($AA$14=\"\",Distance!$B$111,\" \")","v":8},"-","York",null,"",null,"F12",null,3,4,0]
[{"$f":"VLOOKUP(C17,eventno,7,FALSE)","v":69.040000000000006},3,6,{"$f":"IF($AA$12=\"\",Distance!$B$48,\" \")","v":8},"Jonny Swain","York",11.6,"",{"$f":"VLOOKUP(K17,eventno,7,FALSE)","v":74.8},3,1,{"$f":"IF($AA$13=\"\",Distance!$B$80,\" \")","v":9},"Kieran Thackray","Wake",28.8,"",{"$f":"VLOOKUP(S17,eventno,7,FALSE)","v":52.37},3,"",{"$f":"IF($AA$14=\"\",Distance!$B$112,\" \")","v":7},"-","Leeds C",null,"",null,"F13",null,1,6,0]
[{"$f":"VLOOKUP(C17,eventno,8,FALSE)","v":46.2},4,2,{"$f":"IF($AA$12=\"\",Distance!$B$49,\" \")","v":77},"Harris Hameed","Leeds C",23.59,"",{"$f":"VLOOKUP(K17,eventno,8,FALSE)","v":58},4,"",{"$f":"IF($AA$13=\"\",Distance!$B$81,\" \")","v":88},"-","York",null,"",{"$f":"VLOOKUP(S17,eventno,8,FALSE)","v":40.700000000000003},4,2,{"$f":"IF($AA$14=\"\",Distance!$B$113,\" \")","v":99},"Samantha Lancaster","Wake",17.39,"",null,"F14",null,5,0,5]
[{"$f":"VLOOKUP(C17,eventno,9,FALSE)","v":41.1},5,3,{"$f":"IF($AA$12=\"\",Distance!$B$50,\" \")","v":99},"William Ingram","Wake",21.09,"",{"$f":"VLOOKUP(K17,eventno,9,FALSE)","v":48.6},5,"",{"$f":"IF($AA$13=\"\",Distance!$B$82,\" \")","v":77},"Lamar Lewis","Leeds C",null,"",{"$f":"VLOOKUP(S17,eventno,9,FALSE)","v":36.85},5,"",{"$f":"IF($AA$14=\"\",Distance!$B$114,\" \")","v":88},"-","York",null,"",null,"F15",null,4,0,0]
[{"$f":"VLOOKUP(C17,eventno,10,FALSE)","v":34.200000000000003},6,5,{"$f":"IF($AA$12=\"\",Distance!$B$51,\" \")","v":88},"Ben Lewis","York",14.16,"",{"$f":"VLOOKUP(K17,eventno,10,FALSE)","v":39.25},6,2,{"$f":"IF($AA$13=\"\",Distance!$B$83,\" \")","v":99},"Michael Jones","Wake",25.62,"",{"$f":"VLOOKUP(S17,eventno,10,FALSE)","v":31.6},6,"",{"$f":"IF($AA$14=\"\",Distance!$B$115,\" \")","v":77},"-","Leeds C",null,"",null,"F16",null,2,5,0]
[{"$f":"VLOOKUP(C17,eventno,11,FALSE)","v":27.8},null,null,null,null,null,null,null,{"$f":"VLOOKUP(K17,eventno,11,FALSE)","v":29.3},null,null,null,null,null,null,null,{"$f":"VLOOKUP(S17,eventno,11,FALSE)","v":22.6},null,null,null,null,null,null,null,null,"F17",null,0,0,0]
[{"$f":"VLOOKUP(C26,eventno,5,FALSE)","v":"F"},null,"F7",{"$f":"VLOOKUP(C26,eventno,4,FALSE)","v":"U17W Long Jump"},null,{"$f":"IF(A29=\"W\",\"Wind =\",\"\")","v":""},null,{"$f":"IF(OR(G28=0,G28=\"\",$A$30=0,$A$30=\"\"),\"\",IF($A$28=\"F\",IF(G28>$A$30,\"LR\",IF(G28=$A$30,\"LR=\",\"\"))))","v":""},{"$f":"VLOOKUP(K26,eventno,5,FALSE)","v":"M"},null,"F8",{"$f":"VLOOKUP(K26,eventno,4,FALSE)","v":"U15B Shot"},null,{"$f":"IF(I29=\"W\",\"Wind =\",\"\")","v":""},null,{"$f":"IF(OR(O28=0,O28=\"\",$I$30=0,$I$30=\"\"),\"\",IF($I$28=\"F\",IF(O28>$I$30,\"LR\",IF(O28=$I$30,\"LR=\",\"\"))))","v":""},{"$f":"VLOOKUP(S26,eventno,5,FALSE)","v":"F"},null,"F9",{"$f":"VLOOKUP(S26,eventno,4,FALSE)","v":"U13G Long Jump"},null,{"$f":"IF(Q29=\"W\",\"Wind =\",\"\")","v":""},null,{"$f":"IF(OR(W28=0,W28=\"\",$Q$30=0,$Q$30=\"\"),\"\",IF($Q$28=\"F\",IF(W28>$Q$30,\"LR\",IF(W28=$Q$30,\"LR=\",\"\"))))","v":""},null,"F18",null,0,0,0]
[{"$f":"IF(A26=\"M\",VLOOKUP(C26,males,15,FALSE),VLOOKUP(C26,females,15,FALSE))","v":43},null,"Posn","Bib","Athlete","Club","Perf","Gr",{"$f":"IF(I26=\"M\",VLOOKUP(K26,males,15,FALSE),VLOOKUP(K26,females,15,FALSE))","v":37},null,"Posn","Bib","Athlete","Club","Perf","Gr",{"$f":"IF(Q26=\"M\",VLOOKUP(S26,males,15,FALSE),VLOOKUP(S26,females,15,FALSE))","v":32},null,"Posn","Bib","Athlete","Club","Perf","Gr",null,"F19",null,{"$error":"#N/A"},{"$error":"#N/A"},{"$error":"#N/A"}]
[{"$f":"LEFT(C26,1)","v":"F"},1,{"$f":"IF(OR(G28=0,G28=\"\",T(G28)<>\"\"),\"\",RANK(G28,$G$28:$G$33,0))","v":1},{"$f":"IF($AA$15=\"\",Distance!$B$142,VALUE(LEFT($AA$15,3)))","v":9},{"$f":"IF(OR(D28=0,D28=\"\",D28=\" \"),\"\",IF($A$26=\"F\",HLOOKUP(D28,females,$A$27,FALSE),IF($A$26=\"M\",HLOOKUP(D28,males,$A$27,FALSE),\"\")))","v":"Grace Eyles"},{"$f":"IF(OR(D28=0,D28=\"\",ISERROR(VLOOKUP(D28,match_teams,4,FALSE)=TRUE)),\"\",VLOOKUP(D28,match_teams,4,FALSE))","v":"Wake"},5.18,{"$f":"IF(OR(G28=0,G28=\"\",$A$31=0,$A$31=\"\",$A$32=0,$A$32=\"\",$A$33=0,$A$33=\"\",$A$34=0,$A$34=\"\"),\"\",IF(G28>=$A$31,1,IF(G28>=$A$32,2,IF(G28>=$A$33,3,IF(G28>=$A$34,4,\"\")))))","v":3},{"$f":"LEFT(K26,1)","v":"F"},1,{"$f":"IF(OR(O28=0,O28=\"\",T(O28)<>\"\"),\"\",RANK(O28,$O$28:$O$33,0))","v":4},{"$f":"IF($AA$16=\"\",Distance!$B$174,VALUE(LEFT($AA$16,3)))","v":8},{"$f":"IF(OR(L28=0,L28=\"\",L28=\" \"),\"\",IF($I$26=\"F\",HLOOKUP(L28,females,$I$27,FALSE),IF($I$26=\"M\",HLOOKUP(L28,males,$I$27,FALSE),\"\")))","v":"Jonny Swain"},{"$f":"IF(OR(L28=0,L28=\"\",ISERROR(VLOOKUP(L28,match_teams,4,FALSE)=TRUE)),\"\",VLOOKUP(L28,match_teams,4,FALSE))","v":"York"},6.74,{"$f":"IF(OR(O28=0,O28=\"\",$I$31=0,$I$31=\"\",$I$32=0,$I$32=\"\",$I$33=0,$I$33=\"\",$I$34=0,$I$34=\"\"),\"\",IF(O28>=$I$31,1,IF(O28>=$I$32,2,IF(O28>=$I$33,3,IF(O28>=$I$34,4,\"\")))))","v":""},{"$f":"LEFT(S26,1)","v":"F"},1,{"$f":"IF(OR(W28=0,W28=\"\",T(W28)<>\"\"),\"\",RANK(W28,$W$28:$W$33,0))","v":6},{"$f":"IF($AA$17=\"\",Distance!$B$206,VALUE(LEFT($AA$17,3)))","v":7},{"$f":"IF(OR(T28=0,T28=\"\",T28=\" \"),\"\",IF($Q$26=\"F\",HLOOKUP(T28,females,$Q$27,FALSE),IF($Q$26=\"M\",HLOOKUP(T28,males,$Q$27,FALSE),\"\")))","v":"Millie Bradbury"},{"$f":"IF(OR(T28=0,T28=\"\",ISERROR(VLOOKUP(T28,match_teams,4,FALSE)=TRUE)),\"\",VLOOKUP(T28,match_teams,4,FALSE))","v":"Leeds C"},2.67,{"$f":"IF(OR(W28=0,W28=\"\",$Q$31=0,$Q$31=\"\",$Q$32=0,$Q$32=\"\",$Q$33=0,$Q$33=\"\",$Q$34=0,$Q$34=\"\"),\"\",IF(W28>=$Q$31,1,IF(W28>=$Q$32,2,IF(W28>=$Q$33,3,IF(W28>=$Q$34,4,\"\")))))","v":""},null,"F20",null,6,3,1]
[{"$f":"VLOOKUP(C26,eventno,6,FALSE)","v":0},2,4,{"$f":"IF($AA$15=\"\",Distance!$B$143,\" \")","v":8},"Olivia Swain","York",4.3,"",{"$f":"VLOOKUP(K26,eventno,6,FALSE)","v":0},2,1,{"$f":"IF($AA$16=\"\",Distance!$B$175,\" \")","v":7},"Harris Hameed","Leeds C",9.25,"",{"$f":"VLOOKUP(S26,eventno,6,FALSE)","v":0},2,3,{"$f":"IF($AA$17=\"\",Distance!$B$207,\" \")","v":9},"Jessica Matthews","Wake",3.56,"",null,"F21",null,3,6,4]
[{"$f":"VLOOKUP(C26,eventno,7,FALSE)","v":6.15},3,3,{"$f":"IF($AA$15=\"\",Distance!$B$144,\" \")","v":7},"Amena Abdelaziz","Leeds C",4.59,"",{"$f":"VLOOKUP(K26,eventno,7,FALSE)","v":18.5},3,3,{"$f":"IF($AA$16=\"\",Distance!$B$176,\" \")","v":9},"William Ingram","Wake",7.37,"",{"$f":"VLOOKUP(S26,eventno,7,FALSE)","v":5.35},3,5,{"$f":"IF($AA$17=\"\",Distance!$B$208,\" \")","v":8},"Lucy Hadaway","York",3.28,"",null,"F22",null,4,4,2]
[{"$f":"VLOOKUP(C26,eventno,8,FALSE)","v":5.35},4,2,{"$f":"IF($AA$15=\"\",Distance!$B$145,\" \")","v":99},"Leanne Barraclough","Wake",4.67,"",{"$f":"VLOOKUP(K26,eventno,8,FALSE)","v":12.35},4,5,{"$f":"IF($AA$16=\"\",Distance!$B$177,\" \")","v":88},"Matthew Richardson","York",6.38,"",{"$f":"VLOOKUP(S26,eventno,8,FALSE)","v":4.45},4,1,{"$f":"IF($AA$17=\"\",Distance!$B$209,\" \")","v":77},"Megan Sanders","Leeds C",3.88,"",null,"F23",null,5,2,6]
[{"$f":"VLOOKUP(C26,eventno,9,FALSE)","v":5.2},5,6,{"$f":"IF($AA$15=\"\",Distance!$B$146,\" \")","v":88},"Kate Harris","York",4.09,"",{"$f":"VLOOKUP(K26,eventno,9,FALSE)","v":11.75},5,2,{"$f":"IF($AA$16=\"\",Distance!$B$178,\" \")","v":77},"Thomas Harrison","Leeds C",7.47,"",{"$f":"VLOOKUP(S26,eventno,9,FALSE)","v":4.3499999999999996},5,4,{"$f":"IF($AA$17=\"\",Distance!$B$210,\" \")","v":99},"Ella Liefeith","Wake",3.5,"",null,"F24",null,1,5,3]
[{"$f":"VLOOKUP(C26,eventno,10,FALSE)","v":5.05},6,5,{"$f":"IF($AA$15=\"\",Distance!$B$147,\" \")","v":77},"Melody Peterson","Leeds C",4.22,"",{"$f":"VLOOKUP(K26,eventno,10,FALSE)","v":10.95},6,6,{"$f":"IF($AA$16=\"\",Distance!$B$179,\" \")","v":99},"Adam Lofthouse","Wake",5.55,"",{"$f":"VLOOKUP(S26,eventno,10,FALSE)","v":4.2},6,2,{"$f":"IF($AA$17=\"\",Distance!$B$211,\" \")","v":88},"Charlotte Stamp","York",3.79,"",null,"F25",null,2,1,5]
[{"$f":"VLOOKUP(C26,eventno,11,FALSE)","v":4.75},null,null,null,null,null,null,null,{"$f":"VLOOKUP(K26,eventno,11,FALSE)","v":10.15},null,null,null,null,null,null,null,{"$f":"VLOOKUP(S26,eventno,11,FALSE)","v":3.95},null,null,null,null,null,null,null,null,"F26",null,0,0,0]
[{"$f":"VLOOKUP(C35,eventno,5,FALSE)","v":"M"},null,"F10",{"$f":"VLOOKUP(C35,eventno,4,FALSE)","v":"U15B Javelin"},null,{"$f":"IF(A38=\"W\",\"Wind =\",\"\")","v":""},null,{"$f":"IF(OR(G37=0,G37=\"\",$A$39=0,$A$39=\"\"),\"\",IF($A$37=\"F\",IF(G37>$A$39,\"LR\",IF(G37=$A$39,\"LR=\",\"\"))))","v":""},{"$f":"VLOOKUP(K35,eventno,5,FALSE)","v":"M"},null,"F11",{"$f":"VLOOKUP(K35,eventno,4,FALSE)","v":"U17M Javelin"},null,{"$f":"IF(I38=\"W\",\"Wind =\",\"\")","v":""},null,{"$f":"IF(OR(O37=0,O37=\"\",$I$39=0,$I$39=\"\"),\"\",IF($I$37=\"F\",IF(O37>$I$39,\"LR\",IF(O37=$I$39,\"LR=\",\"\"))))","v":""},{"$f":"VLOOKUP(S35,eventno,5,FALSE)","v":"M"},null,"F12",{"$f":"VLOOKUP(S35,eventno,4,FALSE)","v":"U13B High Jump"},null,{"$f":"IF(Q38=\"W\",\"Wind =\",\"\")","v":""},null,{"$f":"IF(OR(W37=0,W37=\"\",$Q$39=0,$Q$39=\"\"),\"\",IF($Q$37=\"F\",IF(W37>$Q$39,\"LR\",IF(W37=$Q$39,\"LR=\",\"\"))))","v":""},null,"F27",null,0,0,0]
[{"$f":"IF(A35=\"M\",VLOOKUP(C35,males,15,FALSE),VLOOKUP(C35,females,15,FALSE))","v":38},null,"Posn","Bib","Athlete","Club","Perf","Gr",{"$f":"IF(I35=\"M\",VLOOKUP(K35,males,15,FALSE),VLOOKUP(K35,females,15,FALSE))","v":39},null,"Posn","Bib","Athlete","Club","Perf","Gr",{"$f":"IF(Q35=\"M\",VLOOKUP(S35,males,15,FALSE),VLOOKUP(S35,females,15,FALSE))","v":40},null,"Posn","Bib","Athlete","Club","Perf","Gr",null,"F28",null,{"$error":"#N/A"},{"$error":"#N/A"},{"$error":"#N/A"}]
[{"$f":"LEFT(C35,1)","v":"F"},1,{"$f":"IF(OR(G37=0,G37=\"\",T(G37)<>\"\"),\"\",RANK(G37,$G$37:$G$42,0))","v":2},{"$f":"IF($AA$18=\"\",Distance!$B$238,VALUE(LEFT($AA$18,3)))","v":7},{"$f":"IF(OR(D37=0,D37=\"\",D37=\" \"),\"\",IF($A$35=\"F\",HLOOKUP(D37,females,$A$36,FALSE),IF($A$35=\"M\",HLOOKUP(D37,males,$A$36,FALSE),\"\")))","v":"George Armstrong"},{"$f":"IF(OR(D37=0,D37=\"\",ISERROR(VLOOKUP(D37,match_teams,4,FALSE)=TRUE)),\"\",VLOOKUP(D37,match_teams,4,FALSE))","v":"Leeds C"},26.86,{"$f":"IF(OR(G37=0,G37=\"\",$A$40=0,$A$40=\"\",$A$41=0,$A$41=\"\",$A$42=0,$A$42=\"\",$A$43=0,$A$43=\"\"),\"\",IF(G37>=$A$40,1,IF(G37>=$A$41,2,IF(G37>=$A$42,3,IF(G37>=$A$43,4,\"\")))))","v":""},{"$f":"LEFT(K35,1)","v":"F"},1,{"$f":"IF(OR(O37=0,O37=\"\",T(O37)<>\"\"),\"\",RANK(O37,$O$37:$O$42,0))","v":""},{"$f":"IF($AA$19=\"\",Distance!$B$270,VALUE(LEFT($AA$19,3)))","v":8},{"$f":"IF(OR(L37=0,L37=\"\",L37=\" \"),\"\",IF($I$35=\"F\",HLOOKUP(L37,females,$I$36,FALSE),IF($I$35=\"M\",HLOOKUP(L37,males,$I$36,FALSE),\"\")))","v":"-"},{"$f":"IF(OR(L37=0,L37=\"\",ISERROR(VLOOKUP(L37,match_teams,4,FALSE)=TRUE)),\"\",VLOOKUP(L37,match_teams,4,FALSE))","v":"York"},null,{"$f":"IF(OR(O37=0,O37=\"\",$I$40=0,$I$40=\"\",$I$41=0,$I$41=\"\",$I$42=0,$I$42=\"\",$I$43=0,$I$43=\"\"),\"\",IF(O37>=$I$40,1,IF(O37>=$I$41,2,IF(O37>=$I$42,3,IF(O37>=$I$43,4,\"\")))))","v":""},{"$f":"LEFT(S35,1)","v":"F"},1,{"$f":"IF(OR(W37=0,W37=\"\",T(W37)<>\"\",W37=\"NHC\"),\"\",RANK(W37,$W$37:$W$42,0))","v":""},{"$f":"IF($AA$20=\"\",Height!$B$74,VALUE(LEFT($AA$20,3)))","v":8},{"$f":"IF(OR(T37=0,T37=\"\",T37=\" \"),\"\",IF($Q$35=\"F\",HLOOKUP(T37,females,$Q$36,FALSE),IF($Q$35=\"M\",HLOOKUP(T37,males,$Q$36,FALSE),\"\")))","v":"-"},{"$f":"IF(OR(T37=0,T37=\"\",ISERROR(VLOOKUP(T37,match_teams,4,FALSE)=TRUE)),\"\",VLOOKUP(T37,match_teams,4,FALSE))","v":"York"},null,{"$f":"IF(OR(W37=0,W37=\"\",W37=\"NHC\",$Q$40=0,$Q$40=\"\",$Q$41=0,$Q$41=\"\",$Q$42=0,$Q$42=\"\",$Q$43=0,$Q$43=\"\"),\"\",IF(W37>=$Q$40,1,IF(W37>=$Q$41,2,IF(W37>=$Q$42,3,IF(W37>=$Q$43,4,\"\")))))","v":""},null,"F29",null,5,0,0]
[{"$f":"VLOOKUP(C35,eventno,6,FALSE)","v":0},2,6,{"$f":"IF($AA$18=\"\",Distance!$B$239,\" \")","v":8},"Jonny Swain","York",11,"",{"$f":"VLOOKUP(K35,eventno,6,FALSE)","v":0},2,3,{"$f":"IF($AA$19=\"\",Distance!$B$271,\" \")","v":7},"Matthew Campleman","Leeds C",30.92,"",{"$f":"VLOOKUP(S35,eventno,6,FALSE)","v":0},2,3,{"$f":"IF($AA$20=\"\",Height!$B$75,\" \")","v":7},"Alex Booth","Leeds C",1.1000000000000001,"",null,"F30",null,1,4,4]
[{"$f":"VLOOKUP(C35,eventno,7,FALSE)","v":57.67},3,1,{"$f":"IF($AA$18=\"\",Distance!$B$240,\" \")","v":9},"Patrick Thackray","Wake",30.23,"",{"$f":"VLOOKUP(K35,eventno,7,FALSE)","v":70.22},3,2,{"$f":"IF($AA$19=\"\",Distance!$B$272,\" \")","v":9},"Ethan Plumb","Wake",32.659999999999997,"",{"$f":"VLOOKUP(S35,eventno,7,FALSE)","v":1.65},3,1,{"$f":"IF($AA$20=\"\",Height!$B$76,\" \")","v":9},"Dylan Roberts","Wake",1.36,3,null,"F31",null,6,5,6]
[{"$f":"VLOOKUP(C35,eventno,8,FALSE)","v":42.55},4,4,{"$f":"IF($AA$18=\"\",Distance!$B$241,\" \")","v":77},"Kieran Savage","Leeds C",20.68,"",{"$f":"VLOOKUP(K35,eventno,8,FALSE)","v":50.55},4,"",{"$f":"IF($AA$19=\"\",Distance!$B$273,\" \")","v":88},"-","York",null,"",{"$f":"VLOOKUP(S35,eventno,8,FALSE)","v":1.45},4,"",{"$f":"IF($AA$20=\"\",Height!$B$77,\" \")","v":88},"-","York",null,"",null,"F32",null,{"$f":"IF(OR(C40=0,C40=\"\",D40=0,D40=\"\",G40=0,G40=\"\",LEFT(G40,1)=\"D\"),0,VLOOKUP(C40,points,2,FALSE))","v":3},{"$f":"IF(OR(K40=0,K40=\"\",L40=0,L40=\"\",O40=0,O40=\"\",LEFT(O40,1)=\"D\"),0,VLOOKUP(K40,points,2,FALSE))","v":0},{"$f":"IF(OR(S40=0,S40=\"\",T40=0,T40=\"\",W40=0,W40=\"\",LEFT(W40,1)=\"D\"),0,VLOOKUP(S40,points,2,FALSE))","v":0}]
[{"$f":"VLOOKUP(C35,eventno,9,FALSE)","v":39.9},5,5,{"$f":"IF($AA$18=\"\",Distance!$B$242,\" \")","v":88},"Luke Nichols","York",12.7,"",{"$f":"VLOOKUP(K35,eventno,9,FALSE)","v":47},5,4,{"$f":"IF($AA$19=\"\",Distance!$B$274,\" \")","v":77},"Andrew Russell","Leeds C",27.56,"",{"$f":"VLOOKUP(S35,eventno,9,FALSE)","v":1.4},5,"",{"$f":"IF($AA$20=\"\",Height!$B$78,\" \")","v":77},"-","Leeds C","NHC","",null,"F33",null,2,3,0]
[{"$f":"VLOOKUP(C35,eventno,10,FALSE)","v":37},6,3,{"$f":"IF($AA$18=\"\",Distance!$B$243,\" \")","v":99},"Sam Convery","Wake",24.72,"",{"$f":"VLOOKUP(K35,eventno,10,FALSE)","v":43.3},6,1,{"$f":"IF($AA$19=\"\",Distance!$B$275,\" \")","v":99},"Andrew Lorkins","Wake",35.99,"",{"$f":"VLOOKUP(S35,eventno,10,FALSE)","v":1.35},6,2,{"$f":"IF($AA$20=\"\",Height!$B$79,\" \")","v":99},"Carter Bower-Stead","Wake",1.28,"",null,"F34",null,4,6,5]
[{"$f":"VLOOKUP(C35,eventno,11,FALSE)","v":32.65},null,null,null,null,null,null,null,{"$f":"VLOOKUP(K35,eventno,11,FALSE)","v":38.1},null,null,null,null,null,null,null,{"$f":"VLOOKUP(S35,eventno,11,FALSE)","v":1.3},null,null,null,null,null,null,null,null,"F35",null,0,0,0]
[{"$f":"VLOOKUP(C44,eventno,5,FALSE)","v":"F"},null,"F13",{"$f":"VLOOKUP(C44,eventno,4,FALSE)","v":"U13G High Jump"},null,{"$f":"IF(A47=\"W\",\"Wind =\",\"\")","v":""},null,{"$f":"IF(OR(G46=0,G46=\"\",$A$48=0,$A$48=\"\"),\"\",IF($A$46=\"F\",IF(G46>$A$48,\"LR\",IF(G46=$A$48,\"LR=\",\"\"))))","v":""},{"$f":"VLOOKUP(K44,eventno,5,FALSE)","v":"M"},null,"F14",{"$f":"VLOOKUP(K44,eventno,4,FALSE)","v":"U15B Pole Vault"},null,{"$f":"IF(I47=\"W\",\"Wind =\",\"\")","v":""},null,{"$f":"IF(OR(O46=0,O46=\"\",$I$48=0,$I$48=\"\"),\"\",IF($I$46=\"F\",IF(O46>$I$48,\"LR\",IF(O46=$I$48,\"LR=\",\"\"))))","v":""},{"$f":"VLOOKUP(S44,eventno,5,FALSE)","v":"M"},null,"F15",{"$f":"VLOOKUP(S44,eventno,4,FALSE)","v":"U17M Pole Vault"},null,{"$f":"IF(Q47=\"W\",\"Wind =\",\"\")","v":""},null,{"$f":"IF(OR(W46=0,W46=\"\",$Q$48=0,$Q$48=\"\"),\"\",IF($Q$46=\"F\",IF(W46>$Q$48,\"LR\",IF(W46=$Q$48,\"LR=\",\"\"))))","v":""},null,null,null,0,0,0]
[{"$f":"IF(A44=\"M\",VLOOKUP(C44,males,15,FALSE),VLOOKUP(C44,females,15,FALSE))","v":40},null,"Posn","Bib","Athlete","Club","Perf","Gr",{"$f":"IF(I44=\"M\",VLOOKUP(K44,males,15,FALSE),VLOOKUP(K44,females,15,FALSE))","v":41},null,"Posn","Bib","Athlete","Club","Perf","Gr",{"$f":"IF(Q44=\"M\",VLOOKUP(S44,males,15,FALSE),VLOOKUP(S44,females,15,FALSE))","v":42},null,"Posn","Bib","Athlete","Club","Perf","Gr",null,null,null,{"$error":"#N/A"},{"$error":"#N/A"},{"$error":"#N/A"}]
[{"$f":"LEFT(C44,1)","v":"F"},1,{"$f":"IF(OR(G46=0,G46=\"\",T(G46)<>\"\",G46=\"NHC\"),\"\",RANK(G46,$G$46:$G$51,0))","v":3},{"$f":"IF($AA$21=\"\",Height!$B$106,VALUE(LEFT($AA$21,3)))","v":7},{"$f":"IF(OR(D46=0,D46=\"\",D46=\" \"),\"\",IF($A$44=\"F\",HLOOKUP(D46,females,$A$45,FALSE),IF($A$44=\"M\",HLOOKUP(D46,males,$A$45,FALSE),\"\")))","v":"Megan Sanders"},{"$f":"IF(OR(D46=0,D46=\"\",ISERROR(VLOOKUP(D46,match_teams,4,FALSE)=TRUE)),\"\",VLOOKUP(D46,match_teams,4,FALSE))","v":"Leeds C"},1.1000000000000001,{"$f":"IF(OR(G46=0,G46=\"\",G46=\"NHC\",$A$49=0,$A$49=\"\",$A$50=0,$A$50=\"\",$A$51=0,$A$51=\"\",$A$52=0,$A$52=\"\"),\"\",IF(G46>=$A$49,1,IF(G46>=$A$50,2,IF(G46>=$A$51,3,IF(G46>=$A$52,4,\"\")))))","v":""},{"$f":"LEFT(K44,1)","v":"F"},1,{"$f":"IF(OR(O46=0,O46=\"\",T(O46)<>\"\",O46=\"NHC\"),\"\",RANK(O46,$O$46:$O$51,0))","v":""},{"$f":"IF($AA$22=\"\",Height!$B$138,VALUE(LEFT($AA$22,3)))","v":8},{"$f":"IF(OR(L46=0,L46=\"\",L46=\" \"),\"\",IF($I$44=\"F\",HLOOKUP(L46,females,$I$45,FALSE),IF($I$44=\"M\",HLOOKUP(L46,males,$I$45,FALSE),\"\")))","v":"-"},{"$f":"IF(OR(L46=0,L46=\"\",ISERROR(VLOOKUP(L46,match_teams,4,FALSE)=TRUE)),\"\",VLOOKUP(L46,match_teams,4,FALSE))","v":"York"},null,{"$f":"IF(OR(O46=0,O46=\"\",O46=\"NHC\",$I$49=0,$I$49=\"\",$I$50=0,$I$50=\"\",$I$51=0,$I$51=\"\",$I$52=0,$I$52=\"\"),\"\",IF(O46>=$I$49,1,IF(O46>=$I$50,2,IF(O46>=$I$51,3,IF(O46>=$I$52,4,\"\")))))","v":""},{"$f":"LEFT(S44,1)","v":"F"},1,{"$f":"IF(OR(W46=0,W46=\"\",T(W46)<>\"\",W46=\"NHC\"),\"\",RANK(W46,$W$46:$W$51,0))","v":""},{"$f":"IF($AA$23=\"\",Height!$B$170,VALUE(LEFT($AA$23,3)))","v":8},{"$f":"IF(OR(T46=0,T46=\"\",T46=\" \"),\"\",IF($Q$44=\"F\",HLOOKUP(T46,females,$Q$45,FALSE),IF($Q$44=\"M\",HLOOKUP(T46,males,$Q$45,FALSE),\"\")))","v":"-"},{"$f":"IF(OR(T46=0,T46=\"\",ISERROR(VLOOKUP(T46,match_teams,4,FALSE)=TRUE)),\"\",VLOOKUP(T46,match_teams,4,FALSE))","v":"York"},null,{"$f":"IF(OR(W46=0,W46=\"\",W46=\"NHC\",$Q$49=0,$Q$49=\"\",$Q$50=0,$Q$50=\"\",$Q$51=0,$Q$51=\"\",$Q$52=0,$Q$52=\"\"),\"\",IF(W46>=$Q$49,1,IF(W46>=$Q$50,2,IF(W46>=$Q$51,3,IF(W46>=$Q$52,4,\"\")))))","v":""},null,null,null,4,0,0]
[{"$f":"VLOOKUP(C44,eventno,6,FALSE)","v":0},2,{"$f":"IF(OR(G47=0,G47=\"\",T(G47)<>\"\",G47=\"NHC\"),\"\",RANK(G47,$G$46:$G$51,0))","v":""},{"$f":"IF($AA$21=\"\",Height!$B$107,\" \")","v":9},"-","Wake",null,"",{"$f":"VLOOKUP(K44,eventno,6,FALSE)","v":0},2,1,{"$f":"IF($AA$22=\"\",Height!$B$139,\" \")","v":9},"Andrew Jones","Wake",3,2,{"$f":"VLOOKUP(S44,eventno,6,FALSE)","v":0},2,1,{"$f":"IF($AA$23=\"\",Height!$B$171,\" \")","v":7},"Andrew Russell","Leeds C",3.55,3,null,null,null,0,6,6]
[{"$f":"VLOOKUP(C44,eventno,7,FALSE)","v":1.62},3,{"$f":"IF(OR(G48=0,G48=\"\",T(G48)<>\"\",G48=\"NHC\"),\"\",RANK(G48,$G$46:$G$51,0))","v":4},{"$f":"IF($AA$21=\"\",Height!$B$108,\" \")","v":8},"Felicity Edwards","York",1.05,"",{"$f":"VLOOKUP(K44,eventno,7,FALSE)","v":4.2},3,"",{"$f":"IF($AA$22=\"\",Height!$B$140,\" \")","v":7},"Jonathan Webster","Leeds C",null,"",{"$f":"VLOOKUP(S44,eventno,7,FALSE)","v":5.2},3,2,{"$f":"IF($AA$23=\"\",Height!$B$172,\" \")","v":9},"Michael Jones","Wake",2.25,"",null,null,null,3,0,5]
[{"$f":"VLOOKUP(C44,eventno,8,FALSE)","v":1.4},4,5,{"$f":"IF($AA$21=\"\",Height!$B$109,\" \")","v":77},"-","Leeds C",null,"",{"$f":"VLOOKUP(K44,eventno,8,FALSE)","v":3.2},4,"",{"$f":"IF($AA$22=\"\",Height!$B$141,\" \")","v":88},"-","York",null,"",{"$f":"VLOOKUP(S44,eventno,8,FALSE)","v":4},4,"",{"$f":"IF($AA$23=\"\",Height!$B$173,\" \")","v":88},"-","York",null,"",null,null,null,0,0,0]
[{"$f":"VLOOKUP(C44,eventno,9,FALSE)","v":1.35},5,{"$f":"IF(OR(G50=0,G50=\"\",T(G50)<>\"\",G50=\"NHC\"),\"\",RANK(G50,$G$46:$G$51,0))","v":2},{"$f":"IF($AA$21=\"\",Height!$B$110,\" \")","v":99},"Ella Liefeith","Wake",1.1299999999999999,"",{"$f":"VLOOKUP(K44,eventno,9,FALSE)","v":3},5,"",{"$f":"IF($AA$22=\"\",Height!$B$142,\" \")","v":99},"-","Wake",null,"",{"$f":"VLOOKUP(S44,eventno,9,FALSE)","v":3.65},5,"",{"$f":"IF($AA$23=\"\",Height!$B$174,\" \")","v":77},"-","Leeds C",null,"",null,null,null,5,0,0]
[{"$f":"VLOOKUP(C44,eventno,10,FALSE)","v":1.3},6,1,{"$f":"IF($AA$21=\"\",Height!$B$111,\" \")","v":88},"Annabel Ashton","York",1.25,4,{"$f":"VLOOKUP(K44,eventno,10,FALSE)","v":2.8},6,"",{"$f":"IF($AA$22=\"\",Height!$B$143,\" \")","v":77},"-","Leeds C",null,"",{"$f":"VLOOKUP(S44,eventno,10,FALSE)","v":3.5},6,"",{"$f":"IF($AA$23=\"\",Height!$B$175,\" \")","v":99},"-","Wake",null,"",null,null,null,6,0,0]
[{"$f":"VLOOKUP(C44,eventno,11,FALSE)","v":1.25},null,null,null,null,null,null,null,{"$f":"VLOOKUP(K44,eventno,11,FALSE)","v":2.4},null,null,null,null,null,null,null,{"$f":"VLOOKUP(S44,eventno,11,FALSE)","v":3},null,null,null,null,null,null,null,null,null,null,0,0,0]
[{"$f":"VLOOKUP(C53,eventno,5,FALSE)","v":"F"},null,"F16",{"$f":"VLOOKUP(C53,eventno,4,FALSE)","v":"U15G Pole Vault"},null,{"$f":"IF(A56=\"W\",\"Wind =\",\"\")","v":""},null,{"$f":"IF(OR(G55=0,G55=\"\",$A$57=0,$A$57=\"\"),\"\",IF($A$55=\"F\",IF(G55>$A$57,\"LR\",IF(G55=$A$57,\"LR=\",\"\"))))","v":""},{"$f":"VLOOKUP(K53,eventno,5,FALSE)","v":"F"},null,"F17",{"$f":"VLOOKUP(K53,eventno,4,FALSE)","v":"U17W Pole Vault"},null,{"$f":"IF(I56=\"W\",\"Wind =\",\"\")","v":""},null,{"$f":"IF(OR(O55=0,O55=\"\",$I$57=0,$I$57=\"\"),\"\",IF($I$55=\"F\",IF(O55>$I$57,\"LR\",IF(O55=$I$57,\"LR=\",\"\"))))","v":""},{"$f":"VLOOKUP(S53,eventno,5,FALSE)","v":"F"},null,"F18",{"$f":"VLOOKUP(S53,eventno,4,FALSE)","v":"U17W Shot"},null,{"$f":"IF(Q56=\"W\",\"Wind =\",\"\")","v":""},null,{"$f":"IF(OR(W55=0,W55=\"\",$Q$57=0,$Q$57=\"\"),\"\",IF($Q$55=\"F\",IF(W55>$Q$57,\"LR\",IF(W55=$Q$57,\"LR=\",\"\"))))","v":""},null,null,null,0,0,0]
[{"$f":"IF(A53=\"M\",VLOOKUP(C53,males,15,FALSE),VLOOKUP(C53,females,15,FALSE))","v":41},null,"Posn","Bib","Athlete","Club","Perf","Gr",{"$f":"IF(I53=\"M\",VLOOKUP(K53,males,15,FALSE),VLOOKUP(K53,females,15,FALSE))","v":42},null,"Posn","Bib","Athlete","Club","Perf","Gr",{"$f":"IF(Q53=\"M\",VLOOKUP(S53,males,15,FALSE),VLOOKUP(S53,females,15,FALSE))","v":48},null,"Posn","Bib","Athlete","Club","Perf","Gr",null,null,null,{"$error":"#N/A"},{"$error":"#N/A"},{"$error":"#N/A"}]
[{"$f":"LEFT(C53,1)","v":"F"},1,{"$f":"IF(OR(G55=0,G55=\"\",T(G55)<>\"\",G55=\"NHC\"),\"\",RANK(G55,$G$55:$G$60,0))","v":2},{"$f":"IF($AA$24=\"\",Height!$B$202,VALUE(LEFT($AA$24,3)))","v":7},{"$f":"IF(OR(D55=0,D55=\"\",D55=\" \"),\"\",IF($A$53=\"F\",HLOOKUP(D55,females,$A$54,FALSE),IF($A$53=\"M\",HLOOKUP(D55,males,$A$54,FALSE),\"\")))","v":"Vikki Adams"},{"$f":"IF(OR(D55=0,D55=\"\",ISERROR(VLOOKUP(D55,match_teams,4,FALSE)=TRUE)),\"\",VLOOKUP(D55,match_teams,4,FALSE))","v":"Leeds C"},1.7,{"$f":"IF(OR(G55=0,G55=\"\",G55=\"NHC\",$A$58=0,$A$58=\"\",$A$59=0,$A$59=\"\",$A$60=0,$A$60=\"\",$A$61=0,$A$61=\"\"),\"\",IF(G55>=$A$58,1,IF(G55>=$A$59,2,IF(G55>=$A$60,3,IF(G55>=$A$61,4,\"\")))))","v":""},{"$f":"LEFT(K53,1)","v":"F"},1,{"$f":"IF(OR(O55=0,O55=\"\",T(O55)<>\"\",O55=\"NHC\"),\"\",RANK(O55,$O$55:$O$60,0))","v":""},{"$f":"IF($AA$25=\"\",Height!$B$234,VALUE(LEFT($AA$25,3)))","v":8},{"$f":"IF(OR(L55=0,L55=\"\",L55=\" \"),\"\",IF($I$53=\"F\",HLOOKUP(L55,females,$I$54,FALSE),IF($I$53=\"M\",HLOOKUP(L55,males,$I$54,FALSE),\"\")))","v":"-"},{"$f":"IF(OR(L55=0,L55=\"\",ISERROR(VLOOKUP(L55,match_teams,4,FALSE)=TRUE)),\"\",VLOOKUP(L55,match_teams,4,FALSE))","v":"York"},null,{"$f":"IF(OR(O55=0,O55=\"\",O55=\"NHC\",$I$58=0,$I$58=\"\",$I$59=0,$I$59=\"\",$I$60=0,$I$60=\"\",$I$61=0,$I$61=\"\"),\"\",IF(O55>=$I$58,1,IF(O55>=$I$59,2,IF(O55>=$I$60,3,IF(O55>=$I$61,4,\"\")))))","v":""},{"$f":"LEFT(S53,1)","v":"F"},2,{"$f":"IF(OR(W55=0,W55=\"\",T(W55)<>\"\"),\"\",RANK(W55,$W$55:$W$60,0))","v":2},{"$f":"IF($AA$26=\"\",Distance!$B$303,\" \")","v":7},{"$f":"IF(OR(T55=0,T55=\"\",T55=\" \"),\"\",IF($Q$53=\"F\",HLOOKUP(T55,females,$Q$54,FALSE),IF($Q$53=\"M\",HLOOKUP(T55,males,$Q$54,FALSE),\"\")))","v":"Hannah Ukandu"},{"$f":"IF(OR(T55=0,T55=\"\",ISERROR(VLOOKUP(T55,match_teams,4,FALSE)=TRUE)),\"\",VLOOKUP(T55,match_teams,4,FALSE))","v":"Leeds C"},8.9499999999999993,{"$f":"IF(OR(W55=0,W55=\"\",$Q$58=0,$Q$58=\"\",$Q$59=0,$Q$59=\"\",$Q$60=0,$Q$60=\"\",$Q$61=0,$Q$61=\"\"),\"\",IF(W55>=$Q$58,1,IF(W55>=$Q$59,2,IF(W55>=$Q$60,3,IF(W55>=$Q$61,4,\"\")))))","v":3},null,null,null,5,0,5]
[{"$f":"VLOOKUP(C53,eventno,6,FALSE)","v":0},2,1,{"$f":"IF($AA$24=\"\",Height!$B$203,\" \")","v":9},"Abigail Roberts","Wake",2.9,1,{"$f":"VLOOKUP(K53,eventno,6,FALSE)","v":0},2,"",{"$f":"IF($AA$25=\"\",Height!$B$235,\" \")","v":7},"-","Leeds C",null,"",{"$f":"VLOOKUP(S53,eventno,6,FALSE)","v":0},1,3,{"$f":"IF($AA$26=\"\",Distance!$B$302,VALUE(LEFT($AA$26,3)))","v":9},"Hannah Yates","Wake",7.98,4,null,null,null,6,0,4]
[{"$f":"VLOOKUP(C53,eventno,7,FALSE)","v":3.3},3,"",{"$f":"IF($AA$24=\"\",Height!$B$204,\" \")","v":8},"-","York",null,"",{"$f":"VLOOKUP(K53,eventno,7,FALSE)","v":4.03},3,2,{"$f":"IF($AA$25=\"\",Height!$B$236,\" \")","v":9},"Sally Spurr","Wake",2,"",{"$f":"VLOOKUP(S53,eventno,7,FALSE)","v":13.57},3,1,{"$f":"IF($AA$26=\"\",Distance!$B$304,\" \")","v":8},"Becky Tunnicliffe","York",9.31,3,null,null,null,0,5,6]
[{"$f":"VLOOKUP(C53,eventno,8,FALSE)","v":2.9},4,"",{"$f":"IF($AA$24=\"\",Height!$B$205,\" \")","v":77},"-","Leeds C",null,"",{"$f":"VLOOKUP(K53,eventno,8,FALSE)","v":3.4},4,"",{"$f":"IF($AA$25=\"\",Height!$B$237,\" \")","v":88},"-","York",null,"",{"$f":"VLOOKUP(S53,eventno,8,FALSE)","v":9.9499999999999993},4,4,{"$f":"IF($AA$26=\"\",Distance!$B$305,\" \")","v":99},"Samantha Lancaster","Wake",7.79,"",null,null,null,0,0,3]
[{"$f":"VLOOKUP(C53,eventno,9,FALSE)","v":2.8},5,"",{"$f":"IF($AA$24=\"\",Height!$B$206,\" \")","v":99},"Bethany Taylor","Wake",null,"",{"$f":"VLOOKUP(K53,eventno,9,FALSE)","v":3.2},5,"",{"$f":"IF($AA$25=\"\",Height!$B$238,\" \")","v":77},"-","Leeds C",null,"",{"$f":"VLOOKUP(S53,eventno,9,FALSE)","v":9.35},5,5,{"$f":"IF($AA$26=\"\",Distance!$B$306,\" \")","v":77},"Grace Coburn","Leeds C",5.57,"",null,null,null,0,0,2]
[{"$f":"VLOOKUP(C53,eventno,10,FALSE)","v":2.5},6,"",{"$f":"IF($AA$24=\"\",Height!$B$207,\" \")","v":88},"-","York",null,"",{"$f":"VLOOKUP(K53,eventno,10,FALSE)","v":2.9},6,1,{"$f":"IF($AA$25=\"\",Height!$B$239,\" \")","v":99},"Alice Cusworth","Wake",2.25,"",{"$f":"VLOOKUP(S53,eventno,10,FALSE)","v":8.6999999999999993},6,6,{"$f":"IF($AA$26=\"\",Distance!$B$307,\" \")","v":88},"Emily Haigh","York",4.55,"",null,null,null,0,6,1]
[{"$f":"VLOOKUP(C53,eventno,11,FALSE)","v":2.2000000000000002},null,null,null,null,null,null,null,{"$f":"VLOOKUP(K53,eventno,11,FALSE)","v":2.5},null,null,null,null,null,null,null,{"$f":"VLOOKUP(S53,eventno,11,FALSE)","v":7.8},null,null,null,null,null,null,null,null,null,null,0,0,0]
[{"$f":"VLOOKUP(C62,eventno,5,FALSE)","v":"M"},null,"F19",{"$f":"VLOOKUP(C62,eventno,4,FALSE)","v":"U17M Long Jump"},null,{"$f":"IF(A65=\"W\",\"Wind =\",\"\")","v":""},null,{"$f":"IF(OR(G64=0,G64=\"\",$A$66=0,$A$66=\"\"),\"\",IF($A$64=\"F\",IF(G64>$A$66,\"LR\",IF(G64=$A$66,\"LR=\",\"\"))))","v":""},{"$f":"VLOOKUP(K62,eventno,5,FALSE)","v":"F"},null,"F20",{"$f":"VLOOKUP(K62,eventno,4,FALSE)","v":"U15G Discus"},null,{"$f":"IF(I65=\"W\",\"Wind =\",\"\")","v":""},null,{"$f":"IF(OR(O64=0,O64=\"\",$I$66=0,$I$66=\"\"),\"\",IF($I$64=\"F\",IF(O64>$I$66,\"LR\",IF(O64=$I$66,\"LR=\",\"\"))))","v":""},{"$f":"VLOOKUP(S62,eventno,5,FALSE)","v":"F"},null,"F21",{"$f":"VLOOKUP(S62,eventno,4,FALSE)","v":"U17W Discus"},null,{"$f":"IF(Q65=\"W\",\"Wind =\",\"\")","v":""},null,{"$f":"IF(OR(W64=0,W64=\"\",$Q$66=0,$Q$66=\"\"),\"\",IF($Q$64=\"F\",IF(W64>$Q$66,\"LR\",IF(W64=$Q$66,\"LR=\",\"\"))))","v":""},null,null,null,0,0,0]
[{"$f":"IF(A62=\"M\",VLOOKUP(C62,males,15,FALSE),VLOOKUP(C62,females,15,FALSE))","v":43},null,"Posn","Bib","Athlete","Club","Perf","Gr",{"$f":"IF(I62=\"M\",VLOOKUP(K62,males,15,FALSE),VLOOKUP(K62,females,15,FALSE))","v":46},null,"Posn","Bib","Athlete","Club","Perf","Gr",{"$f":"IF(Q62=\"M\",VLOOKUP(S62,males,15,FALSE),VLOOKUP(S62,females,15,FALSE))","v":47},null,"Posn","Bib","Athlete","Club","Perf","Gr",null,null,null,{"$error":"#N/A"},{"$error":"#N/A"},{"$error":"#N/A"}]
[{"$f":"LEFT(C62,1)","v":"F"},4,{"$f":"IF(OR(G64=0,G64=\"\",T(G64)<>\"\"),\"\",RANK(G64,$G$64:$G$69,0))","v":2},{"$f":"IF($AA$27=\"\",Distance!$B$337,\" \")","v":77},{"$f":"IF(OR(D64=0,D64=\"\",D64=\" \"),\"\",IF($A$62=\"F\",HLOOKUP(D64,females,$A$63,FALSE),IF($A$62=\"M\",HLOOKUP(D64,males,$A$63,FALSE),\"\")))","v":"Matthew Campleman"},{"$f":"IF(OR(D64=0,D64=\"\",ISERROR(VLOOKUP(D64,match_teams,4,FALSE)=TRUE)),\"\",VLOOKUP(D64,match_teams,4,FALSE))","v":"Leeds C"},6.03,{"$f":"IF(OR(G64=0,G64=\"\",$A$67=0,$A$67=\"\",$A$68=0,$A$68=\"\",$A$69=0,$A$69=\"\",$A$70=0,$A$70=\"\"),\"\",IF(G64>=$A$67,1,IF(G64>=$A$68,2,IF(G64>=$A$69,3,IF(G64>=$A$70,4,\"\")))))","v":""},{"$f":"LEFT(K62,1)","v":"F"},2,{"$f":"IF(OR(O64=0,O64=\"\",T(O64)<>\"\"),\"\",RANK(O64,$O$64:$O$69,0))","v":1},{"$f":"IF($AA$28=\"\",Distance!$B$367,\" \")","v":7},{"$f":"IF(OR(L64=0,L64=\"\",L64=\" \"),\"\",IF($I$62=\"F\",HLOOKUP(L64,females,$I$63,FALSE),IF($I$62=\"M\",HLOOKUP(L64,males,$I$63,FALSE),\"\")))","v":"Nicola Sawyer"},{"$f":"IF(OR(L64=0,L64=\"\",ISERROR(VLOOKUP(L64,match_teams,4,FALSE)=TRUE)),\"\",VLOOKUP(L64,match_teams,4,FALSE))","v":"Leeds C"},22.86,{"$f":"IF(OR(O64=0,O64=\"\",$I$67=0,$I$67=\"\",$I$68=0,$I$68=\"\",$I$69=0,$I$69=\"\",$I$70=0,$I$70=\"\"),\"\",IF(O64>=$I$67,1,IF(O64>=$I$68,2,IF(O64>=$I$69,3,IF(O64>=$I$70,4,\"\")))))","v":3},{"$f":"LEFT(S62,1)","v":"F"},3,{"$f":"IF(OR(W64=0,W64=\"\",T(W64)<>\"\"),\"\",RANK(W64,$W$64:$W$69,0))","v":5},{"$f":"IF($AA$29=\"\",Distance!$B$400,\" \")","v":7},{"$f":"IF(OR(T64=0,T64=\"\",T64=\" \"),\"\",IF($Q$62=\"F\",HLOOKUP(T64,females,$Q$63,FALSE),IF($Q$62=\"M\",HLOOKUP(T64,males,$Q$63,FALSE),\"\")))","v":"Georgia Yearby"},{"$f":"IF(OR(T64=0,T64=\"\",ISERROR(VLOOKUP(T64,match_teams,4,FALSE)=TRUE)),\"\",VLOOKUP(T64,match_teams,4,FALSE))","v":"Leeds C"},14.96,{"$f":"IF(OR(W64=0,W64=\"\",$Q$67=0,$Q$67=\"\",$Q$68=0,$Q$68=\"\",$Q$69=0,$Q$69=\"\",$Q$70=0,$Q$70=\"\"),\"\",IF(W64>=$Q$67,1,IF(W64>=$Q$68,2,IF(W64>=$Q$69,3,IF(W64>=$Q$70,4,\"\")))))","v":""},null,null,null,5,6,2]
[{"$f":"VLOOKUP(C62,eventno,6,FALSE)","v":0},2,"",{"$f":"IF($AA$27=\"\",Distance!$B$335,\" \")","v":9},"Jake Worton","Wake",null,"",{"$f":"VLOOKUP(K62,eventno,6,FALSE)","v":0},3,5,{"$f":"IF($AA$28=\"\",Distance!$B$368,\" \")","v":9},"Alyce McCurdie","Wake",13.16,"",{"$f":"VLOOKUP(S62,eventno,6,FALSE)","v":0},1,1,{"$f":"IF($AA$29=\"\",Distance!$B$398,VALUE(LEFT($AA$29,3)))","v":9},"Hannah Yates","Wake",28.35,3,null,null,null,0,2,6]
[{"$f":"VLOOKUP(C62,eventno,7,FALSE)","v":7.45},5,4,{"$f":"IF($AA$27=\"\",Distance!$B$338,\" \")","v":99},"Andrew Lorkins","Wake",5.33,"",{"$f":"VLOOKUP(K62,eventno,7,FALSE)","v":39.47},1,2,{"$f":"IF($AA$28=\"\",Distance!$B$366,VALUE(LEFT($AA$28,3)))","v":8},"Chelsea Walker","York",16.52,"",{"$f":"VLOOKUP(S62,eventno,7,FALSE)","v":45.48},2,2,{"$f":"IF($AA$29=\"\",Distance!$B$399,\" \")","v":8},"Becky Tunnicliffe","York",20.29,"",null,null,null,3,5,5]
[{"$f":"VLOOKUP(C62,eventno,8,FALSE)","v":0},1,1,{"$f":"IF($AA$27=\"\",Distance!$B$334,VALUE(LEFT($AA$27,3)))","v":7},"Elliott Hurley","Leeds C",6.35,"",{"$f":"VLOOKUP(K62,eventno,8,FALSE)","v":27.3},6,4,{"$f":"IF($AA$28=\"\",Distance!$B$371,\" \")","v":99},"Bethany Taylor","Wake",14.98,"",{"$f":"VLOOKUP(S62,eventno,8,FALSE)","v":33.25},5,6,{"$f":"IF($AA$29=\"\",Distance!$B$402,\" \")","v":88},"Zoe Robson","York",12.33,"",null,null,null,6,3,1]
[{"$f":"VLOOKUP(C62,eventno,9,FALSE)","v":0},3,3,{"$f":"IF($AA$27=\"\",Distance!$B$336,\" \")","v":8},"Adam Robinson","York",5.79,"",{"$f":"VLOOKUP(K62,eventno,9,FALSE)","v":25.05},4,6,{"$f":"IF($AA$28=\"\",Distance!$B$369,\" \")","v":88},"Jade Kerrison","York",9.7100000000000009,"",{"$f":"VLOOKUP(S62,eventno,9,FALSE)","v":31.5},6,4,{"$f":"IF($AA$29=\"\",Distance!$B$403,\" \")","v":77},"Grace Coburn","Leeds C",15.18,"",null,null,null,4,1,3]
[{"$f":"VLOOKUP(C62,eventno,10,FALSE)","v":0},6,5,{"$f":"IF($AA$27=\"\",Distance!$B$339,\" \")","v":88},"Peirre Weller","York",3.53,"",{"$f":"VLOOKUP(K62,eventno,10,FALSE)","v":22.3},5,3,{"$f":"IF($AA$28=\"\",Distance!$B$370,\" \")","v":77},"Melissa Fletcher","Leeds C",15.81,"",{"$f":"VLOOKUP(S62,eventno,10,FALSE)","v":27.9},4,3,{"$f":"IF($AA$29=\"\",Distance!$B$401,\" \")","v":99},"Samantha Lancaster","Wake",15.82,"",null,null,null,2,4,4]
[{"$f":"VLOOKUP(C62,eventno,11,FALSE)","v":0},null,null,null,null,null,null,null,{"$f":"VLOOKUP(K62,eventno,11,FALSE)","v":19.649999999999999},null,null,null,null,null,null,null,{"$f":"VLOOKUP(S62,eventno,11,FALSE)","v":23.25},null,null,null,null,null,null,null,null,null,null,0,0,0]
[{"$f":"VLOOKUP(C71,eventno,5,FALSE)","v":"M"},null,"F22",{"$f":"VLOOKUP(C71,eventno,4,FALSE)","v":"U13B Shot"},null,{"$f":"IF(A74=\"W\",\"Wind =\",\"\")","v":""},null,{"$f":"IF(OR(G73=0,G73=\"\",$A$75=0,$A$75=\"\"),\"\",IF($A$73=\"F\",IF(G73>$A$75,\"LR\",IF(G73=$A$75,\"LR=\",\"\"))))","v":""},{"$f":"VLOOKUP(K71,eventno,5,FALSE)","v":"F"},null,"F23",{"$f":"VLOOKUP(K71,eventno,4,FALSE)","v":"U15G Long Jump"},null,{"$f":"IF(I74=\"W\",\"Wind =\",\"\")","v":""},null,{"$f":"IF(OR(O73=0,O73=\"\",$I$75=0,$I$75=\"\"),\"\",IF($I$73=\"F\",IF(O73>$I$75,\"LR\",IF(O73=$I$75,\"LR=\",\"\"))))","v":""},{"$f":"VLOOKUP(S71,eventno,5,FALSE)","v":"F"},null,"F24",{"$f":"VLOOKUP(S71,eventno,4,FALSE)","v":"U15G Shot"},null,{"$f":"IF(Q74=\"W\",\"Wind =\",\"\")","v":""},null,{"$f":"IF(OR(W73=0,W73=\"\",$Q$75=0,$Q$75=\"\"),\"\",IF($Q$73=\"F\",IF(W73>$Q$75,\"LR\",IF(W73=$Q$75,\"LR=\",\"\"))))","v":""},null,null,null,0,0,0]
[{"$f":"IF(A71=\"M\",VLOOKUP(C71,males,15,FALSE),VLOOKUP(C71,females,15,FALSE))","v":44},null,"Posn","Bib","Athlete","Club","Perf","Gr",{"$f":"IF(I71=\"M\",VLOOKUP(K71,males,15,FALSE),VLOOKUP(K71,females,15,FALSE))","v":45},null,"Posn","Bib","Athlete","Club","Perf","Gr",{"$f":"IF(Q71=\"M\",VLOOKUP(S71,males,15,FALSE),VLOOKUP(S71,females,15,FALSE))","v":37},null,"Posn","Bib","Athlete","Club","Perf","Gr",null,null,null,{"$f":"IF(OR(C72=0,C72=\"\",D72=0,D72=\"\",G72=0,G72=\"\",LEFT(G72,1)=\"D\"),0,VLOOKUP(C72,points,2,FALSE))","v":{"$error":"#N/A"}},{"$f":"IF(OR(K72=0,K72=\"\",L72=0,L72=\"\",O72=0,O72=\"\",LEFT(O72,1)=\"D\"),0,VLOOKUP(K72,points,2,FALSE))","v":{"$error":"#N/A"}},{"$f":"IF(OR(S72=0,S72=\"\",T72=0,T72=\"\",W72=0,W72=\"\",LEFT(W72,1)=\"D\"),0,VLOOKUP(S72,points,2,FALSE))","v":{"$error":"#N/A"}}]
[{"$f":"LEFT(C71,1)","v":"F"},1,{"$f":"IF(OR(G73=0,G73=\"\",T(G73)<>\"\"),\"\",RANK(G73,$G$73:$G$78,0))","v":4},{"$f":"IF($AA$30=\"\",Distance!$B$430,VALUE(LEFT($AA$30,3)))","v":8},{"$f":"IF(OR(D73=0,D73=\"\",D73=\" \"),\"\",IF($A$71=\"F\",HLOOKUP(D73,females,$A$72,FALSE),IF($A$71=\"M\",HLOOKUP(D73,males,$A$72,FALSE),\"\")))","v":"Matt Hobson"},{"$f":"IF(OR(D73=0,D73=\"\",ISERROR(VLOOKUP(D73,match_teams,4,FALSE)=TRUE)),\"\",VLOOKUP(D73,match_teams,4,FALSE))","v":"York"},5.27,{"$f":"IF(OR(G73=0,G73=\"\",$A$76=0,$A$76=\"\",$A$77=0,$A$77=\"\",$A$78=0,$A$78=\"\",$A$79=0,$A$79=\"\"),\"\",IF(G73>=$A$76,1,IF(G73>=$A$77,2,IF(G73>=$A$78,3,IF(G73>=$A$79,4,\"\")))))","v":""},{"$f":"LEFT(K71,1)","v":"F"},1,{"$f":"IF(OR(O73=0,O73=\"\",T(O73)<>\"\"),\"\",RANK(O73,$O$73:$O$78,0))","v":6},{"$f":"IF($AA$31=\"\",Distance!$B$462,VALUE(LEFT($AA$31,3)))","v":7},{"$f":"IF(OR(L73=0,L73=\"\",L73=\" \"),\"\",IF($I$71=\"F\",HLOOKUP(L73,females,$I$72,FALSE),IF($I$71=\"M\",HLOOKUP(L73,males,$I$72,FALSE),\"\")))","v":"Sian Gilmartin-Green"},{"$f":"IF(OR(L73=0,L73=\"\",ISERROR(VLOOKUP(L73,match_teams,4,FALSE)=TRUE)),\"\",VLOOKUP(L73,match_teams,4,FALSE))","v":"Leeds C"},3.35,{"$f":"IF(OR(O73=0,O73=\"\",$I$76=0,$I$76=\"\",$I$77=0,$I$77=\"\",$I$78=0,$I$78=\"\",$I$79=0,$I$79=\"\"),\"\",IF(O73>=$I$76,1,IF(O73>=$I$77,2,IF(O73>=$I$78,3,IF(O73>=$I$79,4,\"\")))))","v":""},{"$f":"LEFT(S71,1)","v":"F"},2,{"$f":"IF(OR(W73=0,W73=\"\",T(W73)<>\"\"),\"\",RANK(W73,$W$73:$W$78,0))","v":2},{"$f":"IF($AA$32=\"\",Distance!$B$495,\" \")","v":9},{"$f":"IF(OR(T73=0,T73=\"\",T73=\" \"),\"\",IF($Q$71=\"F\",HLOOKUP(T73,females,$Q$72,FALSE),IF($Q$71=\"M\",HLOOKUP(T73,males,$Q$72,FALSE),\"\")))","v":"Alyce McCurdie"},{"$f":"IF(OR(T73=0,T73=\"\",ISERROR(VLOOKUP(T73,match_teams,4,FALSE)=TRUE)),\"\",VLOOKUP(T73,match_teams,4,FALSE))","v":"Wake"},7.78,{"$f":"IF(OR(W73=0,W73=\"\",$Q$76=0,$Q$76=\"\",$Q$77=0,$Q$77=\"\",$Q$78=0,$Q$78=\"\",$Q$79=0,$Q$79=\"\"),\"\",IF(W73>=$Q$76,1,IF(W73>=$Q$77,2,IF(W73>=$Q$78,3,IF(W73>=$Q$79,4,\"\")))))","v":""},null,null,null,3,1,5]
[{"$f":"VLOOKUP(C71,eventno,6,FALSE)","v":0},2,2,{"$f":"IF($AA$30=\"\",Distance!$B$431,\" \")","v":9},"Dylan Roberts","Wake",6.66,"",{"$f":"VLOOKUP(K71,eventno,6,FALSE)","v":0},2,2,{"$f":"IF($AA$31=\"\",Distance!$B$463,\" \")","v":9},"Jessica Eyles","Wake",4.2300000000000004,"",{"$f":"VLOOKUP(S71,eventno,6,FALSE)","v":0},1,3,{"$f":"IF($AA$32=\"\",Distance!$B$494,VALUE(LEFT($AA$32,3)))","v":7},"Caoimhe Crampton","Leeds C",7.76,"",null,null,null,5,5,4]
[{"$f":"VLOOKUP(C71,eventno,7,FALSE)","v":14.47},3,3,{"$f":"IF($AA$30=\"\",Distance!$B$432,\" \")","v":7},"Owen Sage","Leeds C",5.69,"",{"$f":"VLOOKUP(K71,eventno,7,FALSE)","v":6.07},3,1,{"$f":"IF($AA$31=\"\",Distance!$B$464,\" \")","v":8},"Josie Parry","York",4.76,3,{"$f":"VLOOKUP(S71,eventno,7,FALSE)","v":13.75},3,1,{"$f":"IF($AA$32=\"\",Distance!$B$496,\" \")","v":8},"Georgie Fenny","York",8.4,4,null,null,null,4,6,6]
[{"$f":"VLOOKUP(C71,eventno,8,FALSE)","v":9.5500000000000007},4,"",{"$f":"IF($AA$30=\"\",Distance!$B$433,\" \")","v":88},"-","York",null,"",{"$f":"VLOOKUP(K71,eventno,8,FALSE)","v":5},4,4,{"$f":"IF($AA$31=\"\",Distance!$B$465,\" \")","v":77},"Jemma Ibbetson","Leeds C",3.71,"",{"$f":"VLOOKUP(S71,eventno,8,FALSE)","v":9.85},4,6,{"$f":"IF($AA$32=\"\",Distance!$B$497,\" \")","v":77},"Jemma Ibbetson","Leeds C",5.45,"",null,null,null,0,3,1]
[{"$f":"VLOOKUP(C71,eventno,9,FALSE)","v":8.9499999999999993},5,1,{"$f":"IF($AA$30=\"\",Distance!$B$434,\" \")","v":99},"Barnaby Drew","Wake",6.89,"",{"$f":"VLOOKUP(K71,eventno,9,FALSE)","v":4.8499999999999996},5,2,{"$f":"IF($AA$31=\"\",Distance!$B$466,\" \")","v":99},"Olivia Walker","Wake",4.2300000000000004,"",{"$f":"VLOOKUP(S71,eventno,9,FALSE)","v":9.15},5,4,{"$f":"IF($AA$32=\"\",Distance!$B$498,\" \")","v":99},"Jessica Eyles","Wake",7.62,"",null,null,null,6,5,3]
[{"$f":"VLOOKUP(C71,eventno,10,FALSE)","v":8.1},6,5,{"$f":"IF($AA$30=\"\",Distance!$B$435,\" \")","v":77},"Alex Booth","Leeds C",4.6399999999999997,"",{"$f":"VLOOKUP(K71,eventno,10,FALSE)","v":4.7},6,5,{"$f":"IF($AA$31=\"\",Distance!$B$467,\" \")","v":88},"Libby Brown","York",3.41,"",{"$f":"VLOOKUP(S71,eventno,10,FALSE)","v":8.6},6,5,{"$f":"IF($AA$32=\"\",Distance!$B$499,\" \")","v":88},"Chloe Hopper","York",5.64,"",null,null,null,2,2,2]
[{"$f":"VLOOKUP(C71,eventno,11,FALSE)","v":7.1},null,null,null,null,null,null,null,{"$f":"VLOOKUP(K71,eventno,11,FALSE)","v":4.45},null,null,null,null,null,null,null,{"$f":"VLOOKUP(S71,eventno,11,FALSE)","v":7.85},null,null,null,null,null,null,null,null,null,null,0,0,0]
[{"$f":"VLOOKUP(C80,eventno,5,FALSE)","v":"M"},null,"F25",{"$f":"VLOOKUP(C80,eventno,4,FALSE)","v":"U15B Long Jump"},null,{"$f":"IF(A83=\"W\",\"Wind =\",\"\")","v":""},null,{"$f":"IF(OR(G82=0,G82=\"\",$A$84=0,$A$84=\"\"),\"\",IF($A$82=\"F\",IF(G82>$A$84,\"LR\",IF(G82=$A$84,\"LR=\",\"\"))))","v":""},{"$f":"VLOOKUP(K80,eventno,5,FALSE)","v":"M"},null,"F26",{"$f":"VLOOKUP(K80,eventno,4,FALSE)","v":"U15B Discus"},null,{"$f":"IF(I83=\"W\",\"Wind =\",\"\")","v":""},null,{"$f":"IF(OR(O82=0,O82=\"\",$I$84=0,$I$84=\"\"),\"\",IF($I$82=\"F\",IF(O82>$I$84,\"LR\",IF(O82=$I$84,\"LR=\",\"\"))))","v":""},{"$f":"VLOOKUP(S80,eventno,5,FALSE)","v":"M"},null,"F27",{"$f":"VLOOKUP(S80,eventno,4,FALSE)","v":"U17M Discus"},null,{"$f":"IF(Q83=\"W\",\"Wind =\",\"\")","v":""},null,{"$f":"IF(OR(W82=0,W82=\"\",$Q$84=0,$Q$84=\"\"),\"\",IF($Q$82=\"F\",IF(W82>$Q$84,\"LR\",IF(W82=$Q$84,\"LR=\",\"\"))))","v":""},null,null,null,0,0,0]
[{"$f":"IF(A80=\"M\",VLOOKUP(C80,males,15,FALSE),VLOOKUP(C80,females,15,FALSE))","v":45},null,"Posn","Bib","Athlete","Club","Perf","Gr",{"$f":"IF(I80=\"M\",VLOOKUP(K80,males,15,FALSE),VLOOKUP(K80,females,15,FALSE))","v":46},null,"Posn","Bib","Athlete","Club","Perf","Gr",{"$f":"IF(Q80=\"M\",VLOOKUP(S80,males,15,FALSE),VLOOKUP(S80,females,15,FALSE))","v":47},null,"Posn","Bib","Athlete","Club","Perf","Gr",null,null,null,{"$error":"#N/A"},{"$error":"#N/A"},{"$error":"#N/A"}]
[{"$f":"LEFT(C80,1)","v":"F"},6,{"$f":"IF(OR(G82=0,G82=\"\",T(G82)<>\"\"),\"\",RANK(G82,$G$82:$G$87,0))","v":5},{"$f":"IF($AA$33=\"\",Distance!$B$531,\" \")","v":99},{"$f":"IF(OR(D82=0,D82=\"\",D82=\" \"),\"\",IF($A$80=\"F\",HLOOKUP(D82,females,$A$81,FALSE),IF($A$80=\"M\",HLOOKUP(D82,males,$A$81,FALSE),\"\")))","v":"Ben Read"},{"$f":"IF(OR(D82=0,D82=\"\",ISERROR(VLOOKUP(D82,match_teams,4,FALSE)=TRUE)),\"\",VLOOKUP(D82,match_teams,4,FALSE))","v":"Wake"},4.4400000000000004,{"$f":"IF(OR(G82=0,G82=\"\",$A$85=0,$A$85=\"\",$A$86=0,$A$86=\"\",$A$87=0,$A$87=\"\",$A$88=0,$A$88=\"\"),\"\",IF(G82>=$A$85,1,IF(G82>=$A$86,2,IF(G82>=$A$87,3,IF(G82>=$A$88,4,\"\")))))","v":""},{"$f":"LEFT(K80,1)","v":"F"},1,{"$f":"IF(OR(O82=0,O82=\"\",T(O82)<>\"\"),\"\",RANK(O82,$O$82:$O$87,0))","v":4},{"$f":"IF($AA$34=\"\",Distance!$B$558,VALUE(LEFT($AA$34,3)))","v":9},{"$f":"IF(OR(L82=0,L82=\"\",L82=\" \"),\"\",IF($I$80=\"F\",HLOOKUP(L82,females,$I$81,FALSE),IF($I$80=\"M\",HLOOKUP(L82,males,$I$81,FALSE),\"\")))","v":"Andrew Jones"},{"$f":"IF(OR(L82=0,L82=\"\",ISERROR(VLOOKUP(L82,match_teams,4,FALSE)=TRUE)),\"\",VLOOKUP(L82,match_teams,4,FALSE))","v":"Wake"},14.2,{"$f":"IF(OR(O82=0,O82=\"\",$I$85=0,$I$85=\"\",$I$86=0,$I$86=\"\",$I$87=0,$I$87=\"\",$I$88=0,$I$88=\"\"),\"\",IF(O82>=$I$85,1,IF(O82>=$I$86,2,IF(O82>=$I$87,3,IF(O82>=$I$88,4,\"\")))))","v":""},{"$f":"LEFT(S80,1)","v":"F"},3,{"$f":"IF(OR(W82=0,W82=\"\",T(W82)<>\"\"),\"\",RANK(W82,$W$82:$W$87,0))","v":2},{"$f":"IF($AA$35=\"\",Distance!$B$592,\" \")","v":9},{"$f":"IF(OR(T82=0,T82=\"\",T82=\" \"),\"\",IF($Q$80=\"F\",HLOOKUP(T82,females,$Q$81,FALSE),IF($Q$80=\"M\",HLOOKUP(T82,males,$Q$81,FALSE),\"\")))","v":"Kieran Thackray"},{"$f":"IF(OR(T82=0,T82=\"\",ISERROR(VLOOKUP(T82,match_teams,4,FALSE)=TRUE)),\"\",VLOOKUP(T82,match_teams,4,FALSE))","v":"Wake"},26.2,{"$f":"IF(OR(W82=0,W82=\"\",$Q$85=0,$Q$85=\"\",$Q$86=0,$Q$86=\"\",$Q$87=0,$Q$87=\"\",$Q$88=0,$Q$88=\"\"),\"\",IF(W82>=$Q$85,1,IF(W82>=$Q$86,2,IF(W82>=$Q$87,3,IF(W82>=$Q$88,4,\"\")))))","v":""},null,null,null,2,3,5]
[{"$f":"VLOOKUP(C80,eventno,6,FALSE)","v":0},5,4,{"$f":"IF($AA$33=\"\",Distance!$B$530,\" \")","v":77},"Thomas Harrison","Leeds C",4.5999999999999996,"",{"$f":"VLOOKUP(K80,eventno,6,FALSE)","v":0},6,2,{"$f":"IF($AA$34=\"\",Distance!$B$563,\" \")","v":77},"Harris Hameed","Leeds C",18.850000000000001,"",{"$f":"VLOOKUP(S80,eventno,6,FALSE)","v":0},1,3,{"$f":"IF($AA$35=\"\",Distance!$B$590,VALUE(LEFT($AA$35,3)))","v":8},"Adam Robinson","York",23.51,"",null,null,null,3,5,4]
[{"$f":"VLOOKUP(C80,eventno,7,FALSE)","v":6.72},1,2,{"$f":"IF($AA$33=\"\",Distance!$B$526,VALUE(LEFT($AA$33,3)))","v":8},"Chris Searle","York",4.87,"",{"$f":"VLOOKUP(K80,eventno,7,FALSE)","v":53.93},4,3,{"$f":"IF($AA$34=\"\",Distance!$B$561,\" \")","v":99},"George Heppinstall","Wake",16.04,"",{"$f":"VLOOKUP(S80,eventno,7,FALSE)","v":58.24},6,1,{"$f":"IF($AA$35=\"\",Distance!$B$595,\" \")","v":99},"Ethan Plumb","Wake",29.94,4,null,null,null,5,4,6]
[{"$f":"VLOOKUP(C80,eventno,8,FALSE)","v":5.7},3,3,{"$f":"IF($AA$33=\"\",Distance!$B$528,\" \")","v":9},"Declan Sheehan","Wake",4.71,"",{"$f":"VLOOKUP(K80,eventno,8,FALSE)","v":34.5},2,5,{"$f":"IF($AA$34=\"\",Distance!$B$559,\" \")","v":8},"Luke Nichols","York",13.26,"",{"$f":"VLOOKUP(S80,eventno,8,FALSE)","v":40.950000000000003},2,4,{"$f":"IF($AA$35=\"\",Distance!$B$591,\" \")","v":7},"Connor Morley","Leeds C",20.36,"",null,null,null,4,2,3]
[{"$f":"VLOOKUP(C80,eventno,9,FALSE)","v":5.55},2,1,{"$f":"IF($AA$33=\"\",Distance!$B$527,\" \")","v":7},"Finlay Fuller","Leeds C",5.57,2,{"$f":"VLOOKUP(K80,eventno,9,FALSE)","v":32.15},3,1,{"$f":"IF($AA$34=\"\",Distance!$B$560,\" \")","v":7},"George Armstrong","Leeds C",32.549999999999997,2,{"$f":"VLOOKUP(S80,eventno,9,FALSE)","v":37.1},4,"",{"$f":"IF($AA$35=\"\",Distance!$B$593,\" \")","v":88},"-","York",null,"",null,null,null,6,6,0]
[{"$f":"VLOOKUP(C80,eventno,10,FALSE)","v":5.32},4,6,{"$f":"IF($AA$33=\"\",Distance!$B$529,\" \")","v":88},"Matthew Richardson","York",4.3899999999999997,"",{"$f":"VLOOKUP(K80,eventno,10,FALSE)","v":28.9},5,"",{"$f":"IF($AA$34=\"\",Distance!$B$562,\" \")","v":88},"-","York",null,"",{"$f":"VLOOKUP(S80,eventno,10,FALSE)","v":32.700000000000003},5,5,{"$f":"IF($AA$35=\"\",Distance!$B$594,\" \")","v":77},"Max Ansell-Wood","Leeds C",17.91,"",null,null,null,1,0,2]
[{"$f":"VLOOKUP(C80,eventno,11,FALSE)","v":5},null,null,null,null,null,null,null,{"$f":"VLOOKUP(K80,eventno,11,FALSE)","v":25.55},null,null,null,null,null,null,null,{"$f":"VLOOKUP(S80,eventno,11,FALSE)","v":28.1},null,null,null,null,null,null,null,null,null,null,0,0,0]
[{"$f":"VLOOKUP(C89,eventno,5,FALSE)","v":"F"},null,"F28",{"$f":"VLOOKUP(C89,eventno,4,FALSE)","v":"U15G High Jump"},null,{"$f":"IF(A92=\"W\",\"Wind =\",\"\")","v":""},null,{"$f":"IF(OR(G91=0,G91=\"\",$A$93=0,$A$93=\"\"),\"\",IF($A$91=\"F\",IF(G91>$A$93,\"LR\",IF(G91=$A$93,\"LR=\",\"\"))))","v":""},{"$f":"VLOOKUP(K89,eventno,5,FALSE)","v":"F"},null,"F29",{"$f":"VLOOKUP(K89,eventno,4,FALSE)","v":"U17W High Jump"},null,{"$f":"IF(I92=\"W\",\"Wind =\",\"\")","v":""},null,{"$f":"IF(OR(O91=0,O91=\"\",$I$93=0,$I$93=\"\"),\"\",IF($I$91=\"F\",IF(O91>$I$93,\"LR\",IF(O91=$I$93,\"LR=\",\"\"))))","v":""},{"$f":"VLOOKUP(S89,eventno,5,FALSE)","v":"M"},null,"F30",{"$f":"VLOOKUP(S89,eventno,4,FALSE)","v":"U17M Shot"},null,{"$f":"IF(Q92=\"W\",\"Wind =\",\"\")","v":""},null,{"$f":"IF(OR(W91=0,W91=\"\",$Q$93=0,$Q$93=\"\"),\"\",IF($Q$91=\"F\",IF(W91>$Q$93,\"LR\",IF(W91=$Q$93,\"LR=\",\"\"))))","v":""},null,null,null,0,0,0]
[{"$f":"IF(A89=\"M\",VLOOKUP(C89,males,15,FALSE),VLOOKUP(C89,females,15,FALSE))","v":34},null,"Posn","Bib","Athlete","Club","Perf","Gr",{"$f":"IF(I89=\"M\",VLOOKUP(K89,males,15,FALSE),VLOOKUP(K89,females,15,FALSE))","v":33},null,"Posn","Bib","Athlete","Club","Perf","Gr",{"$f":"IF(Q89=\"M\",VLOOKUP(S89,males,15,FALSE),VLOOKUP(S89,females,15,FALSE))","v":48},null,"Posn","Bib","Athlete","Club","Perf","Gr",null,null,null,{"$error":"#N/A"},{"$error":"#N/A"},{"$error":"#N/A"}]
[{"$f":"LEFT(C89,1)","v":"F"},1,{"$f":"IF(OR(G91=0,G91=\"\",T(G91)<>\"\",G91=\"NHC\"),\"\",RANK(G91,$G$91:$G$96,0))","v":2},{"$f":"IF($AA$36=\"\",Height!$B$266,VALUE(LEFT($AA$36,3)))","v":7},{"$f":"IF(OR(D91=0,D91=\"\",D91=\" \"),\"\",IF($A$89=\"F\",HLOOKUP(D91,females,$A$90,FALSE),IF($A$89=\"M\",HLOOKUP(D91,males,$A$90,FALSE),\"\")))","v":"Melissa Fletcher"},{"$f":"IF(OR(D91=0,D91=\"\",ISERROR(VLOOKUP(D91,match_teams,4,FALSE)=TRUE)),\"\",VLOOKUP(D91,match_teams,4,FALSE))","v":"Leeds C"},1.4,{"$f":"IF(OR(G91=0,G91=\"\",G91=\"NHC\",$A$94=0,$A$94=\"\",$A$95=0,$A$95=\"\",$A$96=0,$A$96=\"\",$A$97=0,$A$97=\"\"),\"\",IF(G91>=$A$94,1,IF(G91>=$A$95,2,IF(G91>=$A$96,3,IF(G91>=$A$97,4,\"\")))))","v":4},{"$f":"LEFT(K89,1)","v":"F"},1,{"$f":"IF(OR(O91=0,O91=\"\",T(O91)<>\"\",O91=\"NHC\"),\"\",RANK(O91,$O$91:$O$96,0))","v":""},{"$f":"IF($AA$37=\"\",Height!$B$298,VALUE(LEFT($AA$37,3)))","v":8},{"$f":"IF(OR(L91=0,L91=\"\",L91=\" \"),\"\",IF($I$89=\"F\",HLOOKUP(L91,females,$I$90,FALSE),IF($I$89=\"M\",HLOOKUP(L91,males,$I$90,FALSE),\"\")))","v":"Katy Wood"},{"$f":"IF(OR(L91=0,L91=\"\",ISERROR(VLOOKUP(L91,match_teams,4,FALSE)=TRUE)),\"\",VLOOKUP(L91,match_teams,4,FALSE))","v":"York"},null,{"$f":"IF(OR(O91=0,O91=\"\",O91=\"NHC\",$I$94=0,$I$94=\"\",$I$95=0,$I$95=\"\",$I$96=0,$I$96=\"\",$I$97=0,$I$97=\"\"),\"\",IF(O91>=$I$94,1,IF(O91>=$I$95,2,IF(O91>=$I$96,3,IF(O91>=$I$97,4,\"\")))))","v":""},{"$f":"LEFT(S89,1)","v":"F"},1,{"$f":"IF(OR(W91=0,W91=\"\",T(W91)<>\"\"),\"\",RANK(W91,$W$91:$W$96,0))","v":3},{"$f":"IF($AA$38=\"\",Distance!$B$622,VALUE(LEFT($AA$38,3)))","v":9},{"$f":"IF(OR(T91=0,T91=\"\",T91=\" \"),\"\",IF($Q$89=\"F\",HLOOKUP(T91,females,$Q$90,FALSE),IF($Q$89=\"M\",HLOOKUP(T91,males,$Q$90,FALSE),\"\")))","v":"Kieran Thackray"},{"$f":"IF(OR(T91=0,T91=\"\",ISERROR(VLOOKUP(T91,match_teams,4,FALSE)=TRUE)),\"\",VLOOKUP(T91,match_teams,4,FALSE))","v":"Wake"},9.23,{"$f":"IF(OR(W91=0,W91=\"\",$Q$94=0,$Q$94=\"\",$Q$95=0,$Q$95=\"\",$Q$96=0,$Q$96=\"\",$Q$97=0,$Q$97=\"\"),\"\",IF(W91>=$Q$94,1,IF(W91>=$Q$95,2,IF(W91>=$Q$96,3,IF(W91>=$Q$97,4,\"\")))))","v":""},null,null,null,5,0,4]
[{"$f":"VLOOKUP(C89,eventno,6,FALSE)","v":0},2,1,{"$f":"IF($AA$36=\"\",Height!$B$267,\" \")","v":9},"Abigail Roberts","Wake",1.43,4,{"$f":"VLOOKUP(K89,eventno,6,FALSE)","v":0},2,3,{"$f":"IF($AA$37=\"\",Height!$B$299,\" \")","v":7},"Hannah Ukandu","Leeds C",1.45,"",{"$f":"VLOOKUP(S89,eventno,6,FALSE)","v":0},2,"",{"$f":"IF($AA$38=\"\",Distance!$B$623,\" \")","v":8},"-","York",null,"",null,null,null,6,4,0]
[{"$f":"VLOOKUP(C89,eventno,7,FALSE)","v":1.76},3,4,{"$f":"IF($AA$36=\"\",Height!$B$268,\" \")","v":8},"Anna Richardson","York",1.25,"",{"$f":"VLOOKUP(K89,eventno,7,FALSE)","v":1.78},3,2,{"$f":"IF($AA$37=\"\",Height!$B$300,\" \")","v":9},"Dannielle Anderson","Wake",1.45,"",{"$f":"VLOOKUP(S89,eventno,7,FALSE)","v":20.350000000000001},3,1,{"$f":"IF($AA$38=\"\",Distance!$B$624,\" \")","v":7},"Dylan Bradley","Leeds C",10.33,"",null,null,null,3,5,6]
[{"$f":"VLOOKUP(C89,eventno,8,FALSE)","v":1.55},4,"",{"$f":"IF($AA$36=\"\",Height!$B$269,\" \")","v":77},"Sian Gilmartin-Green","Leeds C",null,"",{"$f":"VLOOKUP(K89,eventno,8,FALSE)","v":1.65},4,4,{"$f":"IF($AA$37=\"\",Height!$B$301,\" \")","v":88},"Polly Morris","York",1.4,"",{"$f":"VLOOKUP(S89,eventno,8,FALSE)","v":13.35},4,2,{"$f":"IF($AA$38=\"\",Distance!$B$625,\" \")","v":99},"Andrew Lorkins","Wake",9.7799999999999994,"",null,null,null,0,3,5]
[{"$f":"VLOOKUP(C89,eventno,9,FALSE)","v":1.5},5,"",{"$f":"IF($AA$36=\"\",Height!$B$270,\" \")","v":99},"-","Wake",null,"",{"$f":"VLOOKUP(K89,eventno,9,FALSE)","v":1.61},5,"",{"$f":"IF($AA$37=\"\",Height!$B$302,\" \")","v":77},"-","Leeds C",null,"",{"$f":"VLOOKUP(S89,eventno,9,FALSE)","v":12.65},5,"",{"$f":"IF($AA$38=\"\",Distance!$B$626,\" \")","v":88},"-","York",null,"",null,null,null,0,0,0]
[{"$f":"VLOOKUP(C89,eventno,10,FALSE)","v":1.45},6,3,{"$f":"IF($AA$36=\"\",Height!$B$271,\" \")","v":88},"Jade Kerrison","York",1.3,"",{"$f":"VLOOKUP(K89,eventno,10,FALSE)","v":1.55},6,1,{"$f":"IF($AA$37=\"\",Height!$B$303,\" \")","v":99},"Bethany Porter","Wake",1.45,"",{"$f":"VLOOKUP(S89,eventno,10,FALSE)","v":11.85},6,"",null,"","",null,"",null,null,null,4,6,0]
[{"$f":"VLOOKUP(C89,eventno,11,FALSE)","v":1.4},null,null,null,null,null,null,null,{"$f":"VLOOKUP(K89,eventno,11,FALSE)","v":1.48},null,null,null,null,null,null,null,{"$f":"VLOOKUP(S89,eventno,11,FALSE)","v":10.7},null,null,null,null,null,null,null,null,null,null,0,0,0]
[{"$f":"VLOOKUP(C98,eventno,5,FALSE)","v":"M"},null,"F31",{"$f":"VLOOKUP(C98,eventno,4,FALSE)","v":"U17M Triple Jump"},null,{"$f":"IF(A101=\"W\",\"Wind =\",\"\")","v":""},null,{"$f":"IF(OR(G100=0,G100=\"\",$A$102=0,$A$102=\"\"),\"\",IF($A$100=\"F\",IF(G100>$A$102,\"LR\",IF(G100=$A$102,\"LR=\",\"\"))))","v":""},{"$f":"VLOOKUP(K98,eventno,5,FALSE)","v":"F"},null,"F32",{"$f":"VLOOKUP(K98,eventno,4,FALSE)","v":"U17W Triple Jump"},null,{"$f":"IF(I101=\"W\",\"Wind =\",\"\")","v":""},null,{"$f":"IF(OR(O100=0,O100=\"\",$I$102=0,$I$102=\"\"),\"\",IF($I$100=\"F\",IF(O100>$I$102,\"LR\",IF(O100=$I$102,\"LR=\",\"\"))))","v":""},{"$f":"VLOOKUP(S98,eventno,5,FALSE)","v":"F"},null,"F33",{"$f":"VLOOKUP(S98,eventno,4,FALSE)","v":"U15G Javelin"},null,{"$f":"IF(Q101=\"W\",\"Wind =\",\"\")","v":""},null,{"$f":"IF(OR(W100=0,W100=\"\",$Q$102=0,$Q$102=\"\"),\"\",IF($Q$100=\"F\",IF(W100>$Q$102,\"LR\",IF(W100=$Q$102,\"LR=\",\"\"))))","v":""},null,null,null,0,0,0]
[{"$f":"IF(A98=\"M\",VLOOKUP(C98,males,15,FALSE),VLOOKUP(C98,females,15,FALSE))","v":49},null,"Posn","Bib","Athlete","Club","Perf","Gr",{"$f":"IF(I98=\"M\",VLOOKUP(K98,males,15,FALSE),VLOOKUP(K98,females,15,FALSE))","v":49},null,"Posn","Bib","Athlete","Club","Perf","Gr",{"$f":"IF(Q98=\"M\",VLOOKUP(S98,males,15,FALSE),VLOOKUP(S98,females,15,FALSE))","v":38},null,"Posn","Bib","Athlete","Club","Perf","Gr",null,null,null,{"$error":"#N/A"},{"$error":"#N/A"},{"$error":"#N/A"}]
[{"$f":"LEFT(C98,1)","v":"F"},1,{"$f":"IF(OR(G100=0,G100=\"\",T(G100)<>\"\"),\"\",RANK(G100,$G$100:$G$105,0))","v":2},{"$f":"IF($AA$39=\"\",Distance!$B$654,VALUE(LEFT($AA$39,3)))","v":8},{"$f":"IF(OR(D100=0,D100=\"\",D100=\" \"),\"\",IF($A$98=\"F\",HLOOKUP(D100,females,$A$99,FALSE),IF($A$98=\"M\",HLOOKUP(D100,males,$A$99,FALSE),\"\")))","v":"James Stanton"},{"$f":"IF(OR(D100=0,D100=\"\",ISERROR(VLOOKUP(D100,match_teams,4,FALSE)=TRUE)),\"\",VLOOKUP(D100,match_teams,4,FALSE))","v":"York"},10.63,{"$f":"IF(OR(G100=0,G100=\"\",$A$103=0,$A$103=\"\",$A$104=0,$A$104=\"\",$A$105=0,$A$105=\"\",$A$106=0,$A$106=\"\"),\"\",IF(G100>=$A$103,1,IF(G100>=$A$104,2,IF(G100>=$A$105,3,IF(G100>=$A$106,4,\"\")))))","v":""},{"$f":"LEFT(K98,1)","v":"F"},1,{"$f":"IF(OR(O100=0,O100=\"\",T(O100)<>\"\"),\"\",RANK(O100,$O$100:$O$105,0))","v":1},{"$f":"IF($AA$40=\"\",Distance!$B$686,VALUE(LEFT($AA$40,3)))","v":9},{"$f":"IF(OR(L100=0,L100=\"\",L100=\" \"),\"\",IF($I$98=\"F\",HLOOKUP(L100,females,$I$99,FALSE),IF($I$98=\"M\",HLOOKUP(L100,males,$I$99,FALSE),\"\")))","v":"Dannielle Anderson"},{"$f":"IF(OR(L100=0,L100=\"\",ISERROR(VLOOKUP(L100,match_teams,4,FALSE)=TRUE)),\"\",VLOOKUP(L100,match_teams,4,FALSE))","v":"Wake"},9.93,{"$f":"IF(OR(O100=0,O100=\"\",$I$103=0,$I$103=\"\",$I$104=0,$I$104=\"\",$I$105=0,$I$105=\"\",$I$106=0,$I$106=\"\"),\"\",IF(O100>=$I$103,1,IF(O100>=$I$104,2,IF(O100>=$I$105,3,IF(O100>=$I$106,4,\"\")))))","v":4},{"$f":"LEFT(S98,1)","v":"F"},1,{"$f":"IF(OR(W100=0,W100=\"\",T(W100)<>\"\"),\"\",RANK(W100,$W$100:$W$105,0))","v":1},{"$f":"IF($AA$41=\"\",Distance!$B$718,VALUE(LEFT($AA$41,3)))","v":9},{"$f":"IF(OR(T100=0,T100=\"\",T100=\" \"),\"\",IF($Q$98=\"F\",HLOOKUP(T100,females,$Q$99,FALSE),IF($Q$98=\"M\",HLOOKUP(T100,males,$Q$99,FALSE),\"\")))","v":"Abigail Roberts"},{"$f":"IF(OR(T100=0,T100=\"\",ISERROR(VLOOKUP(T100,match_teams,4,FALSE)=TRUE)),\"\",VLOOKUP(T100,match_teams,4,FALSE))","v":"Wake"},21.42,{"$f":"IF(OR(W100=0,W100=\"\",$Q$103=0,$Q$103=\"\",$Q$104=0,$Q$104=\"\",$Q$105=0,$Q$105=\"\",$Q$106=0,$Q$106=\"\"),\"\",IF(W100>=$Q$103,1,IF(W100>=$Q$104,2,IF(W100>=$Q$105,3,IF(W100>=$Q$106,4,\"\")))))","v":4},null,null,null,5,6,6]
[{"$f":"VLOOKUP(C98,eventno,6,FALSE)","v":0},2,1,{"$f":"IF($AA$39=\"\",Distance!$B$655,\" \")","v":7},"Max Ansell-Wood","Leeds C",11.04,"",{"$f":"VLOOKUP(K98,eventno,6,FALSE)","v":0},2,3,{"$f":"IF($AA$40=\"\",Distance!$B$687,\" \")","v":7},"Katie Ward","Leeds C",9.08,"",{"$f":"VLOOKUP(S98,eventno,6,FALSE)","v":0},2,3,{"$f":"IF($AA$41=\"\",Distance!$B$719,\" \")","v":7},"Nicola Sawyer","Leeds C",19.559999999999999,"",null,null,null,6,4,4]
[{"$f":"VLOOKUP(C98,eventno,7,FALSE)","v":15.58},3,3,{"$f":"IF($AA$39=\"\",Distance!$B$656,\" \")","v":9},"George Brown","Wake",10.5,"",{"$f":"VLOOKUP(K98,eventno,7,FALSE)","v":11.84},3,4,{"$f":"IF($AA$40=\"\",Distance!$B$688,\" \")","v":8},"Olivia Swain","York",8.5299999999999994,"",{"$f":"VLOOKUP(S98,eventno,7,FALSE)","v":42.31},3,2,{"$f":"IF($AA$41=\"\",Distance!$B$720,\" \")","v":8},"Georgie Fenny","York",20.05,"",null,null,null,4,3,5]
[{"$f":"VLOOKUP(C98,eventno,8,FALSE)","v":0},4,"",{"$f":"IF($AA$39=\"\",Distance!$B$657,\" \")","v":88},"-","York",null,"",{"$f":"VLOOKUP(K98,eventno,8,FALSE)","v":10.9},4,2,{"$f":"IF($AA$40=\"\",Distance!$B$689,\" \")","v":99},"Leanne Barraclough","Wake",9.14,"",{"$f":"VLOOKUP(S98,eventno,8,FALSE)","v":28.8},4,6,{"$f":"IF($AA$41=\"\",Distance!$B$721,\" \")","v":99},"Alyce McCurdie","Wake",5.18,"",null,null,null,0,5,1]
[{"$f":"VLOOKUP(C98,eventno,9,FALSE)","v":0},5,"",{"$f":"IF($AA$39=\"\",Distance!$B$658,\" \")","v":77},"-","Leeds C",null,"",{"$f":"VLOOKUP(K98,eventno,9,FALSE)","v":10.6},5,"",{"$f":"IF($AA$40=\"\",Distance!$B$690,\" \")","v":77},"-","Leeds C",null,"",{"$f":"VLOOKUP(S98,eventno,9,FALSE)","v":26.35},5,4,{"$f":"IF($AA$41=\"\",Distance!$B$722,\" \")","v":77},"Gemma Keir","Leeds C",16.21,"",null,null,null,{"$f":"IF(OR(C104=0,C104=\"\",D104=0,D104=\"\",G104=0,G104=\"\",LEFT(G104,1)=\"D\"),0,VLOOKUP(C104,points,2,FALSE))","v":0},{"$f":"IF(OR(K104=0,K104=\"\",L104=0,L104=\"\",O104=0,O104=\"\",LEFT(O104,1)=\"D\"),0,VLOOKUP(K104,points,2,FALSE))","v":0},3]
[{"$f":"VLOOKUP(C98,eventno,10,FALSE)","v":0},6,"",{"$f":"IF($AA$39=\"\",Distance!$B$659,\" \")","v":99},"-","Wake",null,"",{"$f":"VLOOKUP(K98,eventno,10,FALSE)","v":10.1},6,"",{"$f":"IF($AA$40=\"\",Distance!$B$691,\" \")","v":88},"-","York",null,"",{"$f":"VLOOKUP(S98,eventno,10,FALSE)","v":23.85},6,5,{"$f":"IF($AA$41=\"\",Distance!$B$723,\" \")","v":88},"Jenny Harrison","York",6.91,"",null,null,null,0,0,2]
[{"$f":"VLOOKUP(C98,eventno,11,FALSE)","v":0},null,null,null,null,null,null,null,{"$f":"VLOOKUP(K98,eventno,11,FALSE)","v":9.4},null,null,null,null,null,null,null,{"$f":"VLOOKUP(S98,eventno,11,FALSE)","v":20.399999999999999},null,null,null,null,null,null,null,null,null,null,0,0,0]
[{"$f":"VLOOKUP(C107,eventno,5,FALSE)","v":"F"},null,"F34",{"$f":"VLOOKUP(C107,eventno,4,FALSE)","v":"U17W Javelin"},null,{"$f":"IF(A110=\"W\",\"Wind =\",\"\")","v":""},null,{"$f":"IF(OR(G109=0,G109=\"\",$A$111=0,$A$111=\"\"),\"\",IF($A$109=\"F\",IF(G109>$A$111,\"LR\",IF(G109=$A$111,\"LR=\",\"\"))))","v":""},{"$f":"VLOOKUP(K107,eventno,5,FALSE)","v":"F"},null,"F35",{"$f":"VLOOKUP(K107,eventno,4,FALSE)","v":"U13G Shot"},null,{"$f":"IF(I110=\"W\",\"Wind =\",\"\")","v":""},null,{"$f":"IF(OR(O109=0,O109=\"\",$I$111=0,$I$111=\"\"),\"\",IF($I$109=\"F\",IF(O109>$I$111,\"LR\",IF(O109=$I$111,\"LR=\",\"\"))))","v":""},null,null,"FIELD OFFICIALS",null,null,null,null,null,null,null,null,0,0,0]
[{"$f":"IF(A107=\"M\",VLOOKUP(C107,males,15,FALSE),VLOOKUP(C107,females,15,FALSE))","v":39},null,"Posn","Bib","Athlete","Club","Perf","Gr",{"$f":"IF(I107=\"M\",VLOOKUP(K107,males,15,FALSE),VLOOKUP(K107,females,15,FALSE))","v":44},null,"Posn","Bib","Athlete","Club","Perf","Gr",null,null,null,"Bib",null,"Club","Number",null,null,null,null,{"$error":"#N/A"},{"$error":"#N/A"},0]
[{"$f":"LEFT(C107,1)","v":"F"},1,{"$f":"IF(OR(G109=0,G109=\"\",T(G109)<>\"\"),\"\",RANK(G109,$G$109:$G$114,0))","v":1},{"$f":"IF($AA$42=\"\",Distance!$B$750,VALUE(LEFT($AA$42,3)))","v":8},{"$f":"IF(OR(D109=0,D109=\"\",D109=\" \"),\"\",IF($A$107=\"F\",HLOOKUP(D109,females,$A$108,FALSE),IF($A$107=\"M\",HLOOKUP(D109,males,$A$108,FALSE),\"\")))","v":"Becky Tunnicliffe"},{"$f":"IF(OR(D109=0,D109=\"\",ISERROR(VLOOKUP(D109,match_teams,4,FALSE)=TRUE)),\"\",VLOOKUP(D109,match_teams,4,FALSE))","v":"York"},31.57,{"$f":"IF(OR(G109=0,G109=\"\",$A$112=0,$A$112=\"\",$A$113=0,$A$113=\"\",$A$114=0,$A$114=\"\",$A$115=0,$A$115=\"\"),\"\",IF(G109>=$A$112,1,IF(G109>=$A$113,2,IF(G109>=$A$114,3,IF(G109>=$A$115,4,\"\")))))","v":3},{"$f":"LEFT(K107,1)","v":"F"},1,{"$f":"IF(OR(O109=0,O109=\"\",T(O109)<>\"\"),\"\",RANK(O109,$O$109:$O$114,0))","v":2},{"$f":"IF($AA$43=\"\",Distance!$B$782,VALUE(LEFT($AA$43,3)))","v":9},{"$f":"IF(OR(L109=0,L109=\"\",L109=\" \"),\"\",IF($I$107=\"F\",HLOOKUP(L109,females,$I$108,FALSE),IF($I$107=\"M\",HLOOKUP(L109,males,$I$108,FALSE),\"\")))","v":"Jessica Matthews"},{"$f":"IF(OR(L109=0,L109=\"\",ISERROR(VLOOKUP(L109,match_teams,4,FALSE)=TRUE)),\"\",VLOOKUP(L109,match_teams,4,FALSE))","v":"Wake"},5.47,{"$f":"IF(OR(O109=0,O109=\"\",$I$112=0,$I$112=\"\",$I$113=0,$I$113=\"\",$I$114=0,$I$114=\"\",$I$115=0,$I$115=\"\"),\"\",IF(O109>=$I$112,1,IF(O109>=$I$113,2,IF(O109>=$I$114,3,IF(O109>=$I$115,4,\"\")))))","v":""},null,null,null,{"$f":"AI3","v":9},null,{"$f":"IF(OR(T109=0,T109=\"\",ISERROR(VLOOKUP(T109,match_teams,4,FALSE)=TRUE)),\"\",VLOOKUP(T109,match_teams,4,FALSE))","v":"Wake"},4,null,null,null,null,6,5,{"$f":"IF(OR(T109=0,T109=\"\",W109=0,W109=\"\",LEFT(W109,1)=\"D\"),0,W109*10)","v":40}]
[{"$f":"VLOOKUP(C107,eventno,6,FALSE)","v":0},2,3,{"$f":"IF($AA$42=\"\",Distance!$B$751,\" \")","v":7},"Amena Abdelaziz","Leeds C",14.09,"",{"$f":"VLOOKUP(K107,eventno,6,FALSE)","v":0},2,1,{"$f":"IF($AA$43=\"\",Distance!$B$783,\" \")","v":8},"Rachel White","York",6.03,"",null,null,null,{"$f":"AI4","v":8},null,{"$f":"IF(OR(T110=0,T110=\"\",ISERROR(VLOOKUP(T110,match_teams,4,FALSE)=TRUE)),\"\",VLOOKUP(T110,match_teams,4,FALSE))","v":"York"},4,null,null,null,null,4,6,{"$f":"IF(OR(T110=0,T110=\"\",W110=0,W110=\"\",LEFT(W110,1)=\"D\"),0,W110*10)","v":40}]
[{"$f":"VLOOKUP(C107,eventno,7,FALSE)","v":44.36},3,2,{"$f":"IF($AA$42=\"\",Distance!$B$752,\" \")","v":9},"Bethany Porter","Wake",26.51,4,{"$f":"VLOOKUP(K107,eventno,7,FALSE)","v":12.31},3,4,{"$f":"IF($AA$43=\"\",Distance!$B$784,\" \")","v":7},"Lois Fish","Leeds C",4.58,"",null,null,null,{"$f":"AI5","v":7},null,{"$f":"IF(OR(T111=0,T111=\"\",ISERROR(VLOOKUP(T111,match_teams,4,FALSE)=TRUE)),\"\",VLOOKUP(T111,match_teams,4,FALSE))","v":"Leeds C"},4,null,null,null,null,5,3,{"$f":"IF(OR(T111=0,T111=\"\",W111=0,W111=\"\",LEFT(W111,1)=\"D\"),0,W111*10)","v":40}]
[{"$f":"VLOOKUP(C107,eventno,8,FALSE)","v":38.299999999999997},4,5,{"$f":"IF($AA$42=\"\",Distance!$B$753,\" \")","v":88},"Katy Wood","York",8.73,"",{"$f":"VLOOKUP(K107,eventno,8,FALSE)","v":8.35},4,5,{"$f":"IF($AA$43=\"\",Distance!$B$785,\" \")","v":99},"Abigail Cove-Mullins","Wake",3.83,"",null,null,null,null,null,null,null,null,null,null,null,2,2,{"$f":"IF(OR(S112=0,S112=\"\",T112=0,T112=\"\",W112=0,W112=\"\",LEFT(W112,1)=\"D\"),0,VLOOKUP(S112,points,2,FALSE))","v":0}]
[{"$f":"VLOOKUP(C107,eventno,9,FALSE)","v":34},5,6,{"$f":"IF($AA$42=\"\",Distance!$B$754,\" \")","v":77},"Katie Ward","Leeds C",5.15,"",{"$f":"VLOOKUP(K107,eventno,9,FALSE)","v":7.85},5,3,{"$f":"IF($AA$43=\"\",Distance!$B$786,\" \")","v":88},"Felicity Edwards","York",4.71,"",null,null,null,null,null,null,null,null,null,null,null,1,4,{"$f":"IF(OR(S113=0,S113=\"\",T113=0,T113=\"\",W113=0,W113=\"\",LEFT(W113,1)=\"D\"),0,VLOOKUP(S113,points,2,FALSE))","v":0}]
[{"$f":"VLOOKUP(C107,eventno,10,FALSE)","v":29.6},6,4,{"$f":"IF($AA$42=\"\",Distance!$B$755,\" \")","v":99},"Bethany Sharp","Wake",8.82,"",{"$f":"VLOOKUP(K107,eventno,10,FALSE)","v":7.35},6,6,{"$f":"IF($AA$43=\"\",Distance!$B$787,\" \")","v":77},"Millie Bradbury","Leeds C",3.75,"",null,null,null,null,null,null,null,null,null,null,null,3,1,{"$f":"IF(OR(S114=0,S114=\"\",T114=0,T114=\"\",W114=0,W114=\"\",LEFT(W114,1)=\"D\"),0,VLOOKUP(S114,points,2,FALSE))","v":0}]
[{"$f":"VLOOKUP(C107,eventno,11,FALSE)","v":24.9},null,null,null,null,null,null,null,{"$f":"VLOOKUP(K107,eventno,11,FALSE)","v":6.55},null,null,null,null,null,null,null,null,null,null,null,null,null,null,null,null,null,null,0,0,{"$f":"IF(OR(S115=0,S115=\"\",T115=0,T115=\"\",W115=0,W115=\"\",LEFT(W115,1)=\"D\"),0,VLOOKUP(S115,points,2,FALSE))","v":0}]

{"sheet":"Relay (Match 1)","index":3,"n_rows":63,"n_cols":19,"rows_kept":63,"cut":false,"hidden":false,"merged":[[0,6,0,9],[7,1,7,2],[8,1,8,2]]}
[null,{"$f":"CONCATENATE(MatchDay!C3,\", \",MatchDay!C7)","v":"Northern Premier East, Thornes Park Stadium, Wakefield"},null,null,null,null,{"$f":"MatchDay!C5","v":"Sunday 8th May 2011"},null,null,null,"Points",null,{"$f":"MatchDay!E11","v":"Wake"},{"$f":"MatchDay!E13","v":"York"},{"$f":"MatchDay!E15","v":"Leeds C"},"Scored","Validations"]
[null,null,null,null,null,null,null,null,null,null,"Col 1",null,{"$f":"SUMIF($H$10:$H$208,M$1,$K$10:$K$208)","v":50},{"$f":"SUMIF($H$10:$H$208,N$1,$K$10:$K$208)","v":25},{"$f":"SUMIF($H$10:$H$208,O$1,$K$10:$K$208)","v":48},{"$f":"COUNTIF($K$11:$K$208,\"6\")","v":9},null,"Track (Match 2)"]
[null,"Club",null,null," Match Points","Posn (League Points)","Match Statistics",null,"Events",null,null,null,null,null,null,null,{"$f":"MatchDay!B11","v":9}]
[null,{"$f":"MatchDay!C11","v":"Wakefield"},null,null,{"$f":"'Track (Match 1)'!E4","v":678},{"$f":"CONCATENATE('Track (Match 1)'!F4, \"  (\",'Track (Match 1)'!G4,\")\")","v":"1  (3)"},{"$f":"'Track (Match 1)'!K4","v":"New League Records"},{"$f":"'Track (Match 1)'!L4","v":0},{"$f":"'Track (Match 1)'!S4","v":"Scored"},{"$f":"'Track (Match 1)'!T4","v":82},null,null,null,null,null,"Cancelled",{"$f":"MatchDay!B13","v":8},"Field (Match 2)"]
[null,{"$f":"MatchDay!C13","v":"City of York"},null,null,{"$f":"'Track (Match 1)'!E5","v":402},{"$f":"CONCATENATE('Track (Match 1)'!F5, \"   (\",'Track (Match 1)'!G5,\")\")","v":"3   (1)"},{"$f":"'Track (Match 1)'!K5","v":"= League Records"},{"$f":"'Track (Match 1)'!L5","v":0},"Not Held",{"$f":"'Track (Match 1)'!T5","v":0},null,null,null,null,null,{"$f":"COUNTIF($C$11:$C$208,\"101\")+COUNTIF($C$11:$C$208,\"102\")+COUNTIF($C$11:$C$208,\"103\")","v":0},{"$f":"MatchDay!B15","v":7}]
[null,{"$f":"MatchDay!C15","v":"Leeds City"},null,null,{"$f":"'Track (Match 1)'!E6","v":560},{"$f":"CONCATENATE('Track (Match 1)'!F6, \"   (\",'Track (Match 1)'!G6,\")\")","v":"2   (2)"},{"$f":"'Track (Match 1)'!K6","v":"Grade 1"},{"$f":"'Track (Match 1)'!L6","v":5},"Not Scored",{"$f":"'Track (Match 1)'!T6","v":0},null,null,null,null,null,null,{"$f":"CONCATENATE(Q3,Q3)","v":"99"},"Relay Match 2"]
[null,null,null,null,null,null,"Grade 2",{"$f":"'Track (Match 1)'!N4","v":13},null,null,null,null,null,null,null,null,{"$f":"CONCATENATE(Q4,Q4)","v":"88"}]
[null,"Boys",null,{"$f":"'Track (Match 1)'!Q4","v":82},null,null,"Grade 3",{"$f":"'Track (Match 1)'!N5","v":22},null,null,null,null,null,null,null,null,{"$f":"CONCATENATE(Q5,Q5)","v":"77"}]
[null,"Girls",null,{"$f":"'Track (Match 1)'!Q5","v":81},null,null,"Grade 4",{"$f":"'Track (Match 1)'!N6","v":37},null,null,null,null,null,null,null,null,101]
[null,null,null,null,null,null,null,null,null,null,null,null,null,null,null,null,102]
[{"$f":"VLOOKUP(B11,eventno,5,FALSE)","v":"F"},"T38",{"$f":"VLOOKUP(B11,eventno,4,FALSE)","v":"U17W 4 x 100m Relay"},null,null,null,null,{"$f":"IF(A14=\"W\",\"Wind =\",\"\")","v":""},null,{"$f":"IF(OR(I13=0,I13=\"\",A15=0,A15=\"\"),\"\",IF(A13=\"T\",IF(I13<A15,\"LR\",IF(I13=A15,\"LR=\",\"\"))))","v":""},{"$f":"IF(OR(B11=0,B11=\"\",C11=0,C11=\"\",I11=0,I11=\"\",LEFT(I11,1)=\"D\"),0,VLOOKUP(B11,points,2,FALSE))","v":0},null,null,null,null,null,103]
[{"$f":"IF(A11=\"M\",VLOOKUP(B11,males,15,FALSE),VLOOKUP(B11,females,15,FALSE))","v":21},"Posn","Bib","Leg 1","Leg 2","Leg 3","Leg 4","Club","Perf",null,{"$error":"#N/A"},null,null,null,null,null,104]
[{"$f":"LEFT(B11,1)","v":"T"},1,9,{"$f":"IF(OR(C13=0,C13=\"\"),\"\",IF(A11=\"F\",HLOOKUP(C13,females,A12,FALSE),IF(A11=\"M\",HLOOKUP(C13,males,A12,FALSE),\"\")))","v":"Bethany Porter"},{"$f":"IF(OR(C13=0,C13=\"\",D13=\"Event Cancelled\",D13=\"No Competitors Declared\"),\"\",IF(A11=\"F\",HLOOKUP(S13,females,A12,FALSE),IF(A11=\"M\",HLOOKUP(S13,males,A12,FALSE),\"\")))","v":"Zoe Kerins"},{"$f":"IF(OR(C13=0,C13=\"\",D13=\"Event Cancelled\",D13=\"No Competitors Declared\"),\"\",IF(A11=\"F\",HLOOKUP(C13,females,A12+1,FALSE),IF(A11=\"M\",HLOOKUP(C13,males,A12+1,FALSE),\"\")))","v":"Bethany Sharp"},{"$f":"IF(OR(C13=0,C13=\"\",D13=\"Event Cancelled\",D13=\"No Competitors Declared\"),\"\",IF(A11=\"F\",HLOOKUP(S13,females,A12+1,FALSE),IF(A11=\"M\",HLOOKUP(S13,males,A12+1,FALSE),\"\")))","v":"Grace Eyles"},{"$f":"IF(OR(C13=0,C13=\"\",ISERROR(VLOOKUP(C13,match_teams,4,FALSE)=TRUE)),\"\",VLOOKUP(C13,match_teams,4,FALSE))","v":"Wake"},50.94,null,6,null,null,null,null,null,null,null,{"$f":"IF(T(C13)=\"\",C13*11,CONCATENATE(C13,C13))","v":99}]
[{"$f":"VLOOKUP(B11,eventno,6,FALSE)","v":0},2,7,{"$f":"IF(OR(C14=0,C14=\"\"),\"\",IF(A11=\"F\",HLOOKUP(C14,females,A12,FALSE),IF(A11=\"M\",HLOOKUP(C14,males,A12,FALSE),\"\")))","v":"Melody Peterson"},{"$f":"IF(OR(C14=0,C14=\"\"),\"\",IF(A11=\"F\",HLOOKUP(S14,females,A12,FALSE),IF(A11=\"M\",HLOOKUP(S14,males,A12,FALSE),\"\")))","v":"Hannah Ukandu"},{"$f":"IF(OR(C14=0,C14=\"\"),\"\",IF(A11=\"F\",HLOOKUP(C14,females,A12+1,FALSE),IF(A11=\"M\",HLOOKUP(C14,males,A12+1,FALSE),\"\")))","v":"India Wilson"},{"$f":"IF(OR(C14=0,C14=\"\"),\"\",IF(A11=\"F\",HLOOKUP(S14,females,A12+1,FALSE),IF(A11=\"M\",HLOOKUP(S14,males,A12+1,FALSE),\"\")))","v":"Amena Abdelaziz"},{"$f":"IF(OR(C14=0,C14=\"\",ISERROR(VLOOKUP(C14,match_teams,4,FALSE)=TRUE)),\"\",VLOOKUP(C14,match_teams,4,FALSE))","v":"Leeds C"},53.85,null,5,null,null,null,null,null,null,null,{"$f":"IF(T(C14)=\"\",C14*11,CONCATENATE(C14,C14))","v":77}]
[{"$f":"VLOOKUP(B11,eventno,7,FALSE)","v":47.97},3,8,{"$f":"IF(OR(C15=0,C15=\"\"),\"\",IF(A11=\"F\",HLOOKUP(C15,females,A12,FALSE),IF(A11=\"M\",HLOOKUP(C15,males,A12,FALSE),\"\")))","v":"Megan Savage"},{"$f":"IF(OR(C15=0,C15=\"\"),\"\",IF(A11=\"F\",HLOOKUP(S15,females,A12,FALSE),IF(A11=\"M\",HLOOKUP(S15,males,A12,FALSE),\"\")))","v":"Emily Haigh"},{"$f":"IF(OR(C15=0,C15=\"\"),\"\",IF(A11=\"F\",HLOOKUP(C15,females,A12+1,FALSE),IF(A11=\"M\",HLOOKUP(C15,males,A12+1,FALSE),\"\")))","v":"Polly Morris"},{"$f":"IF(OR(C15=0,C15=\"\"),\"\",IF(A11=\"F\",HLOOKUP(S15,females,A12+1,FALSE),IF(A11=\"M\",HLOOKUP(S15,males,A12+1,FALSE),\"\")))","v":"Olivia Swain"},{"$f":"IF(OR(C15=0,C15=\"\",ISERROR(VLOOKUP(C15,match_teams,4,FALSE)=TRUE)),\"\",VLOOKUP(C15,match_teams,4,FALSE))","v":"York"},55.43,null,4,null,null,null,null,null,null,null,{"$f":"IF(T(C15)=\"\",C15*11,CONCATENATE(C15,C15))","v":88}]
[null,null,null,null,null,null,null,null,null,null,0]
[{"$f":"VLOOKUP(B17,eventno,5,FALSE)","v":"M"},"T39",{"$f":"VLOOKUP(B17,eventno,4,FALSE)","v":"U17M 4 x 100m Relay"},null,null,null,null,{"$f":"IF(A20=\"W\",\"Wind =\",\"\")","v":""},null,{"$f":"IF(OR(I19=0,I19=\"\",A21=0,A21=\"\"),\"\",IF(A19=\"T\",IF(I19<A21,\"LR\",IF(I19=A21,\"LR=\",\"\"))))","v":""},0]
[{"$f":"IF(A17=\"M\",VLOOKUP(B17,males,15,FALSE),VLOOKUP(B17,females,15,FALSE))","v":21},"Posn","Bib","Leg 1","Leg 2","Leg 3","Leg 4","Club","Perf",null,{"$error":"#N/A"}]
[{"$f":"LEFT(B17,1)","v":"T"},1,9,{"$f":"IF(OR(C19=0,C19=\"\"),\"\",IF(A17=\"F\",HLOOKUP(C19,females,A18,FALSE),IF(A17=\"M\",HLOOKUP(C19,males,A18,FALSE),\"\")))","v":"Andrew Lorkins"},{"$f":"IF(OR(C19=0,C19=\"\",D19=\"Event Cancelled\",D19=\"No Competitors Declared\"),\"\",IF(A17=\"F\",HLOOKUP(S19,females,A18,FALSE),IF(A17=\"M\",HLOOKUP(S19,males,A18,FALSE),\"\")))","v":"George Brown"},{"$f":"IF(OR(C19=0,C19=\"\",D19=\"Event Cancelled\",D19=\"No Competitors Declared\"),\"\",IF(A17=\"F\",HLOOKUP(C19,females,A18+1,FALSE),IF(A17=\"M\",HLOOKUP(C19,males,A18+1,FALSE),\"\")))","v":"James McBorrough"},{"$f":"IF(OR(C19=0,C19=\"\",D19=\"Event Cancelled\",D19=\"No Competitors Declared\"),\"\",IF(A17=\"F\",HLOOKUP(S19,females,A18+1,FALSE),IF(A17=\"M\",HLOOKUP(S19,males,A18+1,FALSE),\"\")))","v":"Oliver Edmunds"},{"$f":"IF(OR(C19=0,C19=\"\",ISERROR(VLOOKUP(C19,match_teams,4,FALSE)=TRUE)),\"\",VLOOKUP(C19,match_teams,4,FALSE))","v":"Wake"},47.34,null,6,null,null,null,null,null,null,null,{"$f":"IF(T(C19)=\"\",C19*11,CONCATENATE(C19,C19))","v":99}]
[{"$f":"VLOOKUP(B17,eventno,6,FALSE)","v":0},2,7,{"$f":"IF(OR(C20=0,C20=\"\"),\"\",IF(A17=\"F\",HLOOKUP(C20,females,A18,FALSE),IF(A17=\"M\",HLOOKUP(C20,males,A18,FALSE),\"\")))","v":"Aqib Javed"},{"$f":"IF(OR(C20=0,C20=\"\"),\"\",IF(A17=\"F\",HLOOKUP(S20,females,A18,FALSE),IF(A17=\"M\",HLOOKUP(S20,males,A18,FALSE),\"\")))","v":"Connor Morley"},{"$f":"IF(OR(C20=0,C20=\"\"),\"\",IF(A17=\"F\",HLOOKUP(C20,females,A18+1,FALSE),IF(A17=\"M\",HLOOKUP(C20,males,A18+1,FALSE),\"\")))","v":"Lamar Lewis"},{"$f":"IF(OR(C20=0,C20=\"\"),\"\",IF(A17=\"F\",HLOOKUP(S20,females,A18+1,FALSE),IF(A17=\"M\",HLOOKUP(S20,males,A18+1,FALSE),\"\")))","v":"Elliott Hurley"},{"$f":"IF(OR(C20=0,C20=\"\",ISERROR(VLOOKUP(C20,match_teams,4,FALSE)=TRUE)),\"\",VLOOKUP(C20,match_teams,4,FALSE))","v":"Leeds C"},47.6,null,5,null,null,null,null,null,null,null,{"$f":"IF(T(C20)=\"\",C20*11,CONCATENATE(C20,C20))","v":77}]
[{"$f":"VLOOKUP(B17,eventno,7,FALSE)","v":41.92},3,8,{"$f":"IF(OR(C21=0,C21=\"\"),\"\",IF(A17=\"F\",HLOOKUP(C21,females,A18,FALSE),IF(A17=\"M\",HLOOKUP(C21,males,A18,FALSE),\"\")))","v":"Adam Robinson"},{"$f":"IF(OR(C21=0,C21=\"\"),\"\",IF(A17=\"F\",HLOOKUP(S21,females,A18,FALSE),IF(A17=\"M\",HLOOKUP(S21,males,A18,FALSE),\"\")))","v":"Peirre Weller"},{"$f":"IF(OR(C21=0,C21=\"\"),\"\",IF(A17=\"F\",HLOOKUP(C21,females,A18+1,FALSE),IF(A17=\"M\",HLOOKUP(C21,males,A18+1,FALSE),\"\")))","v":"James Stanton"},{"$f":"IF(OR(C21=0,C21=\"\"),\"\",IF(A17=\"F\",HLOOKUP(S21,females,A18+1,FALSE),IF(A17=\"M\",HLOOKUP(S21,males,A18+1,FALSE),\"\")))","v":"Ash  Hart"},{"$f":"IF(OR(C21=0,C21=\"\",ISERROR(VLOOKUP(C21,match_teams,4,FALSE)=TRUE)),\"\",VLOOKUP(C21,match_teams,4,FALSE))","v":"York"},49.96,null,4,null,null,null,null,null,null,null,{"$f":"IF(T(C21)=\"\",C21*11,CONCATENATE(C21,C21))","v":88}]
[null,null,null,null,null,null,null,null,null,null,0]
[{"$f":"VLOOKUP(B23,eventno,5,FALSE)","v":"F"},"T40",{"$f":"VLOOKUP(B23,eventno,4,FALSE)","v":"U15G 4 x 100m Relay"},null,null,null,null,{"$f":"IF(A26=\"W\",\"Wind =\",\"\")","v":""},null,{"$f":"IF(OR(I25=0,I25=\"\",A27=0,A27=\"\"),\"\",IF(A25=\"T\",IF(I25<A27,\"LR\",IF(I25=A27,\"LR=\",\"\"))))","v":""},0]
[{"$f":"IF(A23=\"M\",VLOOKUP(B23,males,15,FALSE),VLOOKUP(B23,females,15,FALSE))","v":23},"Posn","Bib","Leg 1","Leg 2","Leg 3","Leg 4","Club","Perf",null,{"$error":"#N/A"}]
[{"$f":"LEFT(B23,1)","v":"T"},1,9,{"$f":"IF(OR(C25=0,C25=\"\"),\"\",IF(A23=\"F\",HLOOKUP(C25,females,A24,FALSE),IF(A23=\"M\",HLOOKUP(C25,males,A24,FALSE),\"\")))","v":"Sophie Woollin"},{"$f":"IF(OR(C25=0,C25=\"\",D25=\"Event Cancelled\",D25=\"No Competitors Declared\"),\"\",IF(A23=\"F\",HLOOKUP(S25,females,A24,FALSE),IF(A23=\"M\",HLOOKUP(S25,males,A24,FALSE),\"\")))","v":"Jessica Fisher"},{"$f":"IF(OR(C25=0,C25=\"\",D25=\"Event Cancelled\",D25=\"No Competitors Declared\"),\"\",IF(A23=\"F\",HLOOKUP(C25,females,A24+1,FALSE),IF(A23=\"M\",HLOOKUP(C25,males,A24+1,FALSE),\"\")))","v":"Jessica Eyles"},{"$f":"IF(OR(C25=0,C25=\"\",D25=\"Event Cancelled\",D25=\"No Competitors Declared\"),\"\",IF(A23=\"F\",HLOOKUP(S25,females,A24+1,FALSE),IF(A23=\"M\",HLOOKUP(S25,males,A24+1,FALSE),\"\")))","v":"Holly Marshall"},{"$f":"IF(OR(C25=0,C25=\"\",ISERROR(VLOOKUP(C25,match_teams,4,FALSE)=TRUE)),\"\",VLOOKUP(C25,match_teams,4,FALSE))","v":"Wake"},53.42,null,6,null,null,null,null,null,null,null,{"$f":"IF(T(C25)=\"\",C25*11,CONCATENATE(C25,C25))","v":99}]
[{"$f":"VLOOKUP(B23,eventno,6,FALSE)","v":0},2,7,{"$f":"IF(OR(C26=0,C26=\"\"),\"\",IF(A23=\"F\",HLOOKUP(C26,females,A24,FALSE),IF(A23=\"M\",HLOOKUP(C26,males,A24,FALSE),\"\")))","v":"Melissa Fletcher"},{"$f":"IF(OR(C26=0,C26=\"\"),\"\",IF(A23=\"F\",HLOOKUP(S26,females,A24,FALSE),IF(A23=\"M\",HLOOKUP(S26,males,A24,FALSE),\"\")))","v":"Molly Yearby"},{"$f":"IF(OR(C26=0,C26=\"\"),\"\",IF(A23=\"F\",HLOOKUP(C26,females,A24+1,FALSE),IF(A23=\"M\",HLOOKUP(C26,males,A24+1,FALSE),\"\")))","v":"Sian Gilmartin-Green"},{"$f":"IF(OR(C26=0,C26=\"\"),\"\",IF(A23=\"F\",HLOOKUP(S26,females,A24+1,FALSE),IF(A23=\"M\",HLOOKUP(S26,males,A24+1,FALSE),\"\")))","v":"Caoimhe Crampton"},{"$f":"IF(OR(C26=0,C26=\"\",ISERROR(VLOOKUP(C26,match_teams,4,FALSE)=TRUE)),\"\",VLOOKUP(C26,match_teams,4,FALSE))","v":"Leeds C"},53.9,null,5,null,null,null,null,null,null,null,{"$f":"IF(T(C26)=\"\",C26*11,CONCATENATE(C26,C26))","v":77}]
[{"$f":"VLOOKUP(B23,eventno,7,FALSE)","v":49.13},3,8,{"$f":"IF(OR(C27=0,C27=\"\"),\"\",IF(A23=\"F\",HLOOKUP(C27,females,A24,FALSE),IF(A23=\"M\",HLOOKUP(C27,males,A24,FALSE),\"\")))","v":"Anna Richardson"},{"$f":"IF(OR(C27=0,C27=\"\"),\"\",IF(A23=\"F\",HLOOKUP(S27,females,A24,FALSE),IF(A23=\"M\",HLOOKUP(S27,males,A24,FALSE),\"\")))","v":"Josie Parry"},{"$f":"IF(OR(C27=0,C27=\"\"),\"\",IF(A23=\"F\",HLOOKUP(C27,females,A24+1,FALSE),IF(A23=\"M\",HLOOKUP(C27,males,A24+1,FALSE),\"\")))","v":"Chelsea Walker"},{"$f":"IF(OR(C27=0,C27=\"\"),\"\",IF(A23=\"F\",HLOOKUP(S27,females,A24+1,FALSE),IF(A23=\"M\",HLOOKUP(S27,males,A24+1,FALSE),\"\")))","v":"Chloe Hopper"},{"$f":"IF(OR(C27=0,C27=\"\",ISERROR(VLOOKUP(C27,match_teams,4,FALSE)=TRUE)),\"\",VLOOKUP(C27,match_teams,4,FALSE))","v":"York"},54.23,null,4,null,null,null,null,null,null,null,{"$f":"IF(T(C27)=\"\",C27*11,CONCATENATE(C27,C27))","v":88}]
[null,null,null,null,null,null,null,null,null,null,0]
[{"$f":"VLOOKUP(B29,eventno,5,FALSE)","v":"M"},"T41",{"$f":"VLOOKUP(B29,eventno,4,FALSE)","v":"U15B 4 x 100m Relay"},null,null,null,null,{"$f":"IF(A32=\"W\",\"Wind =\",\"\")","v":""},null,{"$f":"IF(OR(I31=0,I31=\"\",A33=0,A33=\"\"),\"\",IF(A31=\"T\",IF(I31<A33,\"LR\",IF(I31=A33,\"LR=\",\"\"))))","v":""},0]
[{"$f":"IF(A29=\"M\",VLOOKUP(B29,males,15,FALSE),VLOOKUP(B29,females,15,FALSE))","v":23},"Posn","Bib","Leg 1","Leg 2","Leg 3","Leg 4","Club","Perf",null,{"$error":"#N/A"}]
[{"$f":"LEFT(B29,1)","v":"T"},1,7,{"$f":"IF(OR(C31=0,C31=\"\"),\"\",IF(A29=\"F\",HLOOKUP(C31,females,A30,FALSE),IF(A29=\"M\",HLOOKUP(C31,males,A30,FALSE),\"\")))","v":"Jacob Fincham-Dukes"},{"$f":"IF(OR(C31=0,C31=\"\",D31=\"Event Cancelled\",D31=\"No Competitors Declared\"),\"\",IF(A29=\"F\",HLOOKUP(S31,females,A30,FALSE),IF(A29=\"M\",HLOOKUP(S31,males,A30,FALSE),\"\")))","v":"Thomas Harrison"},{"$f":"IF(OR(C31=0,C31=\"\",D31=\"Event Cancelled\",D31=\"No Competitors Declared\"),\"\",IF(A29=\"F\",HLOOKUP(C31,females,A30+1,FALSE),IF(A29=\"M\",HLOOKUP(C31,males,A30+1,FALSE),\"\")))","v":"Jack Gape"},{"$f":"IF(OR(C31=0,C31=\"\",D31=\"Event Cancelled\",D31=\"No Competitors Declared\"),\"\",IF(A29=\"F\",HLOOKUP(S31,females,A30+1,FALSE),IF(A29=\"M\",HLOOKUP(S31,males,A30+1,FALSE),\"\")))","v":"Finlay Fuller"},{"$f":"IF(OR(C31=0,C31=\"\",ISERROR(VLOOKUP(C31,match_teams,4,FALSE)=TRUE)),\"\",VLOOKUP(C31,match_teams,4,FALSE))","v":"Leeds C"},50.13,null,6,null,null,null,null,null,null,null,{"$f":"IF(T(C31)=\"\",C31*11,CONCATENATE(C31,C31))","v":77}]
[{"$f":"VLOOKUP(B29,eventno,6,FALSE)","v":0},2,9,{"$f":"IF(OR(C32=0,C32=\"\"),\"\",IF(A29=\"F\",HLOOKUP(C32,females,A30,FALSE),IF(A29=\"M\",HLOOKUP(C32,males,A30,FALSE),\"\")))","v":"Patrick Thackray"},{"$f":"IF(OR(C32=0,C32=\"\"),\"\",IF(A29=\"F\",HLOOKUP(S32,females,A30,FALSE),IF(A29=\"M\",HLOOKUP(S32,males,A30,FALSE),\"\")))","v":"Robert Sanderson"},{"$f":"IF(OR(C32=0,C32=\"\"),\"\",IF(A29=\"F\",HLOOKUP(C32,females,A30+1,FALSE),IF(A29=\"M\",HLOOKUP(C32,males,A30+1,FALSE),\"\")))","v":"Logan Gibb"},{"$f":"IF(OR(C32=0,C32=\"\"),\"\",IF(A29=\"F\",HLOOKUP(S32,females,A30+1,FALSE),IF(A29=\"M\",HLOOKUP(S32,males,A30+1,FALSE),\"\")))","v":"George Heppinstall"},{"$f":"IF(OR(C32=0,C32=\"\",ISERROR(VLOOKUP(C32,match_teams,4,FALSE)=TRUE)),\"\",VLOOKUP(C32,match_teams,4,FALSE))","v":"Wake"},53.41,null,5,null,null,null,null,null,null,null,{"$f":"IF(T(C32)=\"\",C32*11,CONCATENATE(C32,C32))","v":99}]
[{"$f":"VLOOKUP(B29,eventno,7,FALSE)","v":44.8},3,8,{"$f":"IF(OR(C33=0,C33=\"\"),\"\",IF(A29=\"F\",HLOOKUP(C33,females,A30,FALSE),IF(A29=\"M\",HLOOKUP(C33,males,A30,FALSE),\"\")))","v":"Chris Searle"},{"$f":"IF(OR(C33=0,C33=\"\"),\"\",IF(A29=\"F\",HLOOKUP(S33,females,A30,FALSE),IF(A29=\"M\",HLOOKUP(S33,males,A30,FALSE),\"\")))","v":"Luke Nichols"},{"$f":"IF(OR(C33=0,C33=\"\"),\"\",IF(A29=\"F\",HLOOKUP(C33,females,A30+1,FALSE),IF(A29=\"M\",HLOOKUP(C33,males,A30+1,FALSE),\"\")))","v":"Tom Hobson"},{"$f":"IF(OR(C33=0,C33=\"\"),\"\",IF(A29=\"F\",HLOOKUP(S33,females,A30+1,FALSE),IF(A29=\"M\",HLOOKUP(S33,males,A30+1,FALSE),\"\")))","v":"Matthew Richardson"},{"$f":"IF(OR(C33=0,C33=\"\",ISERROR(VLOOKUP(C33,match_teams,4,FALSE)=TRUE)),\"\",VLOOKUP(C33,match_teams,4,FALSE))","v":"York"},53.56,null,4,null,null,null,null,null,null,null,{"$f":"IF(T(C33)=\"\",C33*11,CONCATENATE(C33,C33))","v":88}]
[null,null,null,null,null,null,null,null,null,null,0]
[{"$f":"VLOOKUP(B35,eventno,5,FALSE)","v":"F"},"T42",{"$f":"VLOOKUP(B35,eventno,4,FALSE)","v":"U13G 4 x 100m Relay"},null,null,null,null,{"$f":"IF(A38=\"W\",\"Wind =\",\"\")","v":""},null,{"$f":"IF(OR(I37=0,I37=\"\",A39=0,A39=\"\"),\"\",IF(A37=\"T\",IF(I37<A39,\"LR\",IF(I37=A39,\"LR=\",\"\"))))","v":""},0]
[{"$f":"IF(A35=\"M\",VLOOKUP(B35,males,15,FALSE),VLOOKUP(B35,females,15,FALSE))","v":25},"Posn","Bib","Leg 1","Leg 2","Leg 3","Leg 4","Club","Perf",null,{"$error":"#N/A"}]
[{"$f":"LEFT(B35,1)","v":"T"},1,9,{"$f":"IF(OR(C37=0,C37=\"\"),\"\",IF(A35=\"F\",HLOOKUP(C37,females,A36,FALSE),IF(A35=\"M\",HLOOKUP(C37,males,A36,FALSE),\"\")))","v":"Charlotte Sampson"},{"$f":"IF(OR(C37=0,C37=\"\",D37=\"Event Cancelled\",D37=\"No Competitors Declared\"),\"\",IF(A35=\"F\",HLOOKUP(S37,females,A36,FALSE),IF(A35=\"M\",HLOOKUP(S37,males,A36,FALSE),\"\")))","v":"Niamh Docherty"},{"$f":"IF(OR(C37=0,C37=\"\",D37=\"Event Cancelled\",D37=\"No Competitors Declared\"),\"\",IF(A35=\"F\",HLOOKUP(C37,females,A36+1,FALSE),IF(A35=\"M\",HLOOKUP(C37,males,A36+1,FALSE),\"\")))","v":"Madeleine Gerrard"},{"$f":"IF(OR(C37=0,C37=\"\",D37=\"Event Cancelled\",D37=\"No Competitors Declared\"),\"\",IF(A35=\"F\",HLOOKUP(S37,females,A36+1,FALSE),IF(A35=\"M\",HLOOKUP(S37,males,A36+1,FALSE),\"\")))","v":"Georgia Green"},{"$f":"IF(OR(C37=0,C37=\"\",ISERROR(VLOOKUP(C37,match_teams,4,FALSE)=TRUE)),\"\",VLOOKUP(C37,match_teams,4,FALSE))","v":"Wake"},61.31,null,6,null,null,null,null,null,null,null,{"$f":"IF(T(C37)=\"\",C37*11,CONCATENATE(C37,C37))","v":99}]
[{"$f":"VLOOKUP(B35,eventno,6,FALSE)","v":0},2,8,{"$f":"IF(OR(C38=0,C38=\"\"),\"\",IF(A35=\"F\",HLOOKUP(C38,females,A36,FALSE),IF(A35=\"M\",HLOOKUP(C38,males,A36,FALSE),\"\")))","v":"Annabel Ashton"},{"$f":"IF(OR(C38=0,C38=\"\"),\"\",IF(A35=\"F\",HLOOKUP(S38,females,A36,FALSE),IF(A35=\"M\",HLOOKUP(S38,males,A36,FALSE),\"\")))","v":"Charlotte Stamp"},{"$f":"IF(OR(C38=0,C38=\"\"),\"\",IF(A35=\"F\",HLOOKUP(C38,females,A36+1,FALSE),IF(A35=\"M\",HLOOKUP(C38,males,A36+1,FALSE),\"\")))","v":"Georgie Hogarth"},{"$f":"IF(OR(C38=0,C38=\"\"),\"\",IF(A35=\"F\",HLOOKUP(S38,females,A36+1,FALSE),IF(A35=\"M\",HLOOKUP(S38,males,A36+1,FALSE),\"\")))","v":"Lucy Hadaway"},{"$f":"IF(OR(C38=0,C38=\"\",ISERROR(VLOOKUP(C38,match_teams,4,FALSE)=TRUE)),\"\",VLOOKUP(C38,match_teams,4,FALSE))","v":"York"},62.63,null,5,null,null,null,null,null,null,null,{"$f":"IF(T(C38)=\"\",C38*11,CONCATENATE(C38,C38))","v":88}]
[{"$f":"VLOOKUP(B35,eventno,7,FALSE)","v":52.1},3,7,{"$f":"IF(OR(C39=0,C39=\"\"),\"\",IF(A35=\"F\",HLOOKUP(C39,females,A36,FALSE),IF(A35=\"M\",HLOOKUP(C39,males,A36,FALSE),\"\")))","v":"Chloe Brooks"},{"$f":"IF(OR(C39=0,C39=\"\"),\"\",IF(A35=\"F\",HLOOKUP(S39,females,A36,FALSE),IF(A35=\"M\",HLOOKUP(S39,males,A36,FALSE),\"\")))","v":"Lois Fish"},{"$f":"IF(OR(C39=0,C39=\"\"),\"\",IF(A35=\"F\",HLOOKUP(C39,females,A36+1,FALSE),IF(A35=\"M\",HLOOKUP(C39,males,A36+1,FALSE),\"\")))","v":"Millie Bradbury"},{"$f":"IF(OR(C39=0,C39=\"\"),\"\",IF(A35=\"F\",HLOOKUP(S39,females,A36+1,FALSE),IF(A35=\"M\",HLOOKUP(S39,males,A36+1,FALSE),\"\")))","v":"Megan Sanders"},{"$f":"IF(OR(C39=0,C39=\"\",ISERROR(VLOOKUP(C39,match_teams,4,FALSE)=TRUE)),\"\",VLOOKUP(C39,match_teams,4,FALSE))","v":"Leeds C"},66.010000000000005,null,4,null,null,null,null,null,null,null,{"$f":"IF(T(C39)=\"\",C39*11,CONCATENATE(C39,C39))","v":77}]
[null,null,null,null,null,null,null,null,null,null,0]
[{"$f":"VLOOKUP(B41,eventno,5,FALSE)","v":"M"},"T43",{"$f":"VLOOKUP(B41,eventno,4,FALSE)","v":"U13B 4 x 100m Relay"},null,null,null,null,{"$f":"IF(A44=\"W\",\"Wind =\",\"\")","v":""},null,{"$f":"IF(OR(I43=0,I43=\"\",A45=0,A45=\"\"),\"\",IF(A43=\"T\",IF(I43<A45,\"LR\",IF(I43=A45,\"LR=\",\"\"))))","v":""},0]
[{"$f":"IF(A41=\"M\",VLOOKUP(B41,males,15,FALSE),VLOOKUP(B41,females,15,FALSE))","v":25},"Posn","Bib","Leg 1","Leg 2","Leg 3","Leg 4","Club","Perf",null,{"$error":"#N/A"}]
[{"$f":"LEFT(B41,1)","v":"T"},1,7,{"$f":"IF(OR(C43=0,C43=\"\"),\"\",IF(A41=\"F\",HLOOKUP(C43,females,A42,FALSE),IF(A41=\"M\",HLOOKUP(C43,males,A42,FALSE),\"\")))","v":"Lewis Renton"},{"$f":"IF(OR(C43=0,C43=\"\",D43=\"Event Cancelled\",D43=\"No Competitors Declared\"),\"\",IF(A41=\"F\",HLOOKUP(S43,females,A42,FALSE),IF(A41=\"M\",HLOOKUP(S43,males,A42,FALSE),\"\")))","v":"Mitchell Cox"},{"$f":"IF(OR(C43=0,C43=\"\",D43=\"Event Cancelled\",D43=\"No Competitors Declared\"),\"\",IF(A41=\"F\",HLOOKUP(C43,females,A42+1,FALSE),IF(A41=\"M\",HLOOKUP(C43,males,A42+1,FALSE),\"\")))","v":"Dominic Peterson"},{"$f":"IF(OR(C43=0,C43=\"\",D43=\"Event Cancelled\",D43=\"No Competitors Declared\"),\"\",IF(A41=\"F\",HLOOKUP(S43,females,A42+1,FALSE),IF(A41=\"M\",HLOOKUP(S43,males,A42+1,FALSE),\"\")))","v":"Billy Dawson"},{"$f":"IF(OR(C43=0,C43=\"\",ISERROR(VLOOKUP(C43,match_teams,4,FALSE)=TRUE)),\"\",VLOOKUP(C43,match_teams,4,FALSE))","v":"Leeds C"},56.52,null,{"$f":"IF(OR(B43=0,B43=\"\",C43=0,C43=\"\",I43=0,I43=\"\",LEFT(I43,1)=\"D\"),0,VLOOKUP(B43,points,2,FALSE))","v":6},null,null,null,null,null,null,null,{"$f":"IF(T(C43)=\"\",C43*11,CONCATENATE(C43,C43))","v":77}]
[{"$f":"VLOOKUP(B41,eventno,6,FALSE)","v":0},2,9,{"$f":"IF(OR(C44=0,C44=\"\"),\"\",IF(A41=\"F\",HLOOKUP(C44,females,A42,FALSE),IF(A41=\"M\",HLOOKUP(C44,males,A42,FALSE),\"\")))","v":"Harry England"},{"$f":"IF(OR(C44=0,C44=\"\"),\"\",IF(A41=\"F\",HLOOKUP(S44,females,A42,FALSE),IF(A41=\"M\",HLOOKUP(S44,males,A42,FALSE),\"\")))","v":"Alexander Rogers"},{"$f":"IF(OR(C44=0,C44=\"\"),\"\",IF(A41=\"F\",HLOOKUP(C44,females,A42+1,FALSE),IF(A41=\"M\",HLOOKUP(C44,males,A42+1,FALSE),\"\")))","v":"Carter Bower-Stead"},{"$f":"IF(OR(C44=0,C44=\"\"),\"\",IF(A41=\"F\",HLOOKUP(S44,females,A42+1,FALSE),IF(A41=\"M\",HLOOKUP(S44,males,A42+1,FALSE),\"\")))","v":"Barnaby Drew"},{"$f":"IF(OR(C44=0,C44=\"\",ISERROR(VLOOKUP(C44,match_teams,4,FALSE)=TRUE)),\"\",VLOOKUP(C44,match_teams,4,FALSE))","v":"Wake"},57.56,null,5,null,null,null,null,null,null,null,{"$f":"IF(T(C44)=\"\",C44*11,CONCATENATE(C44,C44))","v":99}]
[{"$f":"VLOOKUP(B41,eventno,7,FALSE)","v":49.9},3,null,{"$f":"IF(OR(C45=0,C45=\"\"),\"\",IF(A41=\"F\",HLOOKUP(C45,females,A42,FALSE),IF(A41=\"M\",HLOOKUP(C45,males,A42,FALSE),\"\")))","v":""},{"$f":"IF(OR(C45=0,C45=\"\"),\"\",IF(A41=\"F\",HLOOKUP(S45,females,A42,FALSE),IF(A41=\"M\",HLOOKUP(S45,males,A42,FALSE),\"\")))","v":""},{"$f":"IF(OR(C45=0,C45=\"\"),\"\",IF(A41=\"F\",HLOOKUP(C45,females,A42+1,FALSE),IF(A41=\"M\",HLOOKUP(C45,males,A42+1,FALSE),\"\")))","v":""},{"$f":"IF(OR(C45=0,C45=\"\"),\"\",IF(A41=\"F\",HLOOKUP(S45,females,A42+1,FALSE),IF(A41=\"M\",HLOOKUP(S45,males,A42+1,FALSE),\"\")))","v":""},{"$f":"IF(OR(C45=0,C45=\"\",ISERROR(VLOOKUP(C45,match_teams,4,FALSE)=TRUE)),\"\",VLOOKUP(C45,match_teams,4,FALSE))","v":""},null,null,0,null,null,null,null,null,null,null,{"$f":"IF(T(C45)=\"\",C45*11,CONCATENATE(C45,C45))","v":0}]
[null,null,null,null,null,null,null,null,null,null,0]
[{"$f":"VLOOKUP(B47,eventno,5,FALSE)","v":"F"},"T44",{"$f":"VLOOKUP(B47,eventno,4,FALSE)","v":"U17W 4 x 300m Relay"},null,null,null,null,{"$f":"IF(A50=\"W\",\"Wind =\",\"\")","v":""},null,{"$f":"IF(OR(I49=0,I49=\"\",A51=0,A51=\"\"),\"\",IF(A49=\"T\",IF(I49<A51,\"LR\",IF(I49=A51,\"LR=\",\"\"))))","v":""},0]
[{"$f":"IF(A47=\"M\",VLOOKUP(B47,males,15,FALSE),VLOOKUP(B47,females,15,FALSE))","v":30},"Posn","Bib","Leg 1","Leg 2","Leg 3","Leg 4","Club","Perf",null,{"$error":"#N/A"}]
[{"$f":"LEFT(B47,1)","v":"T"},1,9,{"$f":"IF(OR(C49=0,C49=\"\"),\"\",IF(A47=\"F\",HLOOKUP(C49,females,A48,FALSE),IF(A47=\"M\",HLOOKUP(C49,males,A48,FALSE),\"\")))","v":"Dannielle Anderson"},{"$f":"IF(OR(C49=0,C49=\"\",D49=\"Event Cancelled\",D49=\"No Competitors Declared\"),\"\",IF(A47=\"F\",HLOOKUP(S49,females,A48,FALSE),IF(A47=\"M\",HLOOKUP(S49,males,A48,FALSE),\"\")))","v":"Olivia Radcliffe"},{"$f":"IF(OR(C49=0,C49=\"\",D49=\"Event Cancelled\",D49=\"No Competitors Declared\"),\"\",IF(A47=\"F\",HLOOKUP(C49,females,A48+1,FALSE),IF(A47=\"M\",HLOOKUP(C49,males,A48+1,FALSE),\"\")))","v":"Leanne Barraclough"},{"$f":"IF(OR(C49=0,C49=\"\",D49=\"Event Cancelled\",D49=\"No Competitors Declared\"),\"\",IF(A47=\"F\",HLOOKUP(S49,females,A48+1,FALSE),IF(A47=\"M\",HLOOKUP(S49,males,A48+1,FALSE),\"\")))","v":"Emily Wadge"},{"$f":"IF(OR(C49=0,C49=\"\",ISERROR(VLOOKUP(C49,match_teams,4,FALSE)=TRUE)),\"\",VLOOKUP(C49,match_teams,4,FALSE))","v":"Wake"},"00:03:09.520",null,6,null,null,null,null,null,null,null,{"$f":"IF(T(C49)=\"\",C49*11,CONCATENATE(C49,C49))","v":99}]
[{"$f":"VLOOKUP(B47,eventno,6,FALSE)","v":0},2,7,{"$f":"IF(OR(C50=0,C50=\"\"),\"\",IF(A47=\"F\",HLOOKUP(C50,females,A48,FALSE),IF(A47=\"M\",HLOOKUP(C50,males,A48,FALSE),\"\")))","v":"Katie Ward"},{"$f":"IF(OR(C50=0,C50=\"\"),\"\",IF(A47=\"F\",HLOOKUP(S50,females,A48,FALSE),IF(A47=\"M\",HLOOKUP(S50,males,A48,FALSE),\"\")))","v":"Ellie Dooley"},{"$f":"IF(OR(C50=0,C50=\"\"),\"\",IF(A47=\"F\",HLOOKUP(C50,females,A48+1,FALSE),IF(A47=\"M\",HLOOKUP(C50,males,A48+1,FALSE),\"\")))","v":"India Wilson"},{"$f":"IF(OR(C50=0,C50=\"\"),\"\",IF(A47=\"F\",HLOOKUP(S50,females,A48+1,FALSE),IF(A47=\"M\",HLOOKUP(S50,males,A48+1,FALSE),\"\")))","v":"Georgia Yearby"},{"$f":"IF(OR(C50=0,C50=\"\",ISERROR(VLOOKUP(C50,match_teams,4,FALSE)=TRUE)),\"\",VLOOKUP(C50,match_teams,4,FALSE))","v":"Leeds C"},"00:03:09.800",null,5,null,null,null,null,null,null,null,{"$f":"IF(T(C50)=\"\",C50*11,CONCATENATE(C50,C50))","v":77}]
[{"$f":"VLOOKUP(B47,eventno,7,FALSE)","v":1.8877314814814816E-3},3,null,{"$f":"IF(OR(C51=0,C51=\"\"),\"\",IF(A47=\"F\",HLOOKUP(C51,females,A48,FALSE),IF(A47=\"M\",HLOOKUP(C51,males,A48,FALSE),\"\")))","v":""},{"$f":"IF(OR(C51=0,C51=\"\"),\"\",IF(A47=\"F\",HLOOKUP(S51,females,A48,FALSE),IF(A47=\"M\",HLOOKUP(S51,males,A48,FALSE),\"\")))","v":""},{"$f":"IF(OR(C51=0,C51=\"\"),\"\",IF(A47=\"F\",HLOOKUP(C51,females,A48+1,FALSE),IF(A47=\"M\",HLOOKUP(C51,males,A48+1,FALSE),\"\")))","v":""},{"$f":"IF(OR(C51=0,C51=\"\"),\"\",IF(A47=\"F\",HLOOKUP(S51,females,A48+1,FALSE),IF(A47=\"M\",HLOOKUP(S51,males,A48+1,FALSE),\"\")))","v":""},{"$f":"IF(OR(C51=0,C51=\"\",ISERROR(VLOOKUP(C51,match_teams,4,FALSE)=TRUE)),\"\",VLOOKUP(C51,match_teams,4,FALSE))","v":""},null,null,0,null,null,null,null,null,null,null,{"$f":"IF(T(C51)=\"\",C51*11,CONCATENATE(C51,C51))","v":0}]
[null,null,null,null,null,null,null,null,null,null,0]
[{"$f":"VLOOKUP(B53,eventno,5,FALSE)","v":"M"},"T46",{"$f":"VLOOKUP(B53,eventno,4,FALSE)","v":"U15B 4 x 400m Relay"},null,null,null,null,{"$f":"IF(A56=\"W\",\"Wind =\",\"\")","v":""},null,{"$f":"IF(OR(I55=0,I55=\"\",A57=0,A57=\"\"),\"\",IF(A55=\"T\",IF(I55<A57,\"LR\",IF(I55=A57,\"LR=\",\"\"))))","v":""},0]
[{"$f":"IF(A53=\"M\",VLOOKUP(B53,males,15,FALSE),VLOOKUP(B53,females,15,FALSE))","v":28},"Posn","Bib","Leg 1","Leg 2","Leg 3","Leg 4","Club","Perf",null,{"$error":"#N/A"}]
[{"$f":"LEFT(B53,1)","v":"T"},1,7,{"$f":"IF(OR(C55=0,C55=\"\"),\"\",IF(A53=\"F\",HLOOKUP(C55,females,A54,FALSE),IF(A53=\"M\",HLOOKUP(C55,males,A54,FALSE),\"\")))","v":"Kieran Savage"},{"$f":"IF(OR(C55=0,C55=\"\",D55=\"Event Cancelled\",D55=\"No Competitors Declared\"),\"\",IF(A53=\"F\",HLOOKUP(S55,females,A54,FALSE),IF(A53=\"M\",HLOOKUP(S55,males,A54,FALSE),\"\")))","v":"John Hubball"},{"$f":"IF(OR(C55=0,C55=\"\",D55=\"Event Cancelled\",D55=\"No Competitors Declared\"),\"\",IF(A53=\"F\",HLOOKUP(C55,females,A54+1,FALSE),IF(A53=\"M\",HLOOKUP(C55,males,A54+1,FALSE),\"\")))","v":"Ben Tootle"},{"$f":"IF(OR(C55=0,C55=\"\",D55=\"Event Cancelled\",D55=\"No Competitors Declared\"),\"\",IF(A53=\"F\",HLOOKUP(S55,females,A54+1,FALSE),IF(A53=\"M\",HLOOKUP(S55,males,A54+1,FALSE),\"\")))","v":"Jack Allison"},{"$f":"IF(OR(C55=0,C55=\"\",ISERROR(VLOOKUP(C55,match_teams,4,FALSE)=TRUE)),\"\",VLOOKUP(C55,match_teams,4,FALSE))","v":"Leeds C"},"00:04:06.820",null,6,null,null,null,null,null,null,null,{"$f":"IF(T(C55)=\"\",C55*11,CONCATENATE(C55,C55))","v":77}]
[{"$f":"VLOOKUP(B53,eventno,6,FALSE)","v":0},2,9,{"$f":"IF(OR(C56=0,C56=\"\"),\"\",IF(A53=\"F\",HLOOKUP(C56,females,A54,FALSE),IF(A53=\"M\",HLOOKUP(C56,males,A54,FALSE),\"\")))","v":"Sam Convery"},{"$f":"IF(OR(C56=0,C56=\"\"),\"\",IF(A53=\"F\",HLOOKUP(S56,females,A54,FALSE),IF(A53=\"M\",HLOOKUP(S56,males,A54,FALSE),\"\")))","v":"Ben Read"},{"$f":"IF(OR(C56=0,C56=\"\"),\"\",IF(A53=\"F\",HLOOKUP(C56,females,A54+1,FALSE),IF(A53=\"M\",HLOOKUP(C56,males,A54+1,FALSE),\"\")))","v":"Andrew Jones"},{"$f":"IF(OR(C56=0,C56=\"\"),\"\",IF(A53=\"F\",HLOOKUP(S56,females,A54+1,FALSE),IF(A53=\"M\",HLOOKUP(S56,males,A54+1,FALSE),\"\")))","v":"William Ingram"},{"$f":"IF(OR(C56=0,C56=\"\",ISERROR(VLOOKUP(C56,match_teams,4,FALSE)=TRUE)),\"\",VLOOKUP(C56,match_teams,4,FALSE))","v":"Wake"},"00:04:17.850",null,5,null,null,null,null,null,null,null,{"$f":"IF(T(C56)=\"\",C56*11,CONCATENATE(C56,C56))","v":99}]
[{"$f":"VLOOKUP(B53,eventno,7,FALSE)","v":2.4849537037037036E-3},3,8,{"$f":"IF(OR(C57=0,C57=\"\"),\"\",IF(A53=\"F\",HLOOKUP(C57,females,A54,FALSE),IF(A53=\"M\",HLOOKUP(C57,males,A54,FALSE),\"\")))","v":"Phil Nesom"},{"$f":"IF(OR(C57=0,C57=\"\"),\"\",IF(A53=\"F\",HLOOKUP(S57,females,A54,FALSE),IF(A53=\"M\",HLOOKUP(S57,males,A54,FALSE),\"\")))","v":"Tom Wood"},{"$f":"IF(OR(C57=0,C57=\"\"),\"\",IF(A53=\"F\",HLOOKUP(C57,females,A54+1,FALSE),IF(A53=\"M\",HLOOKUP(C57,males,A54+1,FALSE),\"\")))","v":"Ben Lewis"},{"$f":"IF(OR(C57=0,C57=\"\"),\"\",IF(A53=\"F\",HLOOKUP(S57,females,A54+1,FALSE),IF(A53=\"M\",HLOOKUP(S57,males,A54+1,FALSE),\"\")))","v":"James Wright"},{"$f":"IF(OR(C57=0,C57=\"\",ISERROR(VLOOKUP(C57,match_teams,4,FALSE)=TRUE)),\"\",VLOOKUP(C57,match_teams,4,FALSE))","v":"York"},"00:04:34.320",null,4,null,null,null,null,null,null,null,{"$f":"IF(T(C57)=\"\",C57*11,CONCATENATE(C57,C57))","v":88}]
[null,null,null,null,null,null,null,null,null,null,0]
[{"$f":"VLOOKUP(B59,eventno,5,FALSE)","v":"M"},"T47",{"$f":"VLOOKUP(B59,eventno,4,FALSE)","v":"U17M 4 x 400m Relay"},null,null,null,null,{"$f":"IF(A62=\"W\",\"Wind =\",\"\")","v":""},null,{"$f":"IF(OR(I61=0,I61=\"\",A63=0,A63=\"\"),\"\",IF(A61=\"T\",IF(I61<A63,\"LR\",IF(I61=A63,\"LR=\",\"\"))))","v":""},0]
[{"$f":"IF(A59=\"M\",VLOOKUP(B59,males,15,FALSE),VLOOKUP(B59,females,15,FALSE))","v":30},"Posn","Bib","Leg 1","Leg 2","Leg 3","Leg 4","Club","Perf",null,{"$error":"#N/A"}]
[{"$f":"LEFT(B59,1)","v":"T"},1,7,{"$f":"IF(OR(C61=0,C61=\"\"),\"\",IF(A59=\"F\",HLOOKUP(C61,females,A60,FALSE),IF(A59=\"M\",HLOOKUP(C61,males,A60,FALSE),\"\")))","v":"Matthew Campleman"},{"$f":"IF(OR(C61=0,C61=\"\",D61=\"Event Cancelled\",D61=\"No Competitors Declared\"),\"\",IF(A59=\"F\",HLOOKUP(S61,females,A60,FALSE),IF(A59=\"M\",HLOOKUP(S61,males,A60,FALSE),\"\")))","v":"Liam Braithwaite"},{"$f":"IF(OR(C61=0,C61=\"\",D61=\"Event Cancelled\",D61=\"No Competitors Declared\"),\"\",IF(A59=\"F\",HLOOKUP(C61,females,A60+1,FALSE),IF(A59=\"M\",HLOOKUP(C61,males,A60+1,FALSE),\"\")))","v":"Sean Flanagan"},{"$f":"IF(OR(C61=0,C61=\"\",D61=\"Event Cancelled\",D61=\"No Competitors Declared\"),\"\",IF(A59=\"F\",HLOOKUP(S61,females,A60+1,FALSE),IF(A59=\"M\",HLOOKUP(S61,males,A60+1,FALSE),\"\")))","v":"Luke Cooper"},{"$f":"IF(OR(C61=0,C61=\"\",ISERROR(VLOOKUP(C61,match_teams,4,FALSE)=TRUE)),\"\",VLOOKUP(C61,match_teams,4,FALSE))","v":"Leeds C"},"00:03:46.300",null,6,null,null,null,null,null,null,null,{"$f":"IF(T(C61)=\"\",C61*11,CONCATENATE(C61,C61))","v":77}]
[{"$f":"VLOOKUP(B59,eventno,6,FALSE)","v":0},2,9,{"$f":"IF(OR(C62=0,C62=\"\"),\"\",IF(A59=\"F\",HLOOKUP(C62,females,A60,FALSE),IF(A59=\"M\",HLOOKUP(C62,males,A60,FALSE),\"\")))","v":"Jake Worton"},{"$f":"IF(OR(C62=0,C62=\"\"),\"\",IF(A59=\"F\",HLOOKUP(S62,females,A60,FALSE),IF(A59=\"M\",HLOOKUP(S62,males,A60,FALSE),\"\")))","v":"Matthew O'Connnor"},{"$f":"IF(OR(C62=0,C62=\"\"),\"\",IF(A59=\"F\",HLOOKUP(C62,females,A60+1,FALSE),IF(A59=\"M\",HLOOKUP(C62,males,A60+1,FALSE),\"\")))","v":"Steven Eastwood"},{"$f":"IF(OR(C62=0,C62=\"\"),\"\",IF(A59=\"F\",HLOOKUP(S62,females,A60+1,FALSE),IF(A59=\"M\",HLOOKUP(S62,males,A60+1,FALSE),\"\")))","v":"Jack Mitchell"},{"$f":"IF(OR(C62=0,C62=\"\",ISERROR(VLOOKUP(C62,match_teams,4,FALSE)=TRUE)),\"\",VLOOKUP(C62,match_teams,4,FALSE))","v":"Wake"},"00:03:48.210",null,5,null,null,null,null,null,null,null,{"$f":"IF(T(C62)=\"\",C62*11,CONCATENATE(C62,C62))","v":99}]
[{"$f":"VLOOKUP(B59,eventno,7,FALSE)","v":2.3459490740740741E-3},3,null,{"$f":"IF(OR(C63=0,C63=\"\"),\"\",IF(A59=\"F\",HLOOKUP(C63,females,A60,FALSE),IF(A59=\"M\",HLOOKUP(C63,males,A60,FALSE),\"\")))","v":""},{"$f":"IF(OR(C63=0,C63=\"\"),\"\",IF(A59=\"F\",HLOOKUP(S63,females,A60,FALSE),IF(A59=\"M\",HLOOKUP(S63,males,A60,FALSE),\"\")))","v":""},{"$f":"IF(OR(C63=0,C63=\"\"),\"\",IF(A59=\"F\",HLOOKUP(C63,females,A60+1,FALSE),IF(A59=\"M\",HLOOKUP(C63,males,A60+1,FALSE),\"\")))","v":""},{"$f":"IF(OR(C63=0,C63=\"\"),\"\",IF(A59=\"F\",HLOOKUP(S63,females,A60+1,FALSE),IF(A59=\"M\",HLOOKUP(S63,males,A60+1,FALSE),\"\")))","v":""},{"$f":"IF(OR(C63=0,C63=\"\",ISERROR(VLOOKUP(C63,match_teams,4,FALSE)=TRUE)),\"\",VLOOKUP(C63,match_teams,4,FALSE))","v":""},null,null,0,null,null,null,null,null,null,null,{"$f":"IF(T(C63)=\"\",C63*11,CONCATENATE(C63,C63))","v":0}]

{"sheet":"Boys (Match 1)","index":4,"n_rows":78,"n_cols":79,"rows_kept":78,"cut":false,"hidden":false,"merged":[[1,68,1,69],[1,70,1,71],[1,72,1,73],[0,2,0,6],[0,7,0,11],[0,22,0,26],[0,27,0,31],[0,42,0,46],[0,47,0,51]]}
[null,"TRACK","FIELD",null,null,null,null,"RELAY",null,null,null,null,null,null,null,null,null,null,null,null,null,"TRACK","FIELD",null,null,null,null,"RELAY",null,null,null,null,null,null,null,null,null,null,null,null,null,"TRACK","FIELD",null,null,null,null,"RELAY"]
[null,{"$f":"MatchDay!C11","v":"Wakefield"},"Sprint H","800m","100m","3000m","400mH","200m","1500m","400m","1500m S/C","4x100m R","4x400m R","Long J","Triple J","High J","Pole V","Shot","Discus","Javelin","Hammer",{"$f":"MatchDay!C13","v":"City of York"},"Sprint H","800m","100m","3000m","400mH","200m","1500m","400m","1500m S/C","4x100m R","4x400m R","Long J","Triple J","High J","Pole V","Shot","Discus","Javelin","Hammer",{"$f":"MatchDay!C15","v":"Leeds City"},"Sprint H","800m","100m","3000m","400mH","200m","1500m","400m","1500m S/C","4x100m R","4x400m R","Long J","Triple J","High J","Pole V","Shot","Discus","Javelin","Hammer",null,null,null,"Event No","Age G",null,null,{"$f":"B2","v":"Wakefield"},null,{"$f":"V2","v":"City of York"},null,{"$f":"AP2","v":"Leeds City"}]
[null,{"$f":"CONCATENATE(Handbook!$Y$1,\" Athletes\")","v":"U13B Athletes"},null,null,null,null,null,null,null,null,null,null,null,null,null,null,null,null,null,null,null,{"$f":"B3","v":"U13B Athletes"},null,null,null,null,null,null,null,null,null,null,null,null,null,null,null,null,null,null,null,{"$f":"B3","v":"U13B Athletes"},null,null,null,null,null,null,null,null,null,null,null,null,null,null,null,null,null,null,null,null,"A",null,null,null,null,null,{"$f":"MatchDay!B11","v":9},{"$f":"MatchDay!B38","v":99},{"$f":"MatchDay!B13","v":8},{"$f":"MatchDay!B40","v":88},{"$f":"MatchDay!B15","v":7},{"$f":"MatchDay!B42","v":77},101,102,103,null,"Row"]
[1,"Dylan Roberts","A",null,null,null,null,null,null,null,null,null,null,null,null,"A",null,"A",null,null,null,"Matt Hobson",null,null,"A",null,null,null,null,null,null,2,null,"A",null,null,null,"A",null,null,null,"Alex Booth",null,null,null,null,null,null,"A",null,null,null,null,null,null,"A",null,"B",null,null,null,null,"B","U13B 75m H",{"$f":"VLOOKUP(BL4,eventno2,13,FALSE)","v":"T2"},{"$f":"VLOOKUP($BM4,eventno,2,FALSE)","v":"U13B"},{"$f":"VLOOKUP($BM4,eventno,3,FALSE)","v":"75m H"},null,{"$f":"IF(COUNTIF($C$4:$C$20,\"A\")=0,\"-\",INDIRECT(CONCATENATE(\"B\",MATCH(\"A\",$C$1:$C$20,0))))","v":"Dylan Roberts"},{"$f":"IF(COUNTIF($C$4:$C$20,\"B\")=0,\"-\",INDIRECT(CONCATENATE(\"B\",MATCH(\"B\",$C$1:$C$20,0))))","v":"Harry England"},{"$f":"IF(COUNTIF($W$4:$W$20,\"A\")=0,\"-\",INDIRECT(CONCATENATE(\"V\",MATCH(\"A\",$W$1:$W$20,0))))","v":"Alex Botterill"},{"$f":"IF(COUNTIF($W$4:$W$20,\"B\")=0,\"-\",INDIRECT(CONCATENATE(\"V\",MATCH(\"B\",$W$1:$W$20,0))))","v":"-"},{"$f":"IF(COUNTIF($AQ$4:$AQ$20,\"A\")=0,\"-\",INDIRECT(CONCATENATE(\"AP\",MATCH(\"A\",$AQ$1:$AQ$20,0))))","v":"Owen Sage"},{"$f":"IF(COUNTIF($AQ$4:$AQ$20,\"B\")=0,\"-\",INDIRECT(CONCATENATE(\"AP\",MATCH(\"B\",$AQ$1:$AQ$20,0))))","v":"Khalil Abdelaziz"},"Event Cancelled","No Competitors","Opening Height Not Cleared",null,2]
[2,"Harry England","B",null,"A",null,null,null,null,null,null,1,null,"A",null,null,null,null,null,null,null,"Alex Botterill","A","A",null,null,null,"A",null,null,null,1,null,null,null,null,null,null,null,null,null,"Billy Dawson",null,"A",null,null,null,"B",null,null,null,4,null,null,null,null,null,null,null,null,null,null,null,"U15B 80m H","T5",{"$f":"VLOOKUP(BM5,eventno,2,FALSE)","v":"U15B"},"80m H",null,{"$f":"IF(COUNTIF($C$24:$C$48,\"A\")=0,\"-\",INDIRECT(CONCATENATE(\"B\",MATCH(\"A\",$C$21:$C$48,0)+20)))","v":"Patrick Thackray"},{"$f":"IF(COUNTIF($C$24:$C$48,\"B\")=0,\"-\",INDIRECT(CONCATENATE(\"B\",MATCH(\"B\",$C$21:$C$48,0)+20)))","v":"Declan Sheehan"},{"$f":"IF(COUNTIF($W$24:$W$48,\"A\")=0,\"-\",INDIRECT(CONCATENATE(\"V\",MATCH(\"A\",$W$21:$W$48,0)+20)))","v":"Tom Wood"},{"$f":"IF(COUNTIF($W$24:$W$48,\"B\")=0,\"-\",INDIRECT(CONCATENATE(\"V\",MATCH(\"B\",$W$21:$W$48,0)+20)))","v":"Phil Nesom"},{"$f":"IF(COUNTIF($AQ$24:$AQ$48,\"A\")=0,\"-\",INDIRECT(CONCATENATE(\"AP\",MATCH(\"A\",$AQ$21:$AQ$48,0)+20)))","v":"Jacob Fincham-Dukes"},{"$f":"IF(COUNTIF($AQ$24:$AQ$48,\"B\")=0,\"-\",INDIRECT(CONCATENATE(\"AP\",MATCH(\"B\",$AQ$21:$AQ$48,0)+20)))","v":"Jack Gape"},"Event Cancelled","No Competitors","Opening Height Not Cleared",null,3]
[3,"Carter Bower-Stead",null,"A",null,null,null,"B",null,null,null,3,null,null,null,"B",null,null,null,null,null,"George Mumford",null,null,null,null,null,null,null,null,null,null,null,null,null,null,null,null,null,null,null,"Dominic Peterson",null,null,"B",null,null,null,"B",null,null,3,null,null,null,null,null,null,null,null,null,null,1,"U17M 100m H","T6","U17M","100m H",null,{"$f":"IF(COUNTIF($C$52:$C$77,\"A\")=0,\"-\",INDIRECT(CONCATENATE(\"B\",MATCH(\"A\",$C$49:$C$77,0)+48)))","v":"George Brown"},{"$f":"IF(COUNTIF($C$52:$C$77,\"B\")=0,\"-\",INDIRECT(CONCATENATE(\"B\",MATCH(\"B\",$C$49:$C$77,0)+48)))","v":"-"},{"$f":"IF(COUNTIF($W$52:$W$77,\"A\")=0,\"-\",INDIRECT(CONCATENATE(\"V\",MATCH(\"A\",$W$49:$W$77,0)+48)))","v":"Adam Robinson"},{"$f":"IF(COUNTIF($W$52:$W$77,\"B\")=0,\"-\",INDIRECT(CONCATENATE(\"V\",MATCH(\"B\",$W$49:$W$77,0)+48)))","v":"-"},{"$f":"IF(COUNTIF($AQ$52:$AQ$77,\"A\")=0,\"-\",INDIRECT(CONCATENATE(\"AP\",MATCH(\"A\",$AQ$49:$AQ$77,0)+48)))","v":"Matthew Campleman"},{"$f":"IF(COUNTIF($AQ$52:$AQ$77,\"B\")=0,\"-\",INDIRECT(CONCATENATE(\"AP\",MATCH(\"B\",$AQ$49:$AQ$77,0)+48)))","v":"Andrew Russell"},"Event Cancelled","No Competitors","Opening Height Not Cleared",null,4]
[4,"Alexander Rogers",null,null,null,null,null,"A",null,null,null,2,null,null,null,null,null,null,null,null,null,"Issac Clarke",null,null,null,null,null,null,null,null,null,null,null,null,null,null,null,null,null,null,null,"Khalil Abdelaziz","B",null,null,null,null,null,null,null,null,null,null,"B",null,null,null,null,null,null,null,null,2,"U13B 800m","T10","U13B","800m",null,{"$f":"IF(COUNTIF($D$4:$D$20,\"A\")=0,\"-\",INDIRECT(CONCATENATE(\"B\",MATCH(\"A\",$D$1:$D$20,0))))","v":"Carter Bower-Stead"},{"$f":"IF(COUNTIF($D$4:$D$20,\"B\")=0,\"-\",INDIRECT(CONCATENATE(\"B\",MATCH(\"B\",$D$1:$D$20,0))))","v":"-"},{"$f":"IF(COUNTIF($X$4:$X$20,\"A\")=0,\"-\",INDIRECT(CONCATENATE(\"V\",MATCH(\"A\",$X$1:$X$20,0))))","v":"Alex Botterill"},{"$f":"IF(COUNTIF($X$4:$X$20,\"B\")=0,\"-\",INDIRECT(CONCATENATE(\"V\",MATCH(\"B\",$X$1:$X$20,0))))","v":"-"},{"$f":"IF(COUNTIF($AR$4:$AR$20,\"A\")=0,\"-\",INDIRECT(CONCATENATE(\"AP\",MATCH(\"A\",$AR$1:$AR$20,0))))","v":"Billy Dawson"},{"$f":"IF(COUNTIF($AR$4:$AR$20,\"B\")=0,\"-\",INDIRECT(CONCATENATE(\"AP\",MATCH(\"B\",$AR$1:$AR$20,0))))","v":"Owen Sage"},"Event Cancelled","No Competitors","Opening Height Not Cleared",null,5]
[5,"Edward Dunbavin",null,null,"B",null,null,null,"A",null,null,null,null,null,null,null,null,null,null,null,null,null,null,null,null,null,null,null,null,null,null,null,null,null,null,null,null,null,null,null,null,"Lewis Renton",null,null,"A",null,null,"A",null,null,null,1,null,"A",null,null,null,null,null,null,null,null,3,"U15B 800m","T11","U15B","800m",null,{"$f":"IF(COUNTIF($D$24:$D$48,\"A\")=0,\"-\",INDIRECT(CONCATENATE(\"B\",MATCH(\"A\",$D$21:$D$48,0)+20)))","v":"Sam Convery"},{"$f":"IF(COUNTIF($D$24:$D$48,\"B\")=0,\"-\",INDIRECT(CONCATENATE(\"B\",MATCH(\"B\",$D$21:$D$48,0)+20)))","v":"Ben Read"},{"$f":"IF(COUNTIF($X$24:$X$48,\"A\")=0,\"-\",INDIRECT(CONCATENATE(\"V\",MATCH(\"A\",$X$21:$X$48,0)+20)))","v":"Phil Nesom"},{"$f":"IF(COUNTIF($X$24:$X$48,\"B\")=0,\"-\",INDIRECT(CONCATENATE(\"V\",MATCH(\"B\",$X$21:$X$48,0)+20)))","v":"Tom Hobson"},{"$f":"IF(COUNTIF($AR$24:$AR$48,\"A\")=0,\"-\",INDIRECT(CONCATENATE(\"AP\",MATCH(\"A\",$AR$21:$AR$48,0)+20)))","v":"John Hubball"},{"$f":"IF(COUNTIF($AR$24:$AR$48,\"B\")=0,\"-\",INDIRECT(CONCATENATE(\"AP\",MATCH(\"B\",$AR$21:$AR$48,0)+20)))","v":"Jack Allison"},"Event Cancelled","No Competitors","Opening Height Not Cleared",null,6]
[6,"Barnaby Drew",null,null,null,null,null,null,null,null,null,4,null,"B",null,null,null,"B",null,null,null,null,null,null,null,null,null,null,null,null,null,null,null,null,null,null,null,null,null,null,null,"Mitchell Cox",null,null,null,null,null,null,null,null,null,2,null,null,null,null,null,null,null,null,null,null,4,"U17M 800m","T12","U17M","800m",null,{"$f":"IF(COUNTIF($D$52:$D$77,\"A\")=0,\"-\",INDIRECT(CONCATENATE(\"B\",MATCH(\"A\",$D$49:$D$77,0)+48)))","v":"Matthew O'Connnor"},{"$f":"IF(COUNTIF($D$52:$D$77,\"B\")=0,\"-\",INDIRECT(CONCATENATE(\"B\",MATCH(\"B\",$D$49:$D$77,0)+48)))","v":"James Saxton"},{"$f":"IF(COUNTIF($X$52:$X$77,\"A\")=0,\"-\",INDIRECT(CONCATENATE(\"V\",MATCH(\"A\",$X$49:$X$77,0)+48)))","v":"Peirre Weller"},{"$f":"IF(COUNTIF($X$52:$X$77,\"B\")=0,\"-\",INDIRECT(CONCATENATE(\"V\",MATCH(\"B\",$X$49:$X$77,0)+48)))","v":"-"},{"$f":"IF(COUNTIF($AR$52:$AR$77,\"A\")=0,\"-\",INDIRECT(CONCATENATE(\"AP\",MATCH(\"A\",$AR$49:$AR$77,0)+48)))","v":"Luke Cooper"},{"$f":"IF(COUNTIF($AR$52:$AR$77,\"B\")=0,\"-\",INDIRECT(CONCATENATE(\"AP\",MATCH(\"B\",$AR$49:$AR$77,0)+48)))","v":"-"},"Event Cancelled","No Competitors","Opening Height Not Cleared",null,7]
[7,null,null,null,null,null,null,null,null,null,null,null,null,null,null,null,null,null,null,null,null,null,null,null,null,null,null,null,null,null,null,null,null,null,null,null,null,null,null,null,null,"Owen Sage","A","B",null,null,null,null,null,null,null,null,null,null,null,null,null,"A",null,null,null,null,null,"U17M 100m","T16","U17M","100m",null,{"$f":"IF(COUNTIF($E$52:$E$77,\"A\")=0,\"-\",INDIRECT(CONCATENATE(\"B\",MATCH(\"A\",$E$49:$E$77,0)+48)))","v":"James McBorrough"},{"$f":"IF(COUNTIF($E$52:$E$77,\"B\")=0,\"-\",INDIRECT(CONCATENATE(\"B\",MATCH(\"B\",$E$49:$E$77,0)+48)))","v":"Oliver Edmunds"},{"$f":"IF(COUNTIF($Y$52:$Y$77,\"A\")=0,\"-\",INDIRECT(CONCATENATE(\"V\",MATCH(\"A\",$Y$49:$Y$77,0)+48)))","v":"Ash  Hart"},{"$f":"IF(COUNTIF($Y$52:$Y$77,\"B\")=0,\"-\",INDIRECT(CONCATENATE(\"V\",MATCH(\"B\",$Y$49:$Y$77,0)+48)))","v":"James Stanton"},{"$f":"IF(COUNTIF($AS$52:$AS$77,\"A\")=0,\"-\",INDIRECT(CONCATENATE(\"AP\",MATCH(\"A\",$AS$49:$AS$77,0)+48)))","v":"Elliott Hurley"},{"$f":"IF(COUNTIF($AS$52:$AS$77,\"B\")=0,\"-\",INDIRECT(CONCATENATE(\"AP\",MATCH(\"B\",$AS$49:$AS$77,0)+48)))","v":"Lamar Lewis"},"Event Cancelled","No Competitors","Opening Height Not Cleared",null,8]
[8,null,null,null,null,null,null,null,null,null,null,null,null,null,null,null,null,null,null,null,null,null,null,null,null,null,null,null,null,null,null,null,null,null,null,null,null,null,null,null,null,"Jack Hirst",null,null,null,null,null,null,null,null,null,null,null,null,null,null,null,null,null,null,null,null,null,"U15B 100m","T17","U15B","100m",null,{"$f":"IF(COUNTIF($E$24:$E$48,\"A\")=0,\"-\",INDIRECT(CONCATENATE(\"B\",MATCH(\"A\",$E$21:$E$48,0)+20)))","v":"Declan Sheehan"},{"$f":"IF(COUNTIF($E$24:$E$48,\"B\")=0,\"-\",INDIRECT(CONCATENATE(\"B\",MATCH(\"B\",$E$21:$E$48,0)+20)))","v":"Robert Sanderson"},{"$f":"IF(COUNTIF($Y$24:$Y$48,\"A\")=0,\"-\",INDIRECT(CONCATENATE(\"V\",MATCH(\"A\",$Y$21:$Y$48,0)+20)))","v":"Chris Searle"},{"$f":"IF(COUNTIF($Y$24:$Y$48,\"B\")=0,\"-\",INDIRECT(CONCATENATE(\"V\",MATCH(\"B\",$Y$21:$Y$48,0)+20)))","v":"Luke Nichols"},{"$f":"IF(COUNTIF($AS$24:$AS$48,\"A\")=0,\"-\",INDIRECT(CONCATENATE(\"AP\",MATCH(\"A\",$AS$21:$AS$48,0)+20)))","v":"Jack Gape"},{"$f":"IF(COUNTIF($AS$24:$AS$48,\"B\")=0,\"-\",INDIRECT(CONCATENATE(\"AP\",MATCH(\"B\",$AS$21:$AS$48,0)+20)))","v":"Finlay Fuller"},"Event Cancelled","No Competitors","Opening Height Not Cleared",null,9]
[9,null,null,null,null,null,null,null,null,null,null,null,null,null,null,null,null,null,null,null,null,null,null,null,null,null,null,null,null,null,null,null,null,null,null,null,null,null,null,null,null,null,null,null,null,null,null,null,null,null,null,null,null,null,null,null,null,null,null,null,null,null,null,"U13B 100m","T18","U13B","100m",null,{"$f":"IF(COUNTIF($E$4:$E$20,\"A\")=0,\"-\",INDIRECT(CONCATENATE(\"B\",MATCH(\"A\",$E$1:$E$20,0))))","v":"Harry England"},{"$f":"IF(COUNTIF($E$4:$E$20,\"B\")=0,\"-\",INDIRECT(CONCATENATE(\"B\",MATCH(\"B\",$E$1:$E$20,0))))","v":"Edward Dunbavin"},{"$f":"IF(COUNTIF($Y$4:$Y$20,\"A\")=0,\"-\",INDIRECT(CONCATENATE(\"V\",MATCH(\"A\",$Y$1:$Y$20,0))))","v":"Matt Hobson"},{"$f":"IF(COUNTIF($Y$4:$Y$20,\"B\")=0,\"-\",INDIRECT(CONCATENATE(\"V\",MATCH(\"B\",$Y$1:$Y$20,0))))","v":"-"},{"$f":"IF(COUNTIF($AS$4:$AS$20,\"A\")=0,\"-\",INDIRECT(CONCATENATE(\"AP\",MATCH(\"A\",$AS$1:$AS$20,0))))","v":"Lewis Renton"},{"$f":"IF(COUNTIF($AS$4:$AS$20,\"B\")=0,\"-\",INDIRECT(CONCATENATE(\"AP\",MATCH(\"B\",$AS$1:$AS$20,0))))","v":"Dominic Peterson"},"Event Cancelled","No Competitors","Opening Height Not Cleared",null,10]
[10,null,null,null,null,null,null,null,null,null,null,null,null,null,null,null,null,null,null,null,null,null,null,null,null,null,null,null,null,null,null,null,null,null,null,null,null,null,null,null,null,null,null,null,null,null,null,null,null,null,null,null,null,null,null,null,null,null,null,null,null,null,null,"U17M 3000m","T19","U17M","3000m",null,{"$f":"IF(COUNTIF($F$52:$F$77,\"A\")=0,\"-\",INDIRECT(CONCATENATE(\"B\",MATCH(\"A\",$F$49:$F$77,0)+48)))","v":"Jack Mitchell"},{"$f":"IF(COUNTIF($F$52:$F$77,\"B\")=0,\"-\",INDIRECT(CONCATENATE(\"B\",MATCH(\"B\",$F$49:$F$77,0)+48)))","v":"-"},{"$f":"IF(COUNTIF($Z$52:$Z$77,\"A\")=0,\"-\",INDIRECT(CONCATENATE(\"V\",MATCH(\"A\",$Z$49:$Z$77,0)+48)))","v":"-"},{"$f":"IF(COUNTIF($Z$52:$Z$77,\"B\")=0,\"-\",INDIRECT(CONCATENATE(\"V\",MATCH(\"B\",$Z$49:$Z$77,0)+48)))","v":"-"},{"$f":"IF(COUNTIF($AT$52:$AT$77,\"A\")=0,\"-\",INDIRECT(CONCATENATE(\"AP\",MATCH(\"A\",$AT$49:$AT$77,0)+48)))","v":"Daniel Harrison"},{"$f":"IF(COUNTIF($AT$52:$AT$77,\"B\")=0,\"-\",INDIRECT(CONCATENATE(\"AP\",MATCH(\"B\",$AT$49:$AT$77,0)+48)))","v":"-"},"Event Cancelled","No Competitors","Opening Height Not Cleared",null,11]
[11,null,null,null,null,null,null,null,null,null,null,null,null,null,null,null,null,null,null,null,null,null,null,null,null,null,null,null,null,null,null,null,null,null,null,null,null,null,null,null,null,null,null,null,null,null,null,null,null,null,null,null,null,null,null,null,null,null,null,null,null,null,null,"U17M 400m H","T22","U17M","400m H",null,{"$f":"IF(COUNTIF($G$52:$G$77,\"A\")=0,\"-\",INDIRECT(CONCATENATE(\"B\",MATCH(\"A\",$G$49:$G$77,0)+48)))","v":"George Brown"},{"$f":"IF(COUNTIF($G$52:$G$77,\"B\")=0,\"-\",INDIRECT(CONCATENATE(\"B\",MATCH(\"B\",$G$49:$G$77,0)+48)))","v":"Oliver Edmunds"},{"$f":"IF(COUNTIF($AA$52:$AA$77,\"A\")=0,\"-\",INDIRECT(CONCATENATE(\"V\",MATCH(\"A\",$AA$49:$AA$77,0)+48)))","v":"James Stanton"},{"$f":"IF(COUNTIF($AA$52:$AA$77,\"B\")=0,\"-\",INDIRECT(CONCATENATE(\"V\",MATCH(\"B\",$AA$49:$AA$77,0)+48)))","v":"-"},{"$f":"IF(COUNTIF($AU$52:$AU$77,\"A\")=0,\"-\",INDIRECT(CONCATENATE(\"AP\",MATCH(\"A\",$AU$49:$AU$77,0)+48)))","v":"-"},{"$f":"IF(COUNTIF($AU$52:$AU$77,\"B\")=0,\"-\",INDIRECT(CONCATENATE(\"AP\",MATCH(\"B\",$AU$49:$AU$77,0)+48)))","v":"-"},"Event Cancelled","No Competitors","Opening Height Not Cleared",null,12]
[12,null,null,null,null,null,null,null,null,null,null,null,null,null,null,null,null,null,null,null,null,null,null,null,null,null,null,null,null,null,null,null,null,null,null,null,null,null,null,null,null,null,null,null,null,null,null,null,null,null,null,null,null,null,null,null,null,null,null,null,null,null,null,"U13B 200m","T24","U13B","200m",null,{"$f":"IF(COUNTIF($H$4:$H$20,\"A\")=0,\"-\",INDIRECT(CONCATENATE(\"B\",MATCH(\"A\",$H$1:$H$20,0))))","v":"Alexander Rogers"},{"$f":"IF(COUNTIF($H$4:$H$20,\"B\")=0,\"-\",INDIRECT(CONCATENATE(\"B\",MATCH(\"B\",$H$1:$H$20,0))))","v":"Carter Bower-Stead"},{"$f":"IF(COUNTIF($AB$4:$AB$20,\"A\")=0,\"-\",INDIRECT(CONCATENATE(\"V\",MATCH(\"A\",$AB$1:$AB$20,0))))","v":"Alex Botterill"},{"$f":"IF(COUNTIF($AB$4:$AB$20,\"B\")=0,\"-\",INDIRECT(CONCATENATE(\"V\",MATCH(\"B\",$AB$1:$AB$20,0))))","v":"-"},{"$f":"IF(COUNTIF($AV$4:$AV$20,\"A\")=0,\"-\",INDIRECT(CONCATENATE(\"AP\",MATCH(\"A\",$AV$1:$AV$20,0))))","v":"Lewis Renton"},{"$f":"IF(COUNTIF($AV$4:$AV$20,\"B\")=0,\"-\",INDIRECT(CONCATENATE(\"AP\",MATCH(\"B\",$AV$1:$AV$20,0))))","v":"Billy Dawson"},"Event Cancelled","No Competitors","Opening Height Not Cleared",null,13]
[13,null,null,null,null,null,null,null,null,null,null,null,null,null,null,null,null,null,null,null,null,null,null,null,null,null,null,null,null,null,null,null,null,null,null,null,null,null,null,null,null,null,null,null,null,null,null,null,null,null,null,null,null,null,null,null,null,null,null,null,null,null,null,"U15B 200m","T26","U15B","200m",null,{"$f":"IF(COUNTIF($H$24:$H$48,\"A\")=0,\"-\",INDIRECT(CONCATENATE(\"B\",MATCH(\"A\",$H$21:$H$48,0)+20)))","v":"Patrick Thackray"},{"$f":"IF(COUNTIF($H$24:$H$48,\"B\")=0,\"-\",INDIRECT(CONCATENATE(\"B\",MATCH(\"B\",$H$21:$H$48,0)+20)))","v":"Ben Read"},{"$f":"IF(COUNTIF($AB$24:$AB$48,\"A\")=0,\"-\",INDIRECT(CONCATENATE(\"V\",MATCH(\"A\",$AB$21:$AB$48,0)+20)))","v":"Chris Searle"},{"$f":"IF(COUNTIF($AB$24:$AB$48,\"B\")=0,\"-\",INDIRECT(CONCATENATE(\"V\",MATCH(\"B\",$AB$21:$AB$48,0)+20)))","v":"Tom Hobson"},{"$f":"IF(COUNTIF($AV$24:$AV$48,\"A\")=0,\"-\",INDIRECT(CONCATENATE(\"AP\",MATCH(\"A\",$AV$21:$AV$48,0)+20)))","v":"Finlay Fuller"},{"$f":"IF(COUNTIF($AV$24:$AV$48,\"B\")=0,\"-\",INDIRECT(CONCATENATE(\"AP\",MATCH(\"B\",$AV$21:$AV$48,0)+20)))","v":"Thomas Harrison"},"Event Cancelled","No Competitors","Opening Height Not Cleared",null,14]
[14,null,null,null,null,null,null,null,null,null,null,null,null,null,null,null,null,null,null,null,null,null,null,null,null,null,null,null,null,null,null,null,null,null,null,null,null,null,null,null,null,null,null,null,null,null,null,null,null,null,null,null,null,null,null,null,null,null,null,null,null,null,null,"U17M 200m","T28","U17M","200m",null,{"$f":"IF(COUNTIF($H$52:$H$77,\"A\")=0,\"-\",INDIRECT(CONCATENATE(\"B\",MATCH(\"A\",$H$49:$H$77,0)+48)))","v":"James McBorrough"},{"$f":"IF(COUNTIF($H$52:$H$77,\"B\")=0,\"-\",INDIRECT(CONCATENATE(\"B\",MATCH(\"B\",$H$49:$H$77,0)+48)))","v":"Oliver Edmunds"},{"$f":"IF(COUNTIF($AB$52:$AB$77,\"A\")=0,\"-\",INDIRECT(CONCATENATE(\"V\",MATCH(\"A\",$AB$49:$AB$77,0)+48)))","v":"-"},{"$f":"IF(COUNTIF($AB$52:$AB$77,\"B\")=0,\"-\",INDIRECT(CONCATENATE(\"V\",MATCH(\"B\",$AB$49:$AB$77,0)+48)))","v":"-"},{"$f":"IF(COUNTIF($AV$52:$AV$77,\"A\")=0,\"-\",INDIRECT(CONCATENATE(\"AP\",MATCH(\"A\",$AV$49:$AV$77,0)+48)))","v":"Aqib Javed"},{"$f":"IF(COUNTIF($AV$52:$AV$77,\"B\")=0,\"-\",INDIRECT(CONCATENATE(\"AP\",MATCH(\"B\",$AV$49:$AV$77,0)+48)))","v":"Liam Braithwaite"},"Event Cancelled","No Competitors","Opening Height Not Cleared",null,15]
[15,null,null,null,null,null,null,null,null,null,null,null,null,null,null,null,null,null,null,null,null,null,null,null,null,null,null,null,null,null,null,null,null,null,null,null,null,null,null,null,null,null,null,null,null,null,null,null,null,null,null,null,null,null,null,null,null,null,null,null,null,null,null,"U13B 1500m","T30","U13B","1500m",null,{"$f":"IF(COUNTIF($I$4:$I$20,\"A\")=0,\"-\",INDIRECT(CONCATENATE(\"B\",MATCH(\"A\",$I$1:$I$20,0))))","v":"Edward Dunbavin"},{"$f":"IF(COUNTIF($I$4:$I$20,\"B\")=0,\"-\",INDIRECT(CONCATENATE(\"B\",MATCH(\"B\",$I$1:$I$20,0))))","v":"-"},{"$f":"IF(COUNTIF($AC$4:$AC$20,\"A\")=0,\"-\",INDIRECT(CONCATENATE(\"V\",MATCH(\"A\",$AC$1:$AC$20,0))))","v":"-"},{"$f":"IF(COUNTIF($AC$4:$AC$20,\"B\")=0,\"-\",INDIRECT(CONCATENATE(\"V\",MATCH(\"B\",$AC$1:$AC$20,0))))","v":"-"},{"$f":"IF(COUNTIF($AW$4:$AW$20,\"A\")=0,\"-\",INDIRECT(CONCATENATE(\"AP\",MATCH(\"A\",$AW$1:$AW$20,0))))","v":"Alex Booth"},{"$f":"IF(COUNTIF($AW$4:$AW$20,\"B\")=0,\"-\",INDIRECT(CONCATENATE(\"AP\",MATCH(\"B\",$AW$1:$AW$20,0))))","v":"Dominic Peterson"},"Event Cancelled","No Competitors","Opening Height Not Cleared",null,16]
[16,null,null,null,null,null,null,null,null,null,null,null,null,null,null,null,null,null,null,null,null,null,null,null,null,null,null,null,null,null,null,null,null,null,null,null,null,null,null,null,null,null,null,null,null,null,null,null,null,null,null,null,null,null,null,null,null,null,null,null,null,null,null,"U15B 1500m","T32","U15B","1500m",null,{"$f":"IF(COUNTIF($I$24:$I$48,\"A\")=0,\"-\",INDIRECT(CONCATENATE(\"B\",MATCH(\"A\",$I$21:$I$48,0)+20)))","v":"William Ingram"},{"$f":"IF(COUNTIF($I$24:$I$48,\"B\")=0,\"-\",INDIRECT(CONCATENATE(\"B\",MATCH(\"B\",$I$21:$I$48,0)+20)))","v":"George Heppinstall"},{"$f":"IF(COUNTIF($AC$24:$AC$48,\"A\")=0,\"-\",INDIRECT(CONCATENATE(\"V\",MATCH(\"A\",$AC$21:$AC$48,0)+20)))","v":"Ben Lewis"},{"$f":"IF(COUNTIF($AC$24:$AC$48,\"B\")=0,\"-\",INDIRECT(CONCATENATE(\"V\",MATCH(\"B\",$AC$21:$AC$48,0)+20)))","v":"James Wright"},{"$f":"IF(COUNTIF($AW$24:$AW$48,\"A\")=0,\"-\",INDIRECT(CONCATENATE(\"AP\",MATCH(\"A\",$AW$21:$AW$48,0)+20)))","v":"Ben Tootle"},{"$f":"IF(COUNTIF($AW$24:$AW$48,\"B\")=0,\"-\",INDIRECT(CONCATENATE(\"AP\",MATCH(\"B\",$AW$21:$AW$48,0)+20)))","v":"Kieran Savage"},"Event Cancelled","No Competitors","Opening Height Not Cleared",null,17]
[17,null,null,null,null,null,null,null,null,null,null,null,null,null,null,null,null,null,null,null,null,null,null,null,null,null,null,null,null,null,null,null,null,null,null,null,null,null,null,null,null,null,null,null,null,null,null,null,null,null,null,null,null,null,null,null,null,null,null,null,null,null,null,"U17M 1500m","T34","U17M","1500m",null,{"$f":"IF(COUNTIF($I$52:$I$77,\"A\")=0,\"-\",INDIRECT(CONCATENATE(\"B\",MATCH(\"A\",$I$49:$I$77,0)+48)))","v":"Steven Eastwood"},{"$f":"IF(COUNTIF($I$52:$I$77,\"B\")=0,\"-\",INDIRECT(CONCATENATE(\"B\",MATCH(\"B\",$I$49:$I$77,0)+48)))","v":"Daniel Franks"},{"$f":"IF(COUNTIF($AC$52:$AC$77,\"A\")=0,\"-\",INDIRECT(CONCATENATE(\"V\",MATCH(\"A\",$AC$49:$AC$77,0)+48)))","v":"-"},{"$f":"IF(COUNTIF($AC$52:$AC$77,\"B\")=0,\"-\",INDIRECT(CONCATENATE(\"V\",MATCH(\"B\",$AC$49:$AC$77,0)+48)))","v":"-"},{"$f":"IF(COUNTIF($AW$52:$AW$77,\"A\")=0,\"-\",INDIRECT(CONCATENATE(\"AP\",MATCH(\"A\",$AW$49:$AW$77,0)+48)))","v":"Sean Flanagan"},{"$f":"IF(COUNTIF($AW$52:$AW$77,\"B\")=0,\"-\",INDIRECT(CONCATENATE(\"AP\",MATCH(\"B\",$AW$49:$AW$77,0)+48)))","v":"Daniel Harrison"},"Event Cancelled","No Competitors","Opening Height Not Cleared",null,18]
[null,null,null,null,null,null,null,null,null,null,null,null,null,null,null,null,null,null,null,null,null,null,null,null,null,null,null,null,null,null,null,null,null,null,null,null,null,null,null,null,null,null,null,null,null,null,null,null,null,null,null,null,null,null,null,null,null,null,null,null,null,null,null,"U15B 400m","T36","U15B","400m",null,{"$f":"IF(COUNTIF($J$24:$J$48,\"A\")=0,\"-\",INDIRECT(CONCATENATE(\"B\",MATCH(\"A\",$J$21:$J$48,0)+20)))","v":"Robert Sanderson"},{"$f":"IF(COUNTIF($J$24:$J$48,\"B\")=0,\"-\",INDIRECT(CONCATENATE(\"B\",MATCH(\"B\",$J$21:$J$48,0)+20)))","v":"Logan Gibb"},{"$f":"IF(COUNTIF($AD$24:$AD$48,\"A\")=0,\"-\",INDIRECT(CONCATENATE(\"V\",MATCH(\"A\",$AD$21:$AD$48,0)+20)))","v":"Tom Wood"},{"$f":"IF(COUNTIF($AD$24:$AD$48,\"B\")=0,\"-\",INDIRECT(CONCATENATE(\"V\",MATCH(\"B\",$AD$21:$AD$48,0)+20)))","v":"Phil Nesom"},{"$f":"IF(COUNTIF($AX$24:$AX$48,\"A\")=0,\"-\",INDIRECT(CONCATENATE(\"AP\",MATCH(\"A\",$AX$21:$AX$48,0)+20)))","v":"Jack Allison"},{"$f":"IF(COUNTIF($AX$24:$AX$48,\"B\")=0,\"-\",INDIRECT(CONCATENATE(\"AP\",MATCH(\"B\",$AX$21:$AX$48,0)+20)))","v":"John Hubball"},"Event Cancelled","No Competitors","Opening Height Not Cleared",null,19]
[null,null,null,null,null,null,null,null,null,null,null,null,null,null,null,null,null,null,null,null,null,null,null,null,null,null,null,null,null,null,null,null,null,null,null,null,null,null,null,null,null,null,null,null,null,null,null,null,null,null,null,null,null,null,null,null,null,null,null,null,null,null,null,"U17M 400m","T37","U17M","400m",null,{"$f":"IF(COUNTIF($J$52:$J$77,\"A\")=0,\"-\",INDIRECT(CONCATENATE(\"B\",MATCH(\"A\",$J$49:$J$77,0)+48)))","v":"Matthew O'Connnor"},{"$f":"IF(COUNTIF($J$52:$J$77,\"B\")=0,\"-\",INDIRECT(CONCATENATE(\"B\",MATCH(\"B\",$J$49:$J$77,0)+48)))","v":"James Saxton"},{"$f":"IF(COUNTIF($AD$52:$AD$77,\"A\")=0,\"-\",INDIRECT(CONCATENATE(\"V\",MATCH(\"A\",$AD$49:$AD$77,0)+48)))","v":"Ash  Hart"},{"$f":"IF(COUNTIF($AD$52:$AD$77,\"B\")=0,\"-\",INDIRECT(CONCATENATE(\"V\",MATCH(\"B\",$AD$49:$AD$77,0)+48)))","v":"Peirre Weller"},{"$f":"IF(COUNTIF($AX$52:$AX$77,\"A\")=0,\"-\",INDIRECT(CONCATENATE(\"AP\",MATCH(\"A\",$AX$49:$AX$77,0)+48)))","v":"Luke Cooper"},{"$f":"IF(COUNTIF($AX$52:$AX$77,\"B\")=0,\"-\",INDIRECT(CONCATENATE(\"AP\",MATCH(\"B\",$AX$49:$AX$77,0)+48)))","v":"Liam Braithwaite"},"Event Cancelled","No Competitors","Opening Height Not Cleared",null,20]
[null,{"$f":"CONCATENATE(Handbook!$Z$1,\" Athletes\")","v":"U15B Athletes"},null,null,null,null,null,null,null,null,null,null,null,null,null,null,null,null,null,null,null,{"$f":"B23","v":"U15B Athletes"},null,null,null,null,null,null,null,null,null,null,null,null,null,null,null,null,null,null,null,{"$f":"B23","v":"U15B Athletes"},null,null,null,null,null,null,null,null,null,null,null,null,null,null,null,null,null,null,null,null,null,"U17M 4 x 100m Relay","T39","U17M","4 x 100m Relay",null,{"$f":"IF(COUNTIF($L$52:$L$77,\"1\")=0,\"-\",INDIRECT(CONCATENATE(\"B\",MATCH(1,$L$49:$L$77,0)+48)))","v":"Andrew Lorkins"},{"$f":"IF(COUNTIF($L$52:$L$77,\"2\")=0,\"-\",INDIRECT(CONCATENATE(\"B\",MATCH(2,$L$49:$L$77,0)+48)))","v":"George Brown"},{"$f":"IF(COUNTIF($AF$52:$AF$77,\"1\")=0,\"-\",INDIRECT(CONCATENATE(\"V\",MATCH(1,$AF$49:$AF$77,0)+48)))","v":"Adam Robinson"},{"$f":"IF(COUNTIF($AF$52:$AF$77,\"2\")=0,\"-\",INDIRECT(CONCATENATE(\"V\",MATCH(2,$AF$49:$AF$77,0)+48)))","v":"Peirre Weller"},{"$f":"IF(COUNTIF($AZ$52:$AZ$77,\"1\")=0,\"-\",INDIRECT(CONCATENATE(\"AP\",MATCH(1,$AZ$49:$AZ$77,0)+48)))","v":"Aqib Javed"},{"$f":"IF(COUNTIF($AZ$52:$AZ$77,\"2\")=0,\"-\",INDIRECT(CONCATENATE(\"AP\",MATCH(2,$AZ$49:$AZ$77,0)+48)))","v":"Connor Morley"},"Event Cancelled","No Competitors","Opening Height Not Cleared",null,21]
[18,"Patrick Thackray","A",null,null,null,null,"A",null,null,null,1,null,null,null,null,null,null,null,"A",null,"Luke Nichols",null,null,"B",null,null,null,null,null,null,2,null,null,null,null,null,null,"A","B",null,"Ben Tootle",null,null,null,null,null,null,"A",null,null,null,3,null,null,null,null,null,null,null,null,null,null,null,null,null,null,null,{"$f":"IF(COUNTIF($L$52:$L$77,\"3\")=0,\"-\",INDIRECT(CONCATENATE(\"B\",MATCH(3,$L$49:$L$77,0)+48)))","v":"James McBorrough"},{"$f":"IF(COUNTIF($L$52:$L$77,\"4\")=0,\"-\",INDIRECT(CONCATENATE(\"B\",MATCH(4,$L$49:$L$77,0)+48)))","v":"Oliver Edmunds"},{"$f":"IF(COUNTIF($AF$52:$AF$77,\"3\")=0,\"-\",INDIRECT(CONCATENATE(\"V\",MATCH(3,$AF$49:$AF$77,0)+48)))","v":"James Stanton"},{"$f":"IF(COUNTIF($AF$52:$AF$77,\"4\")=0,\"-\",INDIRECT(CONCATENATE(\"V\",MATCH(4,$AF$49:$AF$77,0)+48)))","v":"Ash  Hart"},{"$f":"IF(COUNTIF($AZ$52:$AZ$77,\"3\")=0,\"-\",INDIRECT(CONCATENATE(\"AP\",MATCH(3,$AZ$49:$AZ$77,0)+48)))","v":"Lamar Lewis"},{"$f":"IF(COUNTIF($AZ$52:$AZ$77,\"4\")=0,\"-\",INDIRECT(CONCATENATE(\"AP\",MATCH(4,$AZ$49:$AZ$77,0)+48)))","v":"Elliott Hurley"},"Event Cancelled","No Competitors","Opening Height Not Cleared",null,22]
[19,"Declan Sheehan","B",null,"A",null,null,null,null,null,null,null,null,"A",null,null,null,null,null,null,null,"Ben Lewis",null,null,null,null,null,null,"A",null,null,null,3,null,null,null,null,null,null,null,"B","Dominic Owens ",null,null,null,null,null,null,null,null,null,null,null,null,null,null,null,null,null,null,null,null,null,"U15B 4 x 100m Relay",{"$f":"VLOOKUP(BL25,eventno2,13,FALSE)","v":"T41"},{"$f":"VLOOKUP(BM25,eventno,2,FALSE)","v":"U15B"},{"$f":"VLOOKUP($BM25,eventno,3,FALSE)","v":"4 x 100m Relay"},null,{"$f":"IF(COUNTIF($L$24:$L$48,\"1\")=0,\"-\",INDIRECT(CONCATENATE(\"B\",MATCH(1,$L$21:$L$48,0)+20)))","v":"Patrick Thackray"},{"$f":"IF(COUNTIF($L$24:$L$48,\"2\")=0,\"-\",INDIRECT(CONCATENATE(\"B\",MATCH(2,$L$21:$L$48,0)+20)))","v":"Robert Sanderson"},{"$f":"IF(COUNTIF($AF$24:$AF$48,\"1\")=0,\"-\",INDIRECT(CONCATENATE(\"V\",MATCH(1,$AF$21:$AF$48,0)+20)))","v":"Chris Searle"},{"$f":"IF(COUNTIF($AF$24:$AF$48,\"2\")=0,\"-\",INDIRECT(CONCATENATE(\"V\",MATCH(2,$AF$21:$AF$48,0)+20)))","v":"Luke Nichols"},{"$f":"IF(COUNTIF($AZ$24:$AZ$48,\"1\")=0,\"-\",INDIRECT(CONCATENATE(\"AP\",MATCH(1,$AZ$21:$AZ$48,0)+20)))","v":"Jacob Fincham-Dukes"},{"$f":"IF(COUNTIF($AZ$24:$AZ$48,\"2\")=0,\"-\",INDIRECT(CONCATENATE(\"AP\",MATCH(2,$AZ$21:$AZ$48,0)+20)))","v":"Thomas Harrison"},"Event Cancelled","No Competitors","Opening Height Not Cleared",null,23]
[20,"Sam Convery",null,"A",null,null,null,null,null,null,null,null,1,null,null,null,null,null,null,"B",null,"James Wright",null,null,null,null,null,null,"B",null,null,null,4,null,null,"A",null,null,null,null,null,"Finlay Fuller",null,null,"B",null,null,"A",null,null,null,4,null,"A",null,null,null,null,null,null,null,null,null,null,null,null,null,null,{"$f":"IF(COUNTIF($L$24:$L$48,\"3\")=0,\"-\",INDIRECT(CONCATENATE(\"B\",MATCH(3,$L$21:$L$48,0)+20)))","v":"Logan Gibb"},{"$f":"IF(COUNTIF($L$24:$L$48,\"4\")=0,\"-\",INDIRECT(CONCATENATE(\"B\",MATCH(4,$L$21:$L$48,0)+20)))","v":"George Heppinstall"},{"$f":"IF(COUNTIF($AF$24:$AF$48,\"3\")=0,\"-\",INDIRECT(CONCATENATE(\"V\",MATCH(3,$AF$21:$AF$48,0)+20)))","v":"Tom Hobson"},{"$f":"IF(COUNTIF($AF$24:$AF$48,\"4\")=0,\"-\",INDIRECT(CONCATENATE(\"V\",MATCH(4,$AF$21:$AF$48,0)+20)))","v":"Matthew Richardson"},{"$f":"IF(COUNTIF($AZ$24:$AZ$48,\"3\")=0,\"-\",INDIRECT(CONCATENATE(\"AP\",MATCH(3,$AZ$21:$AZ$48,0)+20)))","v":"Jack Gape"},{"$f":"IF(COUNTIF($AZ$24:$AZ$48,\"4\")=0,\"-\",INDIRECT(CONCATENATE(\"AP\",MATCH(4,$AZ$21:$AZ$48,0)+20)))","v":"Finlay Fuller"},"Event Cancelled","No Competitors","Opening Height Not Cleared",null,24]
[21,"Ben Read",null,"B",null,null,null,"B",null,null,null,null,2,"B",null,null,null,null,null,null,null,"Jonny Swain",null,null,null,null,null,null,null,null,null,null,null,null,null,null,null,"A",null,"A","A","George Armstrong",null,null,null,null,null,null,null,null,null,null,null,null,null,null,null,null,"A","A","A",null,null,"U13B 4 x 100m Relay",{"$f":"VLOOKUP(BL27,eventno2,13,FALSE)","v":"T43"},{"$f":"VLOOKUP(BM27,eventno,2,FALSE)","v":"U13B"},{"$f":"VLOOKUP($BM27,eventno,3,FALSE)","v":"4 x 100m Relay"},null,{"$f":"IF(COUNTIF($L$4:$L$20,\"1\")=0,\"-\",INDIRECT(CONCATENATE(\"B\",MATCH(1,$L$1:$L$20,0))))","v":"Harry England"},{"$f":"IF(COUNTIF($L$4:$L$20,\"2\")=0,\"-\",INDIRECT(CONCATENATE(\"B\",MATCH(2,$L$1:$L$20,0))))","v":"Alexander Rogers"},{"$f":"IF(COUNTIF($AF$4:$AF$20,\"1\")=0,\"-\",INDIRECT(CONCATENATE(\"V\",MATCH(1,$AF$1:$AF$20,0))))","v":"Alex Botterill"},{"$f":"IF(COUNTIF($AF$4:$AF$20,\"2\")=0,\"-\",INDIRECT(CONCATENATE(\"V\",MATCH(2,$AF$1:$AF$20,0))))","v":"Matt Hobson"},{"$f":"IF(COUNTIF($AZ$4:$AZ$20,\"1\")=0,\"-\",INDIRECT(CONCATENATE(\"AP\",MATCH(1,$AZ$1:$AZ$20,0))))","v":"Lewis Renton"},{"$f":"IF(COUNTIF($AZ$4:$AZ$20,\"2\")=0,\"-\",INDIRECT(CONCATENATE(\"AP\",MATCH(2,$AZ$1:$AZ$20,0))))","v":"Mitchell Cox"},"Event Cancelled","No Competitors","Opening Height Not Cleared",null,25]
[22,"Robert Sanderson",null,null,"B",null,null,null,null,"A",null,2,null,null,null,null,null,null,null,null,null,"Chris Searle",null,null,"A",null,null,"A",null,null,null,1,null,"A",null,null,null,null,null,null,null,"Harris Hameed",null,null,null,null,null,null,null,null,null,null,null,null,null,null,null,"A","B",null,"B",null,null,null,null,null,null,null,{"$f":"IF(COUNTIF($L$4:$L$20,\"3\")=0,\"-\",INDIRECT(CONCATENATE(\"B\",MATCH(3,$L$1:$L$20,0))))","v":"Carter Bower-Stead"},{"$f":"IF(COUNTIF($L$4:$L$20,\"4\")=0,\"-\",INDIRECT(CONCATENATE(\"B\",MATCH(4,$L$1:$L$20,0))))","v":"Barnaby Drew"},{"$f":"IF(COUNTIF($AF$4:$AF$20,\"3\")=0,\"-\",INDIRECT(CONCATENATE(\"V\",MATCH(3,$AF$1:$AF$20,0))))","v":"-"},{"$f":"IF(COUNTIF($AF$4:$AF$20,\"4\")=0,\"-\",INDIRECT(CONCATENATE(\"V\",MATCH(4,$AF$1:$AF$20,0))))","v":"-"},{"$f":"IF(COUNTIF($AZ$4:$AZ$20,\"3\")=0,\"-\",INDIRECT(CONCATENATE(\"AP\",MATCH(3,$AZ$1:$AZ$20,0))))","v":"Dominic Peterson"},{"$f":"IF(COUNTIF($AZ$4:$AZ$20,\"4\")=0,\"-\",INDIRECT(CONCATENATE(\"AP\",MATCH(4,$AZ$1:$AZ$20,0))))","v":"Billy Dawson"},"Event Cancelled","No Competitors","Opening Height Not Cleared",null,26]
[23,"William Ingram",null,null,null,null,null,null,"A",null,null,null,4,null,null,null,null,"A",null,null,"B","Tom Hobson",null,"B",null,null,null,"B",null,null,null,3,null,null,null,null,null,null,null,null,null,"Jack Allison",null,"B",null,null,null,null,null,"A",null,null,4,null,null,null,null,null,null,null,null,null,null,"U17M 1500m S/Chase",{"$f":"VLOOKUP(BL29,eventno2,13,FALSE)","v":"T45"},{"$f":"VLOOKUP(BM29,eventno,2,FALSE)","v":"U17M"},{"$f":"VLOOKUP($BM29,eventno,3,FALSE)","v":"1500m S/Chase"},null,{"$f":"IF(COUNTIF($K$52:$K$77,\"A\")=0,\"-\",INDIRECT(CONCATENATE(\"B\",MATCH(\"A\",$K$49:$K$77,0)+48)))","v":"Jake Worton"},{"$f":"IF(COUNTIF($K$52:$K$77,\"B\")=0,\"-\",INDIRECT(CONCATENATE(\"B\",MATCH(\"B\",$K$49:$K$77,0)+48)))","v":"Jordan Turner"},{"$f":"IF(COUNTIF($AE$52:$AE$77,\"A\")=0,\"-\",INDIRECT(CONCATENATE(\"V\",MATCH(\"A\",$AE$49:$AE$77,0)+48)))","v":"-"},{"$f":"IF(COUNTIF($AE$52:$AE$77,\"B\")=0,\"-\",INDIRECT(CONCATENATE(\"V\",MATCH(\"B\",$AE$49:$AE$77,0)+48)))","v":"-"},{"$f":"IF(COUNTIF($AY$52:$AY$77,\"A\")=0,\"-\",INDIRECT(CONCATENATE(\"AP\",MATCH(\"A\",$AY$49:$AY$77,0)+48)))","v":"-"},{"$f":"IF(COUNTIF($AY$52:$AY$77,\"B\")=0,\"-\",INDIRECT(CONCATENATE(\"AP\",MATCH(\"B\",$AY$49:$AY$77,0)+48)))","v":"-"},"Event Cancelled","No Competitors","Opening Height Not Cleared",null,27]
[24,"George Heppinstall",null,null,null,null,null,null,"B",null,null,4,null,null,null,"B",null,null,"B",null,null,"Tom Wood","A",null,null,null,null,null,null,"A",null,null,2,null,null,null,null,null,null,null,null,"Jack Gape","B",null,"A",null,null,null,null,null,null,3,null,null,null,"B",null,null,null,null,null,null,null,"U15B 4 x 400m Relay",{"$f":"VLOOKUP(BL30,eventno2,13,FALSE)","v":"T46"},{"$f":"VLOOKUP(BM30,eventno,2,FALSE)","v":"U15B"},{"$f":"VLOOKUP($BM30,eventno,3,FALSE)","v":"4 x 400m Relay"},null,{"$f":"IF(COUNTIF($M$24:$M$48,\"1\")=0,\"-\",INDIRECT(CONCATENATE(\"B\",MATCH(1,$M$21:$M$48,0)+20)))","v":"Sam Convery"},{"$f":"IF(COUNTIF($M$24:$M$48,\"2\")=0,\"-\",INDIRECT(CONCATENATE(\"B\",MATCH(2,$M$21:$M$48,0)+20)))","v":"Ben Read"},{"$f":"IF(COUNTIF($AG$24:$AG$48,\"1\")=0,\"-\",INDIRECT(CONCATENATE(\"V\",MATCH(1,$AG$21:$AG$48,0)+20)))","v":"Phil Nesom"},{"$f":"IF(COUNTIF($AG$24:$AG$48,\"2\")=0,\"-\",INDIRECT(CONCATENATE(\"V\",MATCH(2,$AG$21:$AG$48,0)+20)))","v":"Tom Wood"},{"$f":"IF(COUNTIF($BA$24:$BA$48,\"1\")=0,\"-\",INDIRECT(CONCATENATE(\"AP\",MATCH(1,$BA$21:$BA$48,0)+20)))","v":"Kieran Savage"},{"$f":"IF(COUNTIF($BA$24:$BA$48,\"2\")=0,\"-\",INDIRECT(CONCATENATE(\"AP\",MATCH(2,$BA$21:$BA$48,0)+20)))","v":"John Hubball"},"Event Cancelled","No Competitors","Opening Height Not Cleared",null,28]
[25,"Logan Gibb",null,null,null,null,null,null,null,"B",null,3,null,null,null,null,null,null,null,null,null,"Phil Nesom","B","A",null,null,null,null,null,"B",null,null,1,null,null,null,null,null,null,null,null,"Jacob Fincham-Dukes","A",null,null,null,null,null,null,null,null,1,null,null,null,"A",null,null,null,null,null,null,null,null,null,null,null,null,{"$f":"IF(COUNTIF($M$24:$M$48,\"3\")=0,\"-\",INDIRECT(CONCATENATE(\"B\",MATCH(3,$M$21:$M$48,0)+20)))","v":"Andrew Jones"},{"$f":"IF(COUNTIF($M$24:$M$48,\"4\")=0,\"-\",INDIRECT(CONCATENATE(\"B\",MATCH(4,$M$21:$M$48,0)+20)))","v":"William Ingram"},{"$f":"IF(COUNTIF($AG$24:$AG$48,\"3\")=0,\"-\",INDIRECT(CONCATENATE(\"V\",MATCH(3,$AG$21:$AG$48,0)+20)))","v":"Ben Lewis"},{"$f":"IF(COUNTIF($AG$24:$AG$48,\"4\")=0,\"-\",INDIRECT(CONCATENATE(\"V\",MATCH(4,$AG$21:$AG$48,0)+20)))","v":"James Wright"},{"$f":"IF(COUNTIF($BA$24:$BA$48,\"3\")=0,\"-\",INDIRECT(CONCATENATE(\"AP\",MATCH(3,$BA$21:$BA$48,0)+20)))","v":"Ben Tootle"},{"$f":"IF(COUNTIF($BA$24:$BA$48,\"4\")=0,\"-\",INDIRECT(CONCATENATE(\"AP\",MATCH(4,$BA$21:$BA$48,0)+20)))","v":"Jack Allison"},"Event Cancelled","No Competitors","Opening Height Not Cleared",null,29]
[26,"Adam Lofthouse",null,null,null,null,null,null,null,null,null,null,null,null,null,null,null,"B",null,null,null,"Matthew Richardson",null,null,null,null,null,null,null,null,null,4,null,"B",null,"B",null,"B",null,null,null,"John Hubball",null,"A",null,null,null,null,null,"B",null,null,2,null,null,null,null,null,null,null,null,null,null,"U17M 4 x 400m Relay",{"$f":"VLOOKUP(BL32,eventno2,13,FALSE)","v":"T47"},{"$f":"VLOOKUP(BM32,eventno,2,FALSE)","v":"U17M"},{"$f":"VLOOKUP($BM32,eventno,3,FALSE)","v":"4 x 400m Relay"},null,{"$f":"IF(COUNTIF($M$52:$M$77,\"1\")=0,\"-\",INDIRECT(CONCATENATE(\"B\",MATCH(1,$M$49:$M$77,0)+48)))","v":"Jake Worton"},{"$f":"IF(COUNTIF($M$52:$M$77,\"2\")=0,\"-\",INDIRECT(CONCATENATE(\"B\",MATCH(2,$M$49:$M$77,0)+48)))","v":"Matthew O'Connnor"},{"$f":"IF(COUNTIF($AG$52:$AG$77,\"1\")=0,\"-\",INDIRECT(CONCATENATE(\"V\",MATCH(1,$AG$49:$AG$77,0)+48)))","v":"-"},{"$f":"IF(COUNTIF($AG$52:$AG$77,\"2\")=0,\"-\",INDIRECT(CONCATENATE(\"V\",MATCH(2,$AG$49:$AG$77,0)+48)))","v":"-"},{"$f":"IF(COUNTIF($BA$52:$BA$77,\"1\")=0,\"-\",INDIRECT(CONCATENATE(\"AP\",MATCH(1,$BA$49:$BA$77,0)+48)))","v":"Matthew Campleman"},{"$f":"IF(COUNTIF($BA$52:$BA$77,\"2\")=0,\"-\",INDIRECT(CONCATENATE(\"AP\",MATCH(2,$BA$49:$BA$77,0)+48)))","v":"Liam Braithwaite"},"Event Cancelled","No Competitors","Opening Height Not Cleared",null,30]
[27,"Andrew Jones",null,null,null,null,null,null,null,null,null,null,3,null,null,null,"A",null,"A",null,"A","Alex Christie",null,null,null,null,null,null,null,null,null,null,null,null,null,null,null,null,null,null,null,"Jonathan Webster",null,null,null,null,null,null,null,null,null,null,null,null,null,null,"A",null,null,null,null,null,null,null,null,null,null,null,{"$f":"IF(COUNTIF($M$52:$M$77,\"3\")=0,\"-\",INDIRECT(CONCATENATE(\"B\",MATCH(3,$M$49:$M$77,0)+48)))","v":"Steven Eastwood"},{"$f":"IF(COUNTIF($M$52:$M$77,\"4\")=0,\"-\",INDIRECT(CONCATENATE(\"B\",MATCH(4,$M$49:$M$77,0)+48)))","v":"Jack Mitchell"},{"$f":"IF(COUNTIF($AG$52:$AG$77,\"3\")=0,\"-\",INDIRECT(CONCATENATE(\"V\",MATCH(3,$AG$49:$AG$77,0)+48)))","v":"-"},{"$f":"IF(COUNTIF($AG$52:$AG$77,\"4\")=0,\"-\",INDIRECT(CONCATENATE(\"V\",MATCH(4,$AG$49:$AG$77,0)+48)))","v":"-"},{"$f":"IF(COUNTIF($BA$52:$BA$77,\"3\")=0,\"-\",INDIRECT(CONCATENATE(\"AP\",MATCH(3,$BA$49:$BA$77,0)+48)))","v":"Sean Flanagan"},{"$f":"IF(COUNTIF($BA$52:$BA$77,\"4\")=0,\"-\",INDIRECT(CONCATENATE(\"AP\",MATCH(4,$BA$49:$BA$77,0)+48)))","v":"Luke Cooper"},"Event Cancelled","No Competitors","Opening Height Not Cleared",null,31]
[28,null,null,null,null,null,null,null,null,null,null,null,null,null,null,null,null,null,null,null,null,null,null,null,null,null,null,null,null,null,null,null,null,null,null,null,null,null,null,null,null,"Kieran Savage",null,null,null,null,null,null,"B",null,null,null,1,null,null,null,null,null,null,"B",null,null,null,"U13B Long Jump",{"$f":"VLOOKUP(BL34,eventno2,13,FALSE)","v":"F1"},{"$f":"VLOOKUP(BM34,eventno,2,FALSE)","v":"U13B"},{"$f":"VLOOKUP($BM34,eventno,3,FALSE)","v":"Long Jump"},null,{"$f":"IF(COUNTIF($N$4:$N$20,\"A\")=0,\"-\",INDIRECT(CONCATENATE(\"B\",MATCH(\"A\",$N$1:$N$20,0))))","v":"Harry England"},{"$f":"IF(COUNTIF($N$4:$N$20,\"B\")=0,\"-\",INDIRECT(CONCATENATE(\"B\",MATCH(\"B\",$N$1:$N$20,0))))","v":"Barnaby Drew"},{"$f":"IF(COUNTIF($AH$4:$AH$20,\"A\")=0,\"-\",INDIRECT(CONCATENATE(\"V\",MATCH(\"A\",$AH$1:$AH$20,0))))","v":"Matt Hobson"},{"$f":"IF(COUNTIF($AH$4:$AH$20,\"B\")=0,\"-\",INDIRECT(CONCATENATE(\"V\",MATCH(\"B\",$AH$1:$AH$20,0))))","v":"-"},{"$f":"IF(COUNTIF($BB$4:$BB$20,\"A\")=0,\"-\",INDIRECT(CONCATENATE(\"AP\",MATCH(\"A\",$BB$1:$BB$20,0))))","v":"Lewis Renton"},{"$f":"IF(COUNTIF($BB$4:$BB$20,\"B\")=0,\"-\",INDIRECT(CONCATENATE(\"AP\",MATCH(\"B\",$BB$1:$BB$20,0))))","v":"Khalil Abdelaziz"},"Event Cancelled","No Competitors","Opening Height Not Cleared",null,32]
[29,null,null,null,null,null,null,null,null,null,null,null,null,null,null,null,null,null,null,null,null,null,null,null,null,null,null,null,null,null,null,null,null,null,null,null,null,null,null,null,null,"Louie Hurley",null,null,null,null,null,null,null,null,null,null,null,null,null,null,null,null,null,null,null,null,null,"U17M High Jump","F2","U17M","High Jump",null,{"$f":"IF(COUNTIF($P$52:$P$77,\"A\")=0,\"-\",INDIRECT(CONCATENATE(\"B\",MATCH(\"A\",$P$49:$P$77,0)+48)))","v":"Mark Stringer"},{"$f":"IF(COUNTIF($P$52:$P$77,\"B\")=0,\"-\",INDIRECT(CONCATENATE(\"B\",MATCH(\"B\",$P$49:$P$77,0)+48)))","v":"-"},{"$f":"IF(COUNTIF($AJ$52:$AJ$77,\"A\")=0,\"-\",INDIRECT(CONCATENATE(\"V\",MATCH(\"A\",$AJ$49:$AJ$77,0)+48)))","v":"-"},{"$f":"IF(COUNTIF($AJ$52:$AJ$77,\"B\")=0,\"-\",INDIRECT(CONCATENATE(\"V\",MATCH(\"B\",$AJ$49:$AJ$77,0)+48)))","v":"-"},{"$f":"IF(COUNTIF($BD$52:$BD$77,\"A\")=0,\"-\",INDIRECT(CONCATENATE(\"AP\",MATCH(\"A\",$BD$49:$BD$77,0)+48)))","v":"Connor Morley"},{"$f":"IF(COUNTIF($BD$52:$BD$77,\"B\")=0,\"-\",INDIRECT(CONCATENATE(\"AP\",MATCH(\"B\",$BD$49:$BD$77,0)+48)))","v":"Dylan Bradley"},"Event Cancelled","No Competitors","Opening Height Not Cleared",null,33]
[30,null,null,null,null,null,null,null,null,null,null,null,null,null,null,null,null,null,null,null,null,null,null,null,null,null,null,null,null,null,null,null,null,null,null,null,null,null,null,null,null,"Thomas Harrison",null,null,null,null,null,"B",null,null,null,2,null,"B",null,null,null,"B",null,null,null,null,null,"U15B High Jump","F3","U15B","High Jump",null,{"$f":"IF(COUNTIF($P$24:$P$48,\"A\")=0,\"-\",INDIRECT(CONCATENATE(\"B\",MATCH(\"A\",$P$21:$P$48,0)+20)))","v":"-"},{"$f":"IF(COUNTIF($P$24:$P$48,\"B\")=0,\"-\",INDIRECT(CONCATENATE(\"B\",MATCH(\"B\",$P$21:$P$48,0)+20)))","v":"George Heppinstall"},{"$f":"IF(COUNTIF($AJ$24:$AJ$48,\"A\")=0,\"-\",INDIRECT(CONCATENATE(\"V\",MATCH(\"A\",$AJ$21:$AJ$48,0)+20)))","v":"James Wright"},{"$f":"IF(COUNTIF($AJ$24:$AJ$48,\"B\")=0,\"-\",INDIRECT(CONCATENATE(\"V\",MATCH(\"B\",$AJ$21:$AJ$48,0)+20)))","v":"Matthew Richardson"},{"$f":"IF(COUNTIF($BD$24:$BD$48,\"A\")=0,\"-\",INDIRECT(CONCATENATE(\"AP\",MATCH(\"A\",$BD$21:$BD$48,0)+20)))","v":"Jacob Fincham-Dukes"},{"$f":"IF(COUNTIF($BD$24:$BD$48,\"B\")=0,\"-\",INDIRECT(CONCATENATE(\"AP\",MATCH(\"B\",$BD$21:$BD$48,0)+20)))","v":"Jack Gape"},"Event Cancelled","No Competitors","Opening Height Not Cleared",null,34]
[31,null,null,null,null,null,null,null,null,null,null,null,null,null,null,null,null,null,null,null,null,null,null,null,null,null,null,null,null,null,null,null,null,null,null,null,null,null,null,null,null,null,null,null,null,null,null,null,null,null,null,null,null,null,null,null,null,null,null,null,null,null,null,"U15B Hammer","F4","U15B","Hammer",null,{"$f":"IF(COUNTIF($U$24:$U$48,\"A\")=0,\"-\",INDIRECT(CONCATENATE(\"B\",MATCH(\"A\",$U$21:$U$48,0)+20)))","v":"Andrew Jones"},{"$f":"IF(COUNTIF($U$24:$U$48,\"B\")=0,\"-\",INDIRECT(CONCATENATE(\"B\",MATCH(\"B\",$U$21:$U$48,0)+20)))","v":"William Ingram"},{"$f":"IF(COUNTIF($AO$24:$AO$48,\"A\")=0,\"-\",INDIRECT(CONCATENATE(\"V\",MATCH(\"A\",$AO$21:$AO$48,0)+20)))","v":"Jonny Swain"},{"$f":"IF(COUNTIF($AO$24:$AO$48,\"B\")=0,\"-\",INDIRECT(CONCATENATE(\"V\",MATCH(\"B\",$AO$21:$AO$48,0)+20)))","v":"Ben Lewis"},{"$f":"IF(COUNTIF($BI$24:$BI$48,\"A\")=0,\"-\",INDIRECT(CONCATENATE(\"AP\",MATCH(\"A\",$BI$21:$BI$48,0)+20)))","v":"George Armstrong"},{"$f":"IF(COUNTIF($BI$24:$BI$48,\"B\")=0,\"-\",INDIRECT(CONCATENATE(\"AP\",MATCH(\"B\",$BI$21:$BI$48,0)+20)))","v":"Harris Hameed"},"Event Cancelled","No Competitors","Opening Height Not Cleared",null,35]
[32,null,null,null,null,null,null,null,null,null,null,null,null,null,null,null,null,null,null,null,null,null,null,null,null,null,null,null,null,null,null,null,null,null,null,null,null,null,null,null,null,null,null,null,null,null,null,null,null,null,null,null,null,null,null,null,null,null,null,null,null,null,null,"U17M Hammer","F5","U17M","Hammer",null,{"$f":"IF(COUNTIF($U$52:$U$77,\"A\")=0,\"-\",INDIRECT(CONCATENATE(\"B\",MATCH(\"A\",$U$49:$U$77,0)+48)))","v":"Kieran Thackray"},{"$f":"IF(COUNTIF($U$52:$U$77,\"B\")=0,\"-\",INDIRECT(CONCATENATE(\"B\",MATCH(\"B\",$U$49:$U$77,0)+48)))","v":"Michael Jones"},{"$f":"IF(COUNTIF($AO$52:$AO$77,\"A\")=0,\"-\",INDIRECT(CONCATENATE(\"V\",MATCH(\"A\",$AO$49:$AO$77,0)+48)))","v":"-"},{"$f":"IF(COUNTIF($AO$52:$AO$77,\"B\")=0,\"-\",INDIRECT(CONCATENATE(\"V\",MATCH(\"B\",$AO$49:$AO$77,0)+48)))","v":"-"},{"$f":"IF(COUNTIF($BI$52:$BI$77,\"A\")=0,\"-\",INDIRECT(CONCATENATE(\"AP\",MATCH(\"A\",$BI$49:$BI$77,0)+48)))","v":"Max Ansell-Wood"},{"$f":"IF(COUNTIF($BI$52:$BI$77,\"B\")=0,\"-\",INDIRECT(CONCATENATE(\"AP\",MATCH(\"B\",$BI$49:$BI$77,0)+48)))","v":"Lamar Lewis"},"Event Cancelled","No Competitors","Opening Height Not Cleared",null,36]
[33,null,null,null,null,null,null,null,null,null,null,null,null,null,null,null,null,null,null,null,null,null,null,null,null,null,null,null,null,null,null,null,null,null,null,null,null,null,null,null,null,null,null,null,null,null,null,null,null,null,null,null,null,null,null,null,null,null,null,null,null,null,null,"U15B Shot","F8","U15B","Shot",null,{"$f":"IF(COUNTIF($R$24:$R$48,\"A\")=0,\"-\",INDIRECT(CONCATENATE(\"B\",MATCH(\"A\",$R$21:$R$48,0)+20)))","v":"William Ingram"},{"$f":"IF(COUNTIF($R$24:$R$48,\"B\")=0,\"-\",INDIRECT(CONCATENATE(\"B\",MATCH(\"B\",$R$21:$R$48,0)+20)))","v":"Adam Lofthouse"},{"$f":"IF(COUNTIF($AL$24:$AL$48,\"A\")=0,\"-\",INDIRECT(CONCATENATE(\"V\",MATCH(\"A\",$AL$21:$AL$48,0)+20)))","v":"Jonny Swain"},{"$f":"IF(COUNTIF($AL$24:$AL$48,\"B\")=0,\"-\",INDIRECT(CONCATENATE(\"V\",MATCH(\"B\",$AL$21:$AL$48,0)+20)))","v":"Matthew Richardson"},{"$f":"IF(COUNTIF($BF$24:$BF$48,\"A\")=0,\"-\",INDIRECT(CONCATENATE(\"AP\",MATCH(\"A\",$BF$21:$BF$48,0)+20)))","v":"Harris Hameed"},{"$f":"IF(COUNTIF($BF$24:$BF$48,\"B\")=0,\"-\",INDIRECT(CONCATENATE(\"AP\",MATCH(\"B\",$BF$21:$BF$48,0)+20)))","v":"Thomas Harrison"},"Event Cancelled","No Competitors","Opening Height Not Cleared",null,37]
[34,null,null,null,null,null,null,null,null,null,null,null,null,null,null,null,null,null,null,null,null,null,null,null,null,null,null,null,null,null,null,null,null,null,null,null,null,null,null,null,null,null,null,null,null,null,null,null,null,null,null,null,null,null,null,null,null,null,null,null,null,null,null,"U15B Javelin","F10","U15B","Javelin",null,{"$f":"IF(COUNTIF($T$24:$T$48,\"A\")=0,\"-\",INDIRECT(CONCATENATE(\"B\",MATCH(\"A\",$T$21:$T$48,0)+20)))","v":"Patrick Thackray"},{"$f":"IF(COUNTIF($T$24:$T$48,\"B\")=0,\"-\",INDIRECT(CONCATENATE(\"B\",MATCH(\"B\",$T$21:$T$48,0)+20)))","v":"Sam Convery"},{"$f":"IF(COUNTIF($AN$24:$AN$48,\"A\")=0,\"-\",INDIRECT(CONCATENATE(\"V\",MATCH(\"A\",$AN$21:$AN$48,0)+20)))","v":"Jonny Swain"},{"$f":"IF(COUNTIF($AN$24:$AN$48,\"B\")=0,\"-\",INDIRECT(CONCATENATE(\"V\",MATCH(\"B\",$AN$21:$AN$48,0)+20)))","v":"Luke Nichols"},{"$f":"IF(COUNTIF($BH$24:$BH$48,\"A\")=0,\"-\",INDIRECT(CONCATENATE(\"AP\",MATCH(\"A\",$BH$21:$BH$48,0)+20)))","v":"George Armstrong"},{"$f":"IF(COUNTIF($BH$24:$BH$48,\"B\")=0,\"-\",INDIRECT(CONCATENATE(\"AP\",MATCH(\"B\",$BH$21:$BH$48,0)+20)))","v":"Kieran Savage"},"Event Cancelled","No Competitors","Opening Height Not Cleared",null,38]
[35,null,null,null,null,null,null,null,null,null,null,null,null,null,null,null,null,null,null,null,null,null,null,null,null,null,null,null,null,null,null,null,null,null,null,null,null,null,null,null,null,null,null,null,null,null,null,null,null,null,null,null,null,null,null,null,null,null,null,null,null,null,null,"U17M Javelin","F11","U17M","Javelin",null,{"$f":"IF(COUNTIF($T$52:$T$77,\"A\")=0,\"-\",INDIRECT(CONCATENATE(\"B\",MATCH(\"A\",$T$49:$T$77,0)+48)))","v":"Ethan Plumb"},{"$f":"IF(COUNTIF($T$52:$T$77,\"B\")=0,\"-\",INDIRECT(CONCATENATE(\"B\",MATCH(\"B\",$T$49:$T$77,0)+48)))","v":"Andrew Lorkins"},{"$f":"IF(COUNTIF($AN$52:$AN$77,\"A\")=0,\"-\",INDIRECT(CONCATENATE(\"V\",MATCH(\"A\",$AN$49:$AN$77,0)+48)))","v":"-"},{"$f":"IF(COUNTIF($AN$52:$AN$77,\"B\")=0,\"-\",INDIRECT(CONCATENATE(\"V\",MATCH(\"B\",$AN$49:$AN$77,0)+48)))","v":"-"},{"$f":"IF(COUNTIF($BH$52:$BH$77,\"A\")=0,\"-\",INDIRECT(CONCATENATE(\"AP\",MATCH(\"A\",$BH$49:$BH$77,0)+48)))","v":"Matthew Campleman"},{"$f":"IF(COUNTIF($BH$52:$BH$77,\"B\")=0,\"-\",INDIRECT(CONCATENATE(\"AP\",MATCH(\"B\",$BH$49:$BH$77,0)+48)))","v":"Andrew Russell"},"Event Cancelled","No Competitors","Opening Height Not Cleared",null,39]
[36,null,null,null,null,null,null,null,null,null,null,null,null,null,null,null,null,null,null,null,null,null,null,null,null,null,null,null,null,null,null,null,null,null,null,null,null,null,null,null,null,null,null,null,null,null,null,null,null,null,null,null,null,null,null,null,null,null,null,null,null,null,null,"U13B High Jump","F12","U13B","High Jump",null,{"$f":"IF(COUNTIF($P$4:$P$20,\"A\")=0,\"-\",INDIRECT(CONCATENATE(\"B\",MATCH(\"A\",$P$1:$P$20,0))))","v":"Dylan Roberts"},{"$f":"IF(COUNTIF($P$4:$P$20,\"B\")=0,\"-\",INDIRECT(CONCATENATE(\"B\",MATCH(\"B\",$P$1:$P$20,0))))","v":"Carter Bower-Stead"},{"$f":"IF(COUNTIF($AJ$4:$AJ$20,\"A\")=0,\"-\",INDIRECT(CONCATENATE(\"V\",MATCH(\"A\",$AJ$1:$AJ$20,0))))","v":"-"},{"$f":"IF(COUNTIF($AJ$4:$AJ$20,\"B\")=0,\"-\",INDIRECT(CONCATENATE(\"V\",MATCH(\"B\",$AJ$1:$AJ$20,0))))","v":"-"},{"$f":"IF(COUNTIF($BD$4:$BD$20,\"A\")=0,\"-\",INDIRECT(CONCATENATE(\"AP\",MATCH(\"A\",$BD$1:$BD$20,0))))","v":"Alex Booth"},{"$f":"IF(COUNTIF($BD$4:$BD$20,\"B\")=0,\"-\",INDIRECT(CONCATENATE(\"AP\",MATCH(\"B\",$BD$1:$BD$20,0))))","v":"-"},"Event Cancelled","No Competitors","Opening Height Not Cleared",null,40]
[37,null,null,null,null,null,null,null,null,null,null,null,null,null,null,null,null,null,null,null,null,null,null,null,null,null,null,null,null,null,null,null,null,null,null,null,null,null,null,null,null,null,null,null,null,null,null,null,null,null,null,null,null,null,null,null,null,null,null,null,null,null,null,"U15B Pole Vault","F14","U15B","Pole Vault",null,{"$f":"IF(COUNTIF($Q$24:$Q$48,\"A\")=0,\"-\",INDIRECT(CONCATENATE(\"B\",MATCH(\"A\",$Q$21:$Q$48,0)+20)))","v":"Andrew Jones"},{"$f":"IF(COUNTIF($Q$24:$Q$48,\"B\")=0,\"-\",INDIRECT(CONCATENATE(\"B\",MATCH(\"B\",$Q$21:$Q$48,0)+20)))","v":"-"},{"$f":"IF(COUNTIF($AK$24:$AK$48,\"A\")=0,\"-\",INDIRECT(CONCATENATE(\"V\",MATCH(\"A\",$AK$21:$AK$48,0)+20)))","v":"-"},{"$f":"IF(COUNTIF($AK$24:$AK$48,\"B\")=0,\"-\",INDIRECT(CONCATENATE(\"V\",MATCH(\"B\",$AK$21:$AK$48,0)+20)))","v":"-"},{"$f":"IF(COUNTIF($BE$24:$BE$48,\"A\")=0,\"-\",INDIRECT(CONCATENATE(\"AP\",MATCH(\"A\",$BE$21:$BE$48,0)+20)))","v":"Jonathan Webster"},{"$f":"IF(COUNTIF($BE$24:$BE$48,\"B\")=0,\"-\",INDIRECT(CONCATENATE(\"AP\",MATCH(\"B\",$BE$21:$BE$48,0)+20)))","v":"-"},"Event Cancelled","No Competitors","Opening Height Not Cleared",null,41]
[38,null,null,null,null,null,null,null,null,null,null,null,null,null,null,null,null,null,null,null,null,null,null,null,null,null,null,null,null,null,null,null,null,null,null,null,null,null,null,null,null,null,null,null,null,null,null,null,null,null,null,null,null,null,null,null,null,null,null,null,null,null,null,"U17M Pole Vault","F15","U17M","Pole Vault",null,{"$f":"IF(COUNTIF($Q$52:$Q$77,\"A\")=0,\"-\",INDIRECT(CONCATENATE(\"B\",MATCH(\"A\",$Q$49:$Q$77,0)+48)))","v":"Michael Jones"},{"$f":"IF(COUNTIF($Q$52:$Q$77,\"B\")=0,\"-\",INDIRECT(CONCATENATE(\"B\",MATCH(\"B\",$Q$49:$Q$77,0)+48)))","v":"-"},{"$f":"IF(COUNTIF($AK$52:$AK$77,\"A\")=0,\"-\",INDIRECT(CONCATENATE(\"V\",MATCH(\"A\",$AK$49:$AK$77,0)+48)))","v":"-"},{"$f":"IF(COUNTIF($AK$52:$AK$77,\"B\")=0,\"-\",INDIRECT(CONCATENATE(\"V\",MATCH(\"B\",$AK$49:$AK$77,0)+48)))","v":"-"},{"$f":"IF(COUNTIF($BE$52:$BE$77,\"A\")=0,\"-\",INDIRECT(CONCATENATE(\"AP\",MATCH(\"A\",$BE$49:$BE$77,0)+48)))","v":"Andrew Russell"},{"$f":"IF(COUNTIF($BE$52:$BE$77,\"B\")=0,\"-\",INDIRECT(CONCATENATE(\"AP\",MATCH(\"B\",$BE$49:$BE$77,0)+48)))","v":"-"},"Event Cancelled","No Competitors","Opening Height Not Cleared",null,42]
[39,null,null,null,null,null,null,null,null,null,null,null,null,null,null,null,null,null,null,null,null,null,null,null,null,null,null,null,null,null,null,null,null,null,null,null,null,null,null,null,null,null,null,null,null,null,null,null,null,null,null,null,null,null,null,null,null,null,null,null,null,null,null,"U17M Long Jump","F19","U17M","Long Jump",null,{"$f":"IF(COUNTIF($N$52:$N$77,\"A\")=0,\"-\",INDIRECT(CONCATENATE(\"B\",MATCH(\"A\",$N$49:$N$77,0)+48)))","v":"Jake Worton"},{"$f":"IF(COUNTIF($N$52:$N$77,\"B\")=0,\"-\",INDIRECT(CONCATENATE(\"B\",MATCH(\"B\",$N$49:$N$77,0)+48)))","v":"Andrew Lorkins"},{"$f":"IF(COUNTIF($AH$52:$AH$77,\"A\")=0,\"-\",INDIRECT(CONCATENATE(\"V\",MATCH(\"A\",$AH$49:$AH$77,0)+48)))","v":"Adam Robinson"},{"$f":"IF(COUNTIF($AH$52:$AH$77,\"B\")=0,\"-\",INDIRECT(CONCATENATE(\"V\",MATCH(\"B\",$AH$49:$AH$77,0)+48)))","v":"Peirre Weller"},{"$f":"IF(COUNTIF($BB$52:$BB$77,\"A\")=0,\"-\",INDIRECT(CONCATENATE(\"AP\",MATCH(\"A\",$BB$49:$BB$77,0)+48)))","v":"Elliott Hurley"},{"$f":"IF(COUNTIF($BB$52:$BB$77,\"B\")=0,\"-\",INDIRECT(CONCATENATE(\"AP\",MATCH(\"B\",$BB$49:$BB$77,0)+48)))","v":"Matthew Campleman"},"Event Cancelled","No Competitors","Opening Height Not Cleared",null,43]
[40,null,null,null,null,null,null,null,null,null,null,null,null,null,null,null,null,null,null,null,null,null,null,null,null,null,null,null,null,null,null,null,null,null,null,null,null,null,null,null,null,null,null,null,null,null,null,null,null,null,null,null,null,null,null,null,null,null,null,null,null,null,null,"U13B Shot","F22","U13B","Shot",null,{"$f":"IF(COUNTIF($R$4:$R$20,\"A\")=0,\"-\",INDIRECT(CONCATENATE(\"B\",MATCH(\"A\",$R$1:$R$20,0))))","v":"Dylan Roberts"},{"$f":"IF(COUNTIF($R$4:$R$20,\"B\")=0,\"-\",INDIRECT(CONCATENATE(\"B\",MATCH(\"B\",$R$1:$R$20,0))))","v":"Barnaby Drew"},{"$f":"IF(COUNTIF($AL$4:$AL$20,\"A\")=0,\"-\",INDIRECT(CONCATENATE(\"V\",MATCH(\"A\",$AL$1:$AL$20,0))))","v":"Matt Hobson"},{"$f":"IF(COUNTIF($AL$4:$AL$20,\"B\")=0,\"-\",INDIRECT(CONCATENATE(\"V\",MATCH(\"B\",$AL$1:$AL$20,0))))","v":"-"},{"$f":"IF(COUNTIF($BF$4:$BF$20,\"A\")=0,\"-\",INDIRECT(CONCATENATE(\"AP\",MATCH(\"A\",$BF$1:$BF$20,0))))","v":"Owen Sage"},{"$f":"IF(COUNTIF($BF$4:$BF$20,\"B\")=0,\"-\",INDIRECT(CONCATENATE(\"AP\",MATCH(\"B\",$BF$1:$BF$20,0))))","v":"Alex Booth"},"Event Cancelled","No Competitors","Opening Height Not Cleared",null,44]
[41,null,null,null,null,null,null,null,null,null,null,null,null,null,null,null,null,null,null,null,null,null,null,null,null,null,null,null,null,null,null,null,null,null,null,null,null,null,null,null,null,null,null,null,null,null,null,null,null,null,null,null,null,null,null,null,null,null,null,null,null,null,null,"U15B Long Jump","F25","U15B","Long Jump",null,{"$f":"IF(COUNTIF($N$24:$N$48,\"A\")=0,\"-\",INDIRECT(CONCATENATE(\"B\",MATCH(\"A\",$N$21:$N$48,0)+20)))","v":"Declan Sheehan"},{"$f":"IF(COUNTIF($N$24:$N$48,\"B\")=0,\"-\",INDIRECT(CONCATENATE(\"B\",MATCH(\"B\",$N$21:$N$48,0)+20)))","v":"Ben Read"},{"$f":"IF(COUNTIF($AH$24:$AH$48,\"A\")=0,\"-\",INDIRECT(CONCATENATE(\"V\",MATCH(\"A\",$AH$21:$AH$48,0)+20)))","v":"Chris Searle"},{"$f":"IF(COUNTIF($AH$24:$AH$48,\"B\")=0,\"-\",INDIRECT(CONCATENATE(\"V\",MATCH(\"B\",$AH$21:$AH$48,0)+20)))","v":"Matthew Richardson"},{"$f":"IF(COUNTIF($BB$24:$BB$48,\"A\")=0,\"-\",INDIRECT(CONCATENATE(\"AP\",MATCH(\"A\",$BB$21:$BB$48,0)+20)))","v":"Finlay Fuller"},{"$f":"IF(COUNTIF($BB$24:$BB$48,\"B\")=0,\"-\",INDIRECT(CONCATENATE(\"AP\",MATCH(\"B\",$BB$21:$BB$48,0)+20)))","v":"Thomas Harrison"},"Event Cancelled","No Competitors","Opening Height Not Cleared",null,45]
[42,null,null,null,null,null,null,null,null,null,null,null,null,null,null,null,null,null,null,null,null,null,null,null,null,null,null,null,null,null,null,null,null,null,null,null,null,null,null,null,null,null,null,null,null,null,null,null,null,null,null,null,null,null,null,null,null,null,null,null,null,null,null,"U15B Discus","F26","U15B","Discus",null,{"$f":"IF(COUNTIF($S$24:$S$48,\"A\")=0,\"-\",INDIRECT(CONCATENATE(\"B\",MATCH(\"A\",$S$21:$S$48,0)+20)))","v":"Andrew Jones"},{"$f":"IF(COUNTIF($S$24:$S$48,\"B\")=0,\"-\",INDIRECT(CONCATENATE(\"B\",MATCH(\"B\",$S$21:$S$48,0)+20)))","v":"George Heppinstall"},{"$f":"IF(COUNTIF($AM$24:$AM$48,\"A\")=0,\"-\",INDIRECT(CONCATENATE(\"V\",MATCH(\"A\",$AM$21:$AM$48,0)+20)))","v":"Luke Nichols"},{"$f":"IF(COUNTIF($AM$24:$AM$48,\"B\")=0,\"-\",INDIRECT(CONCATENATE(\"V\",MATCH(\"B\",$AM$21:$AM$48,0)+20)))","v":"-"},{"$f":"IF(COUNTIF($BG$24:$BG$48,\"A\")=0,\"-\",INDIRECT(CONCATENATE(\"AP\",MATCH(\"A\",$BG$21:$BG$48,0)+20)))","v":"George Armstrong"},{"$f":"IF(COUNTIF($BG$24:$BG$48,\"B\")=0,\"-\",INDIRECT(CONCATENATE(\"AP\",MATCH(\"B\",$BG$21:$BG$48,0)+20)))","v":"Harris Hameed"},"Event Cancelled","No Competitors","Opening Height Not Cleared",null,46]
[null,null,null,null,null,null,null,null,null,null,null,null,null,null,null,null,null,null,null,null,null,null,null,null,null,null,null,null,null,null,null,null,null,null,null,null,null,null,null,null,null,null,null,null,null,null,null,null,null,null,null,null,null,null,null,null,null,null,null,null,null,null,null,"U17M Discus","F27","U17M","Discus",null,{"$f":"IF(COUNTIF($S$52:$S$77,\"A\")=0,\"-\",INDIRECT(CONCATENATE(\"B\",MATCH(\"A\",$S$49:$S$77,0)+48)))","v":"Kieran Thackray"},{"$f":"IF(COUNTIF($S$52:$S$77,\"B\")=0,\"-\",INDIRECT(CONCATENATE(\"B\",MATCH(\"B\",$S$49:$S$77,0)+48)))","v":"Ethan Plumb"},{"$f":"IF(COUNTIF($AM$52:$AM$77,\"A\")=0,\"-\",INDIRECT(CONCATENATE(\"V\",MATCH(\"A\",$AM$49:$AM$77,0)+48)))","v":"Adam Robinson"},{"$f":"IF(COUNTIF($AM$52:$AM$77,\"B\")=0,\"-\",INDIRECT(CONCATENATE(\"V\",MATCH(\"B\",$AM$49:$AM$77,0)+48)))","v":"-"},{"$f":"IF(COUNTIF($BG$52:$BG$77,\"A\")=0,\"-\",INDIRECT(CONCATENATE(\"AP\",MATCH(\"A\",$BG$49:$BG$77,0)+48)))","v":"Connor Morley"},{"$f":"IF(COUNTIF($BG$52:$BG$77,\"B\")=0,\"-\",INDIRECT(CONCATENATE(\"AP\",MATCH(\"B\",$BG$49:$BG$77,0)+48)))","v":"Max Ansell-Wood"},"Event Cancelled","No Competitors","Opening Height Not Cleared",null,47]
[null,null,null,null,null,null,null,null,null,null,null,null,null,null,null,null,null,null,null,null,null,null,null,null,null,null,null,null,null,null,null,null,null,null,null,null,null,null,null,null,null,null,null,null,null,null,null,null,null,null,null,null,null,null,null,null,null,null,null,null,null,null,null,"U17M Shot","F30","U17M","Shot",null,{"$f":"IF(COUNTIF($R$52:$R$77,\"A\")=0,\"-\",INDIRECT(CONCATENATE(\"B\",MATCH(\"A\",$R$49:$R$77,0)+48)))","v":"Kieran Thackray"},{"$f":"IF(COUNTIF($R$52:$R$77,\"B\")=0,\"-\",INDIRECT(CONCATENATE(\"B\",MATCH(\"B\",$R$49:$R$77,0)+48)))","v":"Andrew Lorkins"},{"$f":"IF(COUNTIF($AL$52:$AL$77,\"A\")=0,\"-\",INDIRECT(CONCATENATE(\"V\",MATCH(\"A\",$AL$49:$AL$77,0)+48)))","v":"-"},{"$f":"IF(COUNTIF($AL$52:$AL$77,\"B\")=0,\"-\",INDIRECT(CONCATENATE(\"V\",MATCH(\"B\",$AL$49:$AL$77,0)+48)))","v":"-"},{"$f":"IF(COUNTIF($BF$52:$BF$77,\"A\")=0,\"-\",INDIRECT(CONCATENATE(\"AP\",MATCH(\"A\",$BF$49:$BF$77,0)+48)))","v":"Dylan Bradley"},{"$f":"IF(COUNTIF($BF$52:$BF$77,\"B\")=0,\"-\",INDIRECT(CONCATENATE(\"AP\",MATCH(\"B\",$BF$49:$BF$77,0)+48)))","v":"-"},"Event Cancelled","No Competitors","Opening Height Not Cleared",null,48]
[null,{"$f":"CONCATENATE(Handbook!$AA$1,\" Athletes\")","v":"U17M Athletes"},null,null,null,null,null,null,null,null,null,null,null,null,null,null,null,null,null,null,null,{"$f":"B51","v":"U17M Athletes"},null,null,null,null,null,null,null,null,null,null,null,null,null,null,null,null,null,null,null,{"$f":"B51","v":"U17M Athletes"},null,null,null,null,null,null,null,null,null,null,null,null,null,null,null,null,null,null,null,null,null,"U17M Triple Jump","F31","U17M","Triple Jump",null,{"$f":"IF(COUNTIF($O$52:$O$77,\"A\")=0,\"-\",INDIRECT(CONCATENATE(\"B\",MATCH(\"A\",$O$49:$O$77,0)+48)))","v":"George Brown"},{"$f":"IF(COUNTIF($O$52:$O$77,\"B\")=0,\"-\",INDIRECT(CONCATENATE(\"B\",MATCH(\"B\",$O$49:$O$77,0)+48)))","v":"-"},{"$f":"IF(COUNTIF($AI$52:$AI$77,\"A\")=0,\"-\",INDIRECT(CONCATENATE(\"V\",MATCH(\"A\",$AI$49:$AI$77,0)+48)))","v":"James Stanton"},{"$f":"IF(COUNTIF($AI$52:$AI$77,\"B\")=0,\"-\",INDIRECT(CONCATENATE(\"V\",MATCH(\"B\",$AI$49:$AI$77,0)+48)))","v":"-"},{"$f":"IF(COUNTIF($BC$52:$BC$77,\"A\")=0,\"-\",INDIRECT(CONCATENATE(\"AP\",MATCH(\"A\",$BC$49:$BC$77,0)+48)))","v":"Max Ansell-Wood"},{"$f":"IF(COUNTIF($BC$52:$BC$77,\"B\")=0,\"-\",INDIRECT(CONCATENATE(\"AP\",MATCH(\"B\",$BC$49:$BC$77,0)+48)))","v":"-"},"Event Cancelled","No Competitors","Opening Height Not Cleared",null,49]
[43,"George Brown","A",null,null,null,"A",null,null,null,null,2,null,null,"A",null,null,null,null,null,null,"Ash  Hart",null,null,"A",null,null,null,null,"A",null,4,null,null,null,null,null,null,null,null,null,"Andrew Russell","B",null,null,null,null,null,null,null,null,null,null,null,null,null,"A",null,null,"B"]
[44,"Matthew O'Connnor",null,"A",null,null,null,null,null,"A",null,null,2,null,null,null,null,null,null,null,null,"Adam Robinson","A",null,null,null,null,null,null,null,null,1,null,"A",null,null,null,null,"A",null,null,"Aqib Javed",null,null,null,null,null,"A",null,null,null,1]
[45,"James Saxton",null,"B",null,null,null,null,null,"B",null,null,null,null,null,null,null,null,null,null,null,"Peirre Weller",null,"A",null,null,null,null,null,"B",null,2,null,"B",null,null,null,null,null,null,null,"Connor Morley",null,null,null,null,null,null,null,null,null,2,null,null,null,"A",null,null,"A"]
[46,"Jack Mitchell",null,null,null,"A",null,null,null,null,null,null,4,null,null,null,null,null,null,null,null,"James Stanton",null,null,"B",null,"A",null,null,null,null,3,null,null,"A",null,null,null,null,null,null,"Daniel Harrison",null,null,null,"A",null,null,"B"]
[47,"James McBorrough",null,null,"A",null,null,"A",null,null,null,3,null,null,null,null,null,null,null,null,null,null,null,null,null,null,null,null,null,null,null,null,null,null,null,null,null,null,null,null,null,"Dylan Bradley",null,null,null,null,null,null,null,null,null,null,null,null,null,"B",null,"A"]
[48,"Steven Eastwood",null,null,null,null,null,null,"A",null,null,null,3,null,null,null,null,null,null,null,null,null,null,null,null,null,null,null,null,null,null,null,null,null,null,null,null,null,null,null,null,"Elliott Hurley",null,null,"A",null,null,null,null,null,null,4,null,"A"]
[49,"Daniel Franks",null,null,null,null,null,null,"B",null,null,null,null,null,null,null,null,null,null,null,null,null,null,null,null,null,null,null,null,null,null,null,null,null,null,null,null,null,null,null,null,"Lamar Lewis",null,null,"B",null,null,null,null,null,null,3,null,null,null,null,null,null,null,null,"B"]
[50,"Oliver Edmunds",null,null,"B",null,"B","B",null,null,null,4,null,null,null,null,null,null,null,null,null,null,null,null,null,null,null,null,null,null,null,null,null,null,null,null,null,null,null,null,null,"Liam Braithwaite",null,null,null,null,null,"B",null,"B",null,null,2]
[51,"Jake Worton",null,null,null,null,null,null,null,null,"A",null,1,"A",null,null,null,null,null,null,null,null,null,null,null,null,null,null,null,null,null,null,null,null,null,null,null,null,null,null,null,"Luke Cooper",null,"A",null,null,null,null,null,"A",null,null,4]
[52,"Mark Stringer",null,null,null,null,null,null,null,null,null,null,null,null,null,"A",null,null,null,null,null,null,null,null,null,null,null,null,null,null,null,null,null,null,null,null,null,null,null,null,null,"Matthew Campleman","A",null,null,null,null,null,null,null,null,null,1,"B",null,null,null,null,null,"A"]
[53,"Kieran Thackray",null,null,null,null,null,null,null,null,null,null,null,null,null,null,null,"A","A",null,"A",null,null,null,null,null,null,null,null,null,null,null,null,null,null,null,null,null,null,null,null,"Max Ansell-Wood",null,null,null,null,null,null,null,null,null,null,null,null,"A",null,null,null,"B",null,"A"]
[54,"Michael Jones",null,null,null,null,null,null,null,null,null,null,null,null,null,null,"A",null,null,null,"B",null,null,null,null,null,null,null,null,null,null,null,null,null,null,null,null,null,null,null,null,"Sean Flanagan",null,null,null,null,null,null,"A",null,null,null,3]
[55,"Ethan Plumb",null,null,null,null,null,null,null,null,null,null,null,null,null,null,null,null,"B","A"]
[56,"Andrew Lorkins",null,null,null,null,null,null,null,null,null,1,null,"B",null,null,null,"B",null,"B"]
[57]
[58,"Jordan Turner",null,null,null,null,null,null,null,null,"B"]
[59]
[60]
[61]
[62]
[63]
[64]
[65]
[66]
[67]
[68]
[69]

{"sheet":"Girls (Match 1)","index":5,"n_rows":78,"n_cols":79,"rows_kept":78,"cut":false,"hidden":false,"merged":[[1,68,1,69],[1,70,1,71],[1,72,1,73],[0,2,0,6],[0,7,0,11],[0,22,0,26],[0,27,0,31],[0,42,0,46],[0,47,0,51]]}
[null,"TRACK","FIELD",null,null,null,null,"RELAY",null,null,null,null,null,null,null,null,null,null,null,null,null,"TRACK","FIELD",null,null,null,null,"RELAY",null,null,null,null,null,null,null,null,null,null,null,null,null,"TRACK","FIELD",null,null,null,null,"RELAY"]
[null,{"$f":"MatchDay!C11","v":"Wakefield"},"Sprint H","800m","75m/100m","3000m","300mH","150/200m","1500m","300m","1500m S/C","4x100m R","4x300m R","Long J","Triple J","High J","Pole V","Shot","Discus","Javelin","Hammer",{"$f":"MatchDay!C13","v":"City of York"},"Sprint H","800m","75m/100m","3000m","300mH","150/200m","1500m","300m","1500m S/C","4x100m R","4x300m R","Long J","Triple J","High J","Pole V","Shot","Discus","Javelin","Hammer",{"$f":"MatchDay!C15","v":"Leeds City"},"Sprint H","800m","75m/100m","3000m","300mH","150/200m","1500m","300m","1500m S/C","4x100m R","4x300m R","Long J","Triple J","High J","Pole V","Shot","Discus","Javelin","Hammer",null,null,null,"Event No","Age G",null,null,{"$f":"B2","v":"Wakefield"},null,{"$f":"V2","v":"City of York"},null,{"$f":"AP2","v":"Leeds City"}]
[null,{"$f":"CONCATENATE(Handbook!$V$1,\" Athletes\")","v":"U13G Athletes"},null,null,null,null,null,null,null,null,null,null,null,null,null,null,null,null,null,null,null,{"$f":"B3","v":"U13G Athletes"},null,null,null,null,null,null,null,null,null,null,null,null,null,null,null,null,null,null,null,{"$f":"B3","v":"U13G Athletes"},null,null,null,null,null,null,null,null,null,null,null,null,null,null,null,null,null,null,null,null,"A",null,null,null,null,null,{"$f":"MatchDay!B11","v":9},{"$f":"MatchDay!B38","v":99},{"$f":"MatchDay!B13","v":8},{"$f":"MatchDay!B40","v":88},{"$f":"MatchDay!B15","v":7},{"$f":"MatchDay!B42","v":77},101,102,103,null,"Row"]
[1,"Charlotte Sampson","A",null,"B",null,null,null,null,null,null,1,null,null,null,null,null,null,null,null,null,"Charlotte Stamp","B",null,null,null,null,"B",null,null,null,2,null,"B",null,null,null,null,null,null,null,"Chloe Brooks",null,null,"B",null,null,"B",null,null,null,1,null,null,null,null,null,null,null,null,null,null,"B","U13G 70m H","T1",{"$f":"VLOOKUP($BM4,eventno,2,FALSE)","v":"U13G"},{"$f":"VLOOKUP($BM4,eventno,3,FALSE)","v":"70m H"},null,{"$f":"IF(COUNTIF($C$4:$C$20,\"A\")=0,\"-\",INDIRECT(CONCATENATE(\"B\",MATCH(\"A\",$C$1:$C$20,0))))","v":"Charlotte Sampson"},{"$f":"IF(COUNTIF($C$4:$C$20,\"B\")=0,\"-\",INDIRECT(CONCATENATE(\"B\",MATCH(\"B\",$C$1:$C$20,0))))","v":"Niamh Docherty"},{"$f":"IF(COUNTIF($W$4:$W$20,\"A\")=0,\"-\",INDIRECT(CONCATENATE(\"V\",MATCH(\"A\",$W$1:$W$20,0))))","v":"Rachel White"},{"$f":"IF(COUNTIF($W$4:$W$20,\"B\")=0,\"-\",INDIRECT(CONCATENATE(\"V\",MATCH(\"B\",$W$1:$W$20,0))))","v":"Charlotte Stamp"},{"$f":"IF(COUNTIF($AQ$4:$AQ$20,\"A\")=0,\"-\",INDIRECT(CONCATENATE(\"AP\",MATCH(\"A\",$AQ$1:$AQ$20,0))))","v":"Jessica Barker"},{"$f":"IF(COUNTIF($AQ$4:$AQ$20,\"B\")=0,\"-\",INDIRECT(CONCATENATE(\"AP\",MATCH(\"B\",$AQ$1:$AQ$20,0))))","v":"Megan Sanders"},"Event Cancelled","No Competitors","Opening Height Not Cleared",null,2]
[2,"Niamh Docherty","B","B",null,null,null,null,null,null,null,2,null,null,null,null,null,null,null,null,null,"Rachel White","A",null,"A",null,null,null,null,null,null,null,null,null,null,null,null,"A",null,null,null,"Jessica Barker","A",null,null,null,null,null,null,null,null,null,null,null,null,null,null,null,null,null,null,null,null,"U15G 75m H","T3",{"$f":"VLOOKUP(BM5,eventno,2,FALSE)","v":"U15G"},"75m H",null,{"$f":"IF(COUNTIF($C$24:$C$48,\"A\")=0,\"-\",INDIRECT(CONCATENATE(\"B\",MATCH(\"A\",$C$21:$C$48,0)+20)))","v":"-"},{"$f":"IF(COUNTIF($C$24:$C$48,\"B\")=0,\"-\",INDIRECT(CONCATENATE(\"B\",MATCH(\"B\",$C$21:$C$48,0)+20)))","v":"-"},{"$f":"IF(COUNTIF($W$24:$W$48,\"A\")=0,\"-\",INDIRECT(CONCATENATE(\"V\",MATCH(\"A\",$W$21:$W$48,0)+20)))","v":"Josie Parry"},{"$f":"IF(COUNTIF($W$24:$W$48,\"B\")=0,\"-\",INDIRECT(CONCATENATE(\"V\",MATCH(\"B\",$W$21:$W$48,0)+20)))","v":"Chelsea Walker"},{"$f":"IF(COUNTIF($AQ$24:$AQ$48,\"A\")=0,\"-\",INDIRECT(CONCATENATE(\"AP\",MATCH(\"A\",$AQ$21:$AQ$48,0)+20)))","v":"Melissa Fletcher"},{"$f":"IF(COUNTIF($AQ$24:$AQ$48,\"B\")=0,\"-\",INDIRECT(CONCATENATE(\"AP\",MATCH(\"B\",$AQ$21:$AQ$48,0)+20)))","v":"Caoimhe Crampton"},"Event Cancelled","No Competitors","Opening Height Not Cleared",null,3]
[3,"Madeleine Gerrard",null,null,"A",null,null,"A",null,null,null,3,null,null,null,null,null,null,null,null,null,"Lucy Hadaway",null,null,null,null,null,"A",null,null,null,4,null,"A",null,null,null,null,null,null,null,"Jessie Mogridge",null,"B","A",null,null,"A",null,null,null,null,null,null,null,null,null,null,null,null,null,null,1,"U17W 80m H","T4","U17W","80m H",null,{"$f":"IF(COUNTIF($C$52:$C$77,\"A\")=0,\"-\",INDIRECT(CONCATENATE(\"B\",MATCH(\"A\",$C$49:$C$77,0)+48)))","v":"Bethany Porter"},{"$f":"IF(COUNTIF($C$52:$C$77,\"B\")=0,\"-\",INDIRECT(CONCATENATE(\"B\",MATCH(\"B\",$C$49:$C$77,0)+48)))","v":"Dannielle Anderson"},{"$f":"IF(COUNTIF($W$52:$W$77,\"A\")=0,\"-\",INDIRECT(CONCATENATE(\"V\",MATCH(\"A\",$W$49:$W$77,0)+48)))","v":"Megan Savage"},{"$f":"IF(COUNTIF($W$52:$W$77,\"B\")=0,\"-\",INDIRECT(CONCATENATE(\"V\",MATCH(\"B\",$W$49:$W$77,0)+48)))","v":"Polly Morris"},{"$f":"IF(COUNTIF($AQ$52:$AQ$77,\"A\")=0,\"-\",INDIRECT(CONCATENATE(\"AP\",MATCH(\"A\",$AQ$49:$AQ$77,0)+48)))","v":"Hannah Ukandu"},{"$f":"IF(COUNTIF($AQ$52:$AQ$77,\"B\")=0,\"-\",INDIRECT(CONCATENATE(\"AP\",MATCH(\"B\",$AQ$49:$AQ$77,0)+48)))","v":"Melody Peterson"},"Event Cancelled","No Competitors","Opening Height Not Cleared",null,4]
[4,"Georgia Green",null,null,null,null,null,"B",null,null,null,4,null,null,null,null,null,null,null,null,null,"Annabel Ashton",null,null,"B",null,null,null,null,null,null,1,null,null,null,"B",null,null,null,null,null,"Lois Fish",null,"A",null,null,null,null,null,null,null,2,null,null,null,null,null,"A",null,null,null,null,2,"U17W 800m","T7","U17W","800m",null,{"$f":"IF(COUNTIF($D$52:$D$77,\"A\")=0,\"-\",INDIRECT(CONCATENATE(\"B\",MATCH(\"A\",$D$49:$D$77,0)+48)))","v":"Zoe Kerins"},{"$f":"IF(COUNTIF($D$52:$D$77,\"B\")=0,\"-\",INDIRECT(CONCATENATE(\"B\",MATCH(\"B\",$D$49:$D$77,0)+48)))","v":"Olivia Radcliffe"},{"$f":"IF(COUNTIF($X$52:$X$77,\"A\")=0,\"-\",INDIRECT(CONCATENATE(\"V\",MATCH(\"A\",$X$49:$X$77,0)+48)))","v":"Kate Harris"},{"$f":"IF(COUNTIF($X$52:$X$77,\"B\")=0,\"-\",INDIRECT(CONCATENATE(\"V\",MATCH(\"B\",$X$49:$X$77,0)+48)))","v":"-"},{"$f":"IF(COUNTIF($AR$52:$AR$77,\"A\")=0,\"-\",INDIRECT(CONCATENATE(\"AP\",MATCH(\"A\",$AR$49:$AR$77,0)+48)))","v":"Georgia Yearby"},{"$f":"IF(COUNTIF($AR$52:$AR$77,\"B\")=0,\"-\",INDIRECT(CONCATENATE(\"AP\",MATCH(\"B\",$AR$49:$AR$77,0)+48)))","v":"-"},"Event Cancelled","No Competitors","Opening Height Not Cleared",null,5]
[5,"Beth Oates",null,null,null,null,null,null,"A",null,null,null,null,null,null,null,null,null,null,null,null,"Nicole Grenier",null,"A",null,null,null,null,null,null,null,null,null,null,null,null,null,null,null,null,null,"Megan Sanders","B",null,null,null,null,null,null,null,null,4,null,"B",null,"A",null,null,null,null,null,null,3,"U15G 800m","T8","U15G","800m",null,{"$f":"IF(COUNTIF($D$24:$D$48,\"A\")=0,\"-\",INDIRECT(CONCATENATE(\"B\",MATCH(\"A\",$D$21:$D$48,0)+20)))","v":"Sophie Woollin"},{"$f":"IF(COUNTIF($D$24:$D$48,\"B\")=0,\"-\",INDIRECT(CONCATENATE(\"B\",MATCH(\"B\",$D$21:$D$48,0)+20)))","v":"Rebecca Firth"},{"$f":"IF(COUNTIF($X$24:$X$48,\"A\")=0,\"-\",INDIRECT(CONCATENATE(\"V\",MATCH(\"A\",$X$21:$X$48,0)+20)))","v":"Georgie Fenny"},{"$f":"IF(COUNTIF($X$24:$X$48,\"B\")=0,\"-\",INDIRECT(CONCATENATE(\"V\",MATCH(\"B\",$X$21:$X$48,0)+20)))","v":"Libby Brown"},{"$f":"IF(COUNTIF($AR$24:$AR$48,\"A\")=0,\"-\",INDIRECT(CONCATENATE(\"AP\",MATCH(\"A\",$AR$21:$AR$48,0)+20)))","v":"Nicola Sawyer"},{"$f":"IF(COUNTIF($AR$24:$AR$48,\"B\")=0,\"-\",INDIRECT(CONCATENATE(\"AP\",MATCH(\"B\",$AR$21:$AR$48,0)+20)))","v":"Jemma Ibbetson"},"Event Cancelled","No Competitors","Opening Height Not Cleared",null,6]
[6,"Olivia Theaker",null,"A",null,null,null,null,null,null,null,null,null,null,null,null,null,null,null,null,null,"Georgie Hogarth",null,null,null,null,null,null,"A",null,null,3,null,null,null,null,null,null,null,null,null,"Millie Bradbury",null,null,null,null,null,null,null,null,null,3,null,"A",null,null,null,"B",null,null,null,null,4,"U13G 800m","T9","U13G","800m",null,{"$f":"IF(COUNTIF($D$4:$D$20,\"A\")=0,\"-\",INDIRECT(CONCATENATE(\"B\",MATCH(\"A\",$D$1:$D$20,0))))","v":"Olivia Theaker"},{"$f":"IF(COUNTIF($D$4:$D$20,\"B\")=0,\"-\",INDIRECT(CONCATENATE(\"B\",MATCH(\"B\",$D$1:$D$20,0))))","v":"Niamh Docherty"},{"$f":"IF(COUNTIF($X$4:$X$20,\"A\")=0,\"-\",INDIRECT(CONCATENATE(\"V\",MATCH(\"A\",$X$1:$X$20,0))))","v":"Nicole Grenier"},{"$f":"IF(COUNTIF($X$4:$X$20,\"B\")=0,\"-\",INDIRECT(CONCATENATE(\"V\",MATCH(\"B\",$X$1:$X$20,0))))","v":"-"},{"$f":"IF(COUNTIF($AR$4:$AR$20,\"A\")=0,\"-\",INDIRECT(CONCATENATE(\"AP\",MATCH(\"A\",$AR$1:$AR$20,0))))","v":"Lois Fish"},{"$f":"IF(COUNTIF($AR$4:$AR$20,\"B\")=0,\"-\",INDIRECT(CONCATENATE(\"AP\",MATCH(\"B\",$AR$1:$AR$20,0))))","v":"Jessie Mogridge"},"Event Cancelled","No Competitors","Opening Height Not Cleared",null,7]
[7,"Laura Sanderson",null,null,null,null,null,null,"B",null,null,null,null,null,null,null,null,null,null,null,null,"Felicity Edwards",null,null,null,null,null,null,"B",null,null,null,null,null,null,"A",null,"B",null,null,null,null,null,null,null,null,null,null,null,null,null,null,null,null,null,null,null,null,null,null,null,null,null,"U13G 75m","T13","U13G","75m",null,{"$f":"IF(COUNTIF($E$4:$E$20,\"A\")=0,\"-\",INDIRECT(CONCATENATE(\"B\",MATCH(\"A\",$E$1:$E$20,0))))","v":"Madeleine Gerrard"},{"$f":"IF(COUNTIF($E$4:$E$20,\"B\")=0,\"-\",INDIRECT(CONCATENATE(\"B\",MATCH(\"B\",$E$1:$E$20,0))))","v":"Charlotte Sampson"},{"$f":"IF(COUNTIF($Y$4:$Y$20,\"A\")=0,\"-\",INDIRECT(CONCATENATE(\"V\",MATCH(\"A\",$Y$1:$Y$20,0))))","v":"Rachel White"},{"$f":"IF(COUNTIF($Y$4:$Y$20,\"B\")=0,\"-\",INDIRECT(CONCATENATE(\"V\",MATCH(\"B\",$Y$1:$Y$20,0))))","v":"Annabel Ashton"},{"$f":"IF(COUNTIF($AS$4:$AS$20,\"A\")=0,\"-\",INDIRECT(CONCATENATE(\"AP\",MATCH(\"A\",$AS$1:$AS$20,0))))","v":"Jessie Mogridge"},{"$f":"IF(COUNTIF($AS$4:$AS$20,\"B\")=0,\"-\",INDIRECT(CONCATENATE(\"AP\",MATCH(\"B\",$AS$1:$AS$20,0))))","v":"Chloe Brooks"},"Event Cancelled","No Competitors","Opening Height Not Cleared",null,8]
[8,"Jessica Matthews",null,null,null,null,null,null,null,null,null,null,null,"A",null,null,null,"A",null,null,null,null,null,null,null,null,null,null,null,null,null,null,null,null,null,null,null,null,null,null,null,null,null,null,null,null,null,null,null,null,null,null,null,null,null,null,null,null,null,null,null,null,null,"U17W 100m","T14","U17W","100m",null,{"$f":"IF(COUNTIF($E$52:$E$77,\"A\")=0,\"-\",INDIRECT(CONCATENATE(\"B\",MATCH(\"A\",$E$49:$E$77,0)+48)))","v":"Grace Eyles"},{"$f":"IF(COUNTIF($E$52:$E$77,\"B\")=0,\"-\",INDIRECT(CONCATENATE(\"B\",MATCH(\"B\",$E$49:$E$77,0)+48)))","v":"Emily Wadge"},{"$f":"IF(COUNTIF($Y$52:$Y$77,\"A\")=0,\"-\",INDIRECT(CONCATENATE(\"V\",MATCH(\"A\",$Y$49:$Y$77,0)+48)))","v":"Emily Haigh"},{"$f":"IF(COUNTIF($Y$52:$Y$77,\"B\")=0,\"-\",INDIRECT(CONCATENATE(\"V\",MATCH(\"B\",$Y$49:$Y$77,0)+48)))","v":"-"},{"$f":"IF(COUNTIF($AS$52:$AS$77,\"A\")=0,\"-\",INDIRECT(CONCATENATE(\"AP\",MATCH(\"A\",$AS$49:$AS$77,0)+48)))","v":"India Wilson"},{"$f":"IF(COUNTIF($AS$52:$AS$77,\"B\")=0,\"-\",INDIRECT(CONCATENATE(\"AP\",MATCH(\"B\",$AS$49:$AS$77,0)+48)))","v":"Melody Peterson"},"Event Cancelled","No Competitors","Opening Height Not Cleared",null,9]
[9,"Ella Liefeith",null,null,null,null,null,null,null,null,null,null,null,"B",null,"B",null,null,null,null,null,null,null,null,null,null,null,null,null,null,null,null,null,null,null,null,null,null,null,null,null,null,null,null,null,null,null,null,null,null,null,null,null,null,null,null,null,null,null,null,null,null,null,"U15G 100m","T15","U15G","100m",null,{"$f":"IF(COUNTIF($E$24:$E$48,\"A\")=0,\"-\",INDIRECT(CONCATENATE(\"B\",MATCH(\"A\",$E$21:$E$48,0)+20)))","v":"Jessica Fisher"},{"$f":"IF(COUNTIF($E$24:$E$48,\"B\")=0,\"-\",INDIRECT(CONCATENATE(\"B\",MATCH(\"B\",$E$21:$E$48,0)+20)))","v":"Lauren Higson"},{"$f":"IF(COUNTIF($Y$24:$Y$48,\"A\")=0,\"-\",INDIRECT(CONCATENATE(\"V\",MATCH(\"A\",$Y$21:$Y$48,0)+20)))","v":"Chloe Hopper"},{"$f":"IF(COUNTIF($Y$24:$Y$48,\"B\")=0,\"-\",INDIRECT(CONCATENATE(\"V\",MATCH(\"B\",$Y$21:$Y$48,0)+20)))","v":"Jenny Harrison"},{"$f":"IF(COUNTIF($AS$24:$AS$48,\"A\")=0,\"-\",INDIRECT(CONCATENATE(\"AP\",MATCH(\"A\",$AS$21:$AS$48,0)+20)))","v":"Molly Yearby"},{"$f":"IF(COUNTIF($AS$24:$AS$48,\"B\")=0,\"-\",INDIRECT(CONCATENATE(\"AP\",MATCH(\"B\",$AS$21:$AS$48,0)+20)))","v":"Sian Gilmartin-Green"},"Event Cancelled","No Competitors","Opening Height Not Cleared",null,10]
[10,"Abigail Cove-Mullins",null,null,null,null,null,null,null,null,null,null,null,null,null,null,null,"B",null,null,null,null,null,null,null,null,null,null,null,null,null,null,null,null,null,null,null,null,null,null,null,null,null,null,null,null,null,null,null,null,null,null,null,null,null,null,null,null,null,null,null,null,null,"U17W 3000m","T20","U17W","3000m",null,{"$f":"IF(COUNTIF($F$52:$F$77,\"A\")=0,\"-\",INDIRECT(CONCATENATE(\"B\",MATCH(\"A\",$F$49:$F$77,0)+48)))","v":"Jessica Timmins"},{"$f":"IF(COUNTIF($F$52:$F$77,\"B\")=0,\"-\",INDIRECT(CONCATENATE(\"B\",MATCH(\"B\",$F$49:$F$77,0)+48)))","v":"-"},{"$f":"IF(COUNTIF($Z$52:$Z$77,\"A\")=0,\"-\",INDIRECT(CONCATENATE(\"V\",MATCH(\"A\",$Z$49:$Z$77,0)+48)))","v":"Katy Wood"},{"$f":"IF(COUNTIF($Z$52:$Z$77,\"B\")=0,\"-\",INDIRECT(CONCATENATE(\"V\",MATCH(\"B\",$Z$49:$Z$77,0)+48)))","v":"-"},{"$f":"IF(COUNTIF($AT$52:$AT$77,\"A\")=0,\"-\",INDIRECT(CONCATENATE(\"AP\",MATCH(\"A\",$AT$49:$AT$77,0)+48)))","v":"Ellie Dooley"},{"$f":"IF(COUNTIF($AT$52:$AT$77,\"B\")=0,\"-\",INDIRECT(CONCATENATE(\"AP\",MATCH(\"B\",$AT$49:$AT$77,0)+48)))","v":"-"},"Event Cancelled","No Competitors","Opening Height Not Cleared",null,11]
[11,null,null,null,null,null,null,null,null,null,null,null,null,null,null,null,null,null,null,null,null,null,null,null,null,null,null,null,null,null,null,null,null,null,null,null,null,null,null,null,null,null,null,null,null,null,null,null,null,null,null,null,null,null,null,null,null,null,null,null,null,null,null,"U17W 300m H","T21","U17W","300m H",null,{"$f":"IF(COUNTIF($G$52:$G$77,\"A\")=0,\"-\",INDIRECT(CONCATENATE(\"B\",MATCH(\"A\",$G$49:$G$77,0)+48)))","v":"Bethany Sharp"},{"$f":"IF(COUNTIF($G$52:$G$77,\"B\")=0,\"-\",INDIRECT(CONCATENATE(\"B\",MATCH(\"B\",$G$49:$G$77,0)+48)))","v":"Leanne Barraclough"},{"$f":"IF(COUNTIF($AA$52:$AA$77,\"A\")=0,\"-\",INDIRECT(CONCATENATE(\"V\",MATCH(\"A\",$AA$49:$AA$77,0)+48)))","v":"Megan Savage"},{"$f":"IF(COUNTIF($AA$52:$AA$77,\"B\")=0,\"-\",INDIRECT(CONCATENATE(\"V\",MATCH(\"B\",$AA$49:$AA$77,0)+48)))","v":"-"},{"$f":"IF(COUNTIF($AU$52:$AU$77,\"A\")=0,\"-\",INDIRECT(CONCATENATE(\"AP\",MATCH(\"A\",$AU$49:$AU$77,0)+48)))","v":"-"},{"$f":"IF(COUNTIF($AU$52:$AU$77,\"B\")=0,\"-\",INDIRECT(CONCATENATE(\"AP\",MATCH(\"B\",$AU$49:$AU$77,0)+48)))","v":"-"},"Event Cancelled","No Competitors","Opening Height Not Cleared",null,12]
[12,null,null,null,null,null,null,null,null,null,null,null,null,null,null,null,null,null,null,null,null,null,null,null,null,null,null,null,null,null,null,null,null,null,null,null,null,null,null,null,null,null,null,null,null,null,null,null,null,null,null,null,null,null,null,null,null,null,null,null,null,null,null,"U13G 150m","T23","U13G","150m",null,{"$f":"IF(COUNTIF($H$4:$H$20,\"A\")=0,\"-\",INDIRECT(CONCATENATE(\"B\",MATCH(\"A\",$H$1:$H$20,0))))","v":"Madeleine Gerrard"},{"$f":"IF(COUNTIF($H$4:$H$20,\"B\")=0,\"-\",INDIRECT(CONCATENATE(\"B\",MATCH(\"B\",$H$1:$H$20,0))))","v":"Georgia Green"},{"$f":"IF(COUNTIF($AB$4:$AB$20,\"A\")=0,\"-\",INDIRECT(CONCATENATE(\"V\",MATCH(\"A\",$AB$1:$AB$20,0))))","v":"Lucy Hadaway"},{"$f":"IF(COUNTIF($AB$4:$AB$20,\"B\")=0,\"-\",INDIRECT(CONCATENATE(\"V\",MATCH(\"B\",$AB$1:$AB$20,0))))","v":"Charlotte Stamp"},{"$f":"IF(COUNTIF($AV$4:$AV$20,\"A\")=0,\"-\",INDIRECT(CONCATENATE(\"AP\",MATCH(\"A\",$AV$1:$AV$20,0))))","v":"Jessie Mogridge"},{"$f":"IF(COUNTIF($AV$4:$AV$20,\"B\")=0,\"-\",INDIRECT(CONCATENATE(\"AP\",MATCH(\"B\",$AV$1:$AV$20,0))))","v":"Chloe Brooks"},"Event Cancelled","No Competitors","Opening Height Not Cleared",null,13]
[13,null,null,null,null,null,null,null,null,null,null,null,null,null,null,null,null,null,null,null,null,null,null,null,null,null,null,null,null,null,null,null,null,null,null,null,null,null,null,null,null,null,null,null,null,null,null,null,null,null,null,null,null,null,null,null,null,null,null,null,null,null,null,"U15G 200m","T25","U15G","200m",null,{"$f":"IF(COUNTIF($H$24:$H$48,\"A\")=0,\"-\",INDIRECT(CONCATENATE(\"B\",MATCH(\"A\",$H$21:$H$48,0)+20)))","v":"Holly Marshall"},{"$f":"IF(COUNTIF($H$24:$H$48,\"B\")=0,\"-\",INDIRECT(CONCATENATE(\"B\",MATCH(\"B\",$H$21:$H$48,0)+20)))","v":"Jessica Eyles"},{"$f":"IF(COUNTIF($AB$24:$AB$48,\"A\")=0,\"-\",INDIRECT(CONCATENATE(\"V\",MATCH(\"A\",$AB$21:$AB$48,0)+20)))","v":"Jade Kerrison"},{"$f":"IF(COUNTIF($AB$24:$AB$48,\"B\")=0,\"-\",INDIRECT(CONCATENATE(\"V\",MATCH(\"B\",$AB$21:$AB$48,0)+20)))","v":"Anna Richardson"},{"$f":"IF(COUNTIF($AV$24:$AV$48,\"A\")=0,\"-\",INDIRECT(CONCATENATE(\"AP\",MATCH(\"A\",$AV$21:$AV$48,0)+20)))","v":"Molly Yearby"},{"$f":"IF(COUNTIF($AV$24:$AV$48,\"B\")=0,\"-\",INDIRECT(CONCATENATE(\"AP\",MATCH(\"B\",$AV$21:$AV$48,0)+20)))","v":"Caoimhe Crampton"},"Event Cancelled","No Competitors","Opening Height Not Cleared",null,14]
[14,null,null,null,null,null,null,null,null,null,null,null,null,null,null,null,null,null,null,null,null,null,null,null,null,null,null,null,null,null,null,null,null,null,null,null,null,null,null,null,null,null,null,null,null,null,null,null,null,null,null,null,null,null,null,null,null,null,null,null,null,null,null,"U17W 200m","T27","U17W","200m",null,{"$f":"IF(COUNTIF($H$52:$H$77,\"A\")=0,\"-\",INDIRECT(CONCATENATE(\"B\",MATCH(\"A\",$H$49:$H$77,0)+48)))","v":"Zoe Kerins"},{"$f":"IF(COUNTIF($H$52:$H$77,\"B\")=0,\"-\",INDIRECT(CONCATENATE(\"B\",MATCH(\"B\",$H$49:$H$77,0)+48)))","v":"Emily Wadge"},{"$f":"IF(COUNTIF($AB$52:$AB$77,\"A\")=0,\"-\",INDIRECT(CONCATENATE(\"V\",MATCH(\"A\",$AB$49:$AB$77,0)+48)))","v":"Emily Haigh"},{"$f":"IF(COUNTIF($AB$52:$AB$77,\"B\")=0,\"-\",INDIRECT(CONCATENATE(\"V\",MATCH(\"B\",$AB$49:$AB$77,0)+48)))","v":"-"},{"$f":"IF(COUNTIF($AV$52:$AV$77,\"A\")=0,\"-\",INDIRECT(CONCATENATE(\"AP\",MATCH(\"A\",$AV$49:$AV$77,0)+48)))","v":"India Wilson"},{"$f":"IF(COUNTIF($AV$52:$AV$77,\"B\")=0,\"-\",INDIRECT(CONCATENATE(\"AP\",MATCH(\"B\",$AV$49:$AV$77,0)+48)))","v":"Katie Ward"},"Event Cancelled","No Competitors","Opening Height Not Cleared",null,15]
[15,null,null,null,null,null,null,null,null,null,null,null,null,null,null,null,null,null,null,null,null,null,null,null,null,null,null,null,null,null,null,null,null,null,null,null,null,null,null,null,null,null,null,null,null,null,null,null,null,null,null,null,null,null,null,null,null,null,null,null,null,null,null,"U13G 1200m","T29","U13G","1200m",null,{"$f":"IF(COUNTIF($I$4:$I$20,\"A\")=0,\"-\",INDIRECT(CONCATENATE(\"B\",MATCH(\"A\",$I$1:$I$20,0))))","v":"Beth Oates"},{"$f":"IF(COUNTIF($I$4:$I$20,\"B\")=0,\"-\",INDIRECT(CONCATENATE(\"B\",MATCH(\"B\",$I$1:$I$20,0))))","v":"Laura Sanderson"},{"$f":"IF(COUNTIF($AC$4:$AC$20,\"A\")=0,\"-\",INDIRECT(CONCATENATE(\"V\",MATCH(\"A\",$AC$1:$AC$20,0))))","v":"Georgie Hogarth"},{"$f":"IF(COUNTIF($AC$4:$AC$20,\"B\")=0,\"-\",INDIRECT(CONCATENATE(\"V\",MATCH(\"B\",$AC$1:$AC$20,0))))","v":"Felicity Edwards"},{"$f":"IF(COUNTIF($AW$4:$AW$20,\"A\")=0,\"-\",INDIRECT(CONCATENATE(\"AP\",MATCH(\"A\",$AW$1:$AW$20,0))))","v":"-"},{"$f":"IF(COUNTIF($AW$4:$AW$20,\"B\")=0,\"-\",INDIRECT(CONCATENATE(\"AP\",MATCH(\"B\",$AW$1:$AW$20,0))))","v":"-"},"Event Cancelled","No Competitors","Opening Height Not Cleared",null,16]
[16,null,null,null,null,null,null,null,null,null,null,null,null,null,null,null,null,null,null,null,null,null,null,null,null,null,null,null,null,null,null,null,null,null,null,null,null,null,null,null,null,null,null,null,null,null,null,null,null,null,null,null,null,null,null,null,null,null,null,null,null,null,null,"U15G 1500m","T31","U15G","1500m",null,{"$f":"IF(COUNTIF($I$24:$I$48,\"A\")=0,\"-\",INDIRECT(CONCATENATE(\"B\",MATCH(\"A\",$I$21:$I$48,0)+20)))","v":"Stephanie Rodgers"},{"$f":"IF(COUNTIF($I$24:$I$48,\"B\")=0,\"-\",INDIRECT(CONCATENATE(\"B\",MATCH(\"B\",$I$21:$I$48,0)+20)))","v":"Saskia Lewis"},{"$f":"IF(COUNTIF($AC$24:$AC$48,\"A\")=0,\"-\",INDIRECT(CONCATENATE(\"V\",MATCH(\"A\",$AC$21:$AC$48,0)+20)))","v":"Chelsea Walker"},{"$f":"IF(COUNTIF($AC$24:$AC$48,\"B\")=0,\"-\",INDIRECT(CONCATENATE(\"V\",MATCH(\"B\",$AC$21:$AC$48,0)+20)))","v":"-"},{"$f":"IF(COUNTIF($AW$24:$AW$48,\"A\")=0,\"-\",INDIRECT(CONCATENATE(\"AP\",MATCH(\"A\",$AW$21:$AW$48,0)+20)))","v":"Gemma Keir"},{"$f":"IF(COUNTIF($AW$24:$AW$48,\"B\")=0,\"-\",INDIRECT(CONCATENATE(\"AP\",MATCH(\"B\",$AW$21:$AW$48,0)+20)))","v":"-"},"Event Cancelled","No Competitors","Opening Height Not Cleared",null,17]
[17,null,null,null,null,null,null,null,null,null,null,null,null,null,null,null,null,null,null,null,null,null,null,null,null,null,null,null,null,null,null,null,null,null,null,null,null,null,null,null,null,null,null,null,null,null,null,null,null,null,null,null,null,null,null,null,null,null,null,null,null,null,null,"U17W 1500m","T33","U17W","1500m",null,{"$f":"IF(COUNTIF($I$52:$I$77,\"A\")=0,\"-\",INDIRECT(CONCATENATE(\"B\",MATCH(\"A\",$I$49:$I$77,0)+48)))","v":"Hannah Marsh"},{"$f":"IF(COUNTIF($I$52:$I$77,\"B\")=0,\"-\",INDIRECT(CONCATENATE(\"B\",MATCH(\"B\",$I$49:$I$77,0)+48)))","v":"Olivia Radcliffe"},{"$f":"IF(COUNTIF($AC$52:$AC$77,\"A\")=0,\"-\",INDIRECT(CONCATENATE(\"V\",MATCH(\"A\",$AC$49:$AC$77,0)+48)))","v":"Zoe Robson"},{"$f":"IF(COUNTIF($AC$52:$AC$77,\"B\")=0,\"-\",INDIRECT(CONCATENATE(\"V\",MATCH(\"B\",$AC$49:$AC$77,0)+48)))","v":"-"},{"$f":"IF(COUNTIF($AW$52:$AW$77,\"A\")=0,\"-\",INDIRECT(CONCATENATE(\"AP\",MATCH(\"A\",$AW$49:$AW$77,0)+48)))","v":"Ellie Dooley"},{"$f":"IF(COUNTIF($AW$52:$AW$77,\"B\")=0,\"-\",INDIRECT(CONCATENATE(\"AP\",MATCH(\"B\",$AW$49:$AW$77,0)+48)))","v":"-"},"Event Cancelled","No Competitors","Opening Height Not Cleared",null,18]
[null,null,null,null,null,null,null,null,null,null,null,null,null,null,null,null,null,null,null,null,null,null,null,null,null,null,null,null,null,null,null,null,null,null,null,null,null,null,null,null,null,null,null,null,null,null,null,null,null,null,null,null,null,null,null,null,null,null,null,null,null,null,null,null,null,{"$error":"#N/A"},{"$error":"#N/A"},null,{"$f":"IF(COUNTIF($J$24:$J$48,\"A\")=0,\"-\",INDIRECT(CONCATENATE(\"B\",MATCH(\"A\",$J$21:$J$48,0)+20)))","v":"-"},{"$f":"IF(COUNTIF($J$24:$J$48,\"B\")=0,\"-\",INDIRECT(CONCATENATE(\"B\",MATCH(\"B\",$J$21:$J$48,0)+20)))","v":"-"},{"$f":"IF(COUNTIF($AD$24:$AD$48,\"A\")=0,\"-\",INDIRECT(CONCATENATE(\"V\",MATCH(\"A\",$AD$21:$AD$48,0)+20)))","v":"-"},{"$f":"IF(COUNTIF($AD$24:$AD$48,\"B\")=0,\"-\",INDIRECT(CONCATENATE(\"V\",MATCH(\"B\",$AD$21:$AD$48,0)+20)))","v":"-"},{"$f":"IF(COUNTIF($AX$24:$AX$48,\"A\")=0,\"-\",INDIRECT(CONCATENATE(\"AP\",MATCH(\"A\",$AX$21:$AX$48,0)+20)))","v":"-"},{"$f":"IF(COUNTIF($AX$24:$AX$48,\"B\")=0,\"-\",INDIRECT(CONCATENATE(\"AP\",MATCH(\"B\",$AX$21:$AX$48,0)+20)))","v":"-"},"Event Cancelled","No Competitors","Opening Height Not Cleared",null,19]
[null,null,null,null,null,null,null,null,null,null,null,null,null,null,null,null,null,null,null,null,null,null,null,null,null,null,null,null,null,null,null,null,null,null,null,null,null,null,null,null,null,null,null,null,null,null,null,null,null,null,null,null,null,null,null,null,null,null,null,null,null,null,null,"U17W 300m","T35","U17W","300m",null,{"$f":"IF(COUNTIF($J$52:$J$77,\"A\")=0,\"-\",INDIRECT(CONCATENATE(\"B\",MATCH(\"A\",$J$49:$J$77,0)+48)))","v":"Grace Eyles"},{"$f":"IF(COUNTIF($J$52:$J$77,\"B\")=0,\"-\",INDIRECT(CONCATENATE(\"B\",MATCH(\"B\",$J$49:$J$77,0)+48)))","v":"Bethany Sharp"},{"$f":"IF(COUNTIF($AD$52:$AD$77,\"A\")=0,\"-\",INDIRECT(CONCATENATE(\"V\",MATCH(\"A\",$AD$49:$AD$77,0)+48)))","v":"Kate Harris"},{"$f":"IF(COUNTIF($AD$52:$AD$77,\"B\")=0,\"-\",INDIRECT(CONCATENATE(\"V\",MATCH(\"B\",$AD$49:$AD$77,0)+48)))","v":"Olivia Swain"},{"$f":"IF(COUNTIF($AX$52:$AX$77,\"A\")=0,\"-\",INDIRECT(CONCATENATE(\"AP\",MATCH(\"A\",$AX$49:$AX$77,0)+48)))","v":"Georgia Yearby"},{"$f":"IF(COUNTIF($AX$52:$AX$77,\"B\")=0,\"-\",INDIRECT(CONCATENATE(\"AP\",MATCH(\"B\",$AX$49:$AX$77,0)+48)))","v":"-"},"Event Cancelled","No Competitors","Opening Height Not Cleared",null,20]
[null,{"$f":"CONCATENATE(Handbook!$W$1,\" Athletes\")","v":"U15G Athletes"},null,null,null,null,null,null,null,null,null,null,null,null,null,null,null,null,null,null,null,{"$f":"B23","v":"U15G Athletes"},null,null,null,null,null,null,null,null,null,null,null,null,null,null,null,null,null,null,null,{"$f":"B23","v":"U15G Athletes"},null,null,null,null,null,null,null,null,null,null,null,null,null,null,null,null,null,null,null,null,null,"U17W 4 x 100m Relay","T38","U17W","4 x 100m Relay",null,{"$f":"IF(COUNTIF($L$52:$L$77,\"1\")=0,\"-\",INDIRECT(CONCATENATE(\"B\",MATCH(1,$L$49:$L$77,0)+48)))","v":"Bethany Porter"},{"$f":"IF(COUNTIF($L$52:$L$77,\"2\")=0,\"-\",INDIRECT(CONCATENATE(\"B\",MATCH(2,$L$49:$L$77,0)+48)))","v":"Zoe Kerins"},{"$f":"IF(COUNTIF($AF$52:$AF$77,\"1\")=0,\"-\",INDIRECT(CONCATENATE(\"V\",MATCH(1,$AF$49:$AF$77,0)+48)))","v":"Megan Savage"},{"$f":"IF(COUNTIF($AF$52:$AF$77,\"2\")=0,\"-\",INDIRECT(CONCATENATE(\"V\",MATCH(2,$AF$49:$AF$77,0)+48)))","v":"Emily Haigh"},{"$f":"IF(COUNTIF($AZ$52:$AZ$77,\"1\")=0,\"-\",INDIRECT(CONCATENATE(\"AP\",MATCH(1,$AZ$49:$AZ$77,0)+48)))","v":"Melody Peterson"},{"$f":"IF(COUNTIF($AZ$52:$AZ$77,\"2\")=0,\"-\",INDIRECT(CONCATENATE(\"AP\",MATCH(2,$AZ$49:$AZ$77,0)+48)))","v":"Hannah Ukandu"},"Event Cancelled","No Competitors","Opening Height Not Cleared",null,21]
[18,"Sophie Woollin",null,"A",null,null,null,null,null,null,null,1,null,null,null,null,null,null,null,null,null,null,null,null,null,null,null,null,null,null,null,null,null,null,null,null,null,null,null,null,null,"Caoimhe Crampton","B",null,null,null,null,"B",null,null,null,4,null,null,null,null,null,"A",null,null,null,null,null,null,null,null,null,null,{"$f":"IF(COUNTIF($L$52:$L$77,\"3\")=0,\"-\",INDIRECT(CONCATENATE(\"B\",MATCH(3,$L$49:$L$77,0)+48)))","v":"Bethany Sharp"},{"$f":"IF(COUNTIF($L$52:$L$77,\"4\")=0,\"-\",INDIRECT(CONCATENATE(\"B\",MATCH(4,$L$49:$L$77,0)+48)))","v":"Grace Eyles"},{"$f":"IF(COUNTIF($AF$52:$AF$77,\"3\")=0,\"-\",INDIRECT(CONCATENATE(\"V\",MATCH(3,$AF$49:$AF$77,0)+48)))","v":"Polly Morris"},{"$f":"IF(COUNTIF($AF$52:$AF$77,\"4\")=0,\"-\",INDIRECT(CONCATENATE(\"V\",MATCH(4,$AF$49:$AF$77,0)+48)))","v":"Olivia Swain"},{"$f":"IF(COUNTIF($AZ$52:$AZ$77,\"3\")=0,\"-\",INDIRECT(CONCATENATE(\"AP\",MATCH(3,$AZ$49:$AZ$77,0)+48)))","v":"India Wilson"},{"$f":"IF(COUNTIF($AZ$52:$AZ$77,\"4\")=0,\"-\",INDIRECT(CONCATENATE(\"AP\",MATCH(4,$AZ$49:$AZ$77,0)+48)))","v":"Amena Abdelaziz"},"Event Cancelled","No Competitors","Opening Height Not Cleared",null,22]
[19,"Jessica Fisher",null,null,"A",null,null,null,null,null,null,2,null,null,null,null,null,null,null,null,null,null,null,null,null,null,null,null,null,null,null,null,null,null,null,null,null,null,null,null,null,"Gemma Keir",null,null,null,null,null,null,"A",null,null,null,null,null,null,null,null,null,null,"B",null,null,null,"U15G 4 x 100m Relay","T40",{"$f":"VLOOKUP(BM25,eventno,2,FALSE)","v":"U15G"},{"$f":"VLOOKUP($BM25,eventno,3,FALSE)","v":"4 x 100m Relay"},null,{"$f":"IF(COUNTIF($L$24:$L$48,\"1\")=0,\"-\",INDIRECT(CONCATENATE(\"B\",MATCH(1,$L$21:$L$48,0)+20)))","v":"Sophie Woollin"},{"$f":"IF(COUNTIF($L$24:$L$48,\"2\")=0,\"-\",INDIRECT(CONCATENATE(\"B\",MATCH(2,$L$21:$L$48,0)+20)))","v":"Jessica Fisher"},{"$f":"IF(COUNTIF($AF$24:$AF$48,\"1\")=0,\"-\",INDIRECT(CONCATENATE(\"V\",MATCH(1,$AF$21:$AF$48,0)+20)))","v":"Anna Richardson"},{"$f":"IF(COUNTIF($AF$24:$AF$48,\"2\")=0,\"-\",INDIRECT(CONCATENATE(\"V\",MATCH(2,$AF$21:$AF$48,0)+20)))","v":"Josie Parry"},{"$f":"IF(COUNTIF($AZ$24:$AZ$48,\"1\")=0,\"-\",INDIRECT(CONCATENATE(\"AP\",MATCH(1,$AZ$21:$AZ$48,0)+20)))","v":"Melissa Fletcher"},{"$f":"IF(COUNTIF($AZ$24:$AZ$48,\"2\")=0,\"-\",INDIRECT(CONCATENATE(\"AP\",MATCH(2,$AZ$21:$AZ$48,0)+20)))","v":"Molly Yearby"},"Event Cancelled","No Competitors","Opening Height Not Cleared",null,23]
[20,"Lauren Higson",null,null,"B",null,null,null,null,null,null,null,null,null,null,null,null,null,null,null,null,null,null,null,null,null,null,null,null,null,null,null,null,null,null,null,null,null,null,null,null,"Jemma Ibbetson",null,"B",null,null,null,null,null,null,null,null,null,"B",null,null,null,"B",null,null,null,null,null,null,null,null,null,null,{"$f":"IF(COUNTIF($L$24:$L$48,\"3\")=0,\"-\",INDIRECT(CONCATENATE(\"B\",MATCH(3,$L$21:$L$48,0)+20)))","v":"Jessica Eyles"},{"$f":"IF(COUNTIF($L$24:$L$48,\"4\")=0,\"-\",INDIRECT(CONCATENATE(\"B\",MATCH(4,$L$21:$L$48,0)+20)))","v":"Holly Marshall"},{"$f":"IF(COUNTIF($AF$24:$AF$48,\"3\")=0,\"-\",INDIRECT(CONCATENATE(\"V\",MATCH(3,$AF$21:$AF$48,0)+20)))","v":"Chelsea Walker"},{"$f":"IF(COUNTIF($AF$24:$AF$48,\"4\")=0,\"-\",INDIRECT(CONCATENATE(\"V\",MATCH(4,$AF$21:$AF$48,0)+20)))","v":"Chloe Hopper"},{"$f":"IF(COUNTIF($AZ$24:$AZ$48,\"3\")=0,\"-\",INDIRECT(CONCATENATE(\"AP\",MATCH(3,$AZ$21:$AZ$48,0)+20)))","v":"Sian Gilmartin-Green"},{"$f":"IF(COUNTIF($AZ$24:$AZ$48,\"4\")=0,\"-\",INDIRECT(CONCATENATE(\"AP\",MATCH(4,$AZ$21:$AZ$48,0)+20)))","v":"Caoimhe Crampton"},"Event Cancelled","No Competitors","Opening Height Not Cleared",null,24]
[21,"Jessica Eyles",null,null,null,null,null,"B",null,null,null,3,null,"A",null,null,null,"B",null,null,null,null,null,null,null,null,null,null,null,null,null,null,null,null,null,null,null,null,null,null,null,"Melissa Fletcher","A",null,null,null,null,null,null,null,null,1,null,null,null,"A",null,null,"B",null,null,null,null,"U13G 4 x 100m Relay","T42",{"$f":"VLOOKUP(BM27,eventno,2,FALSE)","v":"U13G"},{"$f":"VLOOKUP($BM27,eventno,3,FALSE)","v":"4 x 100m Relay"},null,{"$f":"IF(COUNTIF($L$4:$L$20,\"1\")=0,\"-\",INDIRECT(CONCATENATE(\"B\",MATCH(1,$L$1:$L$20,0))))","v":"Charlotte Sampson"},{"$f":"IF(COUNTIF($L$4:$L$20,\"2\")=0,\"-\",INDIRECT(CONCATENATE(\"B\",MATCH(2,$L$1:$L$20,0))))","v":"Niamh Docherty"},{"$f":"IF(COUNTIF($AF$4:$AF$20,\"1\")=0,\"-\",INDIRECT(CONCATENATE(\"V\",MATCH(1,$AF$1:$AF$20,0))))","v":"Annabel Ashton"},{"$f":"IF(COUNTIF($AF$4:$AF$20,\"2\")=0,\"-\",INDIRECT(CONCATENATE(\"V\",MATCH(2,$AF$1:$AF$20,0))))","v":"Charlotte Stamp"},{"$f":"IF(COUNTIF($AZ$4:$AZ$20,\"1\")=0,\"-\",INDIRECT(CONCATENATE(\"AP\",MATCH(1,$AZ$1:$AZ$20,0))))","v":"Chloe Brooks"},{"$f":"IF(COUNTIF($AZ$4:$AZ$20,\"2\")=0,\"-\",INDIRECT(CONCATENATE(\"AP\",MATCH(2,$AZ$1:$AZ$20,0))))","v":"Lois Fish"},"Event Cancelled","No Competitors","Opening Height Not Cleared",null,25]
[22,"Stephanie Rodgers",null,null,null,null,null,null,"A",null,null,null,null,null,null,null,null,null,null,null,null,null,null,null,null,null,null,null,null,null,null,null,null,null,null,null,null,null,null,null,null,"Molly Yearby",null,null,"A",null,null,"A",null,null,null,2,null,null,null,null,null,null,null,null,null,null,null,null,null,null,null,null,{"$f":"IF(COUNTIF($L$4:$L$20,\"3\")=0,\"-\",INDIRECT(CONCATENATE(\"B\",MATCH(3,$L$1:$L$20,0))))","v":"Madeleine Gerrard"},{"$f":"IF(COUNTIF($L$4:$L$20,\"4\")=0,\"-\",INDIRECT(CONCATENATE(\"B\",MATCH(4,$L$1:$L$20,0))))","v":"Georgia Green"},{"$f":"IF(COUNTIF($AF$4:$AF$20,\"3\")=0,\"-\",INDIRECT(CONCATENATE(\"V\",MATCH(3,$AF$1:$AF$20,0))))","v":"Georgie Hogarth"},{"$f":"IF(COUNTIF($AF$4:$AF$20,\"4\")=0,\"-\",INDIRECT(CONCATENATE(\"V\",MATCH(4,$AF$1:$AF$20,0))))","v":"Lucy Hadaway"},{"$f":"IF(COUNTIF($AZ$4:$AZ$20,\"3\")=0,\"-\",INDIRECT(CONCATENATE(\"AP\",MATCH(3,$AZ$1:$AZ$20,0))))","v":"Millie Bradbury"},{"$f":"IF(COUNTIF($AZ$4:$AZ$20,\"4\")=0,\"-\",INDIRECT(CONCATENATE(\"AP\",MATCH(4,$AZ$1:$AZ$20,0))))","v":"Megan Sanders"},"Event Cancelled","No Competitors","Opening Height Not Cleared",null,26]
[23,"Abigail Roberts",null,null,null,null,null,null,null,null,null,null,null,null,null,"A","A",null,null,"A",null,null,null,null,null,null,null,null,null,null,null,null,null,null,null,null,null,null,null,null,null,"Nicola Sawyer",null,"A",null,null,null,null,null,null,null,null,null,null,null,null,null,null,"A","A",null,null,null,null,null,{"$f":"VLOOKUP(BM29,eventno,2,FALSE)","v":{"$error":"#N/A"}},{"$f":"VLOOKUP($BM29,eventno,3,FALSE)","v":{"$error":"#N/A"}},null,{"$f":"IF(COUNTIF($K$52:$K$77,\"A\")=0,\"-\",INDIRECT(CONCATENATE(\"B\",MATCH(\"A\",$K$49:$K$77,0)+48)))","v":"-"},{"$f":"IF(COUNTIF($K$52:$K$77,\"B\")=0,\"-\",INDIRECT(CONCATENATE(\"B\",MATCH(\"B\",$K$49:$K$77,0)+48)))","v":"-"},{"$f":"IF(COUNTIF($AE$52:$AE$77,\"A\")=0,\"-\",INDIRECT(CONCATENATE(\"V\",MATCH(\"A\",$AE$49:$AE$77,0)+48)))","v":"-"},{"$f":"IF(COUNTIF($AE$52:$AE$77,\"B\")=0,\"-\",INDIRECT(CONCATENATE(\"V\",MATCH(\"B\",$AE$49:$AE$77,0)+48)))","v":"-"},{"$f":"IF(COUNTIF($AY$52:$AY$77,\"A\")=0,\"-\",INDIRECT(CONCATENATE(\"AP\",MATCH(\"A\",$AY$49:$AY$77,0)+48)))","v":"-"},{"$f":"IF(COUNTIF($AY$52:$AY$77,\"B\")=0,\"-\",INDIRECT(CONCATENATE(\"AP\",MATCH(\"B\",$AY$49:$AY$77,0)+48)))","v":"-"},"Event Cancelled","No Competitors","Opening Height Not Cleared",null,27]
[24,"Bethany Taylor",null,null,null,null,null,null,null,null,null,null,null,null,null,null,"B",null,"B",null,null,null,null,null,null,null,null,null,null,null,null,null,null,null,null,null,null,null,null,null,null,"Sian Gilmartin-Green",null,null,"B",null,null,null,null,null,null,3,null,"A",null,"B",null,null,null,null,null,null,null,null,null,{"$f":"VLOOKUP(BM30,eventno,2,FALSE)","v":{"$error":"#N/A"}},{"$f":"VLOOKUP($BM30,eventno,3,FALSE)","v":{"$error":"#N/A"}},null,{"$f":"IF(COUNTIF($M$24:$M$48,\"1\")=0,\"-\",INDIRECT(CONCATENATE(\"B\",MATCH(1,$M$21:$M$48,0)+20)))","v":"-"},{"$f":"IF(COUNTIF($M$24:$M$48,\"2\")=0,\"-\",INDIRECT(CONCATENATE(\"B\",MATCH(2,$M$21:$M$48,0)+20)))","v":"-"},{"$f":"IF(COUNTIF($AG$24:$AG$48,\"1\")=0,\"-\",INDIRECT(CONCATENATE(\"V\",MATCH(1,$AG$21:$AG$48,0)+20)))","v":"-"},{"$f":"IF(COUNTIF($AG$24:$AG$48,\"2\")=0,\"-\",INDIRECT(CONCATENATE(\"V\",MATCH(2,$AG$21:$AG$48,0)+20)))","v":"-"},{"$f":"IF(COUNTIF($BA$24:$BA$48,\"1\")=0,\"-\",INDIRECT(CONCATENATE(\"AP\",MATCH(1,$BA$21:$BA$48,0)+20)))","v":"-"},{"$f":"IF(COUNTIF($BA$24:$BA$48,\"2\")=0,\"-\",INDIRECT(CONCATENATE(\"AP\",MATCH(2,$BA$21:$BA$48,0)+20)))","v":"-"},"Event Cancelled","No Competitors","Opening Height Not Cleared",null,28]
[25,"Alyce McCurdie",null,null,null,null,null,null,null,null,null,null,null,null,null,null,null,"A","A","B",null,null,null,null,null,null,null,null,null,null,null,null,null,null,null,null,null,null,null,null,null,"Vikki Adams",null,null,null,null,null,null,null,null,null,null,null,null,null,null,"A",null,null,null,null,null,null,null,null,null,null,null,{"$f":"IF(COUNTIF($M$24:$M$48,\"3\")=0,\"-\",INDIRECT(CONCATENATE(\"B\",MATCH(3,$M$21:$M$48,0)+20)))","v":"-"},{"$f":"IF(COUNTIF($M$24:$M$48,\"4\")=0,\"-\",INDIRECT(CONCATENATE(\"B\",MATCH(4,$M$21:$M$48,0)+20)))","v":"-"},{"$f":"IF(COUNTIF($AG$24:$AG$48,\"3\")=0,\"-\",INDIRECT(CONCATENATE(\"V\",MATCH(3,$AG$21:$AG$48,0)+20)))","v":"-"},{"$f":"IF(COUNTIF($AG$24:$AG$48,\"4\")=0,\"-\",INDIRECT(CONCATENATE(\"V\",MATCH(4,$AG$21:$AG$48,0)+20)))","v":"-"},{"$f":"IF(COUNTIF($BA$24:$BA$48,\"3\")=0,\"-\",INDIRECT(CONCATENATE(\"AP\",MATCH(3,$BA$21:$BA$48,0)+20)))","v":"-"},{"$f":"IF(COUNTIF($BA$24:$BA$48,\"4\")=0,\"-\",INDIRECT(CONCATENATE(\"AP\",MATCH(4,$BA$21:$BA$48,0)+20)))","v":"-"},"Event Cancelled","No Competitors","Opening Height Not Cleared",null,29]
[26,"Rebecca Firth",null,"B",null,null,null,null,null,null,null,null,null,null,null,null,null,null,null,null,null,null,null,null,null,null,null,null,null,null,null,null,null,null,null,null,null,null,null,null,null,null,null,null,null,null,null,null,null,null,null,null,null,null,null,null,null,null,null,null,null,null,null,"U17W 4 x 300m Relay","T44",{"$f":"VLOOKUP(BM32,eventno,2,FALSE)","v":"U17W"},{"$f":"VLOOKUP($BM32,eventno,3,FALSE)","v":"4 x 300m Relay"},null,{"$f":"IF(COUNTIF($M$52:$M$77,\"1\")=0,\"-\",INDIRECT(CONCATENATE(\"B\",MATCH(1,$M$49:$M$77,0)+48)))","v":"Dannielle Anderson"},{"$f":"IF(COUNTIF($M$52:$M$77,\"2\")=0,\"-\",INDIRECT(CONCATENATE(\"B\",MATCH(2,$M$49:$M$77,0)+48)))","v":"Olivia Radcliffe"},{"$f":"IF(COUNTIF($AG$52:$AG$77,\"1\")=0,\"-\",INDIRECT(CONCATENATE(\"V\",MATCH(1,$AG$49:$AG$77,0)+48)))","v":"Kate Harris"},{"$f":"IF(COUNTIF($AG$52:$AG$77,\"2\")=0,\"-\",INDIRECT(CONCATENATE(\"V\",MATCH(2,$AG$49:$AG$77,0)+48)))","v":"Becky Tunnicliffe"},{"$f":"IF(COUNTIF($BA$52:$BA$77,\"1\")=0,\"-\",INDIRECT(CONCATENATE(\"AP\",MATCH(1,$BA$49:$BA$77,0)+48)))","v":"Katie Ward"},{"$f":"IF(COUNTIF($BA$52:$BA$77,\"2\")=0,\"-\",INDIRECT(CONCATENATE(\"AP\",MATCH(2,$BA$49:$BA$77,0)+48)))","v":"Ellie Dooley"},"Event Cancelled","No Competitors","Opening Height Not Cleared",null,30]
[27,"Saskia Lewis",null,null,null,null,null,null,"B",null,null,null,null,null,null,null,null,null,null,null,null,"Chelsea Walker","B",null,null,null,null,null,"A",null,null,3,null,null,null,null,null,null,"A",null,null,null,null,null,null,null,null,null,null,null,null,null,null,null,null,null,null,null,null,null,null,null,null,null,null,null,null,null,{"$f":"IF(COUNTIF($M$52:$M$77,\"3\")=0,\"-\",INDIRECT(CONCATENATE(\"B\",MATCH(3,$M$49:$M$77,0)+48)))","v":"Leanne Barraclough"},{"$f":"IF(COUNTIF($M$52:$M$77,\"4\")=0,\"-\",INDIRECT(CONCATENATE(\"B\",MATCH(4,$M$49:$M$77,0)+48)))","v":"Emily Wadge"},{"$f":"IF(COUNTIF($AG$52:$AG$77,\"3\")=0,\"-\",INDIRECT(CONCATENATE(\"V\",MATCH(3,$AG$49:$AG$77,0)+48)))","v":"Zoe Robson"},{"$f":"IF(COUNTIF($AG$52:$AG$77,\"4\")=0,\"-\",INDIRECT(CONCATENATE(\"V\",MATCH(4,$AG$49:$AG$77,0)+48)))","v":"Katy Wood"},{"$f":"IF(COUNTIF($BA$52:$BA$77,\"3\")=0,\"-\",INDIRECT(CONCATENATE(\"AP\",MATCH(3,$BA$49:$BA$77,0)+48)))","v":"India Wilson"},{"$f":"IF(COUNTIF($BA$52:$BA$77,\"4\")=0,\"-\",INDIRECT(CONCATENATE(\"AP\",MATCH(4,$BA$49:$BA$77,0)+48)))","v":"Georgia Yearby"},"Event Cancelled","No Competitors","Opening Height Not Cleared",null,31]
[28,"Olivia Walker",null,null,null,null,null,null,null,null,null,null,null,"B",null,null,null,null,null,null,null,"Libby Brown",null,"B",null,null,null,null,null,null,null,null,null,"B",null,null,null,null,null,null,null,null,null,null,null,null,null,null,null,null,null,null,null,null,null,null,null,null,null,null,null,null,null,"U13G Long Jump","F9",{"$f":"VLOOKUP(BM34,eventno,2,FALSE)","v":"U13G"},{"$f":"VLOOKUP($BM34,eventno,3,FALSE)","v":"Long Jump"},null,{"$f":"IF(COUNTIF($N$4:$N$20,\"A\")=0,\"-\",INDIRECT(CONCATENATE(\"B\",MATCH(\"A\",$N$1:$N$20,0))))","v":"Jessica Matthews"},{"$f":"IF(COUNTIF($N$4:$N$20,\"B\")=0,\"-\",INDIRECT(CONCATENATE(\"B\",MATCH(\"B\",$N$1:$N$20,0))))","v":"Ella Liefeith"},{"$f":"IF(COUNTIF($AH$4:$AH$20,\"A\")=0,\"-\",INDIRECT(CONCATENATE(\"V\",MATCH(\"A\",$AH$1:$AH$20,0))))","v":"Lucy Hadaway"},{"$f":"IF(COUNTIF($AH$4:$AH$20,\"B\")=0,\"-\",INDIRECT(CONCATENATE(\"V\",MATCH(\"B\",$AH$1:$AH$20,0))))","v":"Charlotte Stamp"},{"$f":"IF(COUNTIF($BB$4:$BB$20,\"A\")=0,\"-\",INDIRECT(CONCATENATE(\"AP\",MATCH(\"A\",$BB$1:$BB$20,0))))","v":"Millie Bradbury"},{"$f":"IF(COUNTIF($BB$4:$BB$20,\"B\")=0,\"-\",INDIRECT(CONCATENATE(\"AP\",MATCH(\"B\",$BB$1:$BB$20,0))))","v":"Megan Sanders"},"Event Cancelled","No Competitors","Opening Height Not Cleared",null,32]
[29,"Holly Marshall",null,null,null,null,null,"A",null,null,null,4,null,null,null,null,null,null,null,null,null,"Georgie Fenny",null,"A",null,null,null,null,null,null,null,null,null,null,null,null,null,"A",null,"A",null,null,null,null,null,null,null,null,null,null,null,null,null,null,null,null,null,null,null,null,null,null,null,"U17W High Jump","F29","U17W","High Jump",null,{"$f":"IF(COUNTIF($P$52:$P$77,\"A\")=0,\"-\",INDIRECT(CONCATENATE(\"B\",MATCH(\"A\",$P$49:$P$77,0)+48)))","v":"Dannielle Anderson"},{"$f":"IF(COUNTIF($P$52:$P$77,\"B\")=0,\"-\",INDIRECT(CONCATENATE(\"B\",MATCH(\"B\",$P$49:$P$77,0)+48)))","v":"Bethany Porter"},{"$f":"IF(COUNTIF($AJ$52:$AJ$77,\"A\")=0,\"-\",INDIRECT(CONCATENATE(\"V\",MATCH(\"A\",$AJ$49:$AJ$77,0)+48)))","v":"Katy Wood"},{"$f":"IF(COUNTIF($AJ$52:$AJ$77,\"B\")=0,\"-\",INDIRECT(CONCATENATE(\"V\",MATCH(\"B\",$AJ$49:$AJ$77,0)+48)))","v":"Polly Morris"},{"$f":"IF(COUNTIF($BD$52:$BD$77,\"A\")=0,\"-\",INDIRECT(CONCATENATE(\"AP\",MATCH(\"A\",$BD$49:$BD$77,0)+48)))","v":"Hannah Ukandu"},{"$f":"IF(COUNTIF($BD$52:$BD$77,\"B\")=0,\"-\",INDIRECT(CONCATENATE(\"AP\",MATCH(\"B\",$BD$49:$BD$77,0)+48)))","v":"-"},"Event Cancelled","No Competitors","Opening Height Not Cleared",null,33]
[30,null,null,null,null,null,null,null,null,null,null,null,null,null,null,null,null,null,null,null,null,"Josie Parry","A",null,null,null,null,null,null,null,null,2,null,"A",null,null,null,null,null,null,null,null,null,null,null,null,null,null,null,null,null,null,null,null,null,null,null,null,null,null,null,null,null,"U15G High Jump","F28","U15G","High Jump",null,{"$f":"IF(COUNTIF($P$24:$P$48,\"A\")=0,\"-\",INDIRECT(CONCATENATE(\"B\",MATCH(\"A\",$P$21:$P$48,0)+20)))","v":"Abigail Roberts"},{"$f":"IF(COUNTIF($P$24:$P$48,\"B\")=0,\"-\",INDIRECT(CONCATENATE(\"B\",MATCH(\"B\",$P$21:$P$48,0)+20)))","v":"-"},{"$f":"IF(COUNTIF($AJ$24:$AJ$48,\"A\")=0,\"-\",INDIRECT(CONCATENATE(\"V\",MATCH(\"A\",$AJ$21:$AJ$48,0)+20)))","v":"Anna Richardson"},{"$f":"IF(COUNTIF($AJ$24:$AJ$48,\"B\")=0,\"-\",INDIRECT(CONCATENATE(\"V\",MATCH(\"B\",$AJ$21:$AJ$48,0)+20)))","v":"Jade Kerrison"},{"$f":"IF(COUNTIF($BD$24:$BD$48,\"A\")=0,\"-\",INDIRECT(CONCATENATE(\"AP\",MATCH(\"A\",$BD$21:$BD$48,0)+20)))","v":"Melissa Fletcher"},{"$f":"IF(COUNTIF($BD$24:$BD$48,\"B\")=0,\"-\",INDIRECT(CONCATENATE(\"AP\",MATCH(\"B\",$BD$21:$BD$48,0)+20)))","v":"Sian Gilmartin-Green"},"Event Cancelled","No Competitors","Opening Height Not Cleared",null,34]
[31,null,null,null,null,null,null,null,null,null,null,null,null,null,null,null,null,null,null,null,null,"Chloe Hopper",null,null,"A",null,null,null,null,null,null,4,null,null,null,null,null,"B",null,null,null,null,null,null,null,null,null,null,null,null,null,null,null,null,null,null,null,null,null,null,null,null,null,null,null,{"$error":"#N/A"},{"$error":"#N/A"},null,{"$f":"IF(COUNTIF($U$24:$U$48,\"A\")=0,\"-\",INDIRECT(CONCATENATE(\"B\",MATCH(\"A\",$U$21:$U$48,0)+20)))","v":"-"},{"$f":"IF(COUNTIF($U$24:$U$48,\"B\")=0,\"-\",INDIRECT(CONCATENATE(\"B\",MATCH(\"B\",$U$21:$U$48,0)+20)))","v":"-"},{"$f":"IF(COUNTIF($AO$24:$AO$48,\"A\")=0,\"-\",INDIRECT(CONCATENATE(\"V\",MATCH(\"A\",$AO$21:$AO$48,0)+20)))","v":"-"},{"$f":"IF(COUNTIF($AO$24:$AO$48,\"B\")=0,\"-\",INDIRECT(CONCATENATE(\"V\",MATCH(\"B\",$AO$21:$AO$48,0)+20)))","v":"-"},{"$f":"IF(COUNTIF($BI$24:$BI$48,\"A\")=0,\"-\",INDIRECT(CONCATENATE(\"AP\",MATCH(\"A\",$BI$21:$BI$48,0)+20)))","v":"-"},{"$f":"IF(COUNTIF($BI$24:$BI$48,\"B\")=0,\"-\",INDIRECT(CONCATENATE(\"AP\",MATCH(\"B\",$BI$21:$BI$48,0)+20)))","v":"-"},"Event Cancelled","No Competitors","Opening Height Not Cleared",null,35]
[32,null,null,null,null,null,null,null,null,null,null,null,null,null,null,null,null,null,null,null,null,"Jenny Harrison",null,null,"B",null,null,null,null,null,null,null,null,null,null,null,null,null,null,"B",null,null,null,null,null,null,null,null,null,null,null,null,null,null,null,null,null,null,null,null,null,null,null,"U17W Hammer","F6","U17W","Hammer",null,{"$f":"IF(COUNTIF($U$52:$U$77,\"A\")=0,\"-\",INDIRECT(CONCATENATE(\"B\",MATCH(\"A\",$U$49:$U$77,0)+48)))","v":"Hannah Yates"},{"$f":"IF(COUNTIF($U$52:$U$77,\"B\")=0,\"-\",INDIRECT(CONCATENATE(\"B\",MATCH(\"B\",$U$49:$U$77,0)+48)))","v":"Samantha Lancaster"},{"$f":"IF(COUNTIF($AO$52:$AO$77,\"A\")=0,\"-\",INDIRECT(CONCATENATE(\"V\",MATCH(\"A\",$AO$49:$AO$77,0)+48)))","v":"-"},{"$f":"IF(COUNTIF($AO$52:$AO$77,\"B\")=0,\"-\",INDIRECT(CONCATENATE(\"V\",MATCH(\"B\",$AO$49:$AO$77,0)+48)))","v":"-"},{"$f":"IF(COUNTIF($BI$52:$BI$77,\"A\")=0,\"-\",INDIRECT(CONCATENATE(\"AP\",MATCH(\"A\",$BI$49:$BI$77,0)+48)))","v":"-"},{"$f":"IF(COUNTIF($BI$52:$BI$77,\"B\")=0,\"-\",INDIRECT(CONCATENATE(\"AP\",MATCH(\"B\",$BI$49:$BI$77,0)+48)))","v":"-"},"Event Cancelled","No Competitors","Opening Height Not Cleared",null,36]
[33,null,null,null,null,null,null,null,null,null,null,null,null,null,null,null,null,null,null,null,null,"Anna Richardson",null,null,null,null,null,"B",null,null,null,1,null,null,null,"A",null,null,null,null,null,null,null,null,null,null,null,null,null,null,null,null,null,null,null,null,null,null,null,null,null,null,null,"U15G Shot","F24","U15G","Shot",null,{"$f":"IF(COUNTIF($R$24:$R$48,\"A\")=0,\"-\",INDIRECT(CONCATENATE(\"B\",MATCH(\"A\",$R$21:$R$48,0)+20)))","v":"Alyce McCurdie"},{"$f":"IF(COUNTIF($R$24:$R$48,\"B\")=0,\"-\",INDIRECT(CONCATENATE(\"B\",MATCH(\"B\",$R$21:$R$48,0)+20)))","v":"Jessica Eyles"},{"$f":"IF(COUNTIF($AL$24:$AL$48,\"A\")=0,\"-\",INDIRECT(CONCATENATE(\"V\",MATCH(\"A\",$AL$21:$AL$48,0)+20)))","v":"Georgie Fenny"},{"$f":"IF(COUNTIF($AL$24:$AL$48,\"B\")=0,\"-\",INDIRECT(CONCATENATE(\"V\",MATCH(\"B\",$AL$21:$AL$48,0)+20)))","v":"Chloe Hopper"},{"$f":"IF(COUNTIF($BF$24:$BF$48,\"A\")=0,\"-\",INDIRECT(CONCATENATE(\"AP\",MATCH(\"A\",$BF$21:$BF$48,0)+20)))","v":"Caoimhe Crampton"},{"$f":"IF(COUNTIF($BF$24:$BF$48,\"B\")=0,\"-\",INDIRECT(CONCATENATE(\"AP\",MATCH(\"B\",$BF$21:$BF$48,0)+20)))","v":"Jemma Ibbetson"},"Event Cancelled","No Competitors","Opening Height Not Cleared",null,37]
[34,null,null,null,null,null,null,null,null,null,null,null,null,null,null,null,null,null,null,null,null,"Jade Kerrison",null,null,null,null,null,"A",null,null,null,null,null,null,null,"B",null,null,"B",null,null,null,null,null,null,null,null,null,null,null,null,null,null,null,null,null,null,null,null,null,null,null,null,"U15G Javelin","F33","U15G","Javelin",null,{"$f":"IF(COUNTIF($T$24:$T$48,\"A\")=0,\"-\",INDIRECT(CONCATENATE(\"B\",MATCH(\"A\",$T$21:$T$48,0)+20)))","v":"Abigail Roberts"},{"$f":"IF(COUNTIF($T$24:$T$48,\"B\")=0,\"-\",INDIRECT(CONCATENATE(\"B\",MATCH(\"B\",$T$21:$T$48,0)+20)))","v":"Alyce McCurdie"},{"$f":"IF(COUNTIF($AN$24:$AN$48,\"A\")=0,\"-\",INDIRECT(CONCATENATE(\"V\",MATCH(\"A\",$AN$21:$AN$48,0)+20)))","v":"Georgie Fenny"},{"$f":"IF(COUNTIF($AN$24:$AN$48,\"B\")=0,\"-\",INDIRECT(CONCATENATE(\"V\",MATCH(\"B\",$AN$21:$AN$48,0)+20)))","v":"Jenny Harrison"},{"$f":"IF(COUNTIF($BH$24:$BH$48,\"A\")=0,\"-\",INDIRECT(CONCATENATE(\"AP\",MATCH(\"A\",$BH$21:$BH$48,0)+20)))","v":"Nicola Sawyer"},{"$f":"IF(COUNTIF($BH$24:$BH$48,\"B\")=0,\"-\",INDIRECT(CONCATENATE(\"AP\",MATCH(\"B\",$BH$21:$BH$48,0)+20)))","v":"Gemma Keir"},"Event Cancelled","No Competitors","Opening Height Not Cleared",null,38]
[35,null,null,null,null,null,null,null,null,null,null,null,null,null,null,null,null,null,null,null,null,null,null,null,null,null,null,null,null,null,null,null,null,null,null,null,null,null,null,null,null,null,null,null,null,null,null,null,null,null,null,null,null,null,null,null,null,null,null,null,null,null,null,"U17W Javelin","F34","U17W","Javelin",null,{"$f":"IF(COUNTIF($T$52:$T$77,\"A\")=0,\"-\",INDIRECT(CONCATENATE(\"B\",MATCH(\"A\",$T$49:$T$77,0)+48)))","v":"Bethany Porter"},{"$f":"IF(COUNTIF($T$52:$T$77,\"B\")=0,\"-\",INDIRECT(CONCATENATE(\"B\",MATCH(\"B\",$T$49:$T$77,0)+48)))","v":"Bethany Sharp"},{"$f":"IF(COUNTIF($AN$52:$AN$77,\"A\")=0,\"-\",INDIRECT(CONCATENATE(\"V\",MATCH(\"A\",$AN$49:$AN$77,0)+48)))","v":"Becky Tunnicliffe"},{"$f":"IF(COUNTIF($AN$52:$AN$77,\"B\")=0,\"-\",INDIRECT(CONCATENATE(\"V\",MATCH(\"B\",$AN$49:$AN$77,0)+48)))","v":"Katy Wood"},{"$f":"IF(COUNTIF($BH$52:$BH$77,\"A\")=0,\"-\",INDIRECT(CONCATENATE(\"AP\",MATCH(\"A\",$BH$49:$BH$77,0)+48)))","v":"Amena Abdelaziz"},{"$f":"IF(COUNTIF($BH$52:$BH$77,\"B\")=0,\"-\",INDIRECT(CONCATENATE(\"AP\",MATCH(\"B\",$BH$49:$BH$77,0)+48)))","v":"Katie Ward"},"Event Cancelled","No Competitors","Opening Height Not Cleared",null,39]
[36,null,null,null,null,null,null,null,null,null,null,null,null,null,null,null,null,null,null,null,null,null,null,null,null,null,null,null,null,null,null,null,null,null,null,null,null,null,null,null,null,null,null,null,null,null,null,null,null,null,null,null,null,null,null,null,null,null,null,null,null,null,null,"U13G High Jump","F13","U13G","High Jump",null,{"$f":"IF(COUNTIF($P$4:$P$20,\"A\")=0,\"-\",INDIRECT(CONCATENATE(\"B\",MATCH(\"A\",$P$1:$P$20,0))))","v":"-"},{"$f":"IF(COUNTIF($P$4:$P$20,\"B\")=0,\"-\",INDIRECT(CONCATENATE(\"B\",MATCH(\"B\",$P$1:$P$20,0))))","v":"Ella Liefeith"},{"$f":"IF(COUNTIF($AJ$4:$AJ$20,\"A\")=0,\"-\",INDIRECT(CONCATENATE(\"V\",MATCH(\"A\",$AJ$1:$AJ$20,0))))","v":"Felicity Edwards"},{"$f":"IF(COUNTIF($AJ$4:$AJ$20,\"B\")=0,\"-\",INDIRECT(CONCATENATE(\"V\",MATCH(\"B\",$AJ$1:$AJ$20,0))))","v":"Annabel Ashton"},{"$f":"IF(COUNTIF($BD$4:$BD$20,\"A\")=0,\"-\",INDIRECT(CONCATENATE(\"AP\",MATCH(\"A\",$BD$1:$BD$20,0))))","v":"Megan Sanders"},{"$f":"IF(COUNTIF($BD$4:$BD$20,\"B\")=0,\"-\",INDIRECT(CONCATENATE(\"AP\",MATCH(\"B\",$BD$1:$BD$20,0))))","v":"-"},"Event Cancelled","No Competitors","Opening Height Not Cleared",null,40]
[37,null,null,null,null,null,null,null,null,null,null,null,null,null,null,null,null,null,null,null,null,null,null,null,null,null,null,null,null,null,null,null,null,null,null,null,null,null,null,null,null,null,null,null,null,null,null,null,null,null,null,null,null,null,null,null,null,null,null,null,null,null,null,"U15G Pole Vault","F16","U15G","Pole Vault",null,{"$f":"IF(COUNTIF($Q$24:$Q$48,\"A\")=0,\"-\",INDIRECT(CONCATENATE(\"B\",MATCH(\"A\",$Q$21:$Q$48,0)+20)))","v":"Abigail Roberts"},{"$f":"IF(COUNTIF($Q$24:$Q$48,\"B\")=0,\"-\",INDIRECT(CONCATENATE(\"B\",MATCH(\"B\",$Q$21:$Q$48,0)+20)))","v":"Bethany Taylor"},{"$f":"IF(COUNTIF($AK$24:$AK$48,\"A\")=0,\"-\",INDIRECT(CONCATENATE(\"V\",MATCH(\"A\",$AK$21:$AK$48,0)+20)))","v":"-"},{"$f":"IF(COUNTIF($AK$24:$AK$48,\"B\")=0,\"-\",INDIRECT(CONCATENATE(\"V\",MATCH(\"B\",$AK$21:$AK$48,0)+20)))","v":"-"},{"$f":"IF(COUNTIF($BE$24:$BE$48,\"A\")=0,\"-\",INDIRECT(CONCATENATE(\"AP\",MATCH(\"A\",$BE$21:$BE$48,0)+20)))","v":"Vikki Adams"},{"$f":"IF(COUNTIF($BE$24:$BE$48,\"B\")=0,\"-\",INDIRECT(CONCATENATE(\"AP\",MATCH(\"B\",$BE$21:$BE$48,0)+20)))","v":"-"},"Event Cancelled","No Competitors","Opening Height Not Cleared",null,41]
[38,null,null,null,null,null,null,null,null,null,null,null,null,null,null,null,null,null,null,null,null,null,null,null,null,null,null,null,null,null,null,null,null,null,null,null,null,null,null,null,null,null,null,null,null,null,null,null,null,null,null,null,null,null,null,null,null,null,null,null,null,null,null,"U17W Pole Vault","F17","U17W","Pole Vault",null,{"$f":"IF(COUNTIF($Q$52:$Q$77,\"A\")=0,\"-\",INDIRECT(CONCATENATE(\"B\",MATCH(\"A\",$Q$49:$Q$77,0)+48)))","v":"Sally Spurr"},{"$f":"IF(COUNTIF($Q$52:$Q$77,\"B\")=0,\"-\",INDIRECT(CONCATENATE(\"B\",MATCH(\"B\",$Q$49:$Q$77,0)+48)))","v":"Alice Cusworth"},{"$f":"IF(COUNTIF($AK$52:$AK$77,\"A\")=0,\"-\",INDIRECT(CONCATENATE(\"V\",MATCH(\"A\",$AK$49:$AK$77,0)+48)))","v":"-"},{"$f":"IF(COUNTIF($AK$52:$AK$77,\"B\")=0,\"-\",INDIRECT(CONCATENATE(\"V\",MATCH(\"B\",$AK$49:$AK$77,0)+48)))","v":"-"},{"$f":"IF(COUNTIF($BE$52:$BE$77,\"A\")=0,\"-\",INDIRECT(CONCATENATE(\"AP\",MATCH(\"A\",$BE$49:$BE$77,0)+48)))","v":"-"},{"$f":"IF(COUNTIF($BE$52:$BE$77,\"B\")=0,\"-\",INDIRECT(CONCATENATE(\"AP\",MATCH(\"B\",$BE$49:$BE$77,0)+48)))","v":"-"},"Event Cancelled","No Competitors","Opening Height Not Cleared",null,42]
[39,null,null,null,null,null,null,null,null,null,null,null,null,null,null,null,null,null,null,null,null,null,null,null,null,null,null,null,null,null,null,null,null,null,null,null,null,null,null,null,null,null,null,null,null,null,null,null,null,null,null,null,null,null,null,null,null,null,null,null,null,null,null,"U17W Long Jump","F7","U17W","Long Jump",null,{"$f":"IF(COUNTIF($N$52:$N$77,\"A\")=0,\"-\",INDIRECT(CONCATENATE(\"B\",MATCH(\"A\",$N$49:$N$77,0)+48)))","v":"Grace Eyles"},{"$f":"IF(COUNTIF($N$52:$N$77,\"B\")=0,\"-\",INDIRECT(CONCATENATE(\"B\",MATCH(\"B\",$N$49:$N$77,0)+48)))","v":"Leanne Barraclough"},{"$f":"IF(COUNTIF($AH$52:$AH$77,\"A\")=0,\"-\",INDIRECT(CONCATENATE(\"V\",MATCH(\"A\",$AH$49:$AH$77,0)+48)))","v":"Olivia Swain"},{"$f":"IF(COUNTIF($AH$52:$AH$77,\"B\")=0,\"-\",INDIRECT(CONCATENATE(\"V\",MATCH(\"B\",$AH$49:$AH$77,0)+48)))","v":"Kate Harris"},{"$f":"IF(COUNTIF($BB$52:$BB$77,\"A\")=0,\"-\",INDIRECT(CONCATENATE(\"AP\",MATCH(\"A\",$BB$49:$BB$77,0)+48)))","v":"Amena Abdelaziz"},{"$f":"IF(COUNTIF($BB$52:$BB$77,\"B\")=0,\"-\",INDIRECT(CONCATENATE(\"AP\",MATCH(\"B\",$BB$49:$BB$77,0)+48)))","v":"Melody Peterson"},"Event Cancelled","No Competitors","Opening Height Not Cleared",null,43]
[40,null,null,null,null,null,null,null,null,null,null,null,null,null,null,null,null,null,null,null,null,null,null,null,null,null,null,null,null,null,null,null,null,null,null,null,null,null,null,null,null,null,null,null,null,null,null,null,null,null,null,null,null,null,null,null,null,null,null,null,null,null,null,"U13G Shot","F35","U13G","Shot",null,{"$f":"IF(COUNTIF($R$4:$R$20,\"A\")=0,\"-\",INDIRECT(CONCATENATE(\"B\",MATCH(\"A\",$R$1:$R$20,0))))","v":"Jessica Matthews"},{"$f":"IF(COUNTIF($R$4:$R$20,\"B\")=0,\"-\",INDIRECT(CONCATENATE(\"B\",MATCH(\"B\",$R$1:$R$20,0))))","v":"Abigail Cove-Mullins"},{"$f":"IF(COUNTIF($AL$4:$AL$20,\"A\")=0,\"-\",INDIRECT(CONCATENATE(\"V\",MATCH(\"A\",$AL$1:$AL$20,0))))","v":"Rachel White"},{"$f":"IF(COUNTIF($AL$4:$AL$20,\"B\")=0,\"-\",INDIRECT(CONCATENATE(\"V\",MATCH(\"B\",$AL$1:$AL$20,0))))","v":"Felicity Edwards"},{"$f":"IF(COUNTIF($BF$4:$BF$20,\"A\")=0,\"-\",INDIRECT(CONCATENATE(\"AP\",MATCH(\"A\",$BF$1:$BF$20,0))))","v":"Lois Fish"},{"$f":"IF(COUNTIF($BF$4:$BF$20,\"B\")=0,\"-\",INDIRECT(CONCATENATE(\"AP\",MATCH(\"B\",$BF$1:$BF$20,0))))","v":"Millie Bradbury"},"Event Cancelled","No Competitors","Opening Height Not Cleared",null,44]
[41,null,null,null,null,null,null,null,null,null,null,null,null,null,null,null,null,null,null,null,null,null,null,null,null,null,null,null,null,null,null,null,null,null,null,null,null,null,null,null,null,null,null,null,null,null,null,null,null,null,null,null,null,null,null,null,null,null,null,null,null,null,null,"U15G Long Jump","F23","U15G","Long Jump",null,{"$f":"IF(COUNTIF($N$24:$N$48,\"A\")=0,\"-\",INDIRECT(CONCATENATE(\"B\",MATCH(\"A\",$N$21:$N$48,0)+20)))","v":"Jessica Eyles"},{"$f":"IF(COUNTIF($N$24:$N$48,\"B\")=0,\"-\",INDIRECT(CONCATENATE(\"B\",MATCH(\"B\",$N$21:$N$48,0)+20)))","v":"Olivia Walker"},{"$f":"IF(COUNTIF($AH$24:$AH$48,\"A\")=0,\"-\",INDIRECT(CONCATENATE(\"V\",MATCH(\"A\",$AH$21:$AH$48,0)+20)))","v":"Josie Parry"},{"$f":"IF(COUNTIF($AH$24:$AH$48,\"B\")=0,\"-\",INDIRECT(CONCATENATE(\"V\",MATCH(\"B\",$AH$21:$AH$48,0)+20)))","v":"Libby Brown"},{"$f":"IF(COUNTIF($BB$24:$BB$48,\"A\")=0,\"-\",INDIRECT(CONCATENATE(\"AP\",MATCH(\"A\",$BB$21:$BB$48,0)+20)))","v":"Sian Gilmartin-Green"},{"$f":"IF(COUNTIF($BB$24:$BB$48,\"B\")=0,\"-\",INDIRECT(CONCATENATE(\"AP\",MATCH(\"B\",$BB$21:$BB$48,0)+20)))","v":"Jemma Ibbetson"},"Event Cancelled","No Competitors","Opening Height Not Cleared",null,45]
[42,null,null,null,null,null,null,null,null,null,null,null,null,null,null,null,null,null,null,null,null,null,null,null,null,null,null,null,null,null,null,null,null,null,null,null,null,null,null,null,null,null,null,null,null,null,null,null,null,null,null,null,null,null,null,null,null,null,null,null,null,null,null,"U15G Discus","F20","U15G","Discus",null,{"$f":"IF(COUNTIF($S$24:$S$48,\"A\")=0,\"-\",INDIRECT(CONCATENATE(\"B\",MATCH(\"A\",$S$21:$S$48,0)+20)))","v":"Alyce McCurdie"},{"$f":"IF(COUNTIF($S$24:$S$48,\"B\")=0,\"-\",INDIRECT(CONCATENATE(\"B\",MATCH(\"B\",$S$21:$S$48,0)+20)))","v":"Bethany Taylor"},{"$f":"IF(COUNTIF($AM$24:$AM$48,\"A\")=0,\"-\",INDIRECT(CONCATENATE(\"V\",MATCH(\"A\",$AM$21:$AM$48,0)+20)))","v":"Chelsea Walker"},{"$f":"IF(COUNTIF($AM$24:$AM$48,\"B\")=0,\"-\",INDIRECT(CONCATENATE(\"V\",MATCH(\"B\",$AM$21:$AM$48,0)+20)))","v":"Jade Kerrison"},{"$f":"IF(COUNTIF($BG$24:$BG$48,\"A\")=0,\"-\",INDIRECT(CONCATENATE(\"AP\",MATCH(\"A\",$BG$21:$BG$48,0)+20)))","v":"Nicola Sawyer"},{"$f":"IF(COUNTIF($BG$24:$BG$48,\"B\")=0,\"-\",INDIRECT(CONCATENATE(\"AP\",MATCH(\"B\",$BG$21:$BG$48,0)+20)))","v":"Melissa Fletcher"},"Event Cancelled","No Competitors","Opening Height Not Cleared",null,46]
[null,null,null,null,null,null,null,null,null,null,null,null,null,null,null,null,null,null,null,null,null,null,null,null,null,null,null,null,null,null,null,null,null,null,null,null,null,null,null,null,null,null,null,null,null,null,null,null,null,null,null,null,null,null,null,null,null,null,null,null,null,null,null,"U17W Discus","F21","U17W","Discus",null,{"$f":"IF(COUNTIF($S$52:$S$77,\"A\")=0,\"-\",INDIRECT(CONCATENATE(\"B\",MATCH(\"A\",$S$49:$S$77,0)+48)))","v":"Hannah Yates"},{"$f":"IF(COUNTIF($S$52:$S$77,\"B\")=0,\"-\",INDIRECT(CONCATENATE(\"B\",MATCH(\"B\",$S$49:$S$77,0)+48)))","v":"Samantha Lancaster"},{"$f":"IF(COUNTIF($AM$52:$AM$77,\"A\")=0,\"-\",INDIRECT(CONCATENATE(\"V\",MATCH(\"A\",$AM$49:$AM$77,0)+48)))","v":"Becky Tunnicliffe"},{"$f":"IF(COUNTIF($AM$52:$AM$77,\"B\")=0,\"-\",INDIRECT(CONCATENATE(\"V\",MATCH(\"B\",$AM$49:$AM$77,0)+48)))","v":"Zoe Robson"},{"$f":"IF(COUNTIF($BG$52:$BG$77,\"A\")=0,\"-\",INDIRECT(CONCATENATE(\"AP\",MATCH(\"A\",$BG$49:$BG$77,0)+48)))","v":"Georgia Yearby"},{"$f":"IF(COUNTIF($BG$52:$BG$77,\"B\")=0,\"-\",INDIRECT(CONCATENATE(\"AP\",MATCH(\"B\",$BG$49:$BG$77,0)+48)))","v":"Grace Coburn"},"Event Cancelled","No Competitors","Opening Height Not Cleared",null,47]
[null,null,null,null,null,null,null,null,null,null,null,null,null,null,null,null,null,null,null,null,null,null,null,null,null,null,null,null,null,null,null,null,null,null,null,null,null,null,null,null,null,null,null,null,null,null,null,null,null,null,null,null,null,null,null,null,null,null,null,null,null,null,null,"U17W Shot","F18","U17W","Shot",null,{"$f":"IF(COUNTIF($R$52:$R$77,\"A\")=0,\"-\",INDIRECT(CONCATENATE(\"B\",MATCH(\"A\",$R$49:$R$77,0)+48)))","v":"Hannah Yates"},{"$f":"IF(COUNTIF($R$52:$R$77,\"B\")=0,\"-\",INDIRECT(CONCATENATE(\"B\",MATCH(\"B\",$R$49:$R$77,0)+48)))","v":"Samantha Lancaster"},{"$f":"IF(COUNTIF($AL$52:$AL$77,\"A\")=0,\"-\",INDIRECT(CONCATENATE(\"V\",MATCH(\"A\",$AL$49:$AL$77,0)+48)))","v":"Becky Tunnicliffe"},{"$f":"IF(COUNTIF($AL$52:$AL$77,\"B\")=0,\"-\",INDIRECT(CONCATENATE(\"V\",MATCH(\"B\",$AL$49:$AL$77,0)+48)))","v":"Emily Haigh"},{"$f":"IF(COUNTIF($BF$52:$BF$77,\"A\")=0,\"-\",INDIRECT(CONCATENATE(\"AP\",MATCH(\"A\",$BF$49:$BF$77,0)+48)))","v":"Hannah Ukandu"},{"$f":"IF(COUNTIF($BF$52:$BF$77,\"B\")=0,\"-\",INDIRECT(CONCATENATE(\"AP\",MATCH(\"B\",$BF$49:$BF$77,0)+48)))","v":"Grace Coburn"},"Event Cancelled","No Competitors","Opening Height Not Cleared",null,48]
[null,{"$f":"CONCATENATE(Handbook!$X$1,\" Athletes\")","v":"U17W Athletes"},null,null,null,null,null,null,null,null,null,null,null,null,null,null,null,null,null,null,null,{"$f":"B51","v":"U17W Athletes"},null,null,null,null,null,null,null,null,null,null,null,null,null,null,null,null,null,null,null,{"$f":"B51","v":"U17W Athletes"},null,null,null,null,null,null,null,null,null,null,null,null,null,null,null,null,null,null,null,null,null,"U17W Triple Jump","F32","U17W","Triple Jump",null,{"$f":"IF(COUNTIF($O$52:$O$77,\"A\")=0,\"-\",INDIRECT(CONCATENATE(\"B\",MATCH(\"A\",$O$49:$O$77,0)+48)))","v":"Dannielle Anderson"},{"$f":"IF(COUNTIF($O$52:$O$77,\"B\")=0,\"-\",INDIRECT(CONCATENATE(\"B\",MATCH(\"B\",$O$49:$O$77,0)+48)))","v":"Leanne Barraclough"},{"$f":"IF(COUNTIF($AI$52:$AI$77,\"A\")=0,\"-\",INDIRECT(CONCATENATE(\"V\",MATCH(\"A\",$AI$49:$AI$77,0)+48)))","v":"Olivia Swain"},{"$f":"IF(COUNTIF($AI$52:$AI$77,\"B\")=0,\"-\",INDIRECT(CONCATENATE(\"V\",MATCH(\"B\",$AI$49:$AI$77,0)+48)))","v":"-"},{"$f":"IF(COUNTIF($BC$52:$BC$77,\"A\")=0,\"-\",INDIRECT(CONCATENATE(\"AP\",MATCH(\"A\",$BC$49:$BC$77,0)+48)))","v":"Katie Ward"},{"$f":"IF(COUNTIF($BC$52:$BC$77,\"B\")=0,\"-\",INDIRECT(CONCATENATE(\"AP\",MATCH(\"B\",$BC$49:$BC$77,0)+48)))","v":"-"},"Event Cancelled","No Competitors","Opening Height Not Cleared",null,49]
[43,"Bethany Porter","A",null,null,null,null,null,null,null,null,1,null,null,null,"B",null,null,null,"A",null,"Kate Harris",null,"A",null,null,null,null,null,"A",null,null,1,"B",null,null,null,null,null,null,null,"India Wilson",null,null,"A",null,null,"A",null,null,null,3,3,null,null,null,null,null,null,null,null,null,null,null,null,null,null,null,null,null,null,null,null,null,null,null,null,null,50]
[44,"Dannielle Anderson","B",null,null,null,null,null,null,null,null,null,1,null,"A","A",null,null,null,null,null,"Katy Wood",null,null,null,"A",null,null,null,null,null,null,4,null,null,"A",null,null,null,"B",null,"Georgia Yearby",null,"A",null,null,null,null,null,"A",null,null,4,null,null,null,null,null,"A",null,null,null,null,null,null,null,null,null,null,null,null,null,null,null,null,null,null,null,51]
[45,"Zoe Kerins",null,"A",null,null,null,"A",null,null,null,2,null,null,null,null,null,null,null,null,null,"Zoe Robson",null,null,null,null,null,null,"A",null,null,null,3,null,null,null,null,null,"B",null,null,"Amena Abdelaziz",null,null,null,null,null,null,null,null,null,4,null,"A",null,null,null,null,null,"A"]
[46,"Olivia Radcliffe",null,"B",null,null,null,null,"B",null,null,null,2,null,null,null,null,null,null,null,null,"Olivia Swain",null,null,null,null,null,null,null,"B",null,4,null,"A","A",null,null,null,null,null,null,"Melody Peterson","B",null,"B",null,null,null,null,null,null,1,null,"B"]
[47,"Grace Eyles",null,null,"A",null,null,null,null,"A",null,4,null,"A",null,null,null,null,null,null,null,"Emily Haigh",null,null,"A",null,null,"A",null,null,null,2,null,null,null,null,null,"B",null,null,null,"Hannah Ukandu","A",null,null,null,null,null,null,null,null,2,null,null,null,"A",null,"A"]
[48,"Bethany Sharp",null,null,null,null,"A",null,null,"B",null,3,null,null,null,null,null,null,null,"B",null,"Polly Morris","B",null,null,null,null,null,null,null,null,3,null,null,null,"B",null,null,null,null,null,"Grace Coburn",null,null,null,null,null,null,null,null,null,null,null,null,null,null,null,"B","B"]
[49,"Leanne Barraclough",null,null,null,null,"B",null,null,null,null,null,3,"B","B",null,null,null,null,null,null,"Becky Tunnicliffe",null,null,null,null,null,null,null,null,null,null,2,null,null,null,null,"A","A","A",null,"Katie Ward",null,null,null,null,null,"B",null,null,null,null,1,null,"A",null,null,null,null,"B"]
[50,"Hannah Marsh",null,null,null,null,null,null,"A",null,null,null,null,null,null,null,null,null,null,null,null,"Megan Savage","A",null,null,null,"A",null,null,null,null,1,null,null,null,null,null,null,null,null,null,"Ellie Dooley",null,null,null,"A",null,null,"A",null,null,null,2]
[51,"Hannah Yates",null,null,null,null,null,null,null,null,null,null,null,null,null,null,null,"A","A",null,"A"]
[52,"Samantha Lancaster",null,null,null,null,null,null,null,null,null,null,null,null,null,null,null,"B","B",null,"B"]
[53,"Jessica Timmins",null,null,null,"A"]
[54,"Sally Spurr",null,null,null,null,null,null,null,null,null,null,null,null,null,null,"A"]
[55,"Alice Cusworth",null,null,null,null,null,null,null,null,null,null,null,null,null,null,"B"]
[56,"Emily Wadge",null,null,"B",null,null,"B",null,null,null,null,4]
[57]
[58]
[59]
[60]
[61]
[62]
[63]
[64]
[65]
[66]
[67]
[68]
[69]

{"sheet":"Track (Match 2)","index":6,"n_rows":133,"n_cols":38,"rows_kept":133,"cut":false,"hidden":false,"merged":[[0,10,0,12]]}
[null,{"$f":"CONCATENATE(MatchDay!I3,\", \",MatchDay!I7)","v":"Northern 1 SE, Thornes Park Stadium, Wakefield"},null,null,null,null,null,null,null,null,{"$f":"MatchDay!C5","v":"Sunday 8th May 2011"},null,null,null,null,null,null,null,null,null,null,null,"Points","Points","Points",{"$f":"MatchDay!K11","v":"DASH"},{"$f":"MatchDay!K13","v":"Linc W"},{"$f":"MatchDay!K15","v":"Hallam"},"Scored","Validations",null,"Posn","Points"]
[null,null,null,null,null,null,null,null,null,null,null,null,null,null,null,null,null,null,null,null,null,"Track (Match 1)","Col 1","Col 2","Col 3",{"$f":"SUMIF($E$8:$E$200,Z$1,$W$8:$W$200)+SUMIF($L$8:$L$200,Z$1,$X$8:$X$200)+SUMIF($S$8:$S$200,Z$1,$Y$8:$Y$200)","v":129},{"$f":"SUMIF($E$8:$E$200,AA$1,$W$8:$W$200)+SUMIF($L$8:$L$200,AA$1,$X$8:$X$200)+SUMIF($S$8:$S$200,AA$1,$Y$8:$Y$200)","v":251},{"$f":"SUMIF($E$8:$E$200,AB$1,$W$8:$W$200)+SUMIF($L$8:$L$200,AB$1,$X$8:$X$200)+SUMIF($S$8:$S$200,AB$1,$Y$8:$Y$200)","v":269},{"$f":"COUNTIF($W$8:$W$200,\"6\")+COUNTIF($X$8:$X$200,\"6\")+COUNTIF($Y$8:$Y$200,\"6\")","v":35},null,null,null,"n","n=","n==","n===","n====","n====="]
[null,"Club",null,null," Match Points","Posn","League Points",null,null,null,"Match Statistics",null,null,null,null,"Athletes",null,null,"Events",null,null,null,null,null,null,null,null,null,null,{"$f":"MatchDay!H11","v":1},null,{"$f":"MatchDay!B50","v":1},{"$f":"MatchDay!C50","v":6},{"$f":"SUM(AG3:AG4)/LEN($AH$2)","v":5.5},{"$f":"SUM(AG3:AG5)/LEN($AI$2)","v":5},{"$f":"SUM(AG3:AG6)/LEN($AJ$2)","v":4.5},{"$f":"SUM(AG3:AG7)/LEN($AK$2)","v":4},{"$f":"SUM(AG3:AG8)/LEN($AL$2)","v":3.5}]
[null,{"$f":"MatchDay!I11","v":"2DASH"},null,null,{"$f":"Z2+'Field (Match 2)'!AE2+'Relay (Match 2)'!M2","v":322},{"$f":"RANK(E4,$E$4:$E$6)","v":3},{"$f":"IF(OR(F4=0,F4=\"\"),\"\",VLOOKUP(F4,matchpoints,2,FALSE))","v":1},null,null,null,"New League Records",{"$f":"COUNTIF($G$8:$G$200,\"LR\")+COUNTIF($N$8:$N$200,\"LR\")+COUNTIF($U$8:$U$200,\"LR\")+COUNTIF('Field (Match 2)'!$H$7:$H$205,\"LR\")+COUNTIF('Field (Match 2)'!$P$7:$P$205,\"LR\")+COUNTIF('Field (Match 2)'!$X$7:$X$205,\"LR\")+COUNTIF('Relay (Match 2)'!$J$10:$J$208,\"LR\")","v":0},"Grade 2",{"$f":"COUNTIF($G$8:$G$200,\"2\")+COUNTIF($N$8:$N$200,\"2\")+COUNTIF($U$8:$U$200,\"2\")+COUNTIF('Field (Match 2)'!$H$7:$H$205,\"2\")+COUNTIF('Field (Match 2)'!$P$7:$P$205,\"2\")+COUNTIF('Field (Match 2)'!$X$7:$X$205,\"2\")+COUNTIF('Relay (Match 2)'!$J$10:$J$208,\"2\")","v":2},null,"Boys",{"$f":"COUNTA('Boys (Match 2)'!B4:B20,'Boys (Match 2)'!B24:B48,'Boys (Match 2)'!B52:B78,'Boys (Match 2)'!V52:V78,'Boys (Match 2)'!V4:V20,'Boys (Match 2)'!V24:V48,'Boys (Match 2)'!AP4:AP20,'Boys (Match 2)'!AP24:AP48,'Boys (Match 2)'!AP52:AP78)","v":67},null,"Scored",{"$f":"AC2+'Field (Match 2)'!AH2+'Relay (Match 2)'!P2","v":76},null,"Field (Match 1)",null,null,null,null,null,null,"Cancelled",{"$f":"MatchDay!H13","v":2},null,{"$f":"MatchDay!B52","v":2},{"$f":"MatchDay!C52","v":5},{"$f":"SUM(AG4:AG5)/LEN($AH$2)","v":4.5},{"$f":"SUM(AG4:AG6)/LEN($AI$2)","v":4},{"$f":"SUM(AG4:AG7)/LEN($AJ$2)","v":3.5},{"$f":"SUM(AG4:AG8)/LEN($AK$2)","v":3},"-"]
[null,{"$f":"MatchDay!I13","v":"Lincoln Wellington"},null,null,{"$f":"AA2+'Field (Match 2)'!AF2+'Relay (Match 2)'!N2","v":518},{"$f":"RANK(E5,$E$4:$E$6)","v":1},{"$f":"IF(OR(F5=0,F5=\"\"),\"\",VLOOKUP(F5,matchpoints,2,FALSE))","v":3},null,null,null,"= League Records",{"$f":"COUNTIF($G$8:$G$200,\"LR=\")+COUNTIF($N$8:$N$200,\"LR=\")+COUNTIF($U$8:$U$200,\"LR=\")+COUNTIF('Field (Match 2)'!$H$7:$H$205,\"LR=\")+COUNTIF('Field (Match 2)'!$P$7:$P$205,\"LR=\")+COUNTIF('Field (Match 2)'!$X$7:$X$205,\"LR=\")+COUNTIF('Relay (Match 2)'!$J$10:$J$208,\"LR=\")","v":0},"Grade 3",{"$f":"COUNTIF($G$8:$G$200,\"3\")+COUNTIF($N$8:$N$200,\"3\")+COUNTIF($U$8:$U$200,\"3\")+COUNTIF('Field (Match 2)'!$H$7:$H$205,\"3\")+COUNTIF('Field (Match 2)'!$P$7:$P$205,\"3\")+COUNTIF('Field (Match 2)'!$X$7:$X$205,\"3\")+COUNTIF('Relay (Match 2)'!$J$10:$J$208,\"3\")","v":6},null,"Girls",{"$f":"COUNTA('Girls (Match 2)'!B4:B20,'Girls (Match 2)'!B24:B48,'Girls (Match 2)'!B52:B78,'Girls (Match 2)'!V4:V20,'Girls (Match 2)'!V24:V48,'Girls (Match 2)'!V52:V78,'Girls (Match 2)'!AP4:AP20,'Girls (Match 2)'!AP24:AP48,'Girls (Match 2)'!AP52:AP78)","v":58},null,"Not Held",{"$f":"AC5+'Field (Match 2)'!AH5+'Relay (Match 2)'!P5","v":0},null,null,null,null,null,null,null,null,{"$f":"COUNTIF($C$8:$C$200,\"101\")+COUNTIF($J$8:$J$200,\"101\")+COUNTIF($Q$8:$Q$200,\"101\")+COUNTIF($C$8:$C$200,\"102\")+COUNTIF($J$8:$J$200,\"102\")+COUNTIF($Q$8:$Q$200,\"102\")+COUNTIF($C$8:$C$200,\"103\")+COUNTIF($J$8:$J$200,\"103\")+COUNTIF($Q$8:$Q$200,\"103\")","v":0},{"$f":"MatchDay!H15","v":3},null,{"$f":"MatchDay!B54","v":3},{"$f":"MatchDay!C54","v":4},{"$f":"SUM(AG5:AG6)/LEN($AH$2)","v":3.5},{"$f":"SUM(AG5:AG7)/LEN($AI$2)","v":3},{"$f":"SUM(AG5:AG8)/LEN($AJ$2)","v":2.5},"-"]
[null,{"$f":"MatchDay!I15","v":"Hallamshire Harr"},null,null,{"$f":"AB2+'Field (Match 2)'!AG2+'Relay (Match 2)'!O2","v":475},{"$f":"RANK(E6,$E$4:$E$6)","v":2},{"$f":"IF(OR(F6=0,F6=\"\"),\"\",VLOOKUP(F6,matchpoints,2,FALSE))","v":2},null,null,null,"Grade 1",{"$f":"COUNTIF($G$8:$G$200,\"1\")+COUNTIF($N$8:$N$200,\"1\")+COUNTIF($U$8:$U$200,\"1\")+COUNTIF('Field (Match 2)'!$H$7:$H$205,\"1\")+COUNTIF('Field (Match 2)'!$P$7:$P$205,\"1\")+COUNTIF('Field (Match 2)'!$X$7:$X$205,\"1\")+COUNTIF('Relay (Match 2)'!$J$10:$J$208,\"1\")","v":3},"Grade 4",{"$f":"COUNTIF($G$8:$G$200,\"4\")+COUNTIF($N$8:$N$200,\"4\")+COUNTIF($U$8:$U$200,\"4\")+COUNTIF('Field (Match 2)'!$H$7:$H$205,\"4\")+COUNTIF('Field (Match 2)'!$P$7:$P$205,\"4\")+COUNTIF('Field (Match 2)'!$X$7:$X$205,\"4\")+COUNTIF('Relay (Match 2)'!$J$10:$J$208,\"4\")","v":16},null,null,null,null,"Not Scored",{"$f":"47+25+10-T4-T5","v":6},null,"Relay Match 1",null,null,null,null,null,null,null,{"$f":"IF(T(AD3)=\"\",AD3*11,CONCATENATE(AD3,AD3))","v":11},null,{"$f":"MatchDay!B56","v":4},{"$f":"MatchDay!C56","v":3},{"$f":"SUM(AG6:AG7)/LEN($AH$2)","v":2.5},{"$f":"SUM(AG6:AG8)/LEN($AI$2)","v":2},"-"]
[null,null,null,null,null,null,null,null,null,null,null,null,null,null,null,null,null,null,null,null,null,null,null,null,null,null,null,null,null,{"$f":"IF(T(AD4)=\"\",AD4*11,CONCATENATE(AD4,AD4))","v":22},null,{"$f":"MatchDay!B58","v":5},{"$f":"MatchDay!C58","v":2},{"$f":"SUM(AG7:AG8)/LEN($AH$2)","v":1.5},"-"]
[{"$f":"VLOOKUP(B8,eventno,5,FALSE)","v":"F"},"T1",{"$f":"VLOOKUP(B8,eventno,4,FALSE)","v":"U13G 70m H"},null,{"$f":"IF(A11=\"W\",\"Wind =\",\"\")","v":"Wind ="},null,{"$f":"IF(OR(F10=0,F10=\"\",A12=0,A12=\"\"),\"\",IF(A10=\"T\",IF(F10<A12,\"LR\",IF(F10=A12,\"LR=\",\"\"))))","v":""},{"$f":"VLOOKUP(I8,eventno,5,FALSE)","v":"M"},"T2",{"$f":"VLOOKUP(I8,eventno,4,FALSE)","v":"U13B 75m H"},null,{"$f":"IF(H11=\"W\",\"Wind =\",\"\")","v":"Wind ="},null,{"$f":"IF(OR(M10=0,M10=\"\",H12=0,H12=\"\"),\"\",IF(H10=\"T\",IF(M10<H12,\"LR\",IF(M10=H12,\"LR=\",\"\"))))","v":""},{"$f":"VLOOKUP(P8,eventno,5,FALSE)","v":"F"},"T3",{"$f":"VLOOKUP(P8,eventno,4,FALSE)","v":"U15G 75m H"},null,{"$f":"IF(O11=\"W\",\"Wind =\",\"\")","v":"Wind ="},null,{"$f":"IF(OR(T10=0,T10=\"\",O12=0,O12=\"\"),\"\",IF(O10=\"T\",IF(T10<O12,\"LR\",IF(T10=O12,\"LR=\",\"\"))))","v":""},null,{"$f":"IF(OR(B8=0,B8=\"\",C8=0,C8=\"\",F8=0,F8=\"\",LEFT(F8,1)=\"D\"),0,VLOOKUP(B8,points,2,FALSE))","v":0},{"$f":"IF(OR(I8=0,I8=\"\",J8=0,J8=\"\",M8=0,M8=\"\",LEFT(M8,1)=\"D\"),0,VLOOKUP(I8,points,2,FALSE))","v":0},{"$f":"IF(OR(P8=0,P8=\"\",Q8=0,Q8=\"\",T8=0,T8=\"\",LEFT(T8,1)=\"D\"),0,VLOOKUP(P8,points,2,FALSE))","v":0},null,null,null,null,{"$f":"IF(T(AD5)=\"\",AD5*11,CONCATENATE(AD5,AD5))","v":33},null,{"$f":"MatchDay!B60","v":6},{"$f":"MatchDay!C60","v":1},"-"]
[{"$f":"IF(A8=\"M\",VLOOKUP(B8,males2,15,FALSE),VLOOKUP(B8,females2,15,FALSE))","v":2},"Posn","Bib","Athlete","Club","Perf","Gr",{"$f":"IF(H8=\"M\",VLOOKUP(I8,males2,15,FALSE),VLOOKUP(I8,females2,15,FALSE))","v":2},"Posn","Bib","Athlete","Club","Perf","Gr",{"$f":"IF(O8=\"M\",VLOOKUP(P8,males2,15,FALSE),VLOOKUP(P8,females2,15,FALSE))","v":3},"Posn","Bib","Athlete","Club","Perf","Gr",null,{"$error":"#N/A"},{"$error":"#N/A"},{"$error":"#N/A"},null,null,null,null,101,null,"1=",{"$f":"AH3","v":5.5}]
[{"$f":"LEFT(B8,1)","v":"T"},1,11,{"$f":"IF(OR(C10=0,C10=\"\"),\"\",IF(A8=\"F\",HLOOKUP(C10,females2,A9,FALSE),IF(A8=\"M\",HLOOKUP(C10,males2,A9,FALSE),\"\")))","v":"Jessica Wragg"},{"$f":"IF(OR(C10=0,C10=\"\",ISERROR(VLOOKUP(C10,match_teams2,4,FALSE)=TRUE)),\"\",VLOOKUP(C10,match_teams2,4,FALSE))","v":"DASH"},14.31,{"$f":"IF(OR(F10=0,F10=\"\",A13=0,A13=\"\",A14=0,A14=\"\",A15=0,A15=\"\",A16=0,A16=\"\"),\"\",IF(F10<=A13,1,IF(F10<=A14,2,IF(F10<=A15,3,IF(F10<=A16,4,\"\")))))","v":""},{"$f":"LEFT(I8,1)","v":"T"},1,1,{"$f":"IF(OR(J10=0,J10=\"\"),\"\",IF(H8=\"F\",HLOOKUP(J10,females2,H9,FALSE),IF(H8=\"M\",HLOOKUP(J10,males2,H9,FALSE),\"\")))","v":"James Mckell"},{"$f":"IF(OR(J10=0,J10=\"\",ISERROR(VLOOKUP(J10,match_teams2,4,FALSE)=TRUE)),\"\",VLOOKUP(J10,match_teams2,4,FALSE))","v":"DASH"},15.46,{"$f":"IF(OR(M10=0,M10=\"\",H13=0,H13=\"\",H14=0,H14=\"\",H15=0,H15=\"\",H16=0,H16=\"\"),\"\",IF(M10<=H13,1,IF(M10<=H14,2,IF(M10<=H15,3,IF(M10<=H16,4,\"\")))))","v":""},{"$f":"LEFT(P8,1)","v":"T"},1,2,{"$f":"IF(OR(Q10=0,Q10=\"\"),\"\",IF(O8=\"F\",HLOOKUP(Q10,females2,O9,FALSE),IF(O8=\"M\",HLOOKUP(Q10,males2,O9,FALSE),\"\")))","v":"Allison Mouzon"},{"$f":"IF(OR(Q10=0,Q10=\"\",ISERROR(VLOOKUP(Q10,match_teams2,4,FALSE)=TRUE)),\"\",VLOOKUP(Q10,match_teams2,4,FALSE))","v":"Linc W"},13.05,{"$f":"IF(OR(T10=0,T10=\"\",O13=0,O13=\"\",O14=0,O14=\"\",O15=0,O15=\"\",O16=0,O16=\"\"),\"\",IF(T10<=O13,1,IF(T10<=O14,2,IF(T10<=O15,3,IF(T10<=O16,4,\"\")))))","v":4},null,6,6,6,null,null,null,null,102,null,"1==",{"$f":"AI3","v":5}]
[{"$f":"VLOOKUP(B8,eventno,6,FALSE)","v":"W"},2,2,{"$f":"IF(OR(C11=0,C11=\"\"),\"\",IF(A8=\"F\",HLOOKUP(C11,females2,A9,FALSE),IF(A8=\"M\",HLOOKUP(C11,males2,A9,FALSE),\"\")))","v":"Rhiannon Martin"},"Linc W",15.62,{"$f":"IF(OR(F11=0,F11=\"\",A13=0,A13=\"\",A14=0,A14=\"\",A15=0,A15=\"\",A16=0,A16=\"\"),\"\",IF(F11<=A13,1,IF(F11<=A14,2,IF(F11<=A15,3,IF(F11<=A16,4,\"\")))))","v":""},{"$f":"VLOOKUP(I8,eventno,6,FALSE)","v":"W"},2,3,{"$f":"IF(OR(J11=0,J11=\"\"),\"\",IF(H8=\"F\",HLOOKUP(J11,females2,H9,FALSE),IF(H8=\"M\",HLOOKUP(J11,males2,H9,FALSE),\"\")))","v":"Malik Miller"},"Hallam",16.36,{"$f":"IF(OR(M11=0,M11=\"\",H13=0,H13=\"\",H14=0,H14=\"\",H15=0,H15=\"\",H16=0,H16=\"\"),\"\",IF(M11<=H13,1,IF(M11<=H14,2,IF(M11<=H15,3,IF(M11<=H16,4,\"\")))))","v":""},{"$f":"VLOOKUP(P8,eventno,6,FALSE)","v":"W"},2,22,{"$f":"IF(OR(Q11=0,Q11=\"\"),\"\",IF(O8=\"F\",HLOOKUP(Q11,females2,O9,FALSE),IF(O8=\"M\",HLOOKUP(Q11,males2,O9,FALSE),\"\")))","v":"Lauren Ward"},"Linc W",15.79,{"$f":"IF(OR(T11=0,T11=\"\",O13=0,O13=\"\",O14=0,O14=\"\",O15=0,O15=\"\",O16=0,O16=\"\"),\"\",IF(T11<=O13,1,IF(T11<=O14,2,IF(T11<=O15,3,IF(T11<=O16,4,\"\")))))","v":""},null,5,5,5,null,null,null,null,103,null,"1===",{"$f":"AJ3","v":4.5}]
[{"$f":"VLOOKUP(B8,eventno,7,FALSE)","v":11.1},3,1,{"$f":"IF(OR(C12=0,C12=\"\"),\"\",IF(A8=\"F\",HLOOKUP(C12,females2,A9,FALSE),IF(A8=\"M\",HLOOKUP(C12,males2,A9,FALSE),\"\")))","v":"Libby Beach"},"DASH",15.64,{"$f":"IF(OR(F12=0,F12=\"\",A13=0,A13=\"\",A14=0,A14=\"\",A15=0,A15=\"\",A16=0,A16=\"\"),\"\",IF(F12<=A13,1,IF(F12<=A14,2,IF(F12<=A15,3,IF(F12<=A16,4,\"\")))))","v":""},{"$f":"VLOOKUP(I8,eventno,7,FALSE)","v":11.9},3,null,{"$f":"IF(OR(J12=0,J12=\"\"),\"\",IF(H8=\"F\",HLOOKUP(J12,females2,H9,FALSE),IF(H8=\"M\",HLOOKUP(J12,males2,H9,FALSE),\"\")))","v":""},"",null,{"$f":"IF(OR(M12=0,M12=\"\",H13=0,H13=\"\",H14=0,H14=\"\",H15=0,H15=\"\",H16=0,H16=\"\"),\"\",IF(M12<=H13,1,IF(M12<=H14,2,IF(M12<=H15,3,IF(M12<=H16,4,\"\")))))","v":""},{"$f":"VLOOKUP(P8,eventno,7,FALSE)","v":11.1},3,3,{"$f":"IF(OR(Q12=0,Q12=\"\"),\"\",IF(O8=\"F\",HLOOKUP(Q12,females2,O9,FALSE),IF(O8=\"M\",HLOOKUP(Q12,males2,O9,FALSE),\"\")))","v":"Charlotte Mather"},"Hallam",16.04,{"$f":"IF(OR(T12=0,T12=\"\",O13=0,O13=\"\",O14=0,O14=\"\",O15=0,O15=\"\",O16=0,O16=\"\"),\"\",IF(T12<=O13,1,IF(T12<=O14,2,IF(T12<=O15,3,IF(T12<=O16,4,\"\")))))","v":""},null,4,0,4,null,null,null,null,104,null,"1====",{"$f":"AK3","v":4}]
[{"$f":"VLOOKUP(B8,eventno,8,FALSE)","v":12.2},4,22,{"$f":"IF(OR(C13=0,C13=\"\"),\"\",IF(A8=\"F\",HLOOKUP(C13,females2,A9,FALSE),IF(A8=\"M\",HLOOKUP(C13,males2,A9,FALSE),\"\")))","v":"Megan Brockie"},"Linc W",22.39,{"$f":"IF(OR(F13=0,F13=\"\",A13=0,A13=\"\",A14=0,A14=\"\",A15=0,A15=\"\",A16=0,A16=\"\"),\"\",IF(F13<=A13,1,IF(F13<=A14,2,IF(F13<=A15,3,IF(F13<=A16,4,\"\")))))","v":""},{"$f":"VLOOKUP(I8,eventno,8,FALSE)","v":13},4,null,{"$f":"IF(OR(J13=0,J13=\"\"),\"\",IF(H8=\"F\",HLOOKUP(J13,females2,H9,FALSE),IF(H8=\"M\",HLOOKUP(J13,males2,H9,FALSE),\"\")))","v":""},"",null,{"$f":"IF(OR(M13=0,M13=\"\",H13=0,H13=\"\",H14=0,H14=\"\",H15=0,H15=\"\",H16=0,H16=\"\"),\"\",IF(M13<=H13,1,IF(M13<=H14,2,IF(M13<=H15,3,IF(M13<=H16,4,\"\")))))","v":""},{"$f":"VLOOKUP(P8,eventno,8,FALSE)","v":12},4,null,{"$f":"IF(OR(Q13=0,Q13=\"\"),\"\",IF(O8=\"F\",HLOOKUP(Q13,females2,O9,FALSE),IF(O8=\"M\",HLOOKUP(Q13,males2,O9,FALSE),\"\")))","v":""},"",null,{"$f":"IF(OR(T13=0,T13=\"\",O13=0,O13=\"\",O14=0,O14=\"\",O15=0,O15=\"\",O16=0,O16=\"\"),\"\",IF(T13<=O13,1,IF(T13<=O14,2,IF(T13<=O15,3,IF(T13<=O16,4,\"\")))))","v":""},null,3,0,0,null,null,null,null,null,null,"1=====",{"$f":"AL3","v":3.5}]
[{"$f":"VLOOKUP(B8,eventno,9,FALSE)","v":12.5},5,null,{"$f":"IF(OR(C14=0,C14=\"\"),\"\",IF(A8=\"F\",HLOOKUP(C14,females2,A9,FALSE),IF(A8=\"M\",HLOOKUP(C14,males2,A9,FALSE),\"\")))","v":""},"",null,{"$f":"IF(OR(F14=0,F14=\"\",A13=0,A13=\"\",A14=0,A14=\"\",A15=0,A15=\"\",A16=0,A16=\"\"),\"\",IF(F14<=A13,1,IF(F14<=A14,2,IF(F14<=A15,3,IF(F14<=A16,4,\"\")))))","v":""},{"$f":"VLOOKUP(I8,eventno,9,FALSE)","v":13.4},5,null,{"$f":"IF(OR(J14=0,J14=\"\"),\"\",IF(H8=\"F\",HLOOKUP(J14,females2,H9,FALSE),IF(H8=\"M\",HLOOKUP(J14,males2,H9,FALSE),\"\")))","v":""},"",null,{"$f":"IF(OR(M14=0,M14=\"\",H13=0,H13=\"\",H14=0,H14=\"\",H15=0,H15=\"\",H16=0,H16=\"\"),\"\",IF(M14<=H13,1,IF(M14<=H14,2,IF(M14<=H15,3,IF(M14<=H16,4,\"\")))))","v":""},{"$f":"VLOOKUP(P8,eventno,9,FALSE)","v":12.3},5,null,{"$f":"IF(OR(Q14=0,Q14=\"\"),\"\",IF(O8=\"F\",HLOOKUP(Q14,females2,O9,FALSE),IF(O8=\"M\",HLOOKUP(Q14,males2,O9,FALSE),\"\")))","v":""},"",null,{"$f":"IF(OR(T14=0,T14=\"\",O13=0,O13=\"\",O14=0,O14=\"\",O15=0,O15=\"\",O16=0,O16=\"\"),\"\",IF(T14<=O13,1,IF(T14<=O14,2,IF(T14<=O15,3,IF(T14<=O16,4,\"\")))))","v":""},null,{"$f":"IF(OR(B14=0,B14=\"\",C14=0,C14=\"\",F14=0,F14=\"\",LEFT(F14,1)=\"D\"),0,VLOOKUP(B14,points,2,FALSE))","v":0},0,0,null,null,null,null,null,null,"2=",{"$f":"AH4","v":4.5}]
[{"$f":"VLOOKUP(B8,eventno,10,FALSE)","v":12.8},6,null,{"$f":"IF(OR(C15=0,C15=\"\"),\"\",IF(A8=\"F\",HLOOKUP(C15,females2,A9,FALSE),IF(A8=\"M\",HLOOKUP(C15,males2,A9,FALSE),\"\")))","v":""},"",null,{"$f":"IF(OR(F15=0,F15=\"\",A13=0,A13=\"\",A14=0,A14=\"\",A15=0,A15=\"\",A16=0,A16=\"\"),\"\",IF(F15<=A13,1,IF(F15<=A14,2,IF(F15<=A15,3,IF(F15<=A16,4,\"\")))))","v":""},{"$f":"VLOOKUP(I8,eventno,10,FALSE)","v":14},6,null,{"$f":"IF(OR(J15=0,J15=\"\"),\"\",IF(H8=\"F\",HLOOKUP(J15,females2,H9,FALSE),IF(H8=\"M\",HLOOKUP(J15,males2,H9,FALSE),\"\")))","v":""},"",null,{"$f":"IF(OR(M15=0,M15=\"\",H13=0,H13=\"\",H14=0,H14=\"\",H15=0,H15=\"\",H16=0,H16=\"\"),\"\",IF(M15<=H13,1,IF(M15<=H14,2,IF(M15<=H15,3,IF(M15<=H16,4,\"\")))))","v":""},{"$f":"VLOOKUP(P8,eventno,10,FALSE)","v":12.7},6,null,{"$f":"IF(OR(Q15=0,Q15=\"\"),\"\",IF(O8=\"F\",HLOOKUP(Q15,females2,O9,FALSE),IF(O8=\"M\",HLOOKUP(Q15,males2,O9,FALSE),\"\")))","v":""},"",null,{"$f":"IF(OR(T15=0,T15=\"\",O13=0,O13=\"\",O14=0,O14=\"\",O15=0,O15=\"\",O16=0,O16=\"\"),\"\",IF(T15<=O13,1,IF(T15<=O14,2,IF(T15<=O15,3,IF(T15<=O16,4,\"\")))))","v":""},null,{"$f":"IF(OR(B15=0,B15=\"\",C15=0,C15=\"\",F15=0,F15=\"\",LEFT(F15,1)=\"D\"),0,VLOOKUP(B15,points,2,FALSE))","v":0},{"$f":"IF(OR(I15=0,I15=\"\",J15=0,J15=\"\",M15=0,M15=\"\",LEFT(M15,1)=\"D\"),0,VLOOKUP(I15,points,2,FALSE))","v":0},{"$f":"IF(OR(P15=0,P15=\"\",Q15=0,Q15=\"\",T15=0,T15=\"\",LEFT(T15,1)=\"D\"),0,VLOOKUP(P15,points,2,FALSE))","v":0},null,null,null,null,null,null,"2==",{"$f":"AI4","v":4}]
[{"$f":"VLOOKUP(B8,eventno,11,FALSE)","v":13.4},null,null,null,null,null,null,{"$f":"VLOOKUP(I8,eventno,11,FALSE)","v":15.2},null,null,null,null,null,null,{"$f":"VLOOKUP(P8,eventno,11,FALSE)","v":13.3},null,null,null,null,null,null,null,0,0,0,null,null,null,null,null,null,"2===",{"$f":"AJ4","v":3.5}]
[{"$f":"VLOOKUP(B17,eventno,5,FALSE)","v":"F"},"T4",{"$f":"VLOOKUP(B17,eventno,4,FALSE)","v":"U17W 80m H"},null,{"$f":"IF(A20=\"W\",\"Wind =\",\"\")","v":"Wind ="},null,{"$f":"IF(OR(F19=0,F19=\"\",A21=0,A21=\"\"),\"\",IF(A19=\"T\",IF(F19<A21,\"LR\",IF(F19=A21,\"LR=\",\"\"))))","v":""},{"$f":"VLOOKUP(I17,eventno,5,FALSE)","v":"M"},"T5",{"$f":"VLOOKUP(I17,eventno,4,FALSE)","v":"U15B 80m H"},null,{"$f":"IF(H20=\"W\",\"Wind =\",\"\")","v":"Wind ="},null,{"$f":"IF(OR(M19=0,M19=\"\",H21=0,H21=\"\"),\"\",IF(H19=\"T\",IF(M19<H21,\"LR\",IF(M19=H21,\"LR=\",\"\"))))","v":""},{"$f":"VLOOKUP(P17,eventno,5,FALSE)","v":"M"},"T6",{"$f":"VLOOKUP(P17,eventno,4,FALSE)","v":"U17M 100m H"},null,{"$f":"IF(O20=\"W\",\"Wind =\",\"\")","v":"Wind ="},null,{"$f":"IF(OR(T19=0,T19=\"\",O21=0,O21=\"\"),\"\",IF(O19=\"T\",IF(T19<O21,\"LR\",IF(T19=O21,\"LR=\",\"\"))))","v":""},null,0,0,0,null,null,null,null,null,null,"2====",{"$f":"AK4","v":3}]
[{"$f":"IF(A17=\"M\",VLOOKUP(B17,males2,15,FALSE),VLOOKUP(B17,females2,15,FALSE))","v":4},"Posn","Bib","Athlete","Club","Perf","Gr",{"$f":"IF(H17=\"M\",VLOOKUP(I17,males2,15,FALSE),VLOOKUP(I17,females2,15,FALSE))","v":3},"Posn","Bib","Athlete","Club","Perf","Gr",{"$f":"IF(O17=\"M\",VLOOKUP(P17,males2,15,FALSE),VLOOKUP(P17,females2,15,FALSE))","v":4},"Posn","Bib","Athlete","Club","Perf","Gr",null,{"$error":"#N/A"},{"$error":"#N/A"},{"$error":"#N/A"},null,null,null,null,null,null,"3=",{"$f":"AH5","v":3.5}]
[{"$f":"LEFT(B17,1)","v":"T"},1,2,{"$f":"IF(OR(C19=0,C19=\"\"),\"\",IF(A17=\"F\",HLOOKUP(C19,females2,A18,FALSE),IF(A17=\"M\",HLOOKUP(C19,males2,A18,FALSE),\"\")))","v":"Katie McMunn"},{"$f":"IF(OR(C19=0,C19=\"\",ISERROR(VLOOKUP(C19,match_teams2,4,FALSE)=TRUE)),\"\",VLOOKUP(C19,match_teams2,4,FALSE))","v":"Linc W"},12.99,{"$f":"IF(OR(F19=0,F19=\"\",A22=0,A22=\"\",A23=0,A23=\"\",A24=0,A24=\"\",A25=0,A25=\"\"),\"\",IF(F19<=A22,1,IF(F19<=A23,2,IF(F19<=A24,3,IF(F19<=A25,4,\"\")))))","v":4},{"$f":"LEFT(I17,1)","v":"T"},1,22,{"$f":"IF(OR(J19=0,J19=\"\"),\"\",IF(H17=\"F\",HLOOKUP(J19,females2,H18,FALSE),IF(H17=\"M\",HLOOKUP(J19,males2,H18,FALSE),\"\")))","v":"Oliver Fluck"},{"$f":"IF(OR(J19=0,J19=\"\",ISERROR(VLOOKUP(J19,match_teams2,4,FALSE)=TRUE)),\"\",VLOOKUP(J19,match_teams2,4,FALSE))","v":"Linc W"},14.3,{"$f":"IF(OR(M19=0,M19=\"\",H22=0,H22=\"\",H23=0,H23=\"\",H24=0,H24=\"\",H25=0,H25=\"\"),\"\",IF(M19<=H22,1,IF(M19<=H23,2,IF(M19<=H24,3,IF(M19<=H25,4,\"\")))))","v":""},{"$f":"LEFT(P17,1)","v":"T"},1,null,{"$f":"IF(OR(Q19=0,Q19=\"\"),\"\",IF(O17=\"F\",HLOOKUP(Q19,females2,O18,FALSE),IF(O17=\"M\",HLOOKUP(Q19,males2,O18,FALSE),\"\")))","v":""},{"$f":"IF(OR(Q19=0,Q19=\"\",ISERROR(VLOOKUP(Q19,match_teams2,4,FALSE)=TRUE)),\"\",VLOOKUP(Q19,match_teams2,4,FALSE))","v":""},null,{"$f":"IF(OR(T19=0,T19=\"\",O22=0,O22=\"\",O23=0,O23=\"\",O24=0,O24=\"\",O25=0,O25=\"\"),\"\",IF(T19<=O22,1,IF(T19<=O23,2,IF(T19<=O24,3,IF(T19<=O25,4,\"\")))))","v":""},null,6,6,0,null,null,null,null,null,null,"3==",{"$f":"AI5","v":3}]
[{"$f":"VLOOKUP(B17,eventno,6,FALSE)","v":"W"},2,1,{"$f":"IF(OR(C20=0,C20=\"\"),\"\",IF(A17=\"F\",HLOOKUP(C20,females2,A18,FALSE),IF(A17=\"M\",HLOOKUP(C20,males2,A18,FALSE),\"\")))","v":"Hannah Short"},"DASH",16.829999999999998,{"$f":"IF(OR(F20=0,F20=\"\",A22=0,A22=\"\",A23=0,A23=\"\",A24=0,A24=\"\",A25=0,A25=\"\"),\"\",IF(F20<=A22,1,IF(F20<=A23,2,IF(F20<=A24,3,IF(F20<=A25,4,\"\")))))","v":""},{"$f":"VLOOKUP(I17,eventno,6,FALSE)","v":"W"},2,2,{"$f":"IF(OR(J20=0,J20=\"\"),\"\",IF(H17=\"F\",HLOOKUP(J20,females2,H18,FALSE),IF(H17=\"M\",HLOOKUP(J20,males2,H18,FALSE),\"\")))","v":"Frazer McDowall"},"Linc W",15.22,{"$f":"IF(OR(M20=0,M20=\"\",H22=0,H22=\"\",H23=0,H23=\"\",H24=0,H24=\"\",H25=0,H25=\"\"),\"\",IF(M20<=H22,1,IF(M20<=H23,2,IF(M20<=H24,3,IF(M20<=H25,4,\"\")))))","v":""},{"$f":"VLOOKUP(P17,eventno,6,FALSE)","v":"W"},2,null,{"$f":"IF(OR(Q20=0,Q20=\"\"),\"\",IF(O17=\"F\",HLOOKUP(Q20,females2,O18,FALSE),IF(O17=\"M\",HLOOKUP(Q20,males2,O18,FALSE),\"\")))","v":""},"",null,{"$f":"IF(OR(T20=0,T20=\"\",O22=0,O22=\"\",O23=0,O23=\"\",O24=0,O24=\"\",O25=0,O25=\"\"),\"\",IF(T20<=O22,1,IF(T20<=O23,2,IF(T20<=O24,3,IF(T20<=O25,4,\"\")))))","v":""},null,5,5,0,null,null,null,null,null,null,"3===",{"$f":"AJ5","v":2.5}]
[{"$f":"VLOOKUP(B17,eventno,7,FALSE)","v":11.2},3,null,{"$f":"IF(OR(C21=0,C21=\"\"),\"\",IF(A17=\"F\",HLOOKUP(C21,females2,A18,FALSE),IF(A17=\"M\",HLOOKUP(C21,males2,A18,FALSE),\"\")))","v":""},"",null,{"$f":"IF(OR(F21=0,F21=\"\",A22=0,A22=\"\",A23=0,A23=\"\",A24=0,A24=\"\",A25=0,A25=\"\"),\"\",IF(F21<=A22,1,IF(F21<=A23,2,IF(F21<=A24,3,IF(F21<=A25,4,\"\")))))","v":""},{"$f":"VLOOKUP(I17,eventno,7,FALSE)","v":10.9},3,3,{"$f":"IF(OR(J21=0,J21=\"\"),\"\",IF(H17=\"F\",HLOOKUP(J21,females2,H18,FALSE),IF(H17=\"M\",HLOOKUP(J21,males2,H18,FALSE),\"\")))","v":"James Lee"},"Hallam",16.53,{"$f":"IF(OR(M21=0,M21=\"\",H22=0,H22=\"\",H23=0,H23=\"\",H24=0,H24=\"\",H25=0,H25=\"\"),\"\",IF(M21<=H22,1,IF(M21<=H23,2,IF(M21<=H24,3,IF(M21<=H25,4,\"\")))))","v":""},{"$f":"VLOOKUP(P17,eventno,7,FALSE)","v":12.8},3,null,{"$f":"IF(OR(Q21=0,Q21=\"\"),\"\",IF(O17=\"F\",HLOOKUP(Q21,females2,O18,FALSE),IF(O17=\"M\",HLOOKUP(Q21,males2,O18,FALSE),\"\")))","v":""},"",null,{"$f":"IF(OR(T21=0,T21=\"\",O22=0,O22=\"\",O23=0,O23=\"\",O24=0,O24=\"\",O25=0,O25=\"\"),\"\",IF(T21<=O22,1,IF(T21<=O23,2,IF(T21<=O24,3,IF(T21<=O25,4,\"\")))))","v":""},null,0,4,0,null,null,null,null,null,null,"4=",{"$f":"AH6","v":2.5}]
[{"$f":"VLOOKUP(B17,eventno,8,FALSE)","v":12},4,null,{"$f":"IF(OR(C22=0,C22=\"\"),\"\",IF(A17=\"F\",HLOOKUP(C22,females2,A18,FALSE),IF(A17=\"M\",HLOOKUP(C22,males2,A18,FALSE),\"\")))","v":""},"",null,{"$f":"IF(OR(F22=0,F22=\"\",A22=0,A22=\"\",A23=0,A23=\"\",A24=0,A24=\"\",A25=0,A25=\"\"),\"\",IF(F22<=A22,1,IF(F22<=A23,2,IF(F22<=A24,3,IF(F22<=A25,4,\"\")))))","v":""},{"$f":"VLOOKUP(I17,eventno,8,FALSE)","v":11.9},4,33,{"$f":"IF(OR(J22=0,J22=\"\"),\"\",IF(H17=\"F\",HLOOKUP(J22,females2,H18,FALSE),IF(H17=\"M\",HLOOKUP(J22,males2,H18,FALSE),\"\")))","v":"Sam Draycott"},"Hallam",16.7,{"$f":"IF(OR(M22=0,M22=\"\",H22=0,H22=\"\",H23=0,H23=\"\",H24=0,H24=\"\",H25=0,H25=\"\"),\"\",IF(M22<=H22,1,IF(M22<=H23,2,IF(M22<=H24,3,IF(M22<=H25,4,\"\")))))","v":""},{"$f":"VLOOKUP(P17,eventno,8,FALSE)","v":13.7},4,null,{"$f":"IF(OR(Q22=0,Q22=\"\"),\"\",IF(O17=\"F\",HLOOKUP(Q22,females2,O18,FALSE),IF(O17=\"M\",HLOOKUP(Q22,males2,O18,FALSE),\"\")))","v":""},"",null,{"$f":"IF(OR(T22=0,T22=\"\",O22=0,O22=\"\",O23=0,O23=\"\",O24=0,O24=\"\",O25=0,O25=\"\"),\"\",IF(T22<=O22,1,IF(T22<=O23,2,IF(T22<=O24,3,IF(T22<=O25,4,\"\")))))","v":""},null,0,3,0,null,null,null,null,null,null,"4==",{"$f":"AI6","v":2}]
[{"$f":"VLOOKUP(B17,eventno,9,FALSE)","v":12.2},5,null,{"$f":"IF(OR(C23=0,C23=\"\"),\"\",IF(A17=\"F\",HLOOKUP(C23,females2,A18,FALSE),IF(A17=\"M\",HLOOKUP(C23,males2,A18,FALSE),\"\")))","v":""},"",null,{"$f":"IF(OR(F23=0,F23=\"\",A22=0,A22=\"\",A23=0,A23=\"\",A24=0,A24=\"\",A25=0,A25=\"\"),\"\",IF(F23<=A22,1,IF(F23<=A23,2,IF(F23<=A24,3,IF(F23<=A25,4,\"\")))))","v":""},{"$f":"VLOOKUP(I17,eventno,9,FALSE)","v":12.2},5,1,{"$f":"IF(OR(J23=0,J23=\"\"),\"\",IF(H17=\"F\",HLOOKUP(J23,females2,H18,FALSE),IF(H17=\"M\",HLOOKUP(J23,males2,H18,FALSE),\"\")))","v":"Josh Groggan"},"DASH",17.760000000000002,{"$f":"IF(OR(M23=0,M23=\"\",H22=0,H22=\"\",H23=0,H23=\"\",H24=0,H24=\"\",H25=0,H25=\"\"),\"\",IF(M23<=H22,1,IF(M23<=H23,2,IF(M23<=H24,3,IF(M23<=H25,4,\"\")))))","v":""},{"$f":"VLOOKUP(P17,eventno,9,FALSE)","v":14},5,null,{"$f":"IF(OR(Q23=0,Q23=\"\"),\"\",IF(O17=\"F\",HLOOKUP(Q23,females2,O18,FALSE),IF(O17=\"M\",HLOOKUP(Q23,males2,O18,FALSE),\"\")))","v":""},"",null,{"$f":"IF(OR(T23=0,T23=\"\",O22=0,O22=\"\",O23=0,O23=\"\",O24=0,O24=\"\",O25=0,O25=\"\"),\"\",IF(T23<=O22,1,IF(T23<=O23,2,IF(T23<=O24,3,IF(T23<=O25,4,\"\")))))","v":""},null,0,2,0,null,null,null,null,null,null,"5=",{"$f":"AH7","v":1.5}]
[{"$f":"VLOOKUP(B17,eventno,10,FALSE)","v":12.7},6,null,{"$f":"IF(OR(C24=0,C24=\"\"),\"\",IF(A17=\"F\",HLOOKUP(C24,females2,A18,FALSE),IF(A17=\"M\",HLOOKUP(C24,males2,A18,FALSE),\"\")))","v":""},"",null,{"$f":"IF(OR(F24=0,F24=\"\",A22=0,A22=\"\",A23=0,A23=\"\",A24=0,A24=\"\",A25=0,A25=\"\"),\"\",IF(F24<=A22,1,IF(F24<=A23,2,IF(F24<=A24,3,IF(F24<=A25,4,\"\")))))","v":""},{"$f":"VLOOKUP(I17,eventno,10,FALSE)","v":12.7},6,11,{"$f":"IF(OR(J24=0,J24=\"\"),\"\",IF(H17=\"F\",HLOOKUP(J24,females2,H18,FALSE),IF(H17=\"M\",HLOOKUP(J24,males2,H18,FALSE),\"\")))","v":"Jack Lamb"},"DASH",18.04,{"$f":"IF(OR(M24=0,M24=\"\",H22=0,H22=\"\",H23=0,H23=\"\",H24=0,H24=\"\",H25=0,H25=\"\"),\"\",IF(M24<=H22,1,IF(M24<=H23,2,IF(M24<=H24,3,IF(M24<=H25,4,\"\")))))","v":""},{"$f":"VLOOKUP(P17,eventno,10,FALSE)","v":14.6},6,null,{"$f":"IF(OR(Q24=0,Q24=\"\"),\"\",IF(O17=\"F\",HLOOKUP(Q24,females2,O18,FALSE),IF(O17=\"M\",HLOOKUP(Q24,males2,O18,FALSE),\"\")))","v":""},"",null,{"$f":"IF(OR(T24=0,T24=\"\",O22=0,O22=\"\",O23=0,O23=\"\",O24=0,O24=\"\",O25=0,O25=\"\"),\"\",IF(T24<=O22,1,IF(T24<=O23,2,IF(T24<=O24,3,IF(T24<=O25,4,\"\")))))","v":""},null,0,1,0]
[{"$f":"VLOOKUP(B17,eventno,11,FALSE)","v":13.2},null,null,null,null,null,null,{"$f":"VLOOKUP(I17,eventno,11,FALSE)","v":13.4},null,null,null,null,null,null,{"$f":"VLOOKUP(P17,eventno,11,FALSE)","v":15.4},null,null,null,null,null,null,null,0,0,0,null,null,null,null,null,null,"Match"]
[{"$f":"VLOOKUP(B26,eventno,5,FALSE)","v":"F"},"T7",{"$f":"VLOOKUP(B26,eventno,4,FALSE)","v":"U17W 800m"},null,{"$f":"IF(A29=\"W\",\"Wind =\",\"\")","v":""},null,{"$f":"IF(OR(F28=0,F28=\"\",A30=0,A30=\"\"),\"\",IF(A28=\"T\",IF(F28<A30,\"LR\",IF(F28=A30,\"LR=\",\"\"))))","v":""},{"$f":"VLOOKUP(I26,eventno,5,FALSE)","v":"F"},"T8",{"$f":"VLOOKUP(I26,eventno,4,FALSE)","v":"U15G 800m"},null,{"$f":"IF(H29=\"W\",\"Wind =\",\"\")","v":""},null,{"$f":"IF(OR(M28=0,M28=\"\",H30=0,H30=\"\"),\"\",IF(H28=\"T\",IF(M28<H30,\"LR\",IF(M28=H30,\"LR=\",\"\"))))","v":""},{"$f":"VLOOKUP(P26,eventno,5,FALSE)","v":"F"},"T9",{"$f":"VLOOKUP(P26,eventno,4,FALSE)","v":"U13G 800m"},null,{"$f":"IF(O29=\"W\",\"Wind =\",\"\")","v":""},null,{"$f":"IF(OR(T28=0,T28=\"\",O30=0,O30=\"\"),\"\",IF(O28=\"T\",IF(T28<O30,\"LR\",IF(T28=O30,\"LR=\",\"\"))))","v":""},null,0,0,0,null,null,null,null,null,null,1,3]
[{"$f":"IF(A26=\"M\",VLOOKUP(B26,males2,15,FALSE),VLOOKUP(B26,females2,15,FALSE))","v":5},"Posn","Bib","Athlete","Club","Perf","Gr",{"$f":"IF(H26=\"M\",VLOOKUP(I26,males2,15,FALSE),VLOOKUP(I26,females2,15,FALSE))","v":6},"Posn","Bib","Athlete","Club","Perf","Gr",{"$f":"IF(O26=\"M\",VLOOKUP(P26,males2,15,FALSE),VLOOKUP(P26,females2,15,FALSE))","v":7},"Posn","Bib","Athlete","Club","Perf","Gr",null,{"$error":"#N/A"},{"$error":"#N/A"},{"$error":"#N/A"},null,null,null,null,null,null,2,2]
[{"$f":"LEFT(B26,1)","v":"T"},1,3,{"$f":"IF(OR(C28=0,C28=\"\"),\"\",IF(A26=\"F\",HLOOKUP(C28,females2,A27,FALSE),IF(A26=\"M\",HLOOKUP(C28,males2,A27,FALSE),\"\")))","v":"Hannah Fletcher"},{"$f":"IF(OR(C28=0,C28=\"\",ISERROR(VLOOKUP(C28,match_teams2,4,FALSE)=TRUE)),\"\",VLOOKUP(C28,match_teams2,4,FALSE))","v":"Hallam"},"00:02:29.170",{"$f":"IF(OR(F28=0,F28=\"\",A31=0,A31=\"\",A32=0,A32=\"\",A33=0,A33=\"\",A34=0,A34=\"\"),\"\",IF(F28<=A31,1,IF(F28<=A32,2,IF(F28<=A33,3,IF(F28<=A34,4,\"\")))))","v":""},{"$f":"LEFT(I26,1)","v":"T"},1,3,{"$f":"IF(OR(J28=0,J28=\"\"),\"\",IF(H26=\"F\",HLOOKUP(J28,females2,H27,FALSE),IF(H26=\"M\",HLOOKUP(J28,males2,H27,FALSE),\"\")))","v":"Charlotte Slack"},{"$f":"IF(OR(J28=0,J28=\"\",ISERROR(VLOOKUP(J28,match_teams2,4,FALSE)=TRUE)),\"\",VLOOKUP(J28,match_teams2,4,FALSE))","v":"Hallam"},"00:02:31.190",{"$f":"IF(OR(M28=0,M28=\"\",H31=0,H31=\"\",H32=0,H32=\"\",H33=0,H33=\"\",H34=0,H34=\"\"),\"\",IF(M28<=H31,1,IF(M28<=H32,2,IF(M28<=H33,3,IF(M28<=H34,4,\"\")))))","v":""},{"$f":"LEFT(P26,1)","v":"T"},1,2,{"$f":"IF(OR(Q28=0,Q28=\"\"),\"\",IF(O26=\"F\",HLOOKUP(Q28,females2,O27,FALSE),IF(O26=\"M\",HLOOKUP(Q28,males2,O27,FALSE),\"\")))","v":"Laura Wilkinson"},{"$f":"IF(OR(Q28=0,Q28=\"\",ISERROR(VLOOKUP(Q28,match_teams2,4,FALSE)=TRUE)),\"\",VLOOKUP(Q28,match_teams2,4,FALSE))","v":"Linc W"},"00:02:43.710",{"$f":"IF(OR(T28=0,T28=\"\",O31=0,O31=\"\",O32=0,O32=\"\",O33=0,O33=\"\",O34=0,O34=\"\"),\"\",IF(T28<=O31,1,IF(T28<=O32,2,IF(T28<=O33,3,IF(T28<=O34,4,\"\")))))","v":""},null,{"$f":"IF(OR(B28=0,B28=\"\",C28=0,C28=\"\",F28=0,F28=\"\",LEFT(F28,1)=\"D\"),0,VLOOKUP(B28,points,2,FALSE))","v":6},6,6,null,null,null,null,null,null,3,1]
[{"$f":"VLOOKUP(B26,eventno,6,FALSE)","v":0},2,33,{"$f":"IF(OR(C29=0,C29=\"\"),\"\",IF(A26=\"F\",HLOOKUP(C29,females2,A27,FALSE),IF(A26=\"M\",HLOOKUP(C29,males2,A27,FALSE),\"\")))","v":"Claire Wilsher"},"Hallam","00:02:41.880",{"$f":"IF(OR(F29=0,F29=\"\",A31=0,A31=\"\",A32=0,A32=\"\",A33=0,A33=\"\",A34=0,A34=\"\"),\"\",IF(F29<=A31,1,IF(F29<=A32,2,IF(F29<=A33,3,IF(F29<=A34,4,\"\")))))","v":""},{"$f":"VLOOKUP(I26,eventno,6,FALSE)","v":0},2,33,{"$f":"IF(OR(J29=0,J29=\"\"),\"\",IF(H26=\"F\",HLOOKUP(J29,females2,H27,FALSE),IF(H26=\"M\",HLOOKUP(J29,males2,H27,FALSE),\"\")))","v":"Georgia Hird"},"Hallam","00:02:36.620",{"$f":"IF(OR(M29=0,M29=\"\",H31=0,H31=\"\",H32=0,H32=\"\",H33=0,H33=\"\",H34=0,H34=\"\"),\"\",IF(M29<=H31,1,IF(M29<=H32,2,IF(M29<=H33,3,IF(M29<=H34,4,\"\")))))","v":""},{"$f":"VLOOKUP(P26,eventno,6,FALSE)","v":0},2,33,{"$f":"IF(OR(Q29=0,Q29=\"\"),\"\",IF(O26=\"F\",HLOOKUP(Q29,females2,O27,FALSE),IF(O26=\"M\",HLOOKUP(Q29,males2,O27,FALSE),\"\")))","v":"Caitlin Tevendale"},"Hallam","00:02:45.520",{"$f":"IF(OR(T29=0,T29=\"\",O31=0,O31=\"\",O32=0,O32=\"\",O33=0,O33=\"\",O34=0,O34=\"\"),\"\",IF(T29<=O31,1,IF(T29<=O32,2,IF(T29<=O33,3,IF(T29<=O34,4,\"\")))))","v":""},null,{"$f":"IF(OR(B29=0,B29=\"\",C29=0,C29=\"\",F29=0,F29=\"\",LEFT(F29,1)=\"D\"),0,VLOOKUP(B29,points,2,FALSE))","v":5},5,5]
[{"$f":"VLOOKUP(B26,eventno,7,FALSE)","v":1.5046296296296294E-3},3,null,{"$f":"IF(OR(C30=0,C30=\"\"),\"\",IF(A26=\"F\",HLOOKUP(C30,females2,A27,FALSE),IF(A26=\"M\",HLOOKUP(C30,males2,A27,FALSE),\"\")))","v":""},"",null,{"$f":"IF(OR(F30=0,F30=\"\",A31=0,A31=\"\",A32=0,A32=\"\",A33=0,A33=\"\",A34=0,A34=\"\"),\"\",IF(F30<=A31,1,IF(F30<=A32,2,IF(F30<=A33,3,IF(F30<=A34,4,\"\")))))","v":""},{"$f":"VLOOKUP(I26,eventno,7,FALSE)","v":1.5300925925925924E-3},3,2,{"$f":"IF(OR(J30=0,J30=\"\"),\"\",IF(H26=\"F\",HLOOKUP(J30,females2,H27,FALSE),IF(H26=\"M\",HLOOKUP(J30,males2,H27,FALSE),\"\")))","v":"Lucy Read"},"Linc W","00:02:59.940",{"$f":"IF(OR(M30=0,M30=\"\",H31=0,H31=\"\",H32=0,H32=\"\",H33=0,H33=\"\",H34=0,H34=\"\"),\"\",IF(M30<=H31,1,IF(M30<=H32,2,IF(M30<=H33,3,IF(M30<=H34,4,\"\")))))","v":""},{"$f":"VLOOKUP(P26,eventno,7,FALSE)","v":1.6192129629629629E-3},3,3,{"$f":"IF(OR(Q30=0,Q30=\"\"),\"\",IF(O26=\"F\",HLOOKUP(Q30,females2,O27,FALSE),IF(O26=\"M\",HLOOKUP(Q30,males2,O27,FALSE),\"\")))","v":"Lilly Fletcher"},"Hallam","00:02:46.140",{"$f":"IF(OR(T30=0,T30=\"\",O31=0,O31=\"\",O32=0,O32=\"\",O33=0,O33=\"\",O34=0,O34=\"\"),\"\",IF(T30<=O31,1,IF(T30<=O32,2,IF(T30<=O33,3,IF(T30<=O34,4,\"\")))))","v":""},null,0,4,4]
[{"$f":"VLOOKUP(B26,eventno,8,FALSE)","v":1.5601851851851851E-3},4,null,{"$f":"IF(OR(C31=0,C31=\"\"),\"\",IF(A26=\"F\",HLOOKUP(C31,females2,A27,FALSE),IF(A26=\"M\",HLOOKUP(C31,males2,A27,FALSE),\"\")))","v":""},"",null,{"$f":"IF(OR(F31=0,F31=\"\",A31=0,A31=\"\",A32=0,A32=\"\",A33=0,A33=\"\",A34=0,A34=\"\"),\"\",IF(F31<=A31,1,IF(F31<=A32,2,IF(F31<=A33,3,IF(F31<=A34,4,\"\")))))","v":""},{"$f":"VLOOKUP(I26,eventno,8,FALSE)","v":1.6145833333333333E-3},4,1,{"$f":"IF(OR(J31=0,J31=\"\"),\"\",IF(H26=\"F\",HLOOKUP(J31,females2,H27,FALSE),IF(H26=\"M\",HLOOKUP(J31,males2,H27,FALSE),\"\")))","v":"Catriona Mckell"},"DASH","00:04:58.010",{"$f":"IF(OR(M31=0,M31=\"\",H31=0,H31=\"\",H32=0,H32=\"\",H33=0,H33=\"\",H34=0,H34=\"\"),\"\",IF(M31<=H31,1,IF(M31<=H32,2,IF(M31<=H33,3,IF(M31<=H34,4,\"\")))))","v":""},{"$f":"VLOOKUP(P26,eventno,8,FALSE)","v":1.7303240740740742E-3},4,22,{"$f":"IF(OR(Q31=0,Q31=\"\"),\"\",IF(O26=\"F\",HLOOKUP(Q31,females2,O27,FALSE),IF(O26=\"M\",HLOOKUP(Q31,males2,O27,FALSE),\"\")))","v":"Clea Butcher"},"Linc W","00:03:00.260",{"$f":"IF(OR(T31=0,T31=\"\",O31=0,O31=\"\",O32=0,O32=\"\",O33=0,O33=\"\",O34=0,O34=\"\"),\"\",IF(T31<=O31,1,IF(T31<=O32,2,IF(T31<=O33,3,IF(T31<=O34,4,\"\")))))","v":""},null,0,3,3]
[{"$f":"VLOOKUP(B26,eventno,9,FALSE)","v":1.5914351851851851E-3},5,null,{"$f":"IF(OR(C32=0,C32=\"\"),\"\",IF(A26=\"F\",HLOOKUP(C32,females2,A27,FALSE),IF(A26=\"M\",HLOOKUP(C32,males2,A27,FALSE),\"\")))","v":""},"",null,{"$f":"IF(OR(F32=0,F32=\"\",A31=0,A31=\"\",A32=0,A32=\"\",A33=0,A33=\"\",A34=0,A34=\"\"),\"\",IF(F32<=A31,1,IF(F32<=A32,2,IF(F32<=A33,3,IF(F32<=A34,4,\"\")))))","v":""},{"$f":"VLOOKUP(I26,eventno,9,FALSE)","v":1.6550925925925926E-3},5,null,{"$f":"IF(OR(J32=0,J32=\"\"),\"\",IF(H26=\"F\",HLOOKUP(J32,females2,H27,FALSE),IF(H26=\"M\",HLOOKUP(J32,males2,H27,FALSE),\"\")))","v":""},"",null,{"$f":"IF(OR(M32=0,M32=\"\",H31=0,H31=\"\",H32=0,H32=\"\",H33=0,H33=\"\",H34=0,H34=\"\"),\"\",IF(M32<=H31,1,IF(M32<=H32,2,IF(M32<=H33,3,IF(M32<=H34,4,\"\")))))","v":""},{"$f":"VLOOKUP(P26,eventno,9,FALSE)","v":1.7534722222222222E-3},5,1,{"$f":"IF(OR(Q32=0,Q32=\"\"),\"\",IF(O26=\"F\",HLOOKUP(Q32,females2,O27,FALSE),IF(O26=\"M\",HLOOKUP(Q32,males2,O27,FALSE),\"\")))","v":"Anna Manfred"},"DASH","00:03:29.930",{"$f":"IF(OR(T32=0,T32=\"\",O31=0,O31=\"\",O32=0,O32=\"\",O33=0,O33=\"\",O34=0,O34=\"\"),\"\",IF(T32<=O31,1,IF(T32<=O32,2,IF(T32<=O33,3,IF(T32<=O34,4,\"\")))))","v":""},null,0,0,2]
[{"$f":"VLOOKUP(B26,eventno,10,FALSE)","v":1.6296296296296295E-3},6,null,{"$f":"IF(OR(C33=0,C33=\"\"),\"\",IF(A26=\"F\",HLOOKUP(C33,females2,A27,FALSE),IF(A26=\"M\",HLOOKUP(C33,males2,A27,FALSE),\"\")))","v":""},"",null,{"$f":"IF(OR(F33=0,F33=\"\",A31=0,A31=\"\",A32=0,A32=\"\",A33=0,A33=\"\",A34=0,A34=\"\"),\"\",IF(F33<=A31,1,IF(F33<=A32,2,IF(F33<=A33,3,IF(F33<=A34,4,\"\")))))","v":""},{"$f":"VLOOKUP(I26,eventno,10,FALSE)","v":1.6956018518518518E-3},6,null,{"$f":"IF(OR(J33=0,J33=\"\"),\"\",IF(H26=\"F\",HLOOKUP(J33,females2,H27,FALSE),IF(H26=\"M\",HLOOKUP(J33,males2,H27,FALSE),\"\")))","v":""},"",null,{"$f":"IF(OR(M33=0,M33=\"\",H31=0,H31=\"\",H32=0,H32=\"\",H33=0,H33=\"\",H34=0,H34=\"\"),\"\",IF(M33<=H31,1,IF(M33<=H32,2,IF(M33<=H33,3,IF(M33<=H34,4,\"\")))))","v":""},{"$f":"VLOOKUP(P26,eventno,10,FALSE)","v":1.7997685185185185E-3},6,11,{"$f":"IF(OR(Q33=0,Q33=\"\"),\"\",IF(O26=\"F\",HLOOKUP(Q33,females2,O27,FALSE),IF(O26=\"M\",HLOOKUP(Q33,males2,O27,FALSE),\"\")))","v":"Talitha Thompson"},"DASH","00:03:38.200",{"$f":"IF(OR(T33=0,T33=\"\",O31=0,O31=\"\",O32=0,O32=\"\",O33=0,O33=\"\",O34=0,O34=\"\"),\"\",IF(T33<=O31,1,IF(T33<=O32,2,IF(T33<=O33,3,IF(T33<=O34,4,\"\")))))","v":""},null,0,0,1]
[{"$f":"VLOOKUP(B26,eventno,11,FALSE)","v":1.6886574074074076E-3},null,null,null,null,null,null,{"$f":"VLOOKUP(I26,eventno,11,FALSE)","v":1.7476851851851852E-3},null,null,null,null,null,null,{"$f":"VLOOKUP(P26,eventno,11,FALSE)","v":1.8634259259259261E-3},null,null,null,null,null,null,null,0,0,0]
[{"$f":"VLOOKUP(B35,eventno,5,FALSE)","v":"M"},"T10",{"$f":"VLOOKUP(B35,eventno,4,FALSE)","v":"U13B 800m"},null,{"$f":"IF(A38=\"W\",\"Wind =\",\"\")","v":""},null,{"$f":"IF(OR(F37=0,F37=\"\",A39=0,A39=\"\"),\"\",IF(A37=\"T\",IF(F37<A39,\"LR\",IF(F37=A39,\"LR=\",\"\"))))","v":""},{"$f":"VLOOKUP(I35,eventno,5,FALSE)","v":"M"},"T11",{"$f":"VLOOKUP(I35,eventno,4,FALSE)","v":"U15B 800m"},null,{"$f":"IF(H38=\"W\",\"Wind =\",\"\")","v":""},null,{"$f":"IF(OR(M37=0,M37=\"\",H39=0,H39=\"\"),\"\",IF(H37=\"T\",IF(M37<H39,\"LR\",IF(M37=H39,\"LR=\",\"\"))))","v":""},{"$f":"VLOOKUP(P35,eventno,5,FALSE)","v":"M"},"T12",{"$f":"VLOOKUP(P35,eventno,4,FALSE)","v":"U17M 800m"},null,{"$f":"IF(O38=\"W\",\"Wind =\",\"\")","v":""},null,{"$f":"IF(OR(T37=0,T37=\"\",O39=0,O39=\"\"),\"\",IF(O37=\"T\",IF(T37<O39,\"LR\",IF(T37=O39,\"LR=\",\"\"))))","v":""},null,0,0,0]
[{"$f":"IF(A35=\"M\",VLOOKUP(B35,males2,15,FALSE),VLOOKUP(B35,females2,15,FALSE))","v":5},"Posn","Bib","Athlete","Club","Perf","Gr",{"$f":"IF(H35=\"M\",VLOOKUP(I35,males2,15,FALSE),VLOOKUP(I35,females2,15,FALSE))","v":6},"Posn","Bib","Athlete","Club","Perf","Gr",{"$f":"IF(O35=\"M\",VLOOKUP(P35,males2,15,FALSE),VLOOKUP(P35,females2,15,FALSE))","v":7},"Posn","Bib","Athlete","Club","Perf","Gr",null,{"$error":"#N/A"},{"$error":"#N/A"},{"$error":"#N/A"}]
[{"$f":"LEFT(B35,1)","v":"T"},1,3,{"$f":"IF(OR(C37=0,C37=\"\"),\"\",IF(A35=\"F\",HLOOKUP(C37,females2,A36,FALSE),IF(A35=\"M\",HLOOKUP(C37,males2,A36,FALSE),\"\")))","v":"Jake Steade"},{"$f":"IF(OR(C37=0,C37=\"\",ISERROR(VLOOKUP(C37,match_teams2,4,FALSE)=TRUE)),\"\",VLOOKUP(C37,match_teams2,4,FALSE))","v":"Hallam"},"00:02:42.210",{"$f":"IF(OR(F37=0,F37=\"\",A40=0,A40=\"\",A41=0,A41=\"\",A42=0,A42=\"\",A43=0,A43=\"\"),\"\",IF(F37<=A40,1,IF(F37<=A41,2,IF(F37<=A42,3,IF(F37<=A43,4,\"\")))))","v":""},{"$f":"LEFT(I35,1)","v":"T"},1,3,{"$f":"IF(OR(J37=0,J37=\"\"),\"\",IF(H35=\"F\",HLOOKUP(J37,females2,H36,FALSE),IF(H35=\"M\",HLOOKUP(J37,males2,H36,FALSE),\"\")))","v":"Joe Hutcheson"},{"$f":"IF(OR(J37=0,J37=\"\",ISERROR(VLOOKUP(J37,match_teams2,4,FALSE)=TRUE)),\"\",VLOOKUP(J37,match_teams2,4,FALSE))","v":"Hallam"},"00:02:25.220",{"$f":"IF(OR(M37=0,M37=\"\",H40=0,H40=\"\",H41=0,H41=\"\",H42=0,H42=\"\",H43=0,H43=\"\"),\"\",IF(M37<=H40,1,IF(M37<=H41,2,IF(M37<=H42,3,IF(M37<=H43,4,\"\")))))","v":""},{"$f":"LEFT(P35,1)","v":"T"},1,2,{"$f":"IF(OR(Q37=0,Q37=\"\"),\"\",IF(O35=\"F\",HLOOKUP(Q37,females2,O36,FALSE),IF(O35=\"M\",HLOOKUP(Q37,males2,O36,FALSE),\"\")))","v":"Dylan Love "},{"$f":"IF(OR(Q37=0,Q37=\"\",ISERROR(VLOOKUP(Q37,match_teams2,4,FALSE)=TRUE)),\"\",VLOOKUP(Q37,match_teams2,4,FALSE))","v":"Linc W"},"00:02:06.820",{"$f":"IF(OR(T37=0,T37=\"\",O40=0,O40=\"\",O41=0,O41=\"\",O42=0,O42=\"\",O43=0,O43=\"\"),\"\",IF(T37<=O40,1,IF(T37<=O41,2,IF(T37<=O42,3,IF(T37<=O43,4,\"\")))))","v":""},null,6,6,{"$f":"IF(OR(P37=0,P37=\"\",Q37=0,Q37=\"\",T37=0,T37=\"\",LEFT(T37,1)=\"D\"),0,VLOOKUP(P37,points,2,FALSE))","v":6}]
[{"$f":"VLOOKUP(B35,eventno,6,FALSE)","v":0},2,33,{"$f":"IF(OR(C38=0,C38=\"\"),\"\",IF(A35=\"F\",HLOOKUP(C38,females2,A36,FALSE),IF(A35=\"M\",HLOOKUP(C38,males2,A36,FALSE),\"\")))","v":"Christian Mills"},"Hallam","00:02:45.090",{"$f":"IF(OR(F38=0,F38=\"\",A40=0,A40=\"\",A41=0,A41=\"\",A42=0,A42=\"\",A43=0,A43=\"\"),\"\",IF(F38<=A40,1,IF(F38<=A41,2,IF(F38<=A42,3,IF(F38<=A43,4,\"\")))))","v":""},{"$f":"VLOOKUP(I35,eventno,6,FALSE)","v":0},2,2,{"$f":"IF(OR(J38=0,J38=\"\"),\"\",IF(H35=\"F\",HLOOKUP(J38,females2,H36,FALSE),IF(H35=\"M\",HLOOKUP(J38,males2,H36,FALSE),\"\")))","v":"Joe Shuttleworth"},"Linc W","00:02:30.360",{"$f":"IF(OR(M38=0,M38=\"\",H40=0,H40=\"\",H41=0,H41=\"\",H42=0,H42=\"\",H43=0,H43=\"\"),\"\",IF(M38<=H40,1,IF(M38<=H41,2,IF(M38<=H42,3,IF(M38<=H43,4,\"\")))))","v":""},{"$f":"VLOOKUP(P35,eventno,6,FALSE)","v":0},2,22,{"$f":"IF(OR(Q38=0,Q38=\"\"),\"\",IF(O35=\"F\",HLOOKUP(Q38,females2,O36,FALSE),IF(O35=\"M\",HLOOKUP(Q38,males2,O36,FALSE),\"\")))","v":"Richard Brine"},"Linc W","00:02:07.890",{"$f":"IF(OR(T38=0,T38=\"\",O40=0,O40=\"\",O41=0,O41=\"\",O42=0,O42=\"\",O43=0,O43=\"\"),\"\",IF(T38<=O40,1,IF(T38<=O41,2,IF(T38<=O42,3,IF(T38<=O43,4,\"\")))))","v":""},null,5,5,{"$f":"IF(OR(P38=0,P38=\"\",Q38=0,Q38=\"\",T38=0,T38=\"\",LEFT(T38,1)=\"D\"),0,VLOOKUP(P38,points,2,FALSE))","v":5}]
[{"$f":"VLOOKUP(B35,eventno,7,FALSE)","v":1.4641203703703706E-3},3,1,{"$f":"IF(OR(C39=0,C39=\"\"),\"\",IF(A35=\"F\",HLOOKUP(C39,females2,A36,FALSE),IF(A35=\"M\",HLOOKUP(C39,males2,A36,FALSE),\"\")))","v":"James Castle"},"DASH","00:03:08.400",{"$f":"IF(OR(F39=0,F39=\"\",A40=0,A40=\"\",A41=0,A41=\"\",A42=0,A42=\"\",A43=0,A43=\"\"),\"\",IF(F39<=A40,1,IF(F39<=A41,2,IF(F39<=A42,3,IF(F39<=A43,4,\"\")))))","v":""},{"$f":"VLOOKUP(I35,eventno,7,FALSE)","v":1.3622685185185185E-3},3,33,{"$f":"IF(OR(J39=0,J39=\"\"),\"\",IF(H35=\"F\",HLOOKUP(J39,females2,H36,FALSE),IF(H35=\"M\",HLOOKUP(J39,males2,H36,FALSE),\"\")))","v":"Aiden Johnson"},"Hallam","00:02:33.600",{"$f":"IF(OR(M39=0,M39=\"\",H40=0,H40=\"\",H41=0,H41=\"\",H42=0,H42=\"\",H43=0,H43=\"\"),\"\",IF(M39<=H40,1,IF(M39<=H41,2,IF(M39<=H42,3,IF(M39<=H43,4,\"\")))))","v":""},{"$f":"VLOOKUP(P35,eventno,7,FALSE)","v":1.3113425925925925E-3},3,3,{"$f":"IF(OR(Q39=0,Q39=\"\"),\"\",IF(O35=\"F\",HLOOKUP(Q39,females2,O36,FALSE),IF(O35=\"M\",HLOOKUP(Q39,males2,O36,FALSE),\"\")))","v":"Josh Dyball"},"Hallam","00:02:14.070",{"$f":"IF(OR(T39=0,T39=\"\",O40=0,O40=\"\",O41=0,O41=\"\",O42=0,O42=\"\",O43=0,O43=\"\"),\"\",IF(T39<=O40,1,IF(T39<=O41,2,IF(T39<=O42,3,IF(T39<=O43,4,\"\")))))","v":""},null,4,4,4]
[{"$f":"VLOOKUP(B35,eventno,8,FALSE)","v":1.6435185185185183E-3},4,2,{"$f":"IF(OR(C40=0,C40=\"\"),\"\",IF(A35=\"F\",HLOOKUP(C40,females2,A36,FALSE),IF(A35=\"M\",HLOOKUP(C40,males2,A36,FALSE),\"\")))","v":"Jack McMunn"},"Linc W","00:03:13.830",{"$f":"IF(OR(F40=0,F40=\"\",A40=0,A40=\"\",A41=0,A41=\"\",A42=0,A42=\"\",A43=0,A43=\"\"),\"\",IF(F40<=A40,1,IF(F40<=A41,2,IF(F40<=A42,3,IF(F40<=A43,4,\"\")))))","v":""},{"$f":"VLOOKUP(I35,eventno,8,FALSE)","v":1.4641203703703706E-3},4,22,{"$f":"IF(OR(J40=0,J40=\"\"),\"\",IF(H35=\"F\",HLOOKUP(J40,females2,H36,FALSE),IF(H35=\"M\",HLOOKUP(J40,males2,H36,FALSE),\"\")))","v":"Max Chapman"},"Linc W","00:02:38.530",{"$f":"IF(OR(M40=0,M40=\"\",H40=0,H40=\"\",H41=0,H41=\"\",H42=0,H42=\"\",H43=0,H43=\"\"),\"\",IF(M40<=H40,1,IF(M40<=H41,2,IF(M40<=H42,3,IF(M40<=H43,4,\"\")))))","v":""},{"$f":"VLOOKUP(P35,eventno,8,FALSE)","v":1.3541666666666667E-3},4,11,{"$f":"IF(OR(Q40=0,Q40=\"\"),\"\",IF(O35=\"F\",HLOOKUP(Q40,females2,O36,FALSE),IF(O35=\"M\",HLOOKUP(Q40,males2,O36,FALSE),\"\")))","v":"Aidon Sahni"},"DASH","00:02:50.540",{"$f":"IF(OR(T40=0,T40=\"\",O40=0,O40=\"\",O41=0,O41=\"\",O42=0,O42=\"\",O43=0,O43=\"\"),\"\",IF(T40<=O40,1,IF(T40<=O41,2,IF(T40<=O42,3,IF(T40<=O43,4,\"\")))))","v":""},null,{"$f":"IF(OR(B40=0,B40=\"\",C40=0,C40=\"\",F40=0,F40=\"\",LEFT(F40,1)=\"D\"),0,VLOOKUP(B40,points,2,FALSE))","v":3},{"$f":"IF(OR(I40=0,I40=\"\",J40=0,J40=\"\",M40=0,M40=\"\",LEFT(M40,1)=\"D\"),0,VLOOKUP(I40,points,2,FALSE))","v":3},{"$f":"IF(OR(P40=0,P40=\"\",Q40=0,Q40=\"\",T40=0,T40=\"\",LEFT(T40,1)=\"D\"),0,VLOOKUP(P40,points,2,FALSE))","v":3}]
[{"$f":"VLOOKUP(B35,eventno,9,FALSE)","v":1.6724537037037036E-3},5,null,{"$f":"IF(OR(C41=0,C41=\"\"),\"\",IF(A35=\"F\",HLOOKUP(C41,females2,A36,FALSE),IF(A35=\"M\",HLOOKUP(C41,males2,A36,FALSE),\"\")))","v":""},"",null,{"$f":"IF(OR(F41=0,F41=\"\",A40=0,A40=\"\",A41=0,A41=\"\",A42=0,A42=\"\",A43=0,A43=\"\"),\"\",IF(F41<=A40,1,IF(F41<=A41,2,IF(F41<=A42,3,IF(F41<=A43,4,\"\")))))","v":""},{"$f":"VLOOKUP(I35,eventno,9,FALSE)","v":1.5046296296296294E-3},5,1,{"$f":"IF(OR(J41=0,J41=\"\"),\"\",IF(H35=\"F\",HLOOKUP(J41,females2,H36,FALSE),IF(H35=\"M\",HLOOKUP(J41,males2,H36,FALSE),\"\")))","v":"George Collins"},"DASH","00:02:44.770",{"$f":"IF(OR(M41=0,M41=\"\",H40=0,H40=\"\",H41=0,H41=\"\",H42=0,H42=\"\",H43=0,H43=\"\"),\"\",IF(M41<=H40,1,IF(M41<=H41,2,IF(M41<=H42,3,IF(M41<=H43,4,\"\")))))","v":""},{"$f":"VLOOKUP(P35,eventno,9,FALSE)","v":1.3831018518518517E-3},5,null,{"$f":"IF(OR(Q41=0,Q41=\"\"),\"\",IF(O35=\"F\",HLOOKUP(Q41,females2,O36,FALSE),IF(O35=\"M\",HLOOKUP(Q41,males2,O36,FALSE),\"\")))","v":""},"",null,{"$f":"IF(OR(T41=0,T41=\"\",O40=0,O40=\"\",O41=0,O41=\"\",O42=0,O42=\"\",O43=0,O43=\"\"),\"\",IF(T41<=O40,1,IF(T41<=O41,2,IF(T41<=O42,3,IF(T41<=O43,4,\"\")))))","v":""},null,0,2,0]
[{"$f":"VLOOKUP(B35,eventno,10,FALSE)","v":1.71875E-3},6,null,{"$f":"IF(OR(C42=0,C42=\"\"),\"\",IF(A35=\"F\",HLOOKUP(C42,females2,A36,FALSE),IF(A35=\"M\",HLOOKUP(C42,males2,A36,FALSE),\"\")))","v":""},"",null,{"$f":"IF(OR(F42=0,F42=\"\",A40=0,A40=\"\",A41=0,A41=\"\",A42=0,A42=\"\",A43=0,A43=\"\"),\"\",IF(F42<=A40,1,IF(F42<=A41,2,IF(F42<=A42,3,IF(F42<=A43,4,\"\")))))","v":""},{"$f":"VLOOKUP(I35,eventno,10,FALSE)","v":1.5451388888888891E-3},6,11,{"$f":"IF(OR(J42=0,J42=\"\"),\"\",IF(H35=\"F\",HLOOKUP(J42,females2,H36,FALSE),IF(H35=\"M\",HLOOKUP(J42,males2,H36,FALSE),\"\")))","v":"Alistair Mclunty"},"DASH","00:02:54.780",{"$f":"IF(OR(M42=0,M42=\"\",H40=0,H40=\"\",H41=0,H41=\"\",H42=0,H42=\"\",H43=0,H43=\"\"),\"\",IF(M42<=H40,1,IF(M42<=H41,2,IF(M42<=H42,3,IF(M42<=H43,4,\"\")))))","v":""},{"$f":"VLOOKUP(P35,eventno,10,FALSE)","v":1.4120370370370369E-3},6,null,{"$f":"IF(OR(Q42=0,Q42=\"\"),\"\",IF(O35=\"F\",HLOOKUP(Q42,females2,O36,FALSE),IF(O35=\"M\",HLOOKUP(Q42,males2,O36,FALSE),\"\")))","v":""},"",null,{"$f":"IF(OR(T42=0,T42=\"\",O40=0,O40=\"\",O41=0,O41=\"\",O42=0,O42=\"\",O43=0,O43=\"\"),\"\",IF(T42<=O40,1,IF(T42<=O41,2,IF(T42<=O42,3,IF(T42<=O43,4,\"\")))))","v":""},null,0,1,0]
[{"$f":"VLOOKUP(B35,eventno,11,FALSE)","v":1.7881944444444447E-3},null,null,null,null,null,null,{"$f":"VLOOKUP(I35,eventno,11,FALSE)","v":1.6030092592592595E-3},null,null,null,null,null,null,{"$f":"VLOOKUP(P35,eventno,11,FALSE)","v":1.4641203703703706E-3},null,null,null,null,null,null,null,0,0,0]
[{"$f":"VLOOKUP(B44,eventno,5,FALSE)","v":"F"},"T13",{"$f":"VLOOKUP(B44,eventno,4,FALSE)","v":"U13G 75m"},null,{"$f":"IF(A47=\"W\",\"Wind =\",\"\")","v":"Wind ="},null,{"$f":"IF(OR(F46=0,F46=\"\",A48=0,A48=\"\"),\"\",IF(A46=\"T\",IF(F46<A48,\"LR\",IF(F46=A48,\"LR=\",\"\"))))","v":""},{"$f":"VLOOKUP(I44,eventno,5,FALSE)","v":"F"},"T14",{"$f":"VLOOKUP(I44,eventno,4,FALSE)","v":"U17W 100m"},null,{"$f":"IF(H47=\"W\",\"Wind =\",\"\")","v":"Wind ="},null,{"$f":"IF(OR(M46=0,M46=\"\",H48=0,H48=\"\"),\"\",IF(H46=\"T\",IF(M46<H48,\"LR\",IF(M46=H48,\"LR=\",\"\"))))","v":""},{"$f":"VLOOKUP(P44,eventno,5,FALSE)","v":"F"},"T15",{"$f":"VLOOKUP(P44,eventno,4,FALSE)","v":"U15G 100m"},null,{"$f":"IF(O47=\"W\",\"Wind =\",\"\")","v":"Wind ="},null,{"$f":"IF(OR(T46=0,T46=\"\",O48=0,O48=\"\"),\"\",IF(O46=\"T\",IF(T46<O48,\"LR\",IF(T46=O48,\"LR=\",\"\"))))","v":""},null,0,0,0]
[{"$f":"IF(A44=\"M\",VLOOKUP(B44,males2,15,FALSE),VLOOKUP(B44,females2,15,FALSE))","v":8},"Posn","Bib","Athlete","Club","Perf","Gr",{"$f":"IF(H44=\"M\",VLOOKUP(I44,males2,15,FALSE),VLOOKUP(I44,females2,15,FALSE))","v":9},"Posn","Bib","Athlete","Club","Perf","Gr",{"$f":"IF(O44=\"M\",VLOOKUP(P44,males2,15,FALSE),VLOOKUP(P44,females2,15,FALSE))","v":10},"Posn","Bib","Athlete","Club","Perf","Gr",null,{"$error":"#N/A"},{"$error":"#N/A"},{"$error":"#N/A"}]
[{"$f":"LEFT(B44,1)","v":"T"},1,2,{"$f":"IF(OR(C46=0,C46=\"\"),\"\",IF(A44=\"F\",HLOOKUP(C46,females2,A45,FALSE),IF(A44=\"M\",HLOOKUP(C46,males2,A45,FALSE),\"\")))","v":"Georgina Campion"},{"$f":"IF(OR(C46=0,C46=\"\",ISERROR(VLOOKUP(C46,match_teams2,4,FALSE)=TRUE)),\"\",VLOOKUP(C46,match_teams2,4,FALSE))","v":"Linc W"},10.93,{"$f":"IF(OR(F46=0,F46=\"\",A49=0,A49=\"\",A50=0,A50=\"\",A51=0,A51=\"\",A52=0,A52=\"\"),\"\",IF(F46<=A49,1,IF(F46<=A50,2,IF(F46<=A51,3,IF(F46<=A52,4,\"\")))))","v":4},{"$f":"LEFT(I44,1)","v":"T"},1,3,{"$f":"IF(OR(J46=0,J46=\"\"),\"\",IF(H44=\"F\",HLOOKUP(J46,females2,H45,FALSE),IF(H44=\"M\",HLOOKUP(J46,males2,H45,FALSE),\"\")))","v":"Nicole Norton"},{"$f":"IF(OR(J46=0,J46=\"\",ISERROR(VLOOKUP(J46,match_teams2,4,FALSE)=TRUE)),\"\",VLOOKUP(J46,match_teams2,4,FALSE))","v":"Hallam"},13.76,{"$f":"IF(OR(M46=0,M46=\"\",H49=0,H49=\"\",H50=0,H50=\"\",H51=0,H51=\"\",H52=0,H52=\"\"),\"\",IF(M46<=H49,1,IF(M46<=H50,2,IF(M46<=H51,3,IF(M46<=H52,4,\"\")))))","v":""},{"$f":"LEFT(P44,1)","v":"T"},1,1,{"$f":"IF(OR(Q46=0,Q46=\"\"),\"\",IF(O44=\"F\",HLOOKUP(Q46,females2,O45,FALSE),IF(O44=\"M\",HLOOKUP(Q46,males2,O45,FALSE),\"\")))","v":"Eleanor Rawson"},{"$f":"IF(OR(Q46=0,Q46=\"\",ISERROR(VLOOKUP(Q46,match_teams2,4,FALSE)=TRUE)),\"\",VLOOKUP(Q46,match_teams2,4,FALSE))","v":"DASH"},13.03,{"$f":"IF(OR(T46=0,T46=\"\",O49=0,O49=\"\",O50=0,O50=\"\",O51=0,O51=\"\",O52=0,O52=\"\"),\"\",IF(T46<=O49,1,IF(T46<=O50,2,IF(T46<=O51,3,IF(T46<=O52,4,\"\")))))","v":3},null,6,6,6]
[{"$f":"VLOOKUP(B44,eventno,6,FALSE)","v":"W"},2,3,{"$f":"IF(OR(C47=0,C47=\"\"),\"\",IF(A44=\"F\",HLOOKUP(C47,females2,A45,FALSE),IF(A44=\"M\",HLOOKUP(C47,males2,A45,FALSE),\"\")))","v":"Lydia Brown"},"Hallam",11.41,{"$f":"IF(OR(F47=0,F47=\"\",A49=0,A49=\"\",A50=0,A50=\"\",A51=0,A51=\"\",A52=0,A52=\"\"),\"\",IF(F47<=A49,1,IF(F47<=A50,2,IF(F47<=A51,3,IF(F47<=A52,4,\"\")))))","v":""},{"$f":"VLOOKUP(I44,eventno,6,FALSE)","v":"W"},2,33,{"$f":"IF(OR(J47=0,J47=\"\"),\"\",IF(H44=\"F\",HLOOKUP(J47,females2,H45,FALSE),IF(H44=\"M\",HLOOKUP(J47,males2,H45,FALSE),\"\")))","v":"Rebecca Taylor"},"Hallam",15.3,{"$f":"IF(OR(M47=0,M47=\"\",H49=0,H49=\"\",H50=0,H50=\"\",H51=0,H51=\"\",H52=0,H52=\"\"),\"\",IF(M47<=H49,1,IF(M47<=H50,2,IF(M47<=H51,3,IF(M47<=H52,4,\"\")))))","v":""},{"$f":"VLOOKUP(P44,eventno,6,FALSE)","v":"W"},2,11,{"$f":"IF(OR(Q47=0,Q47=\"\"),\"\",IF(O44=\"F\",HLOOKUP(Q47,females2,O45,FALSE),IF(O44=\"M\",HLOOKUP(Q47,males2,O45,FALSE),\"\")))","v":"Emily Miles"},"DASH",13.66,{"$f":"IF(OR(T47=0,T47=\"\",O49=0,O49=\"\",O50=0,O50=\"\",O51=0,O51=\"\",O52=0,O52=\"\"),\"\",IF(T47<=O49,1,IF(T47<=O50,2,IF(T47<=O51,3,IF(T47<=O52,4,\"\")))))","v":""},null,5,5,5]
[{"$f":"VLOOKUP(B44,eventno,7,FALSE)","v":9.5},3,33,{"$f":"IF(OR(C48=0,C48=\"\"),\"\",IF(A44=\"F\",HLOOKUP(C48,females2,A45,FALSE),IF(A44=\"M\",HLOOKUP(C48,males2,A45,FALSE),\"\")))","v":"Caitlin Hawley"},"Hallam",11.69,{"$f":"IF(OR(F48=0,F48=\"\",A49=0,A49=\"\",A50=0,A50=\"\",A51=0,A51=\"\",A52=0,A52=\"\"),\"\",IF(F48<=A49,1,IF(F48<=A50,2,IF(F48<=A51,3,IF(F48<=A52,4,\"\")))))","v":""},{"$f":"VLOOKUP(I44,eventno,7,FALSE)","v":11.7},3,null,{"$f":"IF(OR(J48=0,J48=\"\"),\"\",IF(H44=\"F\",HLOOKUP(J48,females2,H45,FALSE),IF(H44=\"M\",HLOOKUP(J48,males2,H45,FALSE),\"\")))","v":""},"",null,{"$f":"IF(OR(M48=0,M48=\"\",H49=0,H49=\"\",H50=0,H50=\"\",H51=0,H51=\"\",H52=0,H52=\"\"),\"\",IF(M48<=H49,1,IF(M48<=H50,2,IF(M48<=H51,3,IF(M48<=H52,4,\"\")))))","v":""},{"$f":"VLOOKUP(P44,eventno,7,FALSE)","v":11.9},3,33,{"$f":"IF(OR(Q48=0,Q48=\"\"),\"\",IF(O44=\"F\",HLOOKUP(Q48,females2,O45,FALSE),IF(O44=\"M\",HLOOKUP(Q48,males2,O45,FALSE),\"\")))","v":"Elaine Williams"},"Hallam",13.87,{"$f":"IF(OR(T48=0,T48=\"\",O49=0,O49=\"\",O50=0,O50=\"\",O51=0,O51=\"\",O52=0,O52=\"\"),\"\",IF(T48<=O49,1,IF(T48<=O50,2,IF(T48<=O51,3,IF(T48<=O52,4,\"\")))))","v":""},null,4,0,4]
[{"$f":"VLOOKUP(B44,eventno,8,FALSE)","v":10.4},4,1,{"$f":"IF(OR(C49=0,C49=\"\"),\"\",IF(A44=\"F\",HLOOKUP(C49,females2,A45,FALSE),IF(A44=\"M\",HLOOKUP(C49,males2,A45,FALSE),\"\")))","v":"Dayna Downs"},"DASH",12.1,{"$f":"IF(OR(F49=0,F49=\"\",A49=0,A49=\"\",A50=0,A50=\"\",A51=0,A51=\"\",A52=0,A52=\"\"),\"\",IF(F49<=A49,1,IF(F49<=A50,2,IF(F49<=A51,3,IF(F49<=A52,4,\"\")))))","v":""},{"$f":"VLOOKUP(I44,eventno,8,FALSE)","v":12.4},4,null,{"$f":"IF(OR(J49=0,J49=\"\"),\"\",IF(H44=\"F\",HLOOKUP(J49,females2,H45,FALSE),IF(H44=\"M\",HLOOKUP(J49,males2,H45,FALSE),\"\")))","v":""},"",null,{"$f":"IF(OR(M49=0,M49=\"\",H49=0,H49=\"\",H50=0,H50=\"\",H51=0,H51=\"\",H52=0,H52=\"\"),\"\",IF(M49<=H49,1,IF(M49<=H50,2,IF(M49<=H51,3,IF(M49<=H52,4,\"\")))))","v":""},{"$f":"VLOOKUP(P44,eventno,8,FALSE)","v":12.8},4,3,{"$f":"IF(OR(Q49=0,Q49=\"\"),\"\",IF(O44=\"F\",HLOOKUP(Q49,females2,O45,FALSE),IF(O44=\"M\",HLOOKUP(Q49,males2,O45,FALSE),\"\")))","v":"Francesca Shaw"},"Hallam",14.23,{"$f":"IF(OR(T49=0,T49=\"\",O49=0,O49=\"\",O50=0,O50=\"\",O51=0,O51=\"\",O52=0,O52=\"\"),\"\",IF(T49<=O49,1,IF(T49<=O50,2,IF(T49<=O51,3,IF(T49<=O52,4,\"\")))))","v":""},null,3,0,3]
[{"$f":"VLOOKUP(B44,eventno,9,FALSE)","v":10.6},5,11,{"$f":"IF(OR(C50=0,C50=\"\"),\"\",IF(A44=\"F\",HLOOKUP(C50,females2,A45,FALSE),IF(A44=\"M\",HLOOKUP(C50,males2,A45,FALSE),\"\")))","v":"Morgan Swales"},"DASH",12.18,{"$f":"IF(OR(F50=0,F50=\"\",A49=0,A49=\"\",A50=0,A50=\"\",A51=0,A51=\"\",A52=0,A52=\"\"),\"\",IF(F50<=A49,1,IF(F50<=A50,2,IF(F50<=A51,3,IF(F50<=A52,4,\"\")))))","v":""},{"$f":"VLOOKUP(I44,eventno,9,FALSE)","v":12.6},5,null,{"$f":"IF(OR(J50=0,J50=\"\"),\"\",IF(H44=\"F\",HLOOKUP(J50,females2,H45,FALSE),IF(H44=\"M\",HLOOKUP(J50,males2,H45,FALSE),\"\")))","v":""},"",null,{"$f":"IF(OR(M50=0,M50=\"\",H49=0,H49=\"\",H50=0,H50=\"\",H51=0,H51=\"\",H52=0,H52=\"\"),\"\",IF(M50<=H49,1,IF(M50<=H50,2,IF(M50<=H51,3,IF(M50<=H52,4,\"\")))))","v":""},{"$f":"VLOOKUP(P44,eventno,9,FALSE)","v":12.9},5,2,{"$f":"IF(OR(Q50=0,Q50=\"\"),\"\",IF(O44=\"F\",HLOOKUP(Q50,females2,O45,FALSE),IF(O44=\"M\",HLOOKUP(Q50,males2,O45,FALSE),\"\")))","v":"Georgie Edwards"},"Linc W",14.24,{"$f":"IF(OR(T50=0,T50=\"\",O49=0,O49=\"\",O50=0,O50=\"\",O51=0,O51=\"\",O52=0,O52=\"\"),\"\",IF(T50<=O49,1,IF(T50<=O50,2,IF(T50<=O51,3,IF(T50<=O52,4,\"\")))))","v":""},null,2,0,2]
[{"$f":"VLOOKUP(B44,eventno,10,FALSE)","v":10.9},6,22,{"$f":"IF(OR(C51=0,C51=\"\"),\"\",IF(A44=\"F\",HLOOKUP(C51,females2,A45,FALSE),IF(A44=\"M\",HLOOKUP(C51,males2,A45,FALSE),\"\")))","v":"Megan Brockie"},"Linc W",13.48,{"$f":"IF(OR(F51=0,F51=\"\",A49=0,A49=\"\",A50=0,A50=\"\",A51=0,A51=\"\",A52=0,A52=\"\"),\"\",IF(F51<=A49,1,IF(F51<=A50,2,IF(F51<=A51,3,IF(F51<=A52,4,\"\")))))","v":""},{"$f":"VLOOKUP(I44,eventno,10,FALSE)","v":12.8},6,null,{"$f":"IF(OR(J51=0,J51=\"\"),\"\",IF(H44=\"F\",HLOOKUP(J51,females2,H45,FALSE),IF(H44=\"M\",HLOOKUP(J51,males2,H45,FALSE),\"\")))","v":""},"",null,{"$f":"IF(OR(M51=0,M51=\"\",H49=0,H49=\"\",H50=0,H50=\"\",H51=0,H51=\"\",H52=0,H52=\"\"),\"\",IF(M51<=H49,1,IF(M51<=H50,2,IF(M51<=H51,3,IF(M51<=H52,4,\"\")))))","v":""},{"$f":"VLOOKUP(P44,eventno,10,FALSE)","v":13.1},6,22,{"$f":"IF(OR(Q51=0,Q51=\"\"),\"\",IF(O44=\"F\",HLOOKUP(Q51,females2,O45,FALSE),IF(O44=\"M\",HLOOKUP(Q51,males2,O45,FALSE),\"\")))","v":"Alex Jackson"},"Linc W",14.7,{"$f":"IF(OR(T51=0,T51=\"\",O49=0,O49=\"\",O50=0,O50=\"\",O51=0,O51=\"\",O52=0,O52=\"\"),\"\",IF(T51<=O49,1,IF(T51<=O50,2,IF(T51<=O51,3,IF(T51<=O52,4,\"\")))))","v":""},null,1,0,1]
[{"$f":"VLOOKUP(B44,eventno,11,FALSE)","v":11.3},null,null,null,null,null,null,{"$f":"VLOOKUP(I44,eventno,11,FALSE)","v":13.1},null,null,null,null,null,null,{"$f":"VLOOKUP(P44,eventno,11,FALSE)","v":13.5},null,null,null,null,null,null,null,0,0,0]
[{"$f":"VLOOKUP(B53,eventno,5,FALSE)","v":"M"},"T16",{"$f":"VLOOKUP(B53,eventno,4,FALSE)","v":"U17M 100m"},null,{"$f":"IF(A56=\"W\",\"Wind =\",\"\")","v":"Wind ="},null,{"$f":"IF(OR(F55=0,F55=\"\",A57=0,A57=\"\"),\"\",IF(A55=\"T\",IF(F55<A57,\"LR\",IF(F55=A57,\"LR=\",\"\"))))","v":""},{"$f":"VLOOKUP(I53,eventno,5,FALSE)","v":"M"},"T17",{"$f":"VLOOKUP(I53,eventno,4,FALSE)","v":"U15B 100m"},null,{"$f":"IF(H56=\"W\",\"Wind =\",\"\")","v":"Wind ="},null,{"$f":"IF(OR(M55=0,M55=\"\",H57=0,H57=\"\"),\"\",IF(H55=\"T\",IF(M55<H57,\"LR\",IF(M55=H57,\"LR=\",\"\"))))","v":""},{"$f":"VLOOKUP(P53,eventno,5,FALSE)","v":"M"},"T18",{"$f":"VLOOKUP(P53,eventno,4,FALSE)","v":"U13B 100m"},null,{"$f":"IF(O56=\"W\",\"Wind =\",\"\")","v":"Wind ="},null,{"$f":"IF(OR(T55=0,T55=\"\",O57=0,O57=\"\"),\"\",IF(O55=\"T\",IF(T55<O57,\"LR\",IF(T55=O57,\"LR=\",\"\"))))","v":""},null,0,0,0]
[{"$f":"IF(A53=\"M\",VLOOKUP(B53,males2,15,FALSE),VLOOKUP(B53,females2,15,FALSE))","v":8},"Posn","Bib","Athlete","Club","Perf","Gr",{"$f":"IF(H53=\"M\",VLOOKUP(I53,males2,15,FALSE),VLOOKUP(I53,females2,15,FALSE))","v":9},"Posn","Bib","Athlete","Club","Perf","Gr",{"$f":"IF(O53=\"M\",VLOOKUP(P53,males2,15,FALSE),VLOOKUP(P53,females2,15,FALSE))","v":10},"Posn","Bib","Athlete","Club","Perf","Gr",null,{"$error":"#N/A"},{"$error":"#N/A"},{"$error":"#N/A"}]
[{"$f":"LEFT(B53,1)","v":"T"},1,2,{"$f":"IF(OR(C55=0,C55=\"\"),\"\",IF(A53=\"F\",HLOOKUP(C55,females2,A54,FALSE),IF(A53=\"M\",HLOOKUP(C55,males2,A54,FALSE),\"\")))","v":"Sam Chapman"},{"$f":"IF(OR(C55=0,C55=\"\",ISERROR(VLOOKUP(C55,match_teams2,4,FALSE)=TRUE)),\"\",VLOOKUP(C55,match_teams2,4,FALSE))","v":"Linc W"},12.07,{"$f":"IF(OR(F55=0,F55=\"\",A58=0,A58=\"\",A59=0,A59=\"\",A60=0,A60=\"\",A61=0,A61=\"\"),\"\",IF(F55<=A58,1,IF(F55<=A59,2,IF(F55<=A60,3,IF(F55<=A61,4,\"\")))))","v":""},{"$f":"LEFT(I53,1)","v":"T"},1,3,{"$f":"IF(OR(J55=0,J55=\"\"),\"\",IF(H53=\"F\",HLOOKUP(J55,females2,H54,FALSE),IF(H53=\"M\",HLOOKUP(J55,males2,H54,FALSE),\"\")))","v":"Elliott Payne"},{"$f":"IF(OR(J55=0,J55=\"\",ISERROR(VLOOKUP(J55,match_teams2,4,FALSE)=TRUE)),\"\",VLOOKUP(J55,match_teams2,4,FALSE))","v":"Hallam"},12.27,{"$f":"IF(OR(M55=0,M55=\"\",H58=0,H58=\"\",H59=0,H59=\"\",H60=0,H60=\"\",H61=0,H61=\"\"),\"\",IF(M55<=H58,1,IF(M55<=H59,2,IF(M55<=H60,3,IF(M55<=H61,4,\"\")))))","v":4},{"$f":"LEFT(P53,1)","v":"T"},1,3,{"$f":"IF(OR(Q55=0,Q55=\"\"),\"\",IF(O53=\"F\",HLOOKUP(Q55,females2,O54,FALSE),IF(O53=\"M\",HLOOKUP(Q55,males2,O54,FALSE),\"\")))","v":"Malik Miller"},{"$f":"IF(OR(Q55=0,Q55=\"\",ISERROR(VLOOKUP(Q55,match_teams2,4,FALSE)=TRUE)),\"\",VLOOKUP(Q55,match_teams2,4,FALSE))","v":"Hallam"},15.21,{"$f":"IF(OR(T55=0,T55=\"\",O58=0,O58=\"\",O59=0,O59=\"\",O60=0,O60=\"\",O61=0,O61=\"\"),\"\",IF(T55<=O58,1,IF(T55<=O59,2,IF(T55<=O60,3,IF(T55<=O61,4,\"\")))))","v":""},null,6,6,6]
[{"$f":"VLOOKUP(B53,eventno,6,FALSE)","v":"W"},2,3,{"$f":"IF(OR(C56=0,C56=\"\"),\"\",IF(A53=\"F\",HLOOKUP(C56,females2,A54,FALSE),IF(A53=\"M\",HLOOKUP(C56,males2,A54,FALSE),\"\")))","v":"Dipo Ola"},"Hallam",12.31,{"$f":"IF(OR(F56=0,F56=\"\",A58=0,A58=\"\",A59=0,A59=\"\",A60=0,A60=\"\",A61=0,A61=\"\"),\"\",IF(F56<=A58,1,IF(F56<=A59,2,IF(F56<=A60,3,IF(F56<=A61,4,\"\")))))","v":""},{"$f":"VLOOKUP(I53,eventno,6,FALSE)","v":"W"},2,1,{"$f":"IF(OR(J56=0,J56=\"\"),\"\",IF(H53=\"F\",HLOOKUP(J56,females2,H54,FALSE),IF(H53=\"M\",HLOOKUP(J56,males2,H54,FALSE),\"\")))","v":"Chris Li"},"DASH",12.31,{"$f":"IF(OR(M56=0,M56=\"\",H58=0,H58=\"\",H59=0,H59=\"\",H60=0,H60=\"\",H61=0,H61=\"\"),\"\",IF(M56<=H58,1,IF(M56<=H59,2,IF(M56<=H60,3,IF(M56<=H61,4,\"\")))))","v":4},{"$f":"VLOOKUP(P53,eventno,6,FALSE)","v":"W"},2,11,{"$f":"IF(OR(Q56=0,Q56=\"\"),\"\",IF(O53=\"F\",HLOOKUP(Q56,females2,O54,FALSE),IF(O53=\"M\",HLOOKUP(Q56,males2,O54,FALSE),\"\")))","v":"James Mckell"},"DASH",15.76,{"$f":"IF(OR(T56=0,T56=\"\",O58=0,O58=\"\",O59=0,O59=\"\",O60=0,O60=\"\",O61=0,O61=\"\"),\"\",IF(T56<=O58,1,IF(T56<=O59,2,IF(T56<=O60,3,IF(T56<=O61,4,\"\")))))","v":""},null,5,5,5]
[{"$f":"VLOOKUP(B53,eventno,7,FALSE)","v":10.5},3,1,{"$f":"IF(OR(C57=0,C57=\"\"),\"\",IF(A53=\"F\",HLOOKUP(C57,females2,A54,FALSE),IF(A53=\"M\",HLOOKUP(C57,males2,A54,FALSE),\"\")))","v":"-"},"DASH",12.65,{"$f":"IF(OR(F57=0,F57=\"\",A58=0,A58=\"\",A59=0,A59=\"\",A60=0,A60=\"\",A61=0,A61=\"\"),\"\",IF(F57<=A58,1,IF(F57<=A59,2,IF(F57<=A60,3,IF(F57<=A61,4,\"\")))))","v":""},{"$f":"VLOOKUP(I53,eventno,7,FALSE)","v":10.9},3,2,{"$f":"IF(OR(J57=0,J57=\"\"),\"\",IF(H53=\"F\",HLOOKUP(J57,females2,H54,FALSE),IF(H53=\"M\",HLOOKUP(J57,males2,H54,FALSE),\"\")))","v":"Oliver Fluck"},"Linc W",12.45,{"$f":"IF(OR(M57=0,M57=\"\",H58=0,H58=\"\",H59=0,H59=\"\",H60=0,H60=\"\",H61=0,H61=\"\"),\"\",IF(M57<=H58,1,IF(M57<=H59,2,IF(M57<=H60,3,IF(M57<=H61,4,\"\")))))","v":4},{"$f":"VLOOKUP(P53,eventno,7,FALSE)","v":11.71},3,1,{"$f":"IF(OR(Q57=0,Q57=\"\"),\"\",IF(O53=\"F\",HLOOKUP(Q57,females2,O54,FALSE),IF(O53=\"M\",HLOOKUP(Q57,males2,O54,FALSE),\"\")))","v":"Bradley Gabbitas"},"DASH",16.010000000000002,{"$f":"IF(OR(T57=0,T57=\"\",O58=0,O58=\"\",O59=0,O59=\"\",O60=0,O60=\"\",O61=0,O61=\"\"),\"\",IF(T57<=O58,1,IF(T57<=O59,2,IF(T57<=O60,3,IF(T57<=O61,4,\"\")))))","v":""},null,4,4,4]
[{"$f":"VLOOKUP(B53,eventno,8,FALSE)","v":11.2},4,22,{"$f":"IF(OR(C58=0,C58=\"\"),\"\",IF(A53=\"F\",HLOOKUP(C58,females2,A54,FALSE),IF(A53=\"M\",HLOOKUP(C58,males2,A54,FALSE),\"\")))","v":"Jack Harper"},"Linc W",13.49,{"$f":"IF(OR(F58=0,F58=\"\",A58=0,A58=\"\",A59=0,A59=\"\",A60=0,A60=\"\",A61=0,A61=\"\"),\"\",IF(F58<=A58,1,IF(F58<=A59,2,IF(F58<=A60,3,IF(F58<=A61,4,\"\")))))","v":""},{"$f":"VLOOKUP(I53,eventno,8,FALSE)","v":11.7},4,33,{"$f":"IF(OR(J58=0,J58=\"\"),\"\",IF(H53=\"F\",HLOOKUP(J58,females2,H54,FALSE),IF(H53=\"M\",HLOOKUP(J58,males2,H54,FALSE),\"\")))","v":"Sam Lawford"},"Hallam",13.04,{"$f":"IF(OR(M58=0,M58=\"\",H58=0,H58=\"\",H59=0,H59=\"\",H60=0,H60=\"\",H61=0,H61=\"\"),\"\",IF(M58<=H58,1,IF(M58<=H59,2,IF(M58<=H60,3,IF(M58<=H61,4,\"\")))))","v":""},{"$f":"VLOOKUP(P53,eventno,8,FALSE)","v":12.9},4,2,{"$f":"IF(OR(Q58=0,Q58=\"\"),\"\",IF(O53=\"F\",HLOOKUP(Q58,females2,O54,FALSE),IF(O53=\"M\",HLOOKUP(Q58,males2,O54,FALSE),\"\")))","v":"Oliver Jackson"},"Linc W",16.91,{"$f":"IF(OR(T58=0,T58=\"\",O58=0,O58=\"\",O59=0,O59=\"\",O60=0,O60=\"\",O61=0,O61=\"\"),\"\",IF(T58<=O58,1,IF(T58<=O59,2,IF(T58<=O60,3,IF(T58<=O61,4,\"\")))))","v":""},null,3,3,3]
[{"$f":"VLOOKUP(B53,eventno,9,FALSE)","v":11.4},5,null,{"$f":"IF(OR(C59=0,C59=\"\"),\"\",IF(A53=\"F\",HLOOKUP(C59,females2,A54,FALSE),IF(A53=\"M\",HLOOKUP(C59,males2,A54,FALSE),\"\")))","v":""},"",null,{"$f":"IF(OR(F59=0,F59=\"\",A58=0,A58=\"\",A59=0,A59=\"\",A60=0,A60=\"\",A61=0,A61=\"\"),\"\",IF(F59<=A58,1,IF(F59<=A59,2,IF(F59<=A60,3,IF(F59<=A61,4,\"\")))))","v":""},{"$f":"VLOOKUP(I53,eventno,9,FALSE)","v":11.9},5,22,{"$f":"IF(OR(J59=0,J59=\"\"),\"\",IF(H53=\"F\",HLOOKUP(J59,females2,H54,FALSE),IF(H53=\"M\",HLOOKUP(J59,males2,H54,FALSE),\"\")))","v":"Frazer McDowall"},"Linc W",13.41,{"$f":"IF(OR(M59=0,M59=\"\",H58=0,H58=\"\",H59=0,H59=\"\",H60=0,H60=\"\",H61=0,H61=\"\"),\"\",IF(M59<=H58,1,IF(M59<=H59,2,IF(M59<=H60,3,IF(M59<=H61,4,\"\")))))","v":""},{"$f":"VLOOKUP(P53,eventno,9,FALSE)","v":13.1},5,null,{"$f":"IF(OR(Q59=0,Q59=\"\"),\"\",IF(O53=\"F\",HLOOKUP(Q59,females2,O54,FALSE),IF(O53=\"M\",HLOOKUP(Q59,males2,O54,FALSE),\"\")))","v":""},"",null,{"$f":"IF(OR(T59=0,T59=\"\",O58=0,O58=\"\",O59=0,O59=\"\",O60=0,O60=\"\",O61=0,O61=\"\"),\"\",IF(T59<=O58,1,IF(T59<=O59,2,IF(T59<=O60,3,IF(T59<=O61,4,\"\")))))","v":""},null,0,2,0]
[{"$f":"VLOOKUP(B53,eventno,10,FALSE)","v":11.5},6,null,{"$f":"IF(OR(C60=0,C60=\"\"),\"\",IF(A53=\"F\",HLOOKUP(C60,females2,A54,FALSE),IF(A53=\"M\",HLOOKUP(C60,males2,A54,FALSE),\"\")))","v":""},"",null,{"$f":"IF(OR(F60=0,F60=\"\",A58=0,A58=\"\",A59=0,A59=\"\",A60=0,A60=\"\",A61=0,A61=\"\"),\"\",IF(F60<=A58,1,IF(F60<=A59,2,IF(F60<=A60,3,IF(F60<=A61,4,\"\")))))","v":""},{"$f":"VLOOKUP(I53,eventno,10,FALSE)","v":12.1},6,null,{"$f":"IF(OR(J60=0,J60=\"\"),\"\",IF(H53=\"F\",HLOOKUP(J60,females2,H54,FALSE),IF(H53=\"M\",HLOOKUP(J60,males2,H54,FALSE),\"\")))","v":""},"",null,{"$f":"IF(OR(M60=0,M60=\"\",H58=0,H58=\"\",H59=0,H59=\"\",H60=0,H60=\"\",H61=0,H61=\"\"),\"\",IF(M60<=H58,1,IF(M60<=H59,2,IF(M60<=H60,3,IF(M60<=H61,4,\"\")))))","v":""},{"$f":"VLOOKUP(P53,eventno,10,FALSE)","v":13.4},6,null,{"$f":"IF(OR(Q60=0,Q60=\"\"),\"\",IF(O53=\"F\",HLOOKUP(Q60,females2,O54,FALSE),IF(O53=\"M\",HLOOKUP(Q60,males2,O54,FALSE),\"\")))","v":""},"",null,{"$f":"IF(OR(T60=0,T60=\"\",O58=0,O58=\"\",O59=0,O59=\"\",O60=0,O60=\"\",O61=0,O61=\"\"),\"\",IF(T60<=O58,1,IF(T60<=O59,2,IF(T60<=O60,3,IF(T60<=O61,4,\"\")))))","v":""},null,0,0,0]
[{"$f":"VLOOKUP(B53,eventno,11,FALSE)","v":11.8},null,null,null,null,null,null,{"$f":"VLOOKUP(I53,eventno,11,FALSE)","v":12.5},null,null,null,null,null,null,{"$f":"VLOOKUP(P53,eventno,11,FALSE)","v":13.9},null,null,null,null,null,null,null,0,0,0]
[{"$f":"VLOOKUP(B62,eventno,5,FALSE)","v":"M"},"T19",{"$f":"VLOOKUP(B62,eventno,4,FALSE)","v":"U17M 3000m"},null,{"$f":"IF(A65=\"W\",\"Wind =\",\"\")","v":""},null,{"$f":"IF(OR(F64=0,F64=\"\",A66=0,A66=\"\"),\"\",IF(A64=\"T\",IF(F64<A66,\"LR\",IF(F64=A66,\"LR=\",\"\"))))","v":""},{"$f":"VLOOKUP(I62,eventno,5,FALSE)","v":"F"},"T20",{"$f":"VLOOKUP(I62,eventno,4,FALSE)","v":"U17W 3000m"},null,{"$f":"IF(H65=\"W\",\"Wind =\",\"\")","v":""},null,{"$f":"IF(OR(M64=0,M64=\"\",H66=0,H66=\"\"),\"\",IF(H64=\"T\",IF(M64<H66,\"LR\",IF(M64=H66,\"LR=\",\"\"))))","v":""},null,null,null,null,null,null,null,null,0,0,0]
[{"$f":"IF(A62=\"M\",VLOOKUP(B62,males2,15,FALSE),VLOOKUP(B62,females2,15,FALSE))","v":11},"Posn","Bib","Athlete","Club","Perf","Gr",{"$f":"IF(H62=\"M\",VLOOKUP(I62,males2,15,FALSE),VLOOKUP(I62,females2,15,FALSE))","v":11},"Posn","Bib","Athlete","Club","Perf","Gr",null,null,null,null,null,null,null,null,{"$error":"#N/A"},{"$error":"#N/A"},0]
[{"$f":"LEFT(B62,1)","v":"T"},1,2,{"$f":"IF(OR(C64=0,C64=\"\"),\"\",IF(A62=\"F\",HLOOKUP(C64,females2,A63,FALSE),IF(A62=\"M\",HLOOKUP(C64,males2,A63,FALSE),\"\")))","v":"Dylan Love "},{"$f":"IF(OR(C64=0,C64=\"\",ISERROR(VLOOKUP(C64,match_teams2,4,FALSE)=TRUE)),\"\",VLOOKUP(C64,match_teams2,4,FALSE))","v":"Linc W"},"00:10:21.900",{"$f":"IF(OR(F64=0,F64=\"\",A67=0,A67=\"\",A68=0,A68=\"\",A69=0,A69=\"\",A70=0,A70=\"\"),\"\",IF(F64<=A67,1,IF(F64<=A68,2,IF(F64<=A69,3,IF(F64<=A70,4,\"\")))))","v":""},{"$f":"LEFT(I62,1)","v":"T"},1,null,{"$f":"IF(OR(J64=0,J64=\"\"),\"\",IF(H62=\"F\",HLOOKUP(J64,females2,H63,FALSE),IF(H62=\"M\",HLOOKUP(J64,males2,H63,FALSE),\"\")))","v":""},{"$f":"IF(OR(J64=0,J64=\"\",ISERROR(VLOOKUP(J64,match_teams2,4,FALSE)=TRUE)),\"\",VLOOKUP(J64,match_teams2,4,FALSE))","v":""},null,{"$f":"IF(OR(M64=0,M64=\"\",H67=0,H67=\"\",H68=0,H68=\"\",H69=0,H69=\"\",H70=0,H70=\"\"),\"\",IF(M64<=H67,1,IF(M64<=H68,2,IF(M64<=H69,3,IF(M64<=H70,4,\"\")))))","v":""},null,null,null,null,null,null,null,null,6,0,0]
[{"$f":"VLOOKUP(B62,eventno,6,FALSE)","v":0},2,22,{"$f":"IF(OR(C65=0,C65=\"\"),\"\",IF(A62=\"F\",HLOOKUP(C65,females2,A63,FALSE),IF(A62=\"M\",HLOOKUP(C65,males2,A63,FALSE),\"\")))","v":"Joe Wilkinson"},"Linc W","00:10:39.880",{"$f":"IF(OR(F65=0,F65=\"\",A67=0,A67=\"\",A68=0,A68=\"\",A69=0,A69=\"\",A70=0,A70=\"\"),\"\",IF(F65<=A67,1,IF(F65<=A68,2,IF(F65<=A69,3,IF(F65<=A70,4,\"\")))))","v":""},{"$f":"VLOOKUP(I62,eventno,6,FALSE)","v":0},2,null,{"$f":"IF(OR(J65=0,J65=\"\"),\"\",IF(H62=\"F\",HLOOKUP(J65,females2,H63,FALSE),IF(H62=\"M\",HLOOKUP(J65,males2,H63,FALSE),\"\")))","v":""},"",null,{"$f":"IF(OR(M65=0,M65=\"\",H67=0,H67=\"\",H68=0,H68=\"\",H69=0,H69=\"\",H70=0,H70=\"\"),\"\",IF(M65<=H67,1,IF(M65<=H68,2,IF(M65<=H69,3,IF(M65<=H70,4,\"\")))))","v":""},null,null,null,null,null,null,null,null,5,0,0]
[{"$f":"VLOOKUP(B62,eventno,7,FALSE)","v":5.9050925925925929E-3},3,null,{"$f":"IF(OR(C66=0,C66=\"\"),\"\",IF(A62=\"F\",HLOOKUP(C66,females2,A63,FALSE),IF(A62=\"M\",HLOOKUP(C66,males2,A63,FALSE),\"\")))","v":""},"",null,{"$f":"IF(OR(F66=0,F66=\"\",A67=0,A67=\"\",A68=0,A68=\"\",A69=0,A69=\"\",A70=0,A70=\"\"),\"\",IF(F66<=A67,1,IF(F66<=A68,2,IF(F66<=A69,3,IF(F66<=A70,4,\"\")))))","v":""},{"$f":"VLOOKUP(I62,eventno,7,FALSE)","v":6.7175925925925936E-3},3,null,{"$f":"IF(OR(J66=0,J66=\"\"),\"\",IF(H62=\"F\",HLOOKUP(J66,females2,H63,FALSE),IF(H62=\"M\",HLOOKUP(J66,males2,H63,FALSE),\"\")))","v":""},"",null,{"$f":"IF(OR(M66=0,M66=\"\",H67=0,H67=\"\",H68=0,H68=\"\",H69=0,H69=\"\",H70=0,H70=\"\"),\"\",IF(M66<=H67,1,IF(M66<=H68,2,IF(M66<=H69,3,IF(M66<=H70,4,\"\")))))","v":""},null,null,null,null,null,null,null,null,0,0,0]
[{"$f":"VLOOKUP(B62,eventno,8,FALSE)","v":6.1284722222222218E-3},4,null,{"$f":"IF(OR(C67=0,C67=\"\"),\"\",IF(A62=\"F\",HLOOKUP(C67,females2,A63,FALSE),IF(A62=\"M\",HLOOKUP(C67,males2,A63,FALSE),\"\")))","v":""},"",null,{"$f":"IF(OR(F67=0,F67=\"\",A67=0,A67=\"\",A68=0,A68=\"\",A69=0,A69=\"\",A70=0,A70=\"\"),\"\",IF(F67<=A67,1,IF(F67<=A68,2,IF(F67<=A69,3,IF(F67<=A70,4,\"\")))))","v":""},{"$f":"VLOOKUP(I62,eventno,8,FALSE)","v":7.0428240740740755E-3},4,null,{"$f":"IF(OR(J67=0,J67=\"\"),\"\",IF(H62=\"F\",HLOOKUP(J67,females2,H63,FALSE),IF(H62=\"M\",HLOOKUP(J67,males2,H63,FALSE),\"\")))","v":""},"",null,{"$f":"IF(OR(M67=0,M67=\"\",H67=0,H67=\"\",H68=0,H68=\"\",H69=0,H69=\"\",H70=0,H70=\"\"),\"\",IF(M67<=H67,1,IF(M67<=H68,2,IF(M67<=H69,3,IF(M67<=H70,4,\"\")))))","v":""},null,null,null,null,null,null,null,null,0,0,0]
[{"$f":"VLOOKUP(B62,eventno,9,FALSE)","v":6.2615740740740748E-3},5,null,{"$f":"IF(OR(C68=0,C68=\"\"),\"\",IF(A62=\"F\",HLOOKUP(C68,females2,A63,FALSE),IF(A62=\"M\",HLOOKUP(C68,males2,A63,FALSE),\"\")))","v":""},"",null,{"$f":"IF(OR(F68=0,F68=\"\",A67=0,A67=\"\",A68=0,A68=\"\",A69=0,A69=\"\",A70=0,A70=\"\"),\"\",IF(F68<=A67,1,IF(F68<=A68,2,IF(F68<=A69,3,IF(F68<=A70,4,\"\")))))","v":""},{"$f":"VLOOKUP(I62,eventno,9,FALSE)","v":7.3032407407407412E-3},5,null,{"$f":"IF(OR(J68=0,J68=\"\"),\"\",IF(H62=\"F\",HLOOKUP(J68,females2,H63,FALSE),IF(H62=\"M\",HLOOKUP(J68,males2,H63,FALSE),\"\")))","v":""},"",null,{"$f":"IF(OR(M68=0,M68=\"\",H67=0,H67=\"\",H68=0,H68=\"\",H69=0,H69=\"\",H70=0,H70=\"\"),\"\",IF(M68<=H67,1,IF(M68<=H68,2,IF(M68<=H69,3,IF(M68<=H70,4,\"\")))))","v":""},null,null,null,null,null,null,null,null,0,0,0]
[{"$f":"VLOOKUP(B62,eventno,10,FALSE)","v":6.4293981481481485E-3},6,null,{"$f":"IF(OR(C69=0,C69=\"\"),\"\",IF(A62=\"F\",HLOOKUP(C69,females2,A63,FALSE),IF(A62=\"M\",HLOOKUP(C69,males2,A63,FALSE),\"\")))","v":""},"",null,{"$f":"IF(OR(F69=0,F69=\"\",A67=0,A67=\"\",A68=0,A68=\"\",A69=0,A69=\"\",A70=0,A70=\"\"),\"\",IF(F69<=A67,1,IF(F69<=A68,2,IF(F69<=A69,3,IF(F69<=A70,4,\"\")))))","v":""},{"$f":"VLOOKUP(I62,eventno,10,FALSE)","v":7.5289351851851845E-3},6,null,{"$f":"IF(OR(J69=0,J69=\"\"),\"\",IF(H62=\"F\",HLOOKUP(J69,females2,H63,FALSE),IF(H62=\"M\",HLOOKUP(J69,males2,H63,FALSE),\"\")))","v":""},"",null,{"$f":"IF(OR(M69=0,M69=\"\",H67=0,H67=\"\",H68=0,H68=\"\",H69=0,H69=\"\",H70=0,H70=\"\"),\"\",IF(M69<=H67,1,IF(M69<=H68,2,IF(M69<=H69,3,IF(M69<=H70,4,\"\")))))","v":""},null,null,null,null,null,null,null,null,0,0,0]
[{"$f":"VLOOKUP(B62,eventno,11,FALSE)","v":6.6956018518518519E-3},null,null,null,null,null,null,{"$f":"VLOOKUP(I62,eventno,11,FALSE)","v":7.9571759259259266E-3},null,null,null,null,null,null,null,null,null,null,null,null,null,null,0,0,0]
[{"$f":"VLOOKUP(B71,eventno,5,FALSE)","v":"F"},"T21",{"$f":"VLOOKUP(B71,eventno,4,FALSE)","v":"U17W 300m H"},null,{"$f":"IF(A74=\"W\",\"Wind =\",\"\")","v":""},null,{"$f":"IF(OR(F73=0,F73=\"\",A75=0,A75=\"\"),\"\",IF(A73=\"T\",IF(F73<A75,\"LR\",IF(F73=A75,\"LR=\",\"\"))))","v":""},{"$f":"VLOOKUP(I71,eventno,5,FALSE)","v":"M"},"T22",{"$f":"VLOOKUP(I71,eventno,4,FALSE)","v":"U17M 400m H"},null,{"$f":"IF(H74=\"W\",\"Wind =\",\"\")","v":""},null,{"$f":"IF(OR(M73=0,M73=\"\",H75=0,H75=\"\"),\"\",IF(H73=\"T\",IF(M73<H75,\"LR\",IF(M73=H75,\"LR=\",\"\"))))","v":""},null,null,null,null,null,null,null,null,0,0,0]
[{"$f":"IF(A71=\"M\",VLOOKUP(B71,males2,15,FALSE),VLOOKUP(B71,females2,15,FALSE))","v":12},"Posn","Bib","Athlete","Club","Perf","Gr",{"$f":"IF(H71=\"M\",VLOOKUP(I71,males2,15,FALSE),VLOOKUP(I71,females2,15,FALSE))","v":12},"Posn","Bib","Athlete","Club","Perf","Gr",null,null,null,null,null,null,null,null,{"$f":"IF(OR(B72=0,B72=\"\",C72=0,C72=\"\",F72=0,F72=\"\",LEFT(F72,1)=\"D\"),0,VLOOKUP(B72,points,2,FALSE))","v":{"$error":"#N/A"}},{"$f":"IF(OR(I72=0,I72=\"\",J72=0,J72=\"\",M72=0,M72=\"\",LEFT(M72,1)=\"D\"),0,VLOOKUP(I72,points,2,FALSE))","v":{"$error":"#N/A"}},{"$f":"IF(OR(P72=0,P72=\"\",Q72=0,Q72=\"\",T72=0,T72=\"\",LEFT(T72,1)=\"D\"),0,VLOOKUP(P72,points,2,FALSE))","v":0}]
[{"$f":"LEFT(B71,1)","v":"T"},1,22,{"$f":"IF(OR(C73=0,C73=\"\"),\"\",IF(A71=\"F\",HLOOKUP(C73,females2,A72,FALSE),IF(A71=\"M\",HLOOKUP(C73,males2,A72,FALSE),\"\")))","v":"-"},{"$f":"IF(OR(C73=0,C73=\"\",ISERROR(VLOOKUP(C73,match_teams2,4,FALSE)=TRUE)),\"\",VLOOKUP(C73,match_teams2,4,FALSE))","v":"Linc W"},50.42,{"$f":"IF(OR(F73=0,F73=\"\",A76=0,A76=\"\",A77=0,A77=\"\",A78=0,A78=\"\",A79=0,A79=\"\"),\"\",IF(F73<=A76,1,IF(F73<=A77,2,IF(F73<=A78,3,IF(F73<=A79,4,\"\")))))","v":""},{"$f":"LEFT(I71,1)","v":"T"},1,null,{"$f":"IF(OR(J73=0,J73=\"\"),\"\",IF(H71=\"F\",HLOOKUP(J73,females2,H72,FALSE),IF(H71=\"M\",HLOOKUP(J73,males2,H72,FALSE),\"\")))","v":""},{"$f":"IF(OR(J73=0,J73=\"\",ISERROR(VLOOKUP(J73,match_teams2,4,FALSE)=TRUE)),\"\",VLOOKUP(J73,match_teams2,4,FALSE))","v":""},null,{"$f":"IF(OR(M73=0,M73=\"\",H76=0,H76=\"\",H77=0,H77=\"\",H78=0,H78=\"\",H79=0,H79=\"\"),\"\",IF(M73<=H76,1,IF(M73<=H77,2,IF(M73<=H78,3,IF(M73<=H79,4,\"\")))))","v":""},null,null,null,null,null,null,null,null,6,0,0]
[{"$f":"VLOOKUP(B71,eventno,6,FALSE)","v":0},2,2,{"$f":"IF(OR(C74=0,C74=\"\"),\"\",IF(A71=\"F\",HLOOKUP(C74,females2,A72,FALSE),IF(A71=\"M\",HLOOKUP(C74,males2,A72,FALSE),\"\")))","v":"Sydney Cherrie"},"Linc W",50.83,{"$f":"IF(OR(F74=0,F74=\"\",A76=0,A76=\"\",A77=0,A77=\"\",A78=0,A78=\"\",A79=0,A79=\"\"),\"\",IF(F74<=A76,1,IF(F74<=A77,2,IF(F74<=A78,3,IF(F74<=A79,4,\"\")))))","v":""},{"$f":"VLOOKUP(I71,eventno,6,FALSE)","v":0},2,null,{"$f":"IF(OR(J74=0,J74=\"\"),\"\",IF(H71=\"F\",HLOOKUP(J74,females2,H72,FALSE),IF(H71=\"M\",HLOOKUP(J74,males2,H72,FALSE),\"\")))","v":""},"",null,{"$f":"IF(OR(M74=0,M74=\"\",H76=0,H76=\"\",H77=0,H77=\"\",H78=0,H78=\"\",H79=0,H79=\"\"),\"\",IF(M74<=H76,1,IF(M74<=H77,2,IF(M74<=H78,3,IF(M74<=H79,4,\"\")))))","v":""},null,null,null,null,null,null,null,null,5,0,0]
[{"$f":"VLOOKUP(B71,eventno,7,FALSE)","v":43.76},3,null,{"$f":"IF(OR(C75=0,C75=\"\"),\"\",IF(A71=\"F\",HLOOKUP(C75,females2,A72,FALSE),IF(A71=\"M\",HLOOKUP(C75,males2,A72,FALSE),\"\")))","v":""},"",null,{"$f":"IF(OR(F75=0,F75=\"\",A76=0,A76=\"\",A77=0,A77=\"\",A78=0,A78=\"\",A79=0,A79=\"\"),\"\",IF(F75<=A76,1,IF(F75<=A77,2,IF(F75<=A78,3,IF(F75<=A79,4,\"\")))))","v":""},{"$f":"VLOOKUP(I71,eventno,7,FALSE)","v":53.6},3,null,{"$f":"IF(OR(J75=0,J75=\"\"),\"\",IF(H71=\"F\",HLOOKUP(J75,females2,H72,FALSE),IF(H71=\"M\",HLOOKUP(J75,males2,H72,FALSE),\"\")))","v":""},"",null,{"$f":"IF(OR(M75=0,M75=\"\",H76=0,H76=\"\",H77=0,H77=\"\",H78=0,H78=\"\",H79=0,H79=\"\"),\"\",IF(M75<=H76,1,IF(M75<=H77,2,IF(M75<=H78,3,IF(M75<=H79,4,\"\")))))","v":""},null,null,null,null,null,null,null,null,0,0,0]
[{"$f":"VLOOKUP(B71,eventno,8,FALSE)","v":45.5},4,null,{"$f":"IF(OR(C76=0,C76=\"\"),\"\",IF(A71=\"F\",HLOOKUP(C76,females2,A72,FALSE),IF(A71=\"M\",HLOOKUP(C76,males2,A72,FALSE),\"\")))","v":""},"",null,{"$f":"IF(OR(F76=0,F76=\"\",A76=0,A76=\"\",A77=0,A77=\"\",A78=0,A78=\"\",A79=0,A79=\"\"),\"\",IF(F76<=A76,1,IF(F76<=A77,2,IF(F76<=A78,3,IF(F76<=A79,4,\"\")))))","v":""},{"$f":"VLOOKUP(I71,eventno,8,FALSE)","v":56.5},4,null,{"$f":"IF(OR(J76=0,J76=\"\"),\"\",IF(H71=\"F\",HLOOKUP(J76,females2,H72,FALSE),IF(H71=\"M\",HLOOKUP(J76,males2,H72,FALSE),\"\")))","v":""},"",null,{"$f":"IF(OR(M76=0,M76=\"\",H76=0,H76=\"\",H77=0,H77=\"\",H78=0,H78=\"\",H79=0,H79=\"\"),\"\",IF(M76<=H76,1,IF(M76<=H77,2,IF(M76<=H78,3,IF(M76<=H79,4,\"\")))))","v":""},null,null,null,null,null,null,null,null,0,0,0]
[{"$f":"VLOOKUP(B71,eventno,9,FALSE)","v":46.7},5,null,{"$f":"IF(OR(C77=0,C77=\"\"),\"\",IF(A71=\"F\",HLOOKUP(C77,females2,A72,FALSE),IF(A71=\"M\",HLOOKUP(C77,males2,A72,FALSE),\"\")))","v":""},"",null,{"$f":"IF(OR(F77=0,F77=\"\",A76=0,A76=\"\",A77=0,A77=\"\",A78=0,A78=\"\",A79=0,A79=\"\"),\"\",IF(F77<=A76,1,IF(F77<=A77,2,IF(F77<=A78,3,IF(F77<=A79,4,\"\")))))","v":""},{"$f":"VLOOKUP(I71,eventno,9,FALSE)","v":58.5},5,null,{"$f":"IF(OR(J77=0,J77=\"\"),\"\",IF(H71=\"F\",HLOOKUP(J77,females2,H72,FALSE),IF(H71=\"M\",HLOOKUP(J77,males2,H72,FALSE),\"\")))","v":""},"",null,{"$f":"IF(OR(M77=0,M77=\"\",H76=0,H76=\"\",H77=0,H77=\"\",H78=0,H78=\"\",H79=0,H79=\"\"),\"\",IF(M77<=H76,1,IF(M77<=H77,2,IF(M77<=H78,3,IF(M77<=H79,4,\"\")))))","v":""},null,null,null,null,null,null,null,null,0,0,0]
[{"$f":"VLOOKUP(B71,eventno,10,FALSE)","v":47.9},6,null,{"$f":"IF(OR(C78=0,C78=\"\"),\"\",IF(A71=\"F\",HLOOKUP(C78,females2,A72,FALSE),IF(A71=\"M\",HLOOKUP(C78,males2,A72,FALSE),\"\")))","v":""},"",null,{"$f":"IF(OR(F78=0,F78=\"\",A76=0,A76=\"\",A77=0,A77=\"\",A78=0,A78=\"\",A79=0,A79=\"\"),\"\",IF(F78<=A76,1,IF(F78<=A77,2,IF(F78<=A78,3,IF(F78<=A79,4,\"\")))))","v":""},{"$f":"VLOOKUP(I71,eventno,10,FALSE)","v":60.5},6,null,{"$f":"IF(OR(J78=0,J78=\"\"),\"\",IF(H71=\"F\",HLOOKUP(J78,females2,H72,FALSE),IF(H71=\"M\",HLOOKUP(J78,males2,H72,FALSE),\"\")))","v":""},"",null,{"$f":"IF(OR(M78=0,M78=\"\",H76=0,H76=\"\",H77=0,H77=\"\",H78=0,H78=\"\",H79=0,H79=\"\"),\"\",IF(M78<=H76,1,IF(M78<=H77,2,IF(M78<=H78,3,IF(M78<=H79,4,\"\")))))","v":""},null,null,null,null,null,null,null,null,0,0,0]
[{"$f":"VLOOKUP(B71,eventno,11,FALSE)","v":50},null,null,null,null,null,null,{"$f":"VLOOKUP(I71,eventno,11,FALSE)","v":62.5},null,null,null,null,null,null,null,null,null,null,null,null,null,null,0,0,0]
[{"$f":"VLOOKUP(B80,eventno,5,FALSE)","v":"F"},"T23",{"$f":"VLOOKUP(B80,eventno,4,FALSE)","v":"U13G 150m"},null,{"$f":"IF(A83=\"W\",\"Wind =\",\"\")","v":"Wind ="},null,{"$f":"IF(OR(F82=0,F82=\"\",A84=0,A84=\"\"),\"\",IF(A82=\"T\",IF(F82<A84,\"LR\",IF(F82=A84,\"LR=\",\"\"))))","v":""},{"$f":"VLOOKUP(I80,eventno,5,FALSE)","v":"M"},"T24",{"$f":"VLOOKUP(I80,eventno,4,FALSE)","v":"U13B 200m"},null,{"$f":"IF(H83=\"W\",\"Wind =\",\"\")","v":"Wind ="},null,{"$f":"IF(OR(M82=0,M82=\"\",H84=0,H84=\"\"),\"\",IF(H82=\"T\",IF(M82<H84,\"LR\",IF(M82=H84,\"LR=\",\"\"))))","v":""},{"$f":"VLOOKUP(P80,eventno,5,FALSE)","v":"F"},"T25",{"$f":"VLOOKUP(P80,eventno,4,FALSE)","v":"U15G 200m"},null,{"$f":"IF(O83=\"W\",\"Wind =\",\"\")","v":"Wind ="},null,{"$f":"IF(OR(T82=0,T82=\"\",O84=0,O84=\"\"),\"\",IF(O82=\"T\",IF(T82<O84,\"LR\",IF(T82=O84,\"LR=\",\"\"))))","v":""},null,0,0,0]
[{"$f":"IF(A80=\"M\",VLOOKUP(B80,males2,15,FALSE),VLOOKUP(B80,females2,15,FALSE))","v":13},"Posn","Bib","Athlete","Club","Perf","Gr",{"$f":"IF(H80=\"M\",VLOOKUP(I80,males2,15,FALSE),VLOOKUP(I80,females2,15,FALSE))","v":13},"Posn","Bib","Athlete","Club","Perf","Gr",{"$f":"IF(O80=\"M\",VLOOKUP(P80,males2,15,FALSE),VLOOKUP(P80,females2,15,FALSE))","v":14},"Posn","Bib","Athlete","Club","Perf","Gr",null,{"$error":"#N/A"},{"$error":"#N/A"},{"$error":"#N/A"}]
[{"$f":"LEFT(B80,1)","v":"T"},1,2,{"$f":"IF(OR(C82=0,C82=\"\"),\"\",IF(A80=\"F\",HLOOKUP(C82,females2,A81,FALSE),IF(A80=\"M\",HLOOKUP(C82,males2,A81,FALSE),\"\")))","v":"Georgina Campion"},{"$f":"IF(OR(C82=0,C82=\"\",ISERROR(VLOOKUP(C82,match_teams2,4,FALSE)=TRUE)),\"\",VLOOKUP(C82,match_teams2,4,FALSE))","v":"Linc W"},21.26,{"$f":"IF(OR(F82=0,F82=\"\",A85=0,A85=\"\",A86=0,A86=\"\",A87=0,A87=\"\",A88=0,A88=\"\"),\"\",IF(F82<=A85,1,IF(F82<=A86,2,IF(F82<=A87,3,IF(F82<=A88,4,\"\")))))","v":3},{"$f":"LEFT(I80,1)","v":"T"},1,3,{"$f":"IF(OR(J82=0,J82=\"\"),\"\",IF(H80=\"F\",HLOOKUP(J82,females2,H81,FALSE),IF(H80=\"M\",HLOOKUP(J82,males2,H81,FALSE),\"\")))","v":"Jake Steade"},{"$f":"IF(OR(J82=0,J82=\"\",ISERROR(VLOOKUP(J82,match_teams2,4,FALSE)=TRUE)),\"\",VLOOKUP(J82,match_teams2,4,FALSE))","v":"Hallam"},31.67,{"$f":"IF(OR(M82=0,M82=\"\",H85=0,H85=\"\",H86=0,H86=\"\",H87=0,H87=\"\",H88=0,H88=\"\"),\"\",IF(M82<=H85,1,IF(M82<=H86,2,IF(M82<=H87,3,IF(M82<=H88,4,\"\")))))","v":""},{"$f":"LEFT(P80,1)","v":"T"},1,1,{"$f":"IF(OR(Q82=0,Q82=\"\"),\"\",IF(O80=\"F\",HLOOKUP(Q82,females2,O81,FALSE),IF(O80=\"M\",HLOOKUP(Q82,males2,O81,FALSE),\"\")))","v":"Eleanor Rawson"},{"$f":"IF(OR(Q82=0,Q82=\"\",ISERROR(VLOOKUP(Q82,match_teams2,4,FALSE)=TRUE)),\"\",VLOOKUP(Q82,match_teams2,4,FALSE))","v":"DASH"},26.74,{"$f":"IF(OR(T82=0,T82=\"\",O85=0,O85=\"\",O86=0,O86=\"\",O87=0,O87=\"\",O88=0,O88=\"\"),\"\",IF(T82<=O85,1,IF(T82<=O86,2,IF(T82<=O87,3,IF(T82<=O88,4,\"\")))))","v":3},null,6,6,6]
[{"$f":"VLOOKUP(B80,eventno,6,FALSE)","v":"W"},2,22,{"$f":"IF(OR(C83=0,C83=\"\"),\"\",IF(A80=\"F\",HLOOKUP(C83,females2,A81,FALSE),IF(A80=\"M\",HLOOKUP(C83,males2,A81,FALSE),\"\")))","v":"Holly Horton"},"Linc W",21.67,{"$f":"IF(OR(F83=0,F83=\"\",A85=0,A85=\"\",A86=0,A86=\"\",A87=0,A87=\"\",A88=0,A88=\"\"),\"\",IF(F83<=A85,1,IF(F83<=A86,2,IF(F83<=A87,3,IF(F83<=A88,4,\"\")))))","v":4},{"$f":"VLOOKUP(I80,eventno,6,FALSE)","v":"W"},2,33,{"$f":"IF(OR(J83=0,J83=\"\"),\"\",IF(H80=\"F\",HLOOKUP(J83,females2,H81,FALSE),IF(H80=\"M\",HLOOKUP(J83,males2,H81,FALSE),\"\")))","v":"Christian Mills"},"Hallam",32.6,{"$f":"IF(OR(M83=0,M83=\"\",H85=0,H85=\"\",H86=0,H86=\"\",H87=0,H87=\"\",H88=0,H88=\"\"),\"\",IF(M83<=H85,1,IF(M83<=H86,2,IF(M83<=H87,3,IF(M83<=H88,4,\"\")))))","v":""},{"$f":"VLOOKUP(P80,eventno,6,FALSE)","v":"W"},2,3,{"$f":"IF(OR(Q83=0,Q83=\"\"),\"\",IF(O80=\"F\",HLOOKUP(Q83,females2,O81,FALSE),IF(O80=\"M\",HLOOKUP(Q83,males2,O81,FALSE),\"\")))","v":"Charlotte Slack"},"Hallam",27.72,{"$f":"IF(OR(T83=0,T83=\"\",O85=0,O85=\"\",O86=0,O86=\"\",O87=0,O87=\"\",O88=0,O88=\"\"),\"\",IF(T83<=O85,1,IF(T83<=O86,2,IF(T83<=O87,3,IF(T83<=O88,4,\"\")))))","v":4},null,5,5,5]
[{"$f":"VLOOKUP(B80,eventno,7,FALSE)","v":18.8},3,33,{"$f":"IF(OR(C84=0,C84=\"\"),\"\",IF(A80=\"F\",HLOOKUP(C84,females2,A81,FALSE),IF(A80=\"M\",HLOOKUP(C84,males2,A81,FALSE),\"\")))","v":"Lydia Brown"},"Hallam",22.5,{"$f":"IF(OR(F84=0,F84=\"\",A85=0,A85=\"\",A86=0,A86=\"\",A87=0,A87=\"\",A88=0,A88=\"\"),\"\",IF(F84<=A85,1,IF(F84<=A86,2,IF(F84<=A87,3,IF(F84<=A88,4,\"\")))))","v":""},{"$f":"VLOOKUP(I80,eventno,7,FALSE)","v":23.7},3,2,{"$f":"IF(OR(J84=0,J84=\"\"),\"\",IF(H80=\"F\",HLOOKUP(J84,females2,H81,FALSE),IF(H80=\"M\",HLOOKUP(J84,males2,H81,FALSE),\"\")))","v":"Jack McMunn"},"Linc W",33.21,{"$f":"IF(OR(M84=0,M84=\"\",H85=0,H85=\"\",H86=0,H86=\"\",H87=0,H87=\"\",H88=0,H88=\"\"),\"\",IF(M84<=H85,1,IF(M84<=H86,2,IF(M84<=H87,3,IF(M84<=H88,4,\"\")))))","v":""},{"$f":"VLOOKUP(P80,eventno,7,FALSE)","v":24.18},3,11,{"$f":"IF(OR(Q84=0,Q84=\"\"),\"\",IF(O80=\"F\",HLOOKUP(Q84,females2,O81,FALSE),IF(O80=\"M\",HLOOKUP(Q84,males2,O81,FALSE),\"\")))","v":"Emily Miles"},"DASH",28.68,{"$f":"IF(OR(T84=0,T84=\"\",O85=0,O85=\"\",O86=0,O86=\"\",O87=0,O87=\"\",O88=0,O88=\"\"),\"\",IF(T84<=O85,1,IF(T84<=O86,2,IF(T84<=O87,3,IF(T84<=O88,4,\"\")))))","v":""},null,4,4,4]
[{"$f":"VLOOKUP(B80,eventno,8,FALSE)","v":20.6},4,3,{"$f":"IF(OR(C85=0,C85=\"\"),\"\",IF(A80=\"F\",HLOOKUP(C85,females2,A81,FALSE),IF(A80=\"M\",HLOOKUP(C85,males2,A81,FALSE),\"\")))","v":"Gabby Craft"},"Hallam",23.09,{"$f":"IF(OR(F85=0,F85=\"\",A85=0,A85=\"\",A86=0,A86=\"\",A87=0,A87=\"\",A88=0,A88=\"\"),\"\",IF(F85<=A85,1,IF(F85<=A86,2,IF(F85<=A87,3,IF(F85<=A88,4,\"\")))))","v":""},{"$f":"VLOOKUP(I80,eventno,8,FALSE)","v":26.7},4,1,{"$f":"IF(OR(J85=0,J85=\"\"),\"\",IF(H80=\"F\",HLOOKUP(J85,females2,H81,FALSE),IF(H80=\"M\",HLOOKUP(J85,males2,H81,FALSE),\"\")))","v":"Bradley Gabbitas"},"DASH",35.04,{"$f":"IF(OR(M85=0,M85=\"\",H85=0,H85=\"\",H86=0,H86=\"\",H87=0,H87=\"\",H88=0,H88=\"\"),\"\",IF(M85<=H85,1,IF(M85<=H86,2,IF(M85<=H87,3,IF(M85<=H88,4,\"\")))))","v":""},{"$f":"VLOOKUP(P80,eventno,8,FALSE)","v":26.3},4,33,{"$f":"IF(OR(Q85=0,Q85=\"\"),\"\",IF(O80=\"F\",HLOOKUP(Q85,females2,O81,FALSE),IF(O80=\"M\",HLOOKUP(Q85,males2,O81,FALSE),\"\")))","v":"Francesca Shaw"},"Hallam",29.62,{"$f":"IF(OR(T85=0,T85=\"\",O85=0,O85=\"\",O86=0,O86=\"\",O87=0,O87=\"\",O88=0,O88=\"\"),\"\",IF(T85<=O85,1,IF(T85<=O86,2,IF(T85<=O87,3,IF(T85<=O88,4,\"\")))))","v":""},null,3,3,3]
[{"$f":"VLOOKUP(B80,eventno,9,FALSE)","v":21},5,11,{"$f":"IF(OR(C86=0,C86=\"\"),\"\",IF(A80=\"F\",HLOOKUP(C86,females2,A81,FALSE),IF(A80=\"M\",HLOOKUP(C86,males2,A81,FALSE),\"\")))","v":"Hope Leverette"},"DASH",23.19,{"$f":"IF(OR(F86=0,F86=\"\",A85=0,A85=\"\",A86=0,A86=\"\",A87=0,A87=\"\",A88=0,A88=\"\"),\"\",IF(F86<=A85,1,IF(F86<=A86,2,IF(F86<=A87,3,IF(F86<=A88,4,\"\")))))","v":""},{"$f":"VLOOKUP(I80,eventno,9,FALSE)","v":27.6},5,11,{"$f":"IF(OR(J86=0,J86=\"\"),\"\",IF(H80=\"F\",HLOOKUP(J86,females2,H81,FALSE),IF(H80=\"M\",HLOOKUP(J86,males2,H81,FALSE),\"\")))","v":"James Castle"},"DASH",36.26,{"$f":"IF(OR(M86=0,M86=\"\",H85=0,H85=\"\",H86=0,H86=\"\",H87=0,H87=\"\",H88=0,H88=\"\"),\"\",IF(M86<=H85,1,IF(M86<=H86,2,IF(M86<=H87,3,IF(M86<=H88,4,\"\")))))","v":""},{"$f":"VLOOKUP(P80,eventno,9,FALSE)","v":26.7},5,2,{"$f":"IF(OR(Q86=0,Q86=\"\"),\"\",IF(O80=\"F\",HLOOKUP(Q86,females2,O81,FALSE),IF(O80=\"M\",HLOOKUP(Q86,males2,O81,FALSE),\"\")))","v":"Georgie Edwards"},"Linc W",30.55,{"$f":"IF(OR(T86=0,T86=\"\",O85=0,O85=\"\",O86=0,O86=\"\",O87=0,O87=\"\",O88=0,O88=\"\"),\"\",IF(T86<=O85,1,IF(T86<=O86,2,IF(T86<=O87,3,IF(T86<=O88,4,\"\")))))","v":""},null,2,2,2]
[{"$f":"VLOOKUP(B80,eventno,10,FALSE)","v":21.5},6,1,{"$f":"IF(OR(C87=0,C87=\"\"),\"\",IF(A80=\"F\",HLOOKUP(C87,females2,A81,FALSE),IF(A80=\"M\",HLOOKUP(C87,males2,A81,FALSE),\"\")))","v":"Dayna Downs"},"DASH",23.6,{"$f":"IF(OR(F87=0,F87=\"\",A85=0,A85=\"\",A86=0,A86=\"\",A87=0,A87=\"\",A88=0,A88=\"\"),\"\",IF(F87<=A85,1,IF(F87<=A86,2,IF(F87<=A87,3,IF(F87<=A88,4,\"\")))))","v":""},{"$f":"VLOOKUP(I80,eventno,10,FALSE)","v":28},6,null,{"$f":"IF(OR(J87=0,J87=\"\"),\"\",IF(H80=\"F\",HLOOKUP(J87,females2,H81,FALSE),IF(H80=\"M\",HLOOKUP(J87,males2,H81,FALSE),\"\")))","v":""},"",null,{"$f":"IF(OR(M87=0,M87=\"\",H85=0,H85=\"\",H86=0,H86=\"\",H87=0,H87=\"\",H88=0,H88=\"\"),\"\",IF(M87<=H85,1,IF(M87<=H86,2,IF(M87<=H87,3,IF(M87<=H88,4,\"\")))))","v":""},{"$f":"VLOOKUP(P80,eventno,10,FALSE)","v":27.2},6,22,{"$f":"IF(OR(Q87=0,Q87=\"\"),\"\",IF(O80=\"F\",HLOOKUP(Q87,females2,O81,FALSE),IF(O80=\"M\",HLOOKUP(Q87,males2,O81,FALSE),\"\")))","v":"Alex Jackson"},"Linc W",30.68,{"$f":"IF(OR(T87=0,T87=\"\",O85=0,O85=\"\",O86=0,O86=\"\",O87=0,O87=\"\",O88=0,O88=\"\"),\"\",IF(T87<=O85,1,IF(T87<=O86,2,IF(T87<=O87,3,IF(T87<=O88,4,\"\")))))","v":""},null,1,0,1]
[{"$f":"VLOOKUP(B80,eventno,11,FALSE)","v":22.4},null,null,null,null,null,null,{"$f":"VLOOKUP(I80,eventno,11,FALSE)","v":29},null,null,null,null,null,null,{"$f":"VLOOKUP(P80,eventno,11,FALSE)","v":28},null,null,null,null,null,null,null,0,0,0]
[{"$f":"VLOOKUP(B89,eventno,5,FALSE)","v":"M"},"T26",{"$f":"VLOOKUP(B89,eventno,4,FALSE)","v":"U15B 200m"},null,{"$f":"IF(A92=\"W\",\"Wind =\",\"\")","v":"Wind ="},"+0.6",{"$f":"IF(OR(F91=0,F91=\"\",A93=0,A93=\"\"),\"\",IF(A91=\"T\",IF(F91<A93,\"LR\",IF(F91=A93,\"LR=\",\"\"))))","v":""},{"$f":"VLOOKUP(I89,eventno,5,FALSE)","v":"F"},"T27",{"$f":"VLOOKUP(I89,eventno,4,FALSE)","v":"U17W 200m"},null,{"$f":"IF(H92=\"W\",\"Wind =\",\"\")","v":"Wind ="},null,{"$f":"IF(OR(M91=0,M91=\"\",H93=0,H93=\"\"),\"\",IF(H91=\"T\",IF(M91<H93,\"LR\",IF(M91=H93,\"LR=\",\"\"))))","v":""},{"$f":"VLOOKUP(P89,eventno,5,FALSE)","v":"M"},"T28",{"$f":"VLOOKUP(P89,eventno,4,FALSE)","v":"U17M 200m"},null,{"$f":"IF(O92=\"W\",\"Wind =\",\"\")","v":"Wind ="},null,{"$f":"IF(OR(T91=0,T91=\"\",O93=0,O93=\"\"),\"\",IF(O91=\"T\",IF(T91<O93,\"LR\",IF(T91=O93,\"LR=\",\"\"))))","v":""},null,{"$error":"#N/A"},0,0]
[{"$f":"IF(A89=\"M\",VLOOKUP(B89,males2,15,FALSE),VLOOKUP(B89,females2,15,FALSE))","v":14},"Posn","Bib","Athlete","Club","Perf","Gr",{"$f":"IF(H89=\"M\",VLOOKUP(I89,males2,15,FALSE),VLOOKUP(I89,females2,15,FALSE))","v":15},"Posn","Bib","Athlete","Club","Perf","Gr",{"$f":"IF(O89=\"M\",VLOOKUP(P89,males2,15,FALSE),VLOOKUP(P89,females2,15,FALSE))","v":15},"Posn","Bib","Athlete","Club","Perf","Gr",null,{"$error":"#N/A"},{"$error":"#N/A"},{"$error":"#N/A"}]
[{"$f":"LEFT(B89,1)","v":"T"},1,1,{"$f":"IF(OR(C91=0,C91=\"\"),\"\",IF(A89=\"F\",HLOOKUP(C91,females2,A90,FALSE),IF(A89=\"M\",HLOOKUP(C91,males2,A90,FALSE),\"\")))","v":"Chris Li"},{"$f":"IF(OR(C91=0,C91=\"\",ISERROR(VLOOKUP(C91,match_teams2,4,FALSE)=TRUE)),\"\",VLOOKUP(C91,match_teams2,4,FALSE))","v":"DASH"},25.68,{"$f":"IF(OR(F91=0,F91=\"\",A94=0,A94=\"\",A95=0,A95=\"\",A96=0,A96=\"\",A97=0,A97=\"\"),\"\",IF(F91<=A94,1,IF(F91<=A95,2,IF(F91<=A96,3,IF(F91<=A97,4,\"\")))))","v":""},{"$f":"LEFT(I89,1)","v":"T"},1,3,{"$f":"IF(OR(J91=0,J91=\"\"),\"\",IF(H89=\"F\",HLOOKUP(J91,females2,H90,FALSE),IF(H89=\"M\",HLOOKUP(J91,males2,H90,FALSE),\"\")))","v":"Nicole Norton"},{"$f":"IF(OR(J91=0,J91=\"\",ISERROR(VLOOKUP(J91,match_teams2,4,FALSE)=TRUE)),\"\",VLOOKUP(J91,match_teams2,4,FALSE))","v":"Hallam"},28.09,{"$f":"IF(OR(M91=0,M91=\"\",H94=0,H94=\"\",H95=0,H95=\"\",H96=0,H96=\"\",H97=0,H97=\"\"),\"\",IF(M91<=H94,1,IF(M91<=H95,2,IF(M91<=H96,3,IF(M91<=H97,4,\"\")))))","v":""},{"$f":"LEFT(P89,1)","v":"T"},1,2,{"$f":"IF(OR(Q91=0,Q91=\"\"),\"\",IF(O89=\"F\",HLOOKUP(Q91,females2,O90,FALSE),IF(O89=\"M\",HLOOKUP(Q91,males2,O90,FALSE),\"\")))","v":"Sam Chapman"},{"$f":"IF(OR(Q91=0,Q91=\"\",ISERROR(VLOOKUP(Q91,match_teams2,4,FALSE)=TRUE)),\"\",VLOOKUP(Q91,match_teams2,4,FALSE))","v":"Linc W"},24.36,{"$f":"IF(OR(T91=0,T91=\"\",O94=0,O94=\"\",O95=0,O95=\"\",O96=0,O96=\"\",O97=0,O97=\"\"),\"\",IF(T91<=O94,1,IF(T91<=O95,2,IF(T91<=O96,3,IF(T91<=O97,4,\"\")))))","v":""},null,6,6,6]
[{"$f":"VLOOKUP(B89,eventno,6,FALSE)","v":"W"},2,3,{"$f":"IF(OR(C92=0,C92=\"\"),\"\",IF(A89=\"F\",HLOOKUP(C92,females2,A90,FALSE),IF(A89=\"M\",HLOOKUP(C92,males2,A90,FALSE),\"\")))","v":"Sam Lawford"},"Hallam",26.69,{"$f":"IF(OR(F92=0,F92=\"\",A94=0,A94=\"\",A95=0,A95=\"\",A96=0,A96=\"\",A97=0,A97=\"\"),\"\",IF(F92<=A94,1,IF(F92<=A95,2,IF(F92<=A96,3,IF(F92<=A97,4,\"\")))))","v":""},{"$f":"VLOOKUP(I89,eventno,6,FALSE)","v":"W"},2,2,{"$f":"IF(OR(J92=0,J92=\"\"),\"\",IF(H89=\"F\",HLOOKUP(J92,females2,H90,FALSE),IF(H89=\"M\",HLOOKUP(J92,males2,H90,FALSE),\"\")))","v":"Lucy Helas"},"Linc W",28.57,{"$f":"IF(OR(M92=0,M92=\"\",H94=0,H94=\"\",H95=0,H95=\"\",H96=0,H96=\"\",H97=0,H97=\"\"),\"\",IF(M92<=H94,1,IF(M92<=H95,2,IF(M92<=H96,3,IF(M92<=H97,4,\"\")))))","v":""},{"$f":"VLOOKUP(P89,eventno,6,FALSE)","v":"W"},2,3,{"$f":"IF(OR(Q92=0,Q92=\"\"),\"\",IF(O89=\"F\",HLOOKUP(Q92,females2,O90,FALSE),IF(O89=\"M\",HLOOKUP(Q92,males2,O90,FALSE),\"\")))","v":"Anthony Tierney"},"Hallam",24.53,{"$f":"IF(OR(T92=0,T92=\"\",O94=0,O94=\"\",O95=0,O95=\"\",O96=0,O96=\"\",O97=0,O97=\"\"),\"\",IF(T92<=O94,1,IF(T92<=O95,2,IF(T92<=O96,3,IF(T92<=O97,4,\"\")))))","v":""},null,5,5,5]
[{"$f":"VLOOKUP(B89,eventno,7,FALSE)","v":22.3},3,2,{"$f":"IF(OR(C93=0,C93=\"\"),\"\",IF(A89=\"F\",HLOOKUP(C93,females2,A90,FALSE),IF(A89=\"M\",HLOOKUP(C93,males2,A90,FALSE),\"\")))","v":"Harry Cain"},"Linc W",26.85,{"$f":"IF(OR(F93=0,F93=\"\",A94=0,A94=\"\",A95=0,A95=\"\",A96=0,A96=\"\",A97=0,A97=\"\"),\"\",IF(F93<=A94,1,IF(F93<=A95,2,IF(F93<=A96,3,IF(F93<=A97,4,\"\")))))","v":""},{"$f":"VLOOKUP(I89,eventno,7,FALSE)","v":24.1},3,33,{"$f":"IF(OR(J93=0,J93=\"\"),\"\",IF(H89=\"F\",HLOOKUP(J93,females2,H90,FALSE),IF(H89=\"M\",HLOOKUP(J93,males2,H90,FALSE),\"\")))","v":"Claire Wilsher"},"Hallam",29.87,{"$f":"IF(OR(M93=0,M93=\"\",H94=0,H94=\"\",H95=0,H95=\"\",H96=0,H96=\"\",H97=0,H97=\"\"),\"\",IF(M93<=H94,1,IF(M93<=H95,2,IF(M93<=H96,3,IF(M93<=H97,4,\"\")))))","v":""},{"$f":"VLOOKUP(P89,eventno,7,FALSE)","v":21.33},3,33,{"$f":"IF(OR(Q93=0,Q93=\"\"),\"\",IF(O89=\"F\",HLOOKUP(Q93,females2,O90,FALSE),IF(O89=\"M\",HLOOKUP(Q93,males2,O90,FALSE),\"\")))","v":"Dipo Ola"},"Hallam",25.28,{"$f":"IF(OR(T93=0,T93=\"\",O94=0,O94=\"\",O95=0,O95=\"\",O96=0,O96=\"\",O97=0,O97=\"\"),\"\",IF(T93<=O94,1,IF(T93<=O95,2,IF(T93<=O96,3,IF(T93<=O97,4,\"\")))))","v":""},null,4,4,4]
[{"$f":"VLOOKUP(B89,eventno,8,FALSE)","v":24},4,22,{"$f":"IF(OR(C94=0,C94=\"\"),\"\",IF(A89=\"F\",HLOOKUP(C94,females2,A90,FALSE),IF(A89=\"M\",HLOOKUP(C94,males2,A90,FALSE),\"\")))","v":"Daniel Skinner"},"Linc W",26.96,{"$f":"IF(OR(F94=0,F94=\"\",A94=0,A94=\"\",A95=0,A95=\"\",A96=0,A96=\"\",A97=0,A97=\"\"),\"\",IF(F94<=A94,1,IF(F94<=A95,2,IF(F94<=A96,3,IF(F94<=A97,4,\"\")))))","v":""},{"$f":"VLOOKUP(I89,eventno,8,FALSE)","v":25.4},4,null,{"$f":"IF(OR(J94=0,J94=\"\"),\"\",IF(H89=\"F\",HLOOKUP(J94,females2,H90,FALSE),IF(H89=\"M\",HLOOKUP(J94,males2,H90,FALSE),\"\")))","v":""},"",null,{"$f":"IF(OR(M94=0,M94=\"\",H94=0,H94=\"\",H95=0,H95=\"\",H96=0,H96=\"\",H97=0,H97=\"\"),\"\",IF(M94<=H94,1,IF(M94<=H95,2,IF(M94<=H96,3,IF(M94<=H97,4,\"\")))))","v":""},{"$f":"VLOOKUP(P89,eventno,8,FALSE)","v":22.8},4,null,{"$f":"IF(OR(Q94=0,Q94=\"\"),\"\",IF(O89=\"F\",HLOOKUP(Q94,females2,O90,FALSE),IF(O89=\"M\",HLOOKUP(Q94,males2,O90,FALSE),\"\")))","v":""},"",null,{"$f":"IF(OR(T94=0,T94=\"\",O94=0,O94=\"\",O95=0,O95=\"\",O96=0,O96=\"\",O97=0,O97=\"\"),\"\",IF(T94<=O94,1,IF(T94<=O95,2,IF(T94<=O96,3,IF(T94<=O97,4,\"\")))))","v":""},null,3,0,0]
[{"$f":"VLOOKUP(B89,eventno,9,FALSE)","v":24.4},5,33,{"$f":"IF(OR(C95=0,C95=\"\"),\"\",IF(A89=\"F\",HLOOKUP(C95,females2,A90,FALSE),IF(A89=\"M\",HLOOKUP(C95,males2,A90,FALSE),\"\")))","v":"-"},"Hallam",28.99,{"$f":"IF(OR(F95=0,F95=\"\",A94=0,A94=\"\",A95=0,A95=\"\",A96=0,A96=\"\",A97=0,A97=\"\"),\"\",IF(F95<=A94,1,IF(F95<=A95,2,IF(F95<=A96,3,IF(F95<=A97,4,\"\")))))","v":""},{"$f":"VLOOKUP(I89,eventno,9,FALSE)","v":25.8},5,null,{"$f":"IF(OR(J95=0,J95=\"\"),\"\",IF(H89=\"F\",HLOOKUP(J95,females2,H90,FALSE),IF(H89=\"M\",HLOOKUP(J95,males2,H90,FALSE),\"\")))","v":""},"",null,{"$f":"IF(OR(M95=0,M95=\"\",H94=0,H94=\"\",H95=0,H95=\"\",H96=0,H96=\"\",H97=0,H97=\"\"),\"\",IF(M95<=H94,1,IF(M95<=H95,2,IF(M95<=H96,3,IF(M95<=H97,4,\"\")))))","v":""},{"$f":"VLOOKUP(P89,eventno,9,FALSE)","v":23.1},5,null,{"$f":"IF(OR(Q95=0,Q95=\"\"),\"\",IF(O89=\"F\",HLOOKUP(Q95,females2,O90,FALSE),IF(O89=\"M\",HLOOKUP(Q95,males2,O90,FALSE),\"\")))","v":""},"",null,{"$f":"IF(OR(T95=0,T95=\"\",O94=0,O94=\"\",O95=0,O95=\"\",O96=0,O96=\"\",O97=0,O97=\"\"),\"\",IF(T95<=O94,1,IF(T95<=O95,2,IF(T95<=O96,3,IF(T95<=O97,4,\"\")))))","v":""},null,2,0,0]
[{"$f":"VLOOKUP(B89,eventno,10,FALSE)","v":24.9},6,null,{"$f":"IF(OR(C96=0,C96=\"\"),\"\",IF(A89=\"F\",HLOOKUP(C96,females2,A90,FALSE),IF(A89=\"M\",HLOOKUP(C96,males2,A90,FALSE),\"\")))","v":""},"",null,{"$f":"IF(OR(F96=0,F96=\"\",A94=0,A94=\"\",A95=0,A95=\"\",A96=0,A96=\"\",A97=0,A97=\"\"),\"\",IF(F96<=A94,1,IF(F96<=A95,2,IF(F96<=A96,3,IF(F96<=A97,4,\"\")))))","v":""},{"$f":"VLOOKUP(I89,eventno,10,FALSE)","v":26.3},6,null,{"$f":"IF(OR(J96=0,J96=\"\"),\"\",IF(H89=\"F\",HLOOKUP(J96,females2,H90,FALSE),IF(H89=\"M\",HLOOKUP(J96,males2,H90,FALSE),\"\")))","v":""},"",null,{"$f":"IF(OR(M96=0,M96=\"\",H94=0,H94=\"\",H95=0,H95=\"\",H96=0,H96=\"\",H97=0,H97=\"\"),\"\",IF(M96<=H94,1,IF(M96<=H95,2,IF(M96<=H96,3,IF(M96<=H97,4,\"\")))))","v":""},{"$f":"VLOOKUP(P89,eventno,10,FALSE)","v":23.5},6,null,{"$f":"IF(OR(Q96=0,Q96=\"\"),\"\",IF(O89=\"F\",HLOOKUP(Q96,females2,O90,FALSE),IF(O89=\"M\",HLOOKUP(Q96,males2,O90,FALSE),\"\")))","v":""},"",null,{"$f":"IF(OR(T96=0,T96=\"\",O94=0,O94=\"\",O95=0,O95=\"\",O96=0,O96=\"\",O97=0,O97=\"\"),\"\",IF(T96<=O94,1,IF(T96<=O95,2,IF(T96<=O96,3,IF(T96<=O97,4,\"\")))))","v":""},null,0,0,0]
[{"$f":"VLOOKUP(B89,eventno,11,FALSE)","v":25.6},null,null,null,null,null,null,{"$f":"VLOOKUP(I89,eventno,11,FALSE)","v":27.1},null,null,null,null,null,null,{"$f":"VLOOKUP(P89,eventno,11,FALSE)","v":24.1},null,null,null,null,null,null,null,0,0,0]
[{"$f":"VLOOKUP(B98,eventno,5,FALSE)","v":"F"},"T29",{"$f":"VLOOKUP(B98,eventno,4,FALSE)","v":"U13G 1200m"},null,{"$f":"IF(A101=\"W\",\"Wind =\",\"\")","v":""},null,{"$f":"IF(OR(F100=0,F100=\"\",A102=0,A102=\"\"),\"\",IF(A100=\"T\",IF(F100<A102,\"LR\",IF(F100=A102,\"LR=\",\"\"))))","v":""},{"$f":"VLOOKUP(I98,eventno,5,FALSE)","v":"M"},"T30",{"$f":"VLOOKUP(I98,eventno,4,FALSE)","v":"U13B 1500m"},null,{"$f":"IF(H101=\"W\",\"Wind =\",\"\")","v":""},null,{"$f":"IF(OR(M100=0,M100=\"\",H102=0,H102=\"\"),\"\",IF(H100=\"T\",IF(M100<H102,\"LR\",IF(M100=H102,\"LR=\",\"\"))))","v":""},{"$f":"VLOOKUP(P98,eventno,5,FALSE)","v":"F"},"T31",{"$f":"VLOOKUP(P98,eventno,4,FALSE)","v":"U15G 1500m"},null,{"$f":"IF(O101=\"W\",\"Wind =\",\"\")","v":""},null,{"$f":"IF(OR(T100=0,T100=\"\",O102=0,O102=\"\"),\"\",IF(O100=\"T\",IF(T100<O102,\"LR\",IF(T100=O102,\"LR=\",\"\"))))","v":""},null,0,0,0]
[{"$f":"IF(A98=\"M\",VLOOKUP(B98,males2,15,FALSE),VLOOKUP(B98,females2,15,FALSE))","v":16},"Posn","Bib","Athlete","Club","Perf","Gr",{"$f":"IF(H98=\"M\",VLOOKUP(I98,males2,15,FALSE),VLOOKUP(I98,females2,15,FALSE))","v":16},"Posn","Bib","Athlete","Club","Perf","Gr",{"$f":"IF(O98=\"M\",VLOOKUP(P98,males2,15,FALSE),VLOOKUP(P98,females2,15,FALSE))","v":17},"Posn","Bib","Athlete","Club","Perf","Gr",null,{"$error":"#N/A"},{"$error":"#N/A"},{"$error":"#N/A"}]
[{"$f":"LEFT(B98,1)","v":"T"},1,3,{"$f":"IF(OR(C100=0,C100=\"\"),\"\",IF(A98=\"F\",HLOOKUP(C100,females2,A99,FALSE),IF(A98=\"M\",HLOOKUP(C100,males2,A99,FALSE),\"\")))","v":"Imani Wilson"},{"$f":"IF(OR(C100=0,C100=\"\",ISERROR(VLOOKUP(C100,match_teams2,4,FALSE)=TRUE)),\"\",VLOOKUP(C100,match_teams2,4,FALSE))","v":"Hallam"},"00:04:07.670",{"$f":"IF(OR(F100=0,F100=\"\",A103=0,A103=\"\",A104=0,A104=\"\",A105=0,A105=\"\",A106=0,A106=\"\"),\"\",IF(F100<=A103,1,IF(F100<=A104,2,IF(F100<=A105,3,IF(F100<=A106,4,\"\")))))","v":4},{"$f":"LEFT(I98,1)","v":"T"},1,3,{"$f":"IF(OR(J100=0,J100=\"\"),\"\",IF(H98=\"F\",HLOOKUP(J100,females2,H99,FALSE),IF(H98=\"M\",HLOOKUP(J100,males2,H99,FALSE),\"\")))","v":"Jacob Worthington"},{"$f":"IF(OR(J100=0,J100=\"\",ISERROR(VLOOKUP(J100,match_teams2,4,FALSE)=TRUE)),\"\",VLOOKUP(J100,match_teams2,4,FALSE))","v":"Hallam"},"00:05:59.580",{"$f":"IF(OR(M100=0,M100=\"\",H103=0,H103=\"\",H104=0,H104=\"\",H105=0,H105=\"\",H106=0,H106=\"\"),\"\",IF(M100<=H103,1,IF(M100<=H104,2,IF(M100<=H105,3,IF(M100<=H106,4,\"\")))))","v":""},{"$f":"LEFT(P98,1)","v":"T"},1,2,{"$f":"IF(OR(Q100=0,Q100=\"\"),\"\",IF(O98=\"F\",HLOOKUP(Q100,females2,O99,FALSE),IF(O98=\"M\",HLOOKUP(Q100,males2,O99,FALSE),\"\")))","v":"Abbie Donnelly"},{"$f":"IF(OR(Q100=0,Q100=\"\",ISERROR(VLOOKUP(Q100,match_teams2,4,FALSE)=TRUE)),\"\",VLOOKUP(Q100,match_teams2,4,FALSE))","v":"Linc W"},"00:04:53.680",{"$f":"IF(OR(T100=0,T100=\"\",O103=0,O103=\"\",O104=0,O104=\"\",O105=0,O105=\"\",O106=0,O106=\"\"),\"\",IF(T100<=O103,1,IF(T100<=O104,2,IF(T100<=O105,3,IF(T100<=O106,4,\"\")))))","v":2},null,6,6,6]
[{"$f":"VLOOKUP(B98,eventno,6,FALSE)","v":0},2,33,{"$f":"IF(OR(C101=0,C101=\"\"),\"\",IF(A98=\"F\",HLOOKUP(C101,females2,A99,FALSE),IF(A98=\"M\",HLOOKUP(C101,males2,A99,FALSE),\"\")))","v":"Mary McCarthy"},"Hallam","00:04:07.820",{"$f":"IF(OR(F101=0,F101=\"\",A103=0,A103=\"\",A104=0,A104=\"\",A105=0,A105=\"\",A106=0,A106=\"\"),\"\",IF(F101<=A103,1,IF(F101<=A104,2,IF(F101<=A105,3,IF(F101<=A106,4,\"\")))))","v":4},{"$f":"VLOOKUP(I98,eventno,6,FALSE)","v":0},2,2,{"$f":"IF(OR(J101=0,J101=\"\"),\"\",IF(H98=\"F\",HLOOKUP(J101,females2,H99,FALSE),IF(H98=\"M\",HLOOKUP(J101,males2,H99,FALSE),\"\")))","v":"Maxwell Sheehan"},"Linc W","00:06:02.800",{"$f":"IF(OR(M101=0,M101=\"\",H103=0,H103=\"\",H104=0,H104=\"\",H105=0,H105=\"\",H106=0,H106=\"\"),\"\",IF(M101<=H103,1,IF(M101<=H104,2,IF(M101<=H105,3,IF(M101<=H106,4,\"\")))))","v":""},{"$f":"VLOOKUP(P98,eventno,6,FALSE)","v":0},2,22,{"$f":"IF(OR(Q101=0,Q101=\"\"),\"\",IF(O98=\"F\",HLOOKUP(Q101,females2,O99,FALSE),IF(O98=\"M\",HLOOKUP(Q101,males2,O99,FALSE),\"\")))","v":"Rebekah Ward"},"Linc W","00:05:10.630",{"$f":"IF(OR(T101=0,T101=\"\",O103=0,O103=\"\",O104=0,O104=\"\",O105=0,O105=\"\",O106=0,O106=\"\"),\"\",IF(T101<=O103,1,IF(T101<=O104,2,IF(T101<=O105,3,IF(T101<=O106,4,\"\")))))","v":4},null,5,5,5]
[{"$f":"VLOOKUP(B98,eventno,7,FALSE)","v":2.5671296296296297E-3},3,22,{"$f":"IF(OR(C102=0,C102=\"\"),\"\",IF(A98=\"F\",HLOOKUP(C102,females2,A99,FALSE),IF(A98=\"M\",HLOOKUP(C102,males2,A99,FALSE),\"\")))","v":"Libby Ball"},"Linc W","00:04:36.540",{"$f":"IF(OR(F102=0,F102=\"\",A103=0,A103=\"\",A104=0,A104=\"\",A105=0,A105=\"\",A106=0,A106=\"\"),\"\",IF(F102<=A103,1,IF(F102<=A104,2,IF(F102<=A105,3,IF(F102<=A106,4,\"\")))))","v":""},{"$f":"VLOOKUP(I98,eventno,7,FALSE)","v":3.0520833333333333E-3},3,33,{"$f":"IF(OR(J102=0,J102=\"\"),\"\",IF(H98=\"F\",HLOOKUP(J102,females2,H99,FALSE),IF(H98=\"M\",HLOOKUP(J102,males2,H99,FALSE),\"\")))","v":"Niall Morton"},"Hallam","00:06:04.070",{"$f":"IF(OR(M102=0,M102=\"\",H103=0,H103=\"\",H104=0,H104=\"\",H105=0,H105=\"\",H106=0,H106=\"\"),\"\",IF(M102<=H103,1,IF(M102<=H104,2,IF(M102<=H105,3,IF(M102<=H106,4,\"\")))))","v":""},{"$f":"VLOOKUP(P98,eventno,7,FALSE)","v":3.1986111111111108E-3},3,3,{"$f":"IF(OR(Q102=0,Q102=\"\"),\"\",IF(O98=\"F\",HLOOKUP(Q102,females2,O99,FALSE),IF(O98=\"M\",HLOOKUP(Q102,males2,O99,FALSE),\"\")))","v":"Lexie Wilson"},"Hallam","00:05:40.150",{"$f":"IF(OR(T102=0,T102=\"\",O103=0,O103=\"\",O104=0,O104=\"\",O105=0,O105=\"\",O106=0,O106=\"\"),\"\",IF(T102<=O103,1,IF(T102<=O104,2,IF(T102<=O105,3,IF(T102<=O106,4,\"\")))))","v":""},null,4,4,4]
[{"$f":"VLOOKUP(B98,eventno,8,FALSE)","v":2.7430555555555559E-3},4,2,{"$f":"IF(OR(C103=0,C103=\"\"),\"\",IF(A98=\"F\",HLOOKUP(C103,females2,A99,FALSE),IF(A98=\"M\",HLOOKUP(C103,males2,A99,FALSE),\"\")))","v":"Rhiannon Martin"},"Linc W","00:04:45.300",{"$f":"IF(OR(F103=0,F103=\"\",A103=0,A103=\"\",A104=0,A104=\"\",A105=0,A105=\"\",A106=0,A106=\"\"),\"\",IF(F103<=A103,1,IF(F103<=A104,2,IF(F103<=A105,3,IF(F103<=A106,4,\"\")))))","v":""},{"$f":"VLOOKUP(I98,eventno,8,FALSE)","v":3.3622685185185183E-3},4,null,{"$f":"IF(OR(J103=0,J103=\"\"),\"\",IF(H98=\"F\",HLOOKUP(J103,females2,H99,FALSE),IF(H98=\"M\",HLOOKUP(J103,males2,H99,FALSE),\"\")))","v":""},"",null,{"$f":"IF(OR(M103=0,M103=\"\",H103=0,H103=\"\",H104=0,H104=\"\",H105=0,H105=\"\",H106=0,H106=\"\"),\"\",IF(M103<=H103,1,IF(M103<=H104,2,IF(M103<=H105,3,IF(M103<=H106,4,\"\")))))","v":""},{"$f":"VLOOKUP(P98,eventno,8,FALSE)","v":3.3622685185185183E-3},4,33,{"$f":"IF(OR(Q103=0,Q103=\"\"),\"\",IF(O98=\"F\",HLOOKUP(Q103,females2,O99,FALSE),IF(O98=\"M\",HLOOKUP(Q103,males2,O99,FALSE),\"\")))","v":"Flora McNeil"},"Hallam","00:06:00.120",{"$f":"IF(OR(T103=0,T103=\"\",O103=0,O103=\"\",O104=0,O104=\"\",O105=0,O105=\"\",O106=0,O106=\"\"),\"\",IF(T103<=O103,1,IF(T103<=O104,2,IF(T103<=O105,3,IF(T103<=O106,4,\"\")))))","v":""},null,3,0,3]
[{"$f":"VLOOKUP(B98,eventno,9,FALSE)","v":2.7893518518518519E-3},5,1,{"$f":"IF(OR(C104=0,C104=\"\"),\"\",IF(A98=\"F\",HLOOKUP(C104,females2,A99,FALSE),IF(A98=\"M\",HLOOKUP(C104,males2,A99,FALSE),\"\")))","v":"Libby Beach"},"DASH","00:04:54.530",{"$f":"IF(OR(F104=0,F104=\"\",A103=0,A103=\"\",A104=0,A104=\"\",A105=0,A105=\"\",A106=0,A106=\"\"),\"\",IF(F104<=A103,1,IF(F104<=A104,2,IF(F104<=A105,3,IF(F104<=A106,4,\"\")))))","v":""},{"$f":"VLOOKUP(I98,eventno,9,FALSE)","v":3.4317129629629628E-3},5,null,{"$f":"IF(OR(J104=0,J104=\"\"),\"\",IF(H98=\"F\",HLOOKUP(J104,females2,H99,FALSE),IF(H98=\"M\",HLOOKUP(J104,males2,H99,FALSE),\"\")))","v":""},"",null,{"$f":"IF(OR(M104=0,M104=\"\",H103=0,H103=\"\",H104=0,H104=\"\",H105=0,H105=\"\",H106=0,H106=\"\"),\"\",IF(M104<=H103,1,IF(M104<=H104,2,IF(M104<=H105,3,IF(M104<=H106,4,\"\")))))","v":""},{"$f":"VLOOKUP(P98,eventno,9,FALSE)","v":3.4432870370370368E-3},5,null,{"$f":"IF(OR(Q104=0,Q104=\"\"),\"\",IF(O98=\"F\",HLOOKUP(Q104,females2,O99,FALSE),IF(O98=\"M\",HLOOKUP(Q104,males2,O99,FALSE),\"\")))","v":""},"",null,{"$f":"IF(OR(T104=0,T104=\"\",O103=0,O103=\"\",O104=0,O104=\"\",O105=0,O105=\"\",O106=0,O106=\"\"),\"\",IF(T104<=O103,1,IF(T104<=O104,2,IF(T104<=O105,3,IF(T104<=O106,4,\"\")))))","v":""},null,{"$f":"IF(OR(B104=0,B104=\"\",C104=0,C104=\"\",F104=0,F104=\"\",LEFT(F104,1)=\"D\"),0,VLOOKUP(B104,points,2,FALSE))","v":2},{"$f":"IF(OR(I104=0,I104=\"\",J104=0,J104=\"\",M104=0,M104=\"\",LEFT(M104,1)=\"D\"),0,VLOOKUP(I104,points,2,FALSE))","v":0},{"$f":"IF(OR(P104=0,P104=\"\",Q104=0,Q104=\"\",T104=0,T104=\"\",LEFT(T104,1)=\"D\"),0,VLOOKUP(P104,points,2,FALSE))","v":0}]
[{"$f":"VLOOKUP(B98,eventno,10,FALSE)","v":2.8587962962962963E-3},6,11,{"$f":"IF(OR(C105=0,C105=\"\"),\"\",IF(A98=\"F\",HLOOKUP(C105,females2,A99,FALSE),IF(A98=\"M\",HLOOKUP(C105,males2,A99,FALSE),\"\")))","v":"Amy Jackson"},"DASH","00:04:59.570",{"$f":"IF(OR(F105=0,F105=\"\",A103=0,A103=\"\",A104=0,A104=\"\",A105=0,A105=\"\",A106=0,A106=\"\"),\"\",IF(F105<=A103,1,IF(F105<=A104,2,IF(F105<=A105,3,IF(F105<=A106,4,\"\")))))","v":""},{"$f":"VLOOKUP(I98,eventno,10,FALSE)","v":3.5127314814814817E-3},6,null,{"$f":"IF(OR(J105=0,J105=\"\"),\"\",IF(H98=\"F\",HLOOKUP(J105,females2,H99,FALSE),IF(H98=\"M\",HLOOKUP(J105,males2,H99,FALSE),\"\")))","v":""},"",null,{"$f":"IF(OR(M105=0,M105=\"\",H103=0,H103=\"\",H104=0,H104=\"\",H105=0,H105=\"\",H106=0,H106=\"\"),\"\",IF(M105<=H103,1,IF(M105<=H104,2,IF(M105<=H105,3,IF(M105<=H106,4,\"\")))))","v":""},{"$f":"VLOOKUP(P98,eventno,10,FALSE)","v":3.5358796296296297E-3},6,null,{"$f":"IF(OR(Q105=0,Q105=\"\"),\"\",IF(O98=\"F\",HLOOKUP(Q105,females2,O99,FALSE),IF(O98=\"M\",HLOOKUP(Q105,males2,O99,FALSE),\"\")))","v":""},"",null,{"$f":"IF(OR(T105=0,T105=\"\",O103=0,O103=\"\",O104=0,O104=\"\",O105=0,O105=\"\",O106=0,O106=\"\"),\"\",IF(T105<=O103,1,IF(T105<=O104,2,IF(T105<=O105,3,IF(T105<=O106,4,\"\")))))","v":""},null,1,0,0]
[{"$f":"VLOOKUP(B98,eventno,11,FALSE)","v":2.9513888888888888E-3},null,null,null,null,null,null,{"$f":"VLOOKUP(I98,eventno,11,FALSE)","v":3.6574074074074074E-3},null,null,null,null,null,null,{"$f":"VLOOKUP(P98,eventno,11,FALSE)","v":3.6689814814814814E-3},null,null,null,null,null,null,null,0,0,0]
[{"$f":"VLOOKUP(B107,eventno,5,FALSE)","v":"M"},"T32",{"$f":"VLOOKUP(B107,eventno,4,FALSE)","v":"U15B 1500m"},null,{"$f":"IF(A110=\"W\",\"Wind =\",\"\")","v":""},null,{"$f":"IF(OR(F109=0,F109=\"\",A111=0,A111=\"\"),\"\",IF(A109=\"T\",IF(F109<A111,\"LR\",IF(F109=A111,\"LR=\",\"\"))))","v":""},{"$f":"VLOOKUP(I107,eventno,5,FALSE)","v":"F"},"T33",{"$f":"VLOOKUP(I107,eventno,4,FALSE)","v":"U17W 1500m"},null,{"$f":"IF(H110=\"W\",\"Wind =\",\"\")","v":""},null,{"$f":"IF(OR(M109=0,M109=\"\",H111=0,H111=\"\"),\"\",IF(H109=\"T\",IF(M109<H111,\"LR\",IF(M109=H111,\"LR=\",\"\"))))","v":""},{"$f":"VLOOKUP(P107,eventno,5,FALSE)","v":"M"},"T34",{"$f":"VLOOKUP(P107,eventno,4,FALSE)","v":"U17M 1500m"},null,{"$f":"IF(O110=\"W\",\"Wind =\",\"\")","v":""},null,{"$f":"IF(OR(T109=0,T109=\"\",O111=0,O111=\"\"),\"\",IF(O109=\"T\",IF(T109<O111,\"LR\",IF(T109=O111,\"LR=\",\"\"))))","v":""},null,0,0,0]
[{"$f":"IF(A107=\"M\",VLOOKUP(B107,males2,15,FALSE),VLOOKUP(B107,females2,15,FALSE))","v":17},"Posn","Bib","Athlete","Club","Perf","Gr",{"$f":"IF(H107=\"M\",VLOOKUP(I107,males2,15,FALSE),VLOOKUP(I107,females2,15,FALSE))","v":18},"Posn","Bib","Athlete","Club","Perf","Gr",{"$f":"IF(O107=\"M\",VLOOKUP(P107,males2,15,FALSE),VLOOKUP(P107,females2,15,FALSE))","v":18},"Posn","Bib","Athlete","Club","Perf","Gr",null,{"$error":"#N/A"},{"$error":"#N/A"},{"$error":"#N/A"}]
[{"$f":"LEFT(B107,1)","v":"T"},1,3,{"$f":"IF(OR(C109=0,C109=\"\"),\"\",IF(A107=\"F\",HLOOKUP(C109,females2,A108,FALSE),IF(A107=\"M\",HLOOKUP(C109,males2,A108,FALSE),\"\")))","v":"Josh Walton"},{"$f":"IF(OR(C109=0,C109=\"\",ISERROR(VLOOKUP(C109,match_teams2,4,FALSE)=TRUE)),\"\",VLOOKUP(C109,match_teams2,4,FALSE))","v":"Hallam"},"00:04:47.330",{"$f":"IF(OR(F109=0,F109=\"\",A112=0,A112=\"\",A113=0,A113=\"\",A114=0,A114=\"\",A115=0,A115=\"\"),\"\",IF(F109<=A112,1,IF(F109<=A113,2,IF(F109<=A114,3,IF(F109<=A115,4,\"\")))))","v":""},{"$f":"LEFT(I107,1)","v":"T"},1,3,{"$f":"IF(OR(J109=0,J109=\"\"),\"\",IF(H107=\"F\",HLOOKUP(J109,females2,H108,FALSE),IF(H107=\"M\",HLOOKUP(J109,males2,H108,FALSE),\"\")))","v":"Fiona Bell"},{"$f":"IF(OR(J109=0,J109=\"\",ISERROR(VLOOKUP(J109,match_teams2,4,FALSE)=TRUE)),\"\",VLOOKUP(J109,match_teams2,4,FALSE))","v":"Hallam"},"00:05:02.460",{"$f":"IF(OR(M109=0,M109=\"\",H112=0,H112=\"\",H113=0,H113=\"\",H114=0,H114=\"\",H115=0,H115=\"\"),\"\",IF(M109<=H112,1,IF(M109<=H113,2,IF(M109<=H114,3,IF(M109<=H115,4,\"\")))))","v":4},{"$f":"LEFT(P107,1)","v":"T"},1,3,{"$f":"IF(OR(Q109=0,Q109=\"\"),\"\",IF(O107=\"F\",HLOOKUP(Q109,females2,O108,FALSE),IF(O107=\"M\",HLOOKUP(Q109,males2,O108,FALSE),\"\")))","v":"Tom Bains"},{"$f":"IF(OR(Q109=0,Q109=\"\",ISERROR(VLOOKUP(Q109,match_teams2,4,FALSE)=TRUE)),\"\",VLOOKUP(Q109,match_teams2,4,FALSE))","v":"Hallam"},"00:04:13.190",{"$f":"IF(OR(T109=0,T109=\"\",O112=0,O112=\"\",O113=0,O113=\"\",O114=0,O114=\"\",O115=0,O115=\"\"),\"\",IF(T109<=O112,1,IF(T109<=O113,2,IF(T109<=O114,3,IF(T109<=O115,4,\"\")))))","v":3},null,6,6,6]
[{"$f":"VLOOKUP(B107,eventno,6,FALSE)","v":0},2,22,{"$f":"IF(OR(C110=0,C110=\"\"),\"\",IF(A107=\"F\",HLOOKUP(C110,females2,A108,FALSE),IF(A107=\"M\",HLOOKUP(C110,males2,A108,FALSE),\"\")))","v":"Dion Harrison"},"Linc W","00:05:02.480",{"$f":"IF(OR(F110=0,F110=\"\",A112=0,A112=\"\",A113=0,A113=\"\",A114=0,A114=\"\",A115=0,A115=\"\"),\"\",IF(F110<=A112,1,IF(F110<=A113,2,IF(F110<=A114,3,IF(F110<=A115,4,\"\")))))","v":""},{"$f":"VLOOKUP(I107,eventno,6,FALSE)","v":0},2,null,{"$f":"IF(OR(J110=0,J110=\"\"),\"\",IF(H107=\"F\",HLOOKUP(J110,females2,H108,FALSE),IF(H107=\"M\",HLOOKUP(J110,males2,H108,FALSE),\"\")))","v":""},"",null,{"$f":"IF(OR(M110=0,M110=\"\",H112=0,H112=\"\",H113=0,H113=\"\",H114=0,H114=\"\",H115=0,H115=\"\"),\"\",IF(M110<=H112,1,IF(M110<=H113,2,IF(M110<=H114,3,IF(M110<=H115,4,\"\")))))","v":""},{"$f":"VLOOKUP(P107,eventno,6,FALSE)","v":0},2,22,{"$f":"IF(OR(Q110=0,Q110=\"\"),\"\",IF(O107=\"F\",HLOOKUP(Q110,females2,O108,FALSE),IF(O107=\"M\",HLOOKUP(Q110,males2,O108,FALSE),\"\")))","v":"Kyle Nicholson"},"Linc W","00:04:30.010",{"$f":"IF(OR(T110=0,T110=\"\",O112=0,O112=\"\",O113=0,O113=\"\",O114=0,O114=\"\",O115=0,O115=\"\"),\"\",IF(T110<=O112,1,IF(T110<=O113,2,IF(T110<=O114,3,IF(T110<=O115,4,\"\")))))","v":""},null,5,0,5]
[{"$f":"VLOOKUP(B107,eventno,7,FALSE)","v":2.8206018518518519E-3},3,2,{"$f":"IF(OR(C111=0,C111=\"\"),\"\",IF(A107=\"F\",HLOOKUP(C111,females2,A108,FALSE),IF(A107=\"M\",HLOOKUP(C111,males2,A108,FALSE),\"\")))","v":"Declan Dickinson"},"Linc W","00:05:07.560",{"$f":"IF(OR(F111=0,F111=\"\",A112=0,A112=\"\",A113=0,A113=\"\",A114=0,A114=\"\",A115=0,A115=\"\"),\"\",IF(F111<=A112,1,IF(F111<=A113,2,IF(F111<=A114,3,IF(F111<=A115,4,\"\")))))","v":""},{"$f":"VLOOKUP(I107,eventno,7,FALSE)","v":3.1354166666666666E-3},3,null,{"$f":"IF(OR(J111=0,J111=\"\"),\"\",IF(H107=\"F\",HLOOKUP(J111,females2,H108,FALSE),IF(H107=\"M\",HLOOKUP(J111,males2,H108,FALSE),\"\")))","v":""},"",null,{"$f":"IF(OR(M111=0,M111=\"\",H112=0,H112=\"\",H113=0,H113=\"\",H114=0,H114=\"\",H115=0,H115=\"\"),\"\",IF(M111<=H112,1,IF(M111<=H113,2,IF(M111<=H114,3,IF(M111<=H115,4,\"\")))))","v":""},{"$f":"VLOOKUP(P107,eventno,7,FALSE)","v":2.7275462962962961E-3},3,33,{"$f":"IF(OR(Q111=0,Q111=\"\"),\"\",IF(O107=\"F\",HLOOKUP(Q111,females2,O108,FALSE),IF(O107=\"M\",HLOOKUP(Q111,males2,O108,FALSE),\"\")))","v":"Matt Davies"},"Hallam","00:05:48.190",{"$f":"IF(OR(T111=0,T111=\"\",O112=0,O112=\"\",O113=0,O113=\"\",O114=0,O114=\"\",O115=0,O115=\"\"),\"\",IF(T111<=O112,1,IF(T111<=O113,2,IF(T111<=O114,3,IF(T111<=O115,4,\"\")))))","v":""},null,4,0,4]
[{"$f":"VLOOKUP(B107,eventno,8,FALSE)","v":3.0439814814814821E-3},4,33,{"$f":"IF(OR(C112=0,C112=\"\"),\"\",IF(A107=\"F\",HLOOKUP(C112,females2,A108,FALSE),IF(A107=\"M\",HLOOKUP(C112,males2,A108,FALSE),\"\")))","v":"Ewan South"},"Hallam","00:05:12",{"$f":"IF(OR(F112=0,F112=\"\",A112=0,A112=\"\",A113=0,A113=\"\",A114=0,A114=\"\",A115=0,A115=\"\"),\"\",IF(F112<=A112,1,IF(F112<=A113,2,IF(F112<=A114,3,IF(F112<=A115,4,\"\")))))","v":""},{"$f":"VLOOKUP(I107,eventno,8,FALSE)","v":3.2523148148148151E-3},4,null,{"$f":"IF(OR(J112=0,J112=\"\"),\"\",IF(H107=\"F\",HLOOKUP(J112,females2,H108,FALSE),IF(H107=\"M\",HLOOKUP(J112,males2,H108,FALSE),\"\")))","v":""},"",null,{"$f":"IF(OR(M112=0,M112=\"\",H112=0,H112=\"\",H113=0,H113=\"\",H114=0,H114=\"\",H115=0,H115=\"\"),\"\",IF(M112<=H112,1,IF(M112<=H113,2,IF(M112<=H114,3,IF(M112<=H115,4,\"\")))))","v":""},{"$f":"VLOOKUP(P107,eventno,8,FALSE)","v":2.8472222222222219E-3},4,null,{"$f":"IF(OR(Q112=0,Q112=\"\"),\"\",IF(O107=\"F\",HLOOKUP(Q112,females2,O108,FALSE),IF(O107=\"M\",HLOOKUP(Q112,males2,O108,FALSE),\"\")))","v":""},"",null,{"$f":"IF(OR(T112=0,T112=\"\",O112=0,O112=\"\",O113=0,O113=\"\",O114=0,O114=\"\",O115=0,O115=\"\"),\"\",IF(T112<=O112,1,IF(T112<=O113,2,IF(T112<=O114,3,IF(T112<=O115,4,\"\")))))","v":""},null,3,0,0]
[{"$f":"VLOOKUP(B107,eventno,9,FALSE)","v":3.1018518518518522E-3},5,null,{"$f":"IF(OR(C113=0,C113=\"\"),\"\",IF(A107=\"F\",HLOOKUP(C113,females2,A108,FALSE),IF(A107=\"M\",HLOOKUP(C113,males2,A108,FALSE),\"\")))","v":""},"",null,{"$f":"IF(OR(F113=0,F113=\"\",A112=0,A112=\"\",A113=0,A113=\"\",A114=0,A114=\"\",A115=0,A115=\"\"),\"\",IF(F113<=A112,1,IF(F113<=A113,2,IF(F113<=A114,3,IF(F113<=A115,4,\"\")))))","v":""},{"$f":"VLOOKUP(I107,eventno,9,FALSE)","v":3.3217592592592591E-3},5,null,{"$f":"IF(OR(J113=0,J113=\"\"),\"\",IF(H107=\"F\",HLOOKUP(J113,females2,H108,FALSE),IF(H107=\"M\",HLOOKUP(J113,males2,H108,FALSE),\"\")))","v":""},"",null,{"$f":"IF(OR(M113=0,M113=\"\",H112=0,H112=\"\",H113=0,H113=\"\",H114=0,H114=\"\",H115=0,H115=\"\"),\"\",IF(M113<=H112,1,IF(M113<=H113,2,IF(M113<=H114,3,IF(M113<=H115,4,\"\")))))","v":""},{"$f":"VLOOKUP(P107,eventno,9,FALSE)","v":2.9050925925925928E-3},5,null,{"$f":"IF(OR(Q113=0,Q113=\"\"),\"\",IF(O107=\"F\",HLOOKUP(Q113,females2,O108,FALSE),IF(O107=\"M\",HLOOKUP(Q113,males2,O108,FALSE),\"\")))","v":""},"",null,{"$f":"IF(OR(T113=0,T113=\"\",O112=0,O112=\"\",O113=0,O113=\"\",O114=0,O114=\"\",O115=0,O115=\"\"),\"\",IF(T113<=O112,1,IF(T113<=O113,2,IF(T113<=O114,3,IF(T113<=O115,4,\"\")))))","v":""},null,0,0,0]
[{"$f":"VLOOKUP(B107,eventno,10,FALSE)","v":3.1886574074074074E-3},6,null,{"$f":"IF(OR(C114=0,C114=\"\"),\"\",IF(A107=\"F\",HLOOKUP(C114,females2,A108,FALSE),IF(A107=\"M\",HLOOKUP(C114,males2,A108,FALSE),\"\")))","v":""},"",null,{"$f":"IF(OR(F114=0,F114=\"\",A112=0,A112=\"\",A113=0,A113=\"\",A114=0,A114=\"\",A115=0,A115=\"\"),\"\",IF(F114<=A112,1,IF(F114<=A113,2,IF(F114<=A114,3,IF(F114<=A115,4,\"\")))))","v":""},{"$f":"VLOOKUP(I107,eventno,10,FALSE)","v":3.4004629629629628E-3},6,null,{"$f":"IF(OR(J114=0,J114=\"\"),\"\",IF(H107=\"F\",HLOOKUP(J114,females2,H108,FALSE),IF(H107=\"M\",HLOOKUP(J114,males2,H108,FALSE),\"\")))","v":""},"",null,{"$f":"IF(OR(M114=0,M114=\"\",H112=0,H112=\"\",H113=0,H113=\"\",H114=0,H114=\"\",H115=0,H115=\"\"),\"\",IF(M114<=H112,1,IF(M114<=H113,2,IF(M114<=H114,3,IF(M114<=H115,4,\"\")))))","v":""},{"$f":"VLOOKUP(P107,eventno,10,FALSE)","v":2.9745370370370373E-3},6,null,{"$f":"IF(OR(Q114=0,Q114=\"\"),\"\",IF(O107=\"F\",HLOOKUP(Q114,females2,O108,FALSE),IF(O107=\"M\",HLOOKUP(Q114,males2,O108,FALSE),\"\")))","v":""},"",null,{"$f":"IF(OR(T114=0,T114=\"\",O112=0,O112=\"\",O113=0,O113=\"\",O114=0,O114=\"\",O115=0,O115=\"\"),\"\",IF(T114<=O112,1,IF(T114<=O113,2,IF(T114<=O114,3,IF(T114<=O115,4,\"\")))))","v":""},null,0,0,0]
[{"$f":"VLOOKUP(B107,eventno,11,FALSE)","v":3.3159722222222223E-3},null,null,null,null,null,null,{"$f":"VLOOKUP(I107,eventno,11,FALSE)","v":3.5277777777777777E-3},null,null,null,null,null,null,{"$f":"VLOOKUP(P107,eventno,11,FALSE)","v":3.0844907407407405E-3},null,null,null,null,null,null,null,0,0,0]
[{"$f":"VLOOKUP(B116,eventno,5,FALSE)","v":"F"},"T35",{"$f":"VLOOKUP(B116,eventno,4,FALSE)","v":"U17W 300m"},null,{"$f":"IF(A119=\"W\",\"Wind =\",\"\")","v":""},null,{"$f":"IF(OR(F118=0,F118=\"\",A120=0,A120=\"\"),\"\",IF(A118=\"T\",IF(F118<A120,\"LR\",IF(F118=A120,\"LR=\",\"\"))))","v":""},{"$f":"VLOOKUP(I116,eventno,5,FALSE)","v":"M"},"T36",{"$f":"VLOOKUP(I116,eventno,4,FALSE)","v":"U15B 400m"},null,{"$f":"IF(H119=\"W\",\"Wind =\",\"\")","v":""},null,{"$f":"IF(OR(M118=0,M118=\"\",H120=0,H120=\"\"),\"\",IF(H118=\"T\",IF(M118<H120,\"LR\",IF(M118=H120,\"LR=\",\"\"))))","v":""},{"$f":"VLOOKUP(P116,eventno,5,FALSE)","v":"M"},"T37",{"$f":"VLOOKUP(P116,eventno,4,FALSE)","v":"U17M 400m"},null,{"$f":"IF(O119=\"W\",\"Wind =\",\"\")","v":""},null,{"$f":"IF(OR(T118=0,T118=\"\",O120=0,O120=\"\"),\"\",IF(O118=\"T\",IF(T118<O120,\"LR\",IF(T118=O120,\"LR=\",\"\"))))","v":""},null,0,0,0]
[{"$f":"IF(A116=\"M\",VLOOKUP(B116,males2,15,FALSE),VLOOKUP(B116,females2,15,FALSE))","v":20},"Posn","Bib","Athlete","Club","Perf","Gr",{"$f":"IF(H116=\"M\",VLOOKUP(I116,males2,15,FALSE),VLOOKUP(I116,females2,15,FALSE))","v":19},"Posn","Bib","Athlete","Club","Perf","Gr",{"$f":"IF(O116=\"M\",VLOOKUP(P116,males2,15,FALSE),VLOOKUP(P116,females2,15,FALSE))","v":20},"Posn","Bib","Athlete","Club","Perf","Gr",null,{"$error":"#N/A"},{"$error":"#N/A"},{"$error":"#N/A"}]
[{"$f":"LEFT(B116,1)","v":"T"},1,22,{"$f":"IF(OR(C118=0,C118=\"\"),\"\",IF(A116=\"F\",HLOOKUP(C118,females2,A117,FALSE),IF(A116=\"M\",HLOOKUP(C118,males2,A117,FALSE),\"\")))","v":"Rhiannon Philps"},{"$f":"IF(OR(C118=0,C118=\"\",ISERROR(VLOOKUP(C118,match_teams2,4,FALSE)=TRUE)),\"\",VLOOKUP(C118,match_teams2,4,FALSE))","v":"Linc W"},44.6,{"$f":"IF(OR(F118=0,F118=\"\",A121=0,A121=\"\",A122=0,A122=\"\",A123=0,A123=\"\",A124=0,A124=\"\"),\"\",IF(F118<=A121,1,IF(F118<=A122,2,IF(F118<=A123,3,IF(F118<=A124,4,\"\")))))","v":""},{"$f":"LEFT(I116,1)","v":"T"},1,33,{"$f":"IF(OR(J118=0,J118=\"\"),\"\",IF(H116=\"F\",HLOOKUP(J118,females2,H117,FALSE),IF(H116=\"M\",HLOOKUP(J118,males2,H117,FALSE),\"\")))","v":"Jack Jones"},{"$f":"IF(OR(J118=0,J118=\"\",ISERROR(VLOOKUP(J118,match_teams2,4,FALSE)=TRUE)),\"\",VLOOKUP(J118,match_teams2,4,FALSE))","v":"Hallam"},60.76,{"$f":"IF(OR(M118=0,M118=\"\",H121=0,H121=\"\",H122=0,H122=\"\",H123=0,H123=\"\",H124=0,H124=\"\"),\"\",IF(M118<=H121,1,IF(M118<=H122,2,IF(M118<=H123,3,IF(M118<=H124,4,\"\")))))","v":""},{"$f":"LEFT(P116,1)","v":"T"},1,2,{"$f":"IF(OR(Q118=0,Q118=\"\"),\"\",IF(O116=\"F\",HLOOKUP(Q118,females2,O117,FALSE),IF(O116=\"M\",HLOOKUP(Q118,males2,O117,FALSE),\"\")))","v":"Sam Shuttleworth"},{"$f":"IF(OR(Q118=0,Q118=\"\",ISERROR(VLOOKUP(Q118,match_teams2,4,FALSE)=TRUE)),\"\",VLOOKUP(Q118,match_teams2,4,FALSE))","v":"Linc W"},55.51,{"$f":"IF(OR(T118=0,T118=\"\",O121=0,O121=\"\",O122=0,O122=\"\",O123=0,O123=\"\",O124=0,O124=\"\"),\"\",IF(T118<=O121,1,IF(T118<=O122,2,IF(T118<=O123,3,IF(T118<=O124,4,\"\")))))","v":""},null,6,6,{"$f":"IF(OR(P118=0,P118=\"\",Q118=0,Q118=\"\",T118=0,T118=\"\",LEFT(T118,1)=\"D\"),0,VLOOKUP(P118,points,2,FALSE))","v":6}]
[{"$f":"VLOOKUP(B116,eventno,6,FALSE)","v":0},2,2,{"$f":"IF(OR(C119=0,C119=\"\"),\"\",IF(A116=\"F\",HLOOKUP(C119,females2,A117,FALSE),IF(A116=\"M\",HLOOKUP(C119,males2,A117,FALSE),\"\")))","v":"Lucy Helas"},"Linc W",47.67,{"$f":"IF(OR(F119=0,F119=\"\",A121=0,A121=\"\",A122=0,A122=\"\",A123=0,A123=\"\",A124=0,A124=\"\"),\"\",IF(F119<=A121,1,IF(F119<=A122,2,IF(F119<=A123,3,IF(F119<=A124,4,\"\")))))","v":""},{"$f":"VLOOKUP(I116,eventno,6,FALSE)","v":0},2,3,{"$f":"IF(OR(J119=0,J119=\"\"),\"\",IF(H116=\"F\",HLOOKUP(J119,females2,H117,FALSE),IF(H116=\"M\",HLOOKUP(J119,males2,H117,FALSE),\"\")))","v":"Joe Hutcheson"},"Hallam",61.17,{"$f":"IF(OR(M119=0,M119=\"\",H121=0,H121=\"\",H122=0,H122=\"\",H123=0,H123=\"\",H124=0,H124=\"\"),\"\",IF(M119<=H121,1,IF(M119<=H122,2,IF(M119<=H123,3,IF(M119<=H124,4,\"\")))))","v":""},{"$f":"VLOOKUP(P116,eventno,6,FALSE)","v":0},2,1,{"$f":"IF(OR(Q119=0,Q119=\"\"),\"\",IF(O116=\"F\",HLOOKUP(Q119,females2,O117,FALSE),IF(O116=\"M\",HLOOKUP(Q119,males2,O117,FALSE),\"\")))","v":"-"},"DASH",56.45,{"$f":"IF(OR(T119=0,T119=\"\",O121=0,O121=\"\",O122=0,O122=\"\",O123=0,O123=\"\",O124=0,O124=\"\"),\"\",IF(T119<=O121,1,IF(T119<=O122,2,IF(T119<=O123,3,IF(T119<=O124,4,\"\")))))","v":""},null,5,5,5]
[{"$f":"VLOOKUP(B116,eventno,7,FALSE)","v":38.299999999999997},3,33,{"$f":"IF(OR(C120=0,C120=\"\"),\"\",IF(A116=\"F\",HLOOKUP(C120,females2,A117,FALSE),IF(A116=\"M\",HLOOKUP(C120,males2,A117,FALSE),\"\")))","v":"Hannah Fletcher"},"Hallam",47.78,{"$f":"IF(OR(F120=0,F120=\"\",A121=0,A121=\"\",A122=0,A122=\"\",A123=0,A123=\"\",A124=0,A124=\"\"),\"\",IF(F120<=A121,1,IF(F120<=A122,2,IF(F120<=A123,3,IF(F120<=A124,4,\"\")))))","v":""},{"$f":"VLOOKUP(I116,eventno,7,FALSE)","v":50.1},3,2,{"$f":"IF(OR(J120=0,J120=\"\"),\"\",IF(H116=\"F\",HLOOKUP(J120,females2,H117,FALSE),IF(H116=\"M\",HLOOKUP(J120,males2,H117,FALSE),\"\")))","v":"Bradley Kent"},"Linc W",63.15,{"$f":"IF(OR(M120=0,M120=\"\",H121=0,H121=\"\",H122=0,H122=\"\",H123=0,H123=\"\",H124=0,H124=\"\"),\"\",IF(M120<=H121,1,IF(M120<=H122,2,IF(M120<=H123,3,IF(M120<=H124,4,\"\")))))","v":""},{"$f":"VLOOKUP(P116,eventno,7,FALSE)","v":48.2},3,3,{"$f":"IF(OR(Q120=0,Q120=\"\"),\"\",IF(O116=\"F\",HLOOKUP(Q120,females2,O117,FALSE),IF(O116=\"M\",HLOOKUP(Q120,males2,O117,FALSE),\"\")))","v":"Josh Dyball"},"Hallam",57.53,{"$f":"IF(OR(T120=0,T120=\"\",O121=0,O121=\"\",O122=0,O122=\"\",O123=0,O123=\"\",O124=0,O124=\"\"),\"\",IF(T120<=O121,1,IF(T120<=O122,2,IF(T120<=O123,3,IF(T120<=O124,4,\"\")))))","v":""},null,4,4,4]
[{"$f":"VLOOKUP(B116,eventno,8,FALSE)","v":41.4},4,3,{"$f":"IF(OR(C121=0,C121=\"\"),\"\",IF(A116=\"F\",HLOOKUP(C121,females2,A117,FALSE),IF(A116=\"M\",HLOOKUP(C121,males2,A117,FALSE),\"\")))","v":"Rebecca Taylor"},"Hallam",51.06,{"$f":"IF(OR(F121=0,F121=\"\",A121=0,A121=\"\",A122=0,A122=\"\",A123=0,A123=\"\",A124=0,A124=\"\"),\"\",IF(F121<=A121,1,IF(F121<=A122,2,IF(F121<=A123,3,IF(F121<=A124,4,\"\")))))","v":""},{"$f":"VLOOKUP(I116,eventno,8,FALSE)","v":54.7},4,22,{"$f":"IF(OR(J121=0,J121=\"\"),\"\",IF(H116=\"F\",HLOOKUP(J121,females2,H117,FALSE),IF(H116=\"M\",HLOOKUP(J121,males2,H117,FALSE),\"\")))","v":"Michael Harper"},"Linc W",68.209999999999994,{"$f":"IF(OR(M121=0,M121=\"\",H121=0,H121=\"\",H122=0,H122=\"\",H123=0,H123=\"\",H124=0,H124=\"\"),\"\",IF(M121<=H121,1,IF(M121<=H122,2,IF(M121<=H123,3,IF(M121<=H124,4,\"\")))))","v":""},{"$f":"VLOOKUP(P116,eventno,8,FALSE)","v":51},4,33,{"$f":"IF(OR(Q121=0,Q121=\"\"),\"\",IF(O116=\"F\",HLOOKUP(Q121,females2,O117,FALSE),IF(O116=\"M\",HLOOKUP(Q121,males2,O117,FALSE),\"\")))","v":"Anthony Tierney"},"Hallam",60.65,{"$f":"IF(OR(T121=0,T121=\"\",O121=0,O121=\"\",O122=0,O122=\"\",O123=0,O123=\"\",O124=0,O124=\"\"),\"\",IF(T121<=O121,1,IF(T121<=O122,2,IF(T121<=O123,3,IF(T121<=O124,4,\"\")))))","v":""},null,3,3,3]
[{"$f":"VLOOKUP(B116,eventno,9,FALSE)","v":42.2},5,null,{"$f":"IF(OR(C122=0,C122=\"\"),\"\",IF(A116=\"F\",HLOOKUP(C122,females2,A117,FALSE),IF(A116=\"M\",HLOOKUP(C122,males2,A117,FALSE),\"\")))","v":""},"",null,{"$f":"IF(OR(F122=0,F122=\"\",A121=0,A121=\"\",A122=0,A122=\"\",A123=0,A123=\"\",A124=0,A124=\"\"),\"\",IF(F122<=A121,1,IF(F122<=A122,2,IF(F122<=A123,3,IF(F122<=A124,4,\"\")))))","v":""},{"$f":"VLOOKUP(I116,eventno,9,FALSE)","v":55.7},5,1,{"$f":"IF(OR(J122=0,J122=\"\"),\"\",IF(H116=\"F\",HLOOKUP(J122,females2,H117,FALSE),IF(H116=\"M\",HLOOKUP(J122,males2,H117,FALSE),\"\")))","v":"George Collins"},"DASH",71.819999999999993,{"$f":"IF(OR(M122=0,M122=\"\",H121=0,H121=\"\",H122=0,H122=\"\",H123=0,H123=\"\",H124=0,H124=\"\"),\"\",IF(M122<=H121,1,IF(M122<=H122,2,IF(M122<=H123,3,IF(M122<=H124,4,\"\")))))","v":""},{"$f":"VLOOKUP(P116,eventno,9,FALSE)","v":51.8},5,22,{"$f":"IF(OR(Q122=0,Q122=\"\"),\"\",IF(O116=\"F\",HLOOKUP(Q122,females2,O117,FALSE),IF(O116=\"M\",HLOOKUP(Q122,males2,O117,FALSE),\"\")))","v":"Jack Harper"},"Linc W",65.849999999999994,{"$f":"IF(OR(T122=0,T122=\"\",O121=0,O121=\"\",O122=0,O122=\"\",O123=0,O123=\"\",O124=0,O124=\"\"),\"\",IF(T122<=O121,1,IF(T122<=O122,2,IF(T122<=O123,3,IF(T122<=O124,4,\"\")))))","v":""},null,0,2,2]
[{"$f":"VLOOKUP(B116,eventno,10,FALSE)","v":43},6,null,{"$f":"IF(OR(C123=0,C123=\"\"),\"\",IF(A116=\"F\",HLOOKUP(C123,females2,A117,FALSE),IF(A116=\"M\",HLOOKUP(C123,males2,A117,FALSE),\"\")))","v":""},"",null,{"$f":"IF(OR(F123=0,F123=\"\",A121=0,A121=\"\",A122=0,A122=\"\",A123=0,A123=\"\",A124=0,A124=\"\"),\"\",IF(F123<=A121,1,IF(F123<=A122,2,IF(F123<=A123,3,IF(F123<=A124,4,\"\")))))","v":""},{"$f":"VLOOKUP(I116,eventno,10,FALSE)","v":57},6,11,{"$f":"IF(OR(J123=0,J123=\"\"),\"\",IF(H116=\"F\",HLOOKUP(J123,females2,H117,FALSE),IF(H116=\"M\",HLOOKUP(J123,males2,H117,FALSE),\"\")))","v":"-"},"DASH",91.78,{"$f":"IF(OR(M123=0,M123=\"\",H121=0,H121=\"\",H122=0,H122=\"\",H123=0,H123=\"\",H124=0,H124=\"\"),\"\",IF(M123<=H121,1,IF(M123<=H122,2,IF(M123<=H123,3,IF(M123<=H124,4,\"\")))))","v":""},{"$f":"VLOOKUP(P116,eventno,10,FALSE)","v":52.9},6,null,{"$f":"IF(OR(Q123=0,Q123=\"\"),\"\",IF(O116=\"F\",HLOOKUP(Q123,females2,O117,FALSE),IF(O116=\"M\",HLOOKUP(Q123,males2,O117,FALSE),\"\")))","v":""},"",null,{"$f":"IF(OR(T123=0,T123=\"\",O121=0,O121=\"\",O122=0,O122=\"\",O123=0,O123=\"\",O124=0,O124=\"\"),\"\",IF(T123<=O121,1,IF(T123<=O122,2,IF(T123<=O123,3,IF(T123<=O124,4,\"\")))))","v":""},null,0,1,{"$f":"IF(OR(P123=0,P123=\"\",Q123=0,Q123=\"\",T123=0,T123=\"\",LEFT(T123,1)=\"D\"),0,VLOOKUP(P123,points,2,FALSE))","v":0}]
[{"$f":"VLOOKUP(B116,eventno,11,FALSE)","v":44.4},null,null,null,null,null,null,{"$f":"VLOOKUP(I116,eventno,11,FALSE)","v":59},null,null,null,null,null,null,{"$f":"VLOOKUP(P116,eventno,11,FALSE)","v":54.4},null,null,null,null,null,null,null,0,0,0]
[{"$f":"VLOOKUP(B125,eventno,5,FALSE)","v":"M"},"T45",{"$f":"VLOOKUP(B125,eventno,4,FALSE)","v":"U17M 1500m S/Chase"},null,{"$f":"IF(A128=\"W\",\"Wind =\",\"\")","v":""},null,{"$f":"IF(OR(F127=0,F127=\"\",A129=0,A129=\"\"),\"\",IF(A127=\"T\",IF(F127<A129,\"LR\",IF(F127=A129,\"LR=\",\"\"))))","v":""},null,null,null,null,null,null,null,null,"TRACK JUDGE & TIMEKEEPER",null,null,null,null,null,null,0,0,{"$f":"IF(OR(P125=0,P125=\"\",Q125=0,Q125=\"\",T125=0,T125=\"\",LEFT(T125,1)=\"D\",T(Q125)=\"\"),0,VLOOKUP(P125,points,2,FALSE))","v":0}]
[{"$f":"IF(A125=\"M\",VLOOKUP(B125,males2,15,FALSE),VLOOKUP(B125,females2,15,FALSE))","v":27},"Posn","Bib","Athlete","Club","Perf","Gr",null,null,null,null,null,null,null,null,null,"Bib",null,"Club","Number",null,null,{"$error":"#N/A"},0,{"$f":"IF(OR(P126=0,P126=\"\",Q126=0,Q126=\"\",T126=0,T126=\"\",LEFT(T126,1)=\"D\",T(Q126)=\"\"),0,VLOOKUP(P126,points,2,FALSE))","v":0}]
[{"$f":"LEFT(B125,1)","v":"T"},1,2,{"$f":"IF(OR(C127=0,C127=\"\"),\"\",IF(A125=\"F\",HLOOKUP(C127,females2,A126,FALSE),IF(A125=\"M\",HLOOKUP(C127,males2,A126,FALSE),\"\")))","v":"Haran Dunderdale"},{"$f":"IF(OR(C127=0,C127=\"\",ISERROR(VLOOKUP(C127,match_teams2,4,FALSE)=TRUE)),\"\",VLOOKUP(C127,match_teams2,4,FALSE))","v":"Linc W"},"00:04:39.150",{"$f":"IF(OR(F127=0,F127=\"\",A130=0,A130=\"\",A131=0,A131=\"\",A132=0,A132=\"\",A133=0,A133=\"\"),\"\",IF(F127<=A130,1,IF(F127<=A131,2,IF(F127<=A132,3,IF(F127<=A133,4,\"\")))))","v":3},null,null,null,null,null,null,null,null,null,{"$f":"AD3","v":1},null,{"$f":"IF(OR(Q127=0,Q127=\"\",ISERROR(VLOOKUP(Q127,match_teams2,4,FALSE)=TRUE)),\"\",VLOOKUP(Q127,match_teams2,4,FALSE))","v":"DASH"},2,null,null,6,0,{"$f":"T127*10","v":20}]
[{"$f":"VLOOKUP(B125,eventno,6,FALSE)","v":0},2,22,{"$f":"IF(OR(C128=0,C128=\"\"),\"\",IF(A125=\"F\",HLOOKUP(C128,females2,A126,FALSE),IF(A125=\"M\",HLOOKUP(C128,males2,A126,FALSE),\"\")))","v":"Kyle Nicholson"},"Linc W","00:05:19.880",{"$f":"IF(OR(F128=0,F128=\"\",A130=0,A130=\"\",A131=0,A131=\"\",A132=0,A132=\"\",A133=0,A133=\"\"),\"\",IF(F128<=A130,1,IF(F128<=A131,2,IF(F128<=A132,3,IF(F128<=A133,4,\"\")))))","v":""},null,null,null,null,null,null,null,null,null,{"$f":"AD4","v":2},null,{"$f":"IF(OR(Q128=0,Q128=\"\",ISERROR(VLOOKUP(Q128,match_teams2,4,FALSE)=TRUE)),\"\",VLOOKUP(Q128,match_teams2,4,FALSE))","v":"Linc W"},2,null,null,5,0,{"$f":"T128*10","v":20}]
[{"$f":"VLOOKUP(B125,eventno,7,FALSE)","v":2.9444444444444444E-3},3,null,{"$f":"IF(OR(C129=0,C129=\"\"),\"\",IF(A125=\"F\",HLOOKUP(C129,females2,A126,FALSE),IF(A125=\"M\",HLOOKUP(C129,males2,A126,FALSE),\"\")))","v":""},"",null,{"$f":"IF(OR(F129=0,F129=\"\",A130=0,A130=\"\",A131=0,A131=\"\",A132=0,A132=\"\",A133=0,A133=\"\"),\"\",IF(F129<=A130,1,IF(F129<=A131,2,IF(F129<=A132,3,IF(F129<=A133,4,\"\")))))","v":""},null,null,null,null,null,null,null,null,null,{"$f":"AD5","v":3},null,{"$f":"IF(OR(Q129=0,Q129=\"\",ISERROR(VLOOKUP(Q129,match_teams2,4,FALSE)=TRUE)),\"\",VLOOKUP(Q129,match_teams2,4,FALSE))","v":"Hallam"},2,null,null,0,0,{"$f":"T129*10","v":20}]
[{"$f":"VLOOKUP(B125,eventno,8,FALSE)","v":3.1365740740740742E-3},4,null,{"$f":"IF(OR(C130=0,C130=\"\"),\"\",IF(A125=\"F\",HLOOKUP(C130,females2,A126,FALSE),IF(A125=\"M\",HLOOKUP(C130,males2,A126,FALSE),\"\")))","v":""},"",null,{"$f":"IF(OR(F130=0,F130=\"\",A130=0,A130=\"\",A131=0,A131=\"\",A132=0,A132=\"\",A133=0,A133=\"\"),\"\",IF(F130<=A130,1,IF(F130<=A131,2,IF(F130<=A132,3,IF(F130<=A133,4,\"\")))))","v":""},null,null,null,null,null,null,null,null,null,null,null,null,null,null,null,0,0,{"$f":"IF(OR(P130=0,P130=\"\",Q130=0,Q130=\"\",T130=0,T130=\"\",LEFT(T130,1)=\"D\",T(Q130)=\"\"),0,VLOOKUP(P130,points,2,FALSE))","v":0}]
[{"$f":"VLOOKUP(B125,eventno,9,FALSE)","v":3.2060185185185191E-3},5,null,{"$f":"IF(OR(C131=0,C131=\"\"),\"\",IF(A125=\"F\",HLOOKUP(C131,females2,A126,FALSE),IF(A125=\"M\",HLOOKUP(C131,males2,A126,FALSE),\"\")))","v":""},"",null,{"$f":"IF(OR(F131=0,F131=\"\",A130=0,A130=\"\",A131=0,A131=\"\",A132=0,A132=\"\",A133=0,A133=\"\"),\"\",IF(F131<=A130,1,IF(F131<=A131,2,IF(F131<=A132,3,IF(F131<=A133,4,\"\")))))","v":""},null,null,null,null,null,null,null,null,null,null,null,null,null,null,null,0,0,{"$f":"IF(OR(P131=0,P131=\"\",Q131=0,Q131=\"\",T131=0,T131=\"\",LEFT(T131,1)=\"D\",T(Q131)=\"\"),0,VLOOKUP(P131,points,2,FALSE))","v":0}]
[{"$f":"VLOOKUP(B125,eventno,10,FALSE)","v":3.3217592592592591E-3},6,null,{"$f":"IF(OR(C132=0,C132=\"\"),\"\",IF(A125=\"F\",HLOOKUP(C132,females2,A126,FALSE),IF(A125=\"M\",HLOOKUP(C132,males2,A126,FALSE),\"\")))","v":""},"",null,{"$f":"IF(OR(F132=0,F132=\"\",A130=0,A130=\"\",A131=0,A131=\"\",A132=0,A132=\"\",A133=0,A133=\"\"),\"\",IF(F132<=A130,1,IF(F132<=A131,2,IF(F132<=A132,3,IF(F132<=A133,4,\"\")))))","v":""},null,null,null,null,null,null,null,null,null,null,null,null,null,null,null,0,0,{"$f":"IF(OR(P132=0,P132=\"\",Q132=0,Q132=\"\",T132=0,T132=\"\",LEFT(T132,1)=\"D\",T(Q132)=\"\"),0,VLOOKUP(P132,points,2,FALSE))","v":0}]
[{"$f":"VLOOKUP(B125,eventno,11,FALSE)","v":3.4953703703703705E-3}]

{"sheet":"Field (Match 2)","index":7,"n_rows":115,"n_cols":36,"rows_kept":115,"cut":false,"hidden":false,"merged":[[0,10,0,14]]}
[null,null,{"$f":"CONCATENATE(MatchDay!I3,\", \",MatchDay!I7)","v":"Northern 1 SE, Thornes Park Stadium, Wakefield"},null,null,null,null,null,null,null,{"$f":"MatchDay!C5","v":"Sunday 8th May 2011"},null,null,null,null,null,null,null,null,null,null,null,null,null,"Track (Match 1)",null,null,"Points","Points","Points",{"$f":"MatchDay!K11","v":"DASH"},{"$f":"MatchDay!K13","v":"Linc W"},{"$f":"MatchDay!K15","v":"Hallam"},"Scored","Validations"]
[null,null,null,null,null,null,null,null,null,null,null,null,null,null,null,null,null,null,null,null,null,null,null,null,null,null,null,"Col 1","Col 2","Col 3",{"$f":"SUMIF($F$8:$F$205,AE$1,$AB$8:$AB$205)+SUMIF($N$8:$N$205,AE$1,$AC$8:$AC$205)+SUMIF($V$8:$V$205,AE$1,$AD$8:$AD$205)","v":176},{"$f":"SUMIF($F$8:$F$205,AF$1,$AB$8:$AB$205)+SUMIF($N$8:$N$205,AF$1,$AC$8:$AC$205)+SUMIF($V$8:$V$205,AF$1,$AD$8:$AD$205)","v":231},{"$f":"SUMIF($F$8:$F$205,AG$1,$AB$8:$AB$205)+SUMIF($N$8:$N$205,AG$1,$AC$8:$AC$205)+SUMIF($V$8:$V$205,AG$1,$AD$8:$AD$205)","v":164},{"$f":"COUNTIF($AB$8:$AB$205,\"6\")+COUNTIF($AC$8:$AC$205,\"6\")+COUNTIF($AD$8:$AD$205,\"6\")","v":32}]
[null,null,"Club",null,null," Match Points","Posn","League Points",null,null,null,null,"Match Statistics",null,null,null,null,null,null,"Athletes",null,null,"Events",null,"Field (Match 1)",null,null,null,null,null,null,null,null,null,{"$f":"MatchDay!H11","v":1}]
[null,null,{"$f":"'Track (Match 2)'!B4","v":"2DASH"},null,null,{"$f":"'Track (Match 2)'!E4","v":322},{"$f":"'Track (Match 2)'!F4","v":3},{"$f":"'Track (Match 2)'!G4","v":1},null,null,null,null,{"$f":"'Track (Match 2)'!K4","v":"New League Records"},{"$f":"'Track (Match 2)'!L4","v":0},{"$f":"'Track (Match 2)'!M4","v":"Grade 2"},{"$f":"'Track (Match 2)'!N4","v":2},null,null,null,{"$f":"'Track (Match 2)'!P4","v":"Boys"},{"$f":"'Track (Match 2)'!Q4","v":67},null,{"$f":"'Track (Match 2)'!S4","v":"Scored"},{"$f":"'Track (Match 2)'!T4","v":76},null,null,null,null,null,null,null,null,null,"Cancelled",{"$f":"MatchDay!H13","v":2}]
[null,null,{"$f":"'Track (Match 2)'!B5","v":"Lincoln Wellington"},null,null,{"$f":"'Track (Match 2)'!E5","v":518},{"$f":"'Track (Match 2)'!F5","v":1},{"$f":"'Track (Match 2)'!G5","v":3},null,null,null,null,{"$f":"'Track (Match 2)'!K5","v":"= League Records"},{"$f":"'Track (Match 2)'!L5","v":0},{"$f":"'Track (Match 2)'!M5","v":"Grade 3"},{"$f":"'Track (Match 2)'!N5","v":6},null,null,null,{"$f":"'Track (Match 2)'!P5","v":"Girls"},{"$f":"'Track (Match 2)'!Q5","v":58},null,{"$f":"'Track (Match 2)'!S5","v":"Not Held"},{"$f":"'Track (Match 2)'!T5","v":0},"Relay Match 1",null,null,null,null,null,null,null,null,{"$f":"COUNTIF($D$8:$D$205,\"101\")+COUNTIF($L$8:$L$205,\"101\")+COUNTIF($T$8:$T$205,\"101\")+COUNTIF($D$8:$D$205,\"102\")+COUNTIF($L$8:$L$205,\"102\")+COUNTIF($T$8:$T$205,\"102\")+COUNTIF($D$8:$D$205,\"103\")+COUNTIF($L$8:$L$205,\"103\")+COUNTIF($T$8:$T$205,\"103\")","v":0},{"$f":"MatchDay!H15","v":3}]
[null,null,{"$f":"'Track (Match 2)'!B6","v":"Hallamshire Harr"},null,null,{"$f":"'Track (Match 2)'!E6","v":475},{"$f":"'Track (Match 2)'!F6","v":2},{"$f":"'Track (Match 2)'!G6","v":2},null,null,null,null,{"$f":"'Track (Match 2)'!K6","v":"Grade 1"},{"$f":"'Track (Match 2)'!L6","v":3},{"$f":"'Track (Match 2)'!M6","v":"Grade 4"},{"$f":"'Track (Match 2)'!N6","v":16},null,null,null,null,null,null,"Not Scored",{"$f":"'Track (Match 2)'!T6","v":6},null,null,null,null,null,null,null,null,null,null,{"$f":"CONCATENATE(AI3,AI3)","v":"11"}]
[null,null,null,null,null,null,null,null,null,null,null,null,null,null,null,null,null,null,null,null,null,null,null,null,null,null,null,null,null,null,null,null,null,null,{"$f":"CONCATENATE(AI4,AI4)","v":"22"}]
[{"$f":"VLOOKUP(C8,eventno,5,FALSE)","v":"M"},null,"F1",{"$f":"VLOOKUP(C8,eventno,4,FALSE)","v":"U13B Long Jump"},null,{"$f":"IF(A11=\"W\",\"Wind =\",\"\")","v":""},null,{"$f":"IF(OR(G10=0,G10=\"\",$A$12=0,$A$12=\"\"),\"\",IF($A$10=\"F\",IF(G10>$A$12,\"LR\",IF(G10=$A$12,\"LR=\",\"\"))))","v":""},{"$f":"VLOOKUP(K8,eventno,5,FALSE)","v":"M"},null,"F2",{"$f":"VLOOKUP(K8,eventno,4,FALSE)","v":"U17M High Jump"},null,{"$f":"IF(I11=\"W\",\"Wind =\",\"\")","v":""},null,{"$f":"IF(OR(O10=0,O10=\"\",$I$12=0,$I$12=\"\"),\"\",IF($I$10=\"F\",IF(O10>$I$12,\"LR\",IF(O10=$I$12,\"LR=\",\"\"))))","v":""},{"$f":"VLOOKUP(S8,eventno,5,FALSE)","v":"M"},null,"F3",{"$f":"VLOOKUP(S8,eventno,4,FALSE)","v":"U15B High Jump"},null,{"$f":"IF(Q11=\"W\",\"Wind =\",\"\")","v":""},null,{"$f":"IF(OR(W10=0,W10=\"\",$Q$12=0,$Q$12=\"\"),\"\",IF($Q$10=\"F\",IF(W10>$Q$12,\"LR\",IF(W10=$Q$12,\"LR=\",\"\"))))","v":""},null,"Event","Reason",{"$f":"IF(OR(C8=0,C8=\"\",D8=0,D8=\"\",G8=0,G8=\"\",LEFT(G8,1)=\"D\"),0,VLOOKUP(C8,points,2,FALSE))","v":0},{"$f":"IF(OR(K8=0,K8=\"\",L8=0,L8=\"\",O8=0,O8=\"\",LEFT(O8,1)=\"D\"),0,VLOOKUP(K8,points,2,FALSE))","v":0},{"$f":"IF(OR(S8=0,S8=\"\",T8=0,T8=\"\",W8=0,W8=\"\",LEFT(W8,1)=\"D\"),0,VLOOKUP(S8,points,2,FALSE))","v":0},null,null,null,null,{"$f":"CONCATENATE(AI5,AI5)","v":"33"}]
[{"$f":"IF(A8=\"M\",VLOOKUP(C8,males2,15,FALSE),VLOOKUP(C8,females2,15,FALSE))","v":32},null,"Posn","Bib","Athlete","Club","Perf","Gr",{"$f":"IF(I8=\"M\",VLOOKUP(K8,males2,15,FALSE),VLOOKUP(K8,females2,15,FALSE))","v":33},null,"Posn","Bib","Athlete","Club","Perf","Gr",{"$f":"IF(Q8=\"M\",VLOOKUP(S8,males2,15,FALSE),VLOOKUP(S8,females2,15,FALSE))","v":34},null,"Posn","Bib","Athlete","Club","Perf","Gr",null,"F1",null,{"$error":"#N/A"},{"$error":"#N/A"},{"$error":"#N/A"},null,null,null,null,101,"101 Event Cancelled"]
[{"$f":"LEFT(C8,1)","v":"F"},2,{"$f":"IF(OR(G10=0,G10=\"\",T(G10)<>\"\"),\"\",RANK(G10,$G$10:$G$15,0))","v":1},{"$f":"IF($AA$9=\"\",Distance!$B23,\" \")","v":2},{"$f":"IF(OR(D10=0,D10=\"\",D10=\" \"),\"\",IF($A$8=\"F\",HLOOKUP(D10,females2,$A$9,FALSE),IF($A$8=\"M\",HLOOKUP(D10,males2,$A$9,FALSE),\"\")))","v":"Jack McMunn"},{"$f":"IF(OR(D10=0,D10=\"\",D10=\" \",ISERROR(VLOOKUP(D10,match_teams2,4,FALSE)=TRUE)),\"\",VLOOKUP(D10,match_teams2,4,FALSE))","v":"Linc W"},3.32,{"$f":"IF(OR(G10=0,G10=\"\",$A$13=0,$A$13=\"\",$A$14=0,$A$14=\"\",$A$15=0,$A$15=\"\",$A$16=0,$A$16=\"\"),\"\",IF(G10>=$A$13,1,IF(G10>=$A$14,2,IF(G10>=$A$15,3,IF(G10>=$A$16,4,\"\")))))","v":""},{"$f":"LEFT(K8,1)","v":"F"},1,{"$f":"IF(OR(O10=0,O10=\"\",T(O10)<>\"\",O10=\"NHC\"),\"\",RANK(O10,$O$10:$O$15,0))","v":1},{"$f":"IF($AA$10=\"\",Height!$B19,\" \")","v":3},{"$f":"IF(OR(L10=0,L10=\"\",L10=\" \"),\"\",IF($I$8=\"F\",HLOOKUP(L10,females2,$I$9,FALSE),IF($I$8=\"M\",HLOOKUP(L10,males2,$I$9,FALSE),\"\")))","v":"Dipo Ola"},{"$f":"IF(OR(L10=0,L10=\"\",ISERROR(VLOOKUP(L10,match_teams2,4,FALSE)=TRUE)),\"\",VLOOKUP(L10,match_teams2,4,FALSE))","v":"Hallam"},1.79,{"$f":"IF(OR(O10=0,O10=\"\",O10=\"NHC\",$I$13=0,$I$13=\"\",$I$14=0,$I$14=\"\",$I$15=0,$I$15=\"\",$I$16=0,$I$16=\"\"),\"\",IF(O10>=$I$13,1,IF(O10>=$I$14,2,IF(O10>=$I$15,3,IF(O10>=$I$16,4,\"\")))))","v":3},{"$f":"LEFT(S8,1)","v":"F"},1,{"$f":"IF(OR(W10=0,W10=\"\",T(W10)<>\"\",W10=\"NHC\"),\"\",RANK(W10,$W$10:$W$15,0))","v":1},{"$f":"IF($AA$11=\"\",Height!$B50,VALUE(LEFT($AA$11,3)))","v":3},{"$f":"IF(OR(T10=0,T10=\"\",T10=\" \"),\"\",IF($Q$8=\"F\",HLOOKUP(T10,females2,$Q$9,FALSE),IF($Q$8=\"M\",HLOOKUP(T10,males2,$Q$9,FALSE),\"\")))","v":"Elliott Payne"},{"$f":"IF(OR(T10=0,T10=\"\",ISERROR(VLOOKUP(T10,match_teams2,4,FALSE)=TRUE)),\"\",VLOOKUP(T10,match_teams2,4,FALSE))","v":"Hallam"},1.84,{"$f":"IF(OR(W10=0,W10=\"\",W10=\"NHC\",$Q$13=0,$Q$13=\"\",$Q$14=0,$Q$14=\"\",$Q$15=0,$Q$15=\"\",$Q$16=0,$Q$16=\"\"),\"\",IF(W10>=$Q$13,1,IF(W10>=$Q$14,2,IF(W10>=$Q$15,3,IF(W10>=$Q$16,4,\"\")))))","v":1},null,"F2",null,6,6,6,null,null,null,null,102,"102 No Competitors"]
[{"$f":"VLOOKUP(C8,eventno,6,FALSE)","v":0},1,{"$f":"IF(OR(G11=0,G11=\"\",T(G11)<>\"\"),\"\",RANK(G11,$G$10:$G$15,0))","v":2},{"$f":"IF($AA$9=\"\",Distance!$B22,VALUE(LEFT($AA$9,3)))","v":1},{"$f":"IF(OR(D11=0,D11=\"\",D11=\" \"),\"\",IF($A$8=\"F\",HLOOKUP(D11,females2,$A$9,FALSE),IF($A$8=\"M\",HLOOKUP(D11,males2,$A$9,FALSE),\"\")))","v":"James Castle"},{"$f":"IF(OR(D11=0,D11=\"\",D11=\" \",ISERROR(VLOOKUP(D11,match_teams2,4,FALSE)=TRUE)),\"\",VLOOKUP(D11,match_teams2,4,FALSE))","v":"DASH"},2.98,{"$f":"IF(OR(G11=0,G11=\"\",$A$13=0,$A$13=\"\",$A$14=0,$A$14=\"\",$A$15=0,$A$15=\"\",$A$16=0,$A$16=\"\"),\"\",IF(G11>=$A$13,1,IF(G11>=$A$14,2,IF(G11>=$A$15,3,IF(G11>=$A$16,4,\"\")))))","v":""},{"$f":"VLOOKUP(K8,eventno,6,FALSE)","v":0},3,{"$f":"IF(OR(O11=0,O11=\"\",T(O11)<>\"\",O11=\"NHC\"),\"\",RANK(O11,$O$10:$O$15,0))","v":2},{"$f":"IF($AA$10=\"\",Height!$B18,VALUE(LEFT($AA$10,3)))","v":2},{"$f":"IF(OR(L11=0,L11=\"\",L11=\" \"),\"\",IF($I$8=\"F\",HLOOKUP(L11,females2,$I$9,FALSE),IF($I$8=\"M\",HLOOKUP(L11,males2,$I$9,FALSE),\"\")))","v":"Josh Holden"},{"$f":"IF(OR(L11=0,L11=\"\",ISERROR(VLOOKUP(L11,match_teams2,4,FALSE)=TRUE)),\"\",VLOOKUP(L11,match_teams2,4,FALSE))","v":"Linc W"},1.6,{"$f":"IF(OR(O11=0,O11=\"\",O11=\"NHC\",$I$13=0,$I$13=\"\",$I$14=0,$I$14=\"\",$I$15=0,$I$15=\"\",$I$16=0,$I$16=\"\"),\"\",IF(O11>=$I$13,1,IF(O11>=$I$14,2,IF(O11>=$I$15,3,IF(O11>=$I$16,4,\"\")))))","v":""},{"$f":"VLOOKUP(S8,eventno,6,FALSE)","v":0},4,{"$f":"IF(OR(W11=0,W11=\"\",T(W11)<>\"\",W11=\"NHC\"),\"\",RANK(W11,$W$10:$W$15,0))","v":2},{"$f":"IF($AA$11=\"\",Height!$B53,\" \")","v":33},{"$f":"IF(OR(T11=0,T11=\"\",T11=\" \"),\"\",IF($Q$8=\"F\",HLOOKUP(T11,females2,$Q$9,FALSE),IF($Q$8=\"M\",HLOOKUP(T11,males2,$Q$9,FALSE),\"\")))","v":"Jack Jones"},{"$f":"IF(OR(T11=0,T11=\"\",ISERROR(VLOOKUP(T11,match_teams2,4,FALSE)=TRUE)),\"\",VLOOKUP(T11,match_teams2,4,FALSE))","v":"Hallam"},1.5,{"$f":"IF(OR(W11=0,W11=\"\",W11=\"NHC\",$Q$13=0,$Q$13=\"\",$Q$14=0,$Q$14=\"\",$Q$15=0,$Q$15=\"\",$Q$16=0,$Q$16=\"\"),\"\",IF(W11>=$Q$13,1,IF(W11>=$Q$14,2,IF(W11>=$Q$15,3,IF(W11>=$Q$16,4,\"\")))))","v":""},null,"F3",null,5,5,5,null,null,null,null,103,"103 Opening Height Not Cleared"]
[{"$f":"VLOOKUP(C8,eventno,7,FALSE)","v":5.76},3,{"$f":"IF(OR(G12=0,G12=\"\",T(G12)<>\"\"),\"\",RANK(G12,$G$10:$G$15,0))","v":""},{"$f":"IF($AA$9=\"\",Distance!$B24,\" \")","v":3},{"$f":"IF(OR(D12=0,D12=\"\",D12=\" \"),\"\",IF($A$8=\"F\",HLOOKUP(D12,females2,$A$9,FALSE),IF($A$8=\"M\",HLOOKUP(D12,males2,$A$9,FALSE),\"\")))","v":"-"},{"$f":"IF(OR(D12=0,D12=\"\",D12=\" \",ISERROR(VLOOKUP(D12,match_teams2,4,FALSE)=TRUE)),\"\",VLOOKUP(D12,match_teams2,4,FALSE))","v":"Hallam"},null,{"$f":"IF(OR(G12=0,G12=\"\",$A$13=0,$A$13=\"\",$A$14=0,$A$14=\"\",$A$15=0,$A$15=\"\",$A$16=0,$A$16=\"\"),\"\",IF(G12>=$A$13,1,IF(G12>=$A$14,2,IF(G12>=$A$15,3,IF(G12>=$A$16,4,\"\")))))","v":""},{"$f":"VLOOKUP(K8,eventno,7,FALSE)","v":2.1},4,{"$f":"IF(OR(O12=0,O12=\"\",T(O12)<>\"\",O12=\"NHC\"),\"\",RANK(O12,$O$10:$O$15,0))","v":3},{"$f":"IF($AA$10=\"\",Height!$B21,\" \")","v":22},{"$f":"IF(OR(L12=0,L12=\"\",L12=\" \"),\"\",IF($I$8=\"F\",HLOOKUP(L12,females2,$I$9,FALSE),IF($I$8=\"M\",HLOOKUP(L12,males2,$I$9,FALSE),\"\")))","v":"Sam Chapman"},{"$f":"IF(OR(L12=0,L12=\"\",ISERROR(VLOOKUP(L12,match_teams2,4,FALSE)=TRUE)),\"\",VLOOKUP(L12,match_teams2,4,FALSE))","v":"Linc W"},1.35,{"$f":"IF(OR(O12=0,O12=\"\",O12=\"NHC\",$I$13=0,$I$13=\"\",$I$14=0,$I$14=\"\",$I$15=0,$I$15=\"\",$I$16=0,$I$16=\"\"),\"\",IF(O12>=$I$13,1,IF(O12>=$I$14,2,IF(O12>=$I$15,3,IF(O12>=$I$16,4,\"\")))))","v":""},{"$f":"VLOOKUP(S8,eventno,7,FALSE)","v":1.97},2,{"$f":"IF(OR(W12=0,W12=\"\",T(W12)<>\"\",W12=\"NHC\"),\"\",RANK(W12,$W$10:$W$15,0))","v":3},{"$f":"IF($AA$11=\"\",Height!$B51,\" \")","v":1},{"$f":"IF(OR(T12=0,T12=\"\",T12=\" \"),\"\",IF($Q$8=\"F\",HLOOKUP(T12,females2,$Q$9,FALSE),IF($Q$8=\"M\",HLOOKUP(T12,males2,$Q$9,FALSE),\"\")))","v":"Josh Groggan"},{"$f":"IF(OR(T12=0,T12=\"\",ISERROR(VLOOKUP(T12,match_teams2,4,FALSE)=TRUE)),\"\",VLOOKUP(T12,match_teams2,4,FALSE))","v":"DASH"},1.3,{"$f":"IF(OR(W12=0,W12=\"\",W12=\"NHC\",$Q$13=0,$Q$13=\"\",$Q$14=0,$Q$14=\"\",$Q$15=0,$Q$15=\"\",$Q$16=0,$Q$16=\"\"),\"\",IF(W12>=$Q$13,1,IF(W12>=$Q$14,2,IF(W12>=$Q$15,3,IF(W12>=$Q$16,4,\"\")))))","v":""},null,"F4",null,0,4,4,null,null,null,null,104]
[{"$f":"VLOOKUP(C8,eventno,8,FALSE)","v":4.7},4,{"$f":"IF(OR(G13=0,G13=\"\",T(G13)<>\"\"),\"\",RANK(G13,$G$10:$G$15,0))","v":""},{"$f":"IF($AA$9=\"\",Distance!$B25,\" \")","v":11},{"$f":"IF(OR(D13=0,D13=\"\",D13=\" \"),\"\",IF($A$8=\"F\",HLOOKUP(D13,females2,$A$9,FALSE),IF($A$8=\"M\",HLOOKUP(D13,males2,$A$9,FALSE),\"\")))","v":"-"},{"$f":"IF(OR(D13=0,D13=\"\",D13=\" \",ISERROR(VLOOKUP(D13,match_teams2,4,FALSE)=TRUE)),\"\",VLOOKUP(D13,match_teams2,4,FALSE))","v":"DASH"},null,{"$f":"IF(OR(G13=0,G13=\"\",$A$13=0,$A$13=\"\",$A$14=0,$A$14=\"\",$A$15=0,$A$15=\"\",$A$16=0,$A$16=\"\"),\"\",IF(G13>=$A$13,1,IF(G13>=$A$14,2,IF(G13>=$A$15,3,IF(G13>=$A$16,4,\"\")))))","v":""},{"$f":"VLOOKUP(K8,eventno,8,FALSE)","v":1.85},2,{"$f":"IF(OR(O13=0,O13=\"\",T(O13)<>\"\",O13=\"NHC\"),\"\",RANK(O13,$O$10:$O$15,0))","v":""},{"$f":"IF($AA$10=\"\",Height!$B20,\" \")","v":1},{"$f":"IF(OR(L13=0,L13=\"\",L13=\" \"),\"\",IF($I$8=\"F\",HLOOKUP(L13,females2,$I$9,FALSE),IF($I$8=\"M\",HLOOKUP(L13,males2,$I$9,FALSE),\"\")))","v":"-"},{"$f":"IF(OR(L13=0,L13=\"\",ISERROR(VLOOKUP(L13,match_teams2,4,FALSE)=TRUE)),\"\",VLOOKUP(L13,match_teams2,4,FALSE))","v":"DASH"},null,{"$f":"IF(OR(O13=0,O13=\"\",O13=\"NHC\",$I$13=0,$I$13=\"\",$I$14=0,$I$14=\"\",$I$15=0,$I$15=\"\",$I$16=0,$I$16=\"\"),\"\",IF(O13>=$I$13,1,IF(O13>=$I$14,2,IF(O13>=$I$15,3,IF(O13>=$I$16,4,\"\")))))","v":""},{"$f":"VLOOKUP(S8,eventno,8,FALSE)","v":1.7},3,{"$f":"IF(OR(W13=0,W13=\"\",T(W13)<>\"\",W13=\"NHC\"),\"\",RANK(W13,$W$10:$W$15,0))","v":4},{"$f":"IF($AA$11=\"\",Height!$B52,\" \")","v":2},{"$f":"IF(OR(T13=0,T13=\"\",T13=\" \"),\"\",IF($Q$8=\"F\",HLOOKUP(T13,females2,$Q$9,FALSE),IF($Q$8=\"M\",HLOOKUP(T13,males2,$Q$9,FALSE),\"\")))","v":"Joe Shuttleworth"},{"$f":"IF(OR(T13=0,T13=\"\",ISERROR(VLOOKUP(T13,match_teams2,4,FALSE)=TRUE)),\"\",VLOOKUP(T13,match_teams2,4,FALSE))","v":"Linc W"},1.25,{"$f":"IF(OR(W13=0,W13=\"\",W13=\"NHC\",$Q$13=0,$Q$13=\"\",$Q$14=0,$Q$14=\"\",$Q$15=0,$Q$15=\"\",$Q$16=0,$Q$16=\"\"),\"\",IF(W13>=$Q$13,1,IF(W13>=$Q$14,2,IF(W13>=$Q$15,3,IF(W13>=$Q$16,4,\"\")))))","v":""},null,"F5",null,0,0,3,null,null,null,null," "]
[{"$f":"VLOOKUP(C8,eventno,9,FALSE)","v":4.5999999999999996},5,{"$f":"IF(OR(G14=0,G14=\"\",T(G14)<>\"\"),\"\",RANK(G14,$G$10:$G$15,0))","v":""},{"$f":"IF($AA$9=\"\",Distance!$B26,\" \")","v":22},{"$f":"IF(OR(D14=0,D14=\"\",D14=\" \"),\"\",IF($A$8=\"F\",HLOOKUP(D14,females2,$A$9,FALSE),IF($A$8=\"M\",HLOOKUP(D14,males2,$A$9,FALSE),\"\")))","v":"Oliver Jackson"},{"$f":"IF(OR(D14=0,D14=\"\",D14=\" \",ISERROR(VLOOKUP(D14,match_teams2,4,FALSE)=TRUE)),\"\",VLOOKUP(D14,match_teams2,4,FALSE))","v":"Linc W"},null,{"$f":"IF(OR(G14=0,G14=\"\",$A$13=0,$A$13=\"\",$A$14=0,$A$14=\"\",$A$15=0,$A$15=\"\",$A$16=0,$A$16=\"\"),\"\",IF(G14>=$A$13,1,IF(G14>=$A$14,2,IF(G14>=$A$15,3,IF(G14>=$A$16,4,\"\")))))","v":""},{"$f":"VLOOKUP(K8,eventno,9,FALSE)","v":1.82},5,{"$f":"IF(OR(O14=0,O14=\"\",T(O14)<>\"\",O14=\"NHC\"),\"\",RANK(O14,$O$10:$O$15,0))","v":""},{"$f":"IF($AA$10=\"\",Height!$B22,\" \")","v":33},{"$f":"IF(OR(L14=0,L14=\"\",L14=\" \"),\"\",IF($I$8=\"F\",HLOOKUP(L14,females2,$I$9,FALSE),IF($I$8=\"M\",HLOOKUP(L14,males2,$I$9,FALSE),\"\")))","v":"-"},{"$f":"IF(OR(L14=0,L14=\"\",ISERROR(VLOOKUP(L14,match_teams2,4,FALSE)=TRUE)),\"\",VLOOKUP(L14,match_teams2,4,FALSE))","v":"Hallam"},null,{"$f":"IF(OR(O14=0,O14=\"\",O14=\"NHC\",$I$13=0,$I$13=\"\",$I$14=0,$I$14=\"\",$I$15=0,$I$15=\"\",$I$16=0,$I$16=\"\"),\"\",IF(O14>=$I$13,1,IF(O14>=$I$14,2,IF(O14>=$I$15,3,IF(O14>=$I$16,4,\"\")))))","v":""},{"$f":"VLOOKUP(S8,eventno,9,FALSE)","v":1.66},6,5,{"$f":"IF($AA$11=\"\",Height!$B55,\" \")","v":22},{"$f":"IF(OR(T14=0,T14=\"\",T14=\" \"),\"\",IF($Q$8=\"F\",HLOOKUP(T14,females2,$Q$9,FALSE),IF($Q$8=\"M\",HLOOKUP(T14,males2,$Q$9,FALSE),\"\")))","v":"Harry Cain"},{"$f":"IF(OR(T14=0,T14=\"\",ISERROR(VLOOKUP(T14,match_teams2,4,FALSE)=TRUE)),\"\",VLOOKUP(T14,match_teams2,4,FALSE))","v":"Linc W"},1.25,{"$f":"IF(OR(W14=0,W14=\"\",W14=\"NHC\",$Q$13=0,$Q$13=\"\",$Q$14=0,$Q$14=\"\",$Q$15=0,$Q$15=\"\",$Q$16=0,$Q$16=\"\"),\"\",IF(W14>=$Q$13,1,IF(W14>=$Q$14,2,IF(W14>=$Q$15,3,IF(W14>=$Q$16,4,\"\")))))","v":""},null,"F6",null,0,0,2]
[{"$f":"VLOOKUP(C8,eventno,10,FALSE)","v":4.5},6,{"$f":"IF(OR(G15=0,G15=\"\",T(G15)<>\"\"),\"\",RANK(G15,$G$10:$G$15,0))","v":""},{"$f":"IF($AA$9=\"\",Distance!$B27,\" \")","v":33},{"$f":"IF(OR(D15=0,D15=\"\",D15=\" \"),\"\",IF($A$8=\"F\",HLOOKUP(D15,females2,$A$9,FALSE),IF($A$8=\"M\",HLOOKUP(D15,males2,$A$9,FALSE),\"\")))","v":"-"},{"$f":"IF(OR(D15=0,D15=\"\",D15=\" \",ISERROR(VLOOKUP(D15,match_teams2,4,FALSE)=TRUE)),\"\",VLOOKUP(D15,match_teams2,4,FALSE))","v":"Hallam"},null,{"$f":"IF(OR(G15=0,G15=\"\",$A$13=0,$A$13=\"\",$A$14=0,$A$14=\"\",$A$15=0,$A$15=\"\",$A$16=0,$A$16=\"\"),\"\",IF(G15>=$A$13,1,IF(G15>=$A$14,2,IF(G15>=$A$15,3,IF(G15>=$A$16,4,\"\")))))","v":""},{"$f":"VLOOKUP(K8,eventno,10,FALSE)","v":1.75},6,{"$f":"IF(OR(O15=0,O15=\"\",T(O15)<>\"\",O15=\"NHC\"),\"\",RANK(O15,$O$10:$O$15,0))","v":""},{"$f":"IF($AA$10=\"\",Height!$B23,\" \")","v":11},{"$f":"IF(OR(L15=0,L15=\"\",L15=\" \"),\"\",IF($I$8=\"F\",HLOOKUP(L15,females2,$I$9,FALSE),IF($I$8=\"M\",HLOOKUP(L15,males2,$I$9,FALSE),\"\")))","v":"-"},{"$f":"IF(OR(L15=0,L15=\"\",ISERROR(VLOOKUP(L15,match_teams2,4,FALSE)=TRUE)),\"\",VLOOKUP(L15,match_teams2,4,FALSE))","v":"DASH"},null,{"$f":"IF(OR(O15=0,O15=\"\",O15=\"NHC\",$I$13=0,$I$13=\"\",$I$14=0,$I$14=\"\",$I$15=0,$I$15=\"\",$I$16=0,$I$16=\"\"),\"\",IF(O15>=$I$13,1,IF(O15>=$I$14,2,IF(O15>=$I$15,3,IF(O15>=$I$16,4,\"\")))))","v":""},{"$f":"VLOOKUP(S8,eventno,10,FALSE)","v":1.6},5,{"$f":"IF(OR(W15=0,W15=\"\",T(W15)<>\"\",W15=\"NHC\"),\"\",RANK(W15,$W$10:$W$15,0))","v":""},{"$f":"IF($AA$11=\"\",Height!$B54,\" \")","v":11},{"$f":"IF(OR(T15=0,T15=\"\",T15=\" \"),\"\",IF($Q$8=\"F\",HLOOKUP(T15,females2,$Q$9,FALSE),IF($Q$8=\"M\",HLOOKUP(T15,males2,$Q$9,FALSE),\"\")))","v":"-"},{"$f":"IF(OR(T15=0,T15=\"\",ISERROR(VLOOKUP(T15,match_teams2,4,FALSE)=TRUE)),\"\",VLOOKUP(T15,match_teams2,4,FALSE))","v":"DASH"},null,{"$f":"IF(OR(W15=0,W15=\"\",W15=\"NHC\",$Q$13=0,$Q$13=\"\",$Q$14=0,$Q$14=\"\",$Q$15=0,$Q$15=\"\",$Q$16=0,$Q$16=\"\"),\"\",IF(W15>=$Q$13,1,IF(W15>=$Q$14,2,IF(W15>=$Q$15,3,IF(W15>=$Q$16,4,\"\")))))","v":""},null,"F7",null,0,0,0]
[{"$f":"VLOOKUP(C8,eventno,11,FALSE)","v":4.1500000000000004},null,null,null,null,null,null,null,{"$f":"VLOOKUP(K8,eventno,11,FALSE)","v":1.7},null,null,null,null,null,null,null,{"$f":"VLOOKUP(S8,eventno,11,FALSE)","v":1.55},null,null,null,null,null,null,null,null,"F8",null,0,0,0]
[{"$f":"VLOOKUP(C17,eventno,5,FALSE)","v":"M"},null,"F4",{"$f":"VLOOKUP(C17,eventno,4,FALSE)","v":"U15B Hammer"},null,{"$f":"IF(A20=\"W\",\"Wind =\",\"\")","v":""},null,{"$f":"IF(OR(G19=0,G19=\"\",$A$21=0,$A$21=\"\"),\"\",IF($A$19=\"F\",IF(G19>$A$21,\"LR\",IF(G19=$A$21,\"LR=\",\"\"))))","v":""},{"$f":"VLOOKUP(K17,eventno,5,FALSE)","v":"M"},null,"F5",{"$f":"VLOOKUP(K17,eventno,4,FALSE)","v":"U17M Hammer"},null,{"$f":"IF(I20=\"W\",\"Wind =\",\"\")","v":""},null,{"$f":"IF(OR(O19=0,O19=\"\",$I$21=0,$I$21=\"\"),\"\",IF($I$19=\"F\",IF(O19>$I$21,\"LR\",IF(O19=$I$21,\"LR=\",\"\"))))","v":""},{"$f":"VLOOKUP(S17,eventno,5,FALSE)","v":"F"},null,"F6",{"$f":"VLOOKUP(S17,eventno,4,FALSE)","v":"U17W Hammer"},null,{"$f":"IF(Q20=\"W\",\"Wind =\",\"\")","v":""},null,{"$f":"IF(OR(W19=0,W19=\"\",$Q$21=0,$Q$21=\"\"),\"\",IF($Q$19=\"F\",IF(W19>$Q$21,\"LR\",IF(W19=$Q$21,\"LR=\",\"\"))))","v":""},null,"F9",null,0,0,0]
[{"$f":"IF(A17=\"M\",VLOOKUP(C17,males2,15,FALSE),VLOOKUP(C17,females2,15,FALSE))","v":35},null,"Posn","Bib","Athlete","Club","Perf","Gr",{"$f":"IF(I17=\"M\",VLOOKUP(K17,males2,15,FALSE),VLOOKUP(K17,females2,15,FALSE))","v":36},null,"Posn","Bib","Athlete","Club","Perf","Gr",{"$f":"IF(Q17=\"M\",VLOOKUP(S17,males2,15,FALSE),VLOOKUP(S17,females2,15,FALSE))","v":36},null,"Posn","Bib","Athlete","Club","Perf","Gr",null,"F10",null,{"$error":"#N/A"},{"$error":"#N/A"},{"$error":"#N/A"}]
[{"$f":"LEFT(C17,1)","v":"F"},2,{"$f":"IF(OR(G19=0,G19=\"\",T(G19)<>\"\"),\"\",RANK(G19,$G$19:$G$24,0))","v":1},{"$f":"IF($AA$12=\"\",Distance!$B55,\" \")","v":1},{"$f":"IF(OR(D19=0,D19=\"\",D19=\" \"),\"\",IF($A$17=\"F\",HLOOKUP(D19,females2,$A$18,FALSE),IF($A$17=\"M\",HLOOKUP(D19,males2,$A$18,FALSE),\"\")))","v":"Daniel Salt"},{"$f":"IF(OR(D19=0,D19=\"\",ISERROR(VLOOKUP(D19,match_teams2,4,FALSE)=TRUE)),\"\",VLOOKUP(D19,match_teams2,4,FALSE))","v":"DASH"},22.48,{"$f":"IF(OR(G19=0,G19=\"\",$A$22=0,$A$22=\"\",$A$23=0,$A$23=\"\",$A$24=0,$A$24=\"\",$A$25=0,$A$25=\"\"),\"\",IF(G19>=$A$22,1,IF(G19>=$A$23,2,IF(G19>=$A$24,3,IF(G19>=$A$25,4,\"\")))))","v":""},{"$f":"LEFT(K17,1)","v":"F"},1,{"$f":"IF(OR(O19=0,O19=\"\",T(O19)<>\"\"),\"\",RANK(O19,$O$19:$O$24,0))","v":1},{"$f":"IF($AA$13=\"\",Distance!$B86,VALUE(LEFT($AA$13,3)))","v":2},{"$f":"IF(OR(L19=0,L19=\"\",L19=\" \"),\"\",IF($I$17=\"F\",HLOOKUP(L19,females2,$I$18,FALSE),IF($I$17=\"M\",HLOOKUP(L19,males2,$I$18,FALSE),\"\")))","v":"Dominic Sykes"},{"$f":"IF(OR(L19=0,L19=\"\",ISERROR(VLOOKUP(L19,match_teams2,4,FALSE)=TRUE)),\"\",VLOOKUP(L19,match_teams2,4,FALSE))","v":"Linc W"},53.34,{"$f":"IF(OR(O19=0,O19=\"\",$I$22=0,$I$22=\"\",$I$23=0,$I$23=\"\",$I$24=0,$I$24=\"\",$I$25=0,$I$25=\"\"),\"\",IF(O19>=$I$22,1,IF(O19>=$I$23,2,IF(O19>=$I$24,3,IF(O19>=$I$25,4,\"\")))))","v":2},{"$f":"LEFT(S17,1)","v":"F"},2,{"$f":"IF(OR(W19=0,W19=\"\",T(W19)<>\"\"),\"\",RANK(W19,$W$19:$W$24,0))","v":1},{"$f":"IF($AA$14=\"\",Distance!$B119,\" \")","v":2},{"$f":"IF(OR(T19=0,T19=\"\",T19=\" \"),\"\",IF($Q$17=\"F\",HLOOKUP(T19,females2,$Q$18,FALSE),IF($Q$17=\"M\",HLOOKUP(T19,males2,$Q$18,FALSE),\"\")))","v":"Elsie Dawes"},{"$f":"IF(OR(T19=0,T19=\"\",ISERROR(VLOOKUP(T19,match_teams2,4,FALSE)=TRUE)),\"\",VLOOKUP(T19,match_teams2,4,FALSE))","v":"Linc W"},21.37,{"$f":"IF(OR(W19=0,W19=\"\",$Q$22=0,$Q$22=\"\",$Q$23=0,$Q$23=\"\",$Q$24=0,$Q$24=\"\",$Q$25=0,$Q$25=\"\"),\"\",IF(W19>=$Q$22,1,IF(W19>=$Q$23,2,IF(W19>=$Q$24,3,IF(W19>=$Q$25,4,\"\")))))","v":""},null,"F11",null,6,6,6]
[{"$f":"VLOOKUP(C17,eventno,6,FALSE)","v":0},1,{"$f":"IF(OR(G20=0,G20=\"\",T(G20)<>\"\"),\"\",RANK(G20,$G$19:$G$24,0))","v":""},{"$f":"IF($AA$12=\"\",Distance!$B54,VALUE(LEFT($AA$12,3)))","v":3},{"$f":"IF(OR(D20=0,D20=\"\",D20=\" \"),\"\",IF($A$17=\"F\",HLOOKUP(D20,females2,$A$18,FALSE),IF($A$17=\"M\",HLOOKUP(D20,males2,$A$18,FALSE),\"\")))","v":"-"},{"$f":"IF(OR(D20=0,D20=\"\",ISERROR(VLOOKUP(D20,match_teams2,4,FALSE)=TRUE)),\"\",VLOOKUP(D20,match_teams2,4,FALSE))","v":"Hallam"},null,{"$f":"IF(OR(G20=0,G20=\"\",$A$22=0,$A$22=\"\",$A$23=0,$A$23=\"\",$A$24=0,$A$24=\"\",$A$25=0,$A$25=\"\"),\"\",IF(G20>=$A$22,1,IF(G20>=$A$23,2,IF(G20>=$A$24,3,IF(G20>=$A$25,4,\"\")))))","v":""},{"$f":"VLOOKUP(K17,eventno,6,FALSE)","v":0},6,{"$f":"IF(OR(O20=0,O20=\"\",T(O20)<>\"\"),\"\",RANK(O20,$O$19:$O$24,0))","v":2},{"$f":"IF($AA$13=\"\",Distance!$B91,\" \")","v":11},{"$f":"IF(OR(L20=0,L20=\"\",L20=\" \"),\"\",IF($I$17=\"F\",HLOOKUP(L20,females2,$I$18,FALSE),IF($I$17=\"M\",HLOOKUP(L20,males2,$I$18,FALSE),\"\")))","v":"James Smith"},{"$f":"IF(OR(L20=0,L20=\"\",ISERROR(VLOOKUP(L20,match_teams2,4,FALSE)=TRUE)),\"\",VLOOKUP(L20,match_teams2,4,FALSE))","v":"DASH"},25.35,{"$f":"IF(OR(O20=0,O20=\"\",$I$22=0,$I$22=\"\",$I$23=0,$I$23=\"\",$I$24=0,$I$24=\"\",$I$25=0,$I$25=\"\"),\"\",IF(O20>=$I$22,1,IF(O20>=$I$23,2,IF(O20>=$I$24,3,IF(O20>=$I$25,4,\"\")))))","v":""},{"$f":"VLOOKUP(S17,eventno,6,FALSE)","v":0},1,{"$f":"IF(OR(W20=0,W20=\"\",T(W20)<>\"\"),\"\",RANK(W20,$W$19:$W$24,0))","v":""},{"$f":"IF($AA$14=\"\",Distance!$B118,VALUE(LEFT($AA$14,3)))","v":1},{"$f":"IF(OR(T20=0,T20=\"\",T20=\" \"),\"\",IF($Q$17=\"F\",HLOOKUP(T20,females2,$Q$18,FALSE),IF($Q$17=\"M\",HLOOKUP(T20,males2,$Q$18,FALSE),\"\")))","v":"-"},{"$f":"IF(OR(T20=0,T20=\"\",ISERROR(VLOOKUP(T20,match_teams2,4,FALSE)=TRUE)),\"\",VLOOKUP(T20,match_teams2,4,FALSE))","v":"DASH"},null,{"$f":"IF(OR(W20=0,W20=\"\",$Q$22=0,$Q$22=\"\",$Q$23=0,$Q$23=\"\",$Q$24=0,$Q$24=\"\",$Q$25=0,$Q$25=\"\"),\"\",IF(W20>=$Q$22,1,IF(W20>=$Q$23,2,IF(W20>=$Q$24,3,IF(W20>=$Q$25,4,\"\")))))","v":""},null,"F12",null,0,5,0]
[{"$f":"VLOOKUP(C17,eventno,7,FALSE)","v":69.040000000000006},3,{"$f":"IF(OR(G21=0,G21=\"\",T(G21)<>\"\"),\"\",RANK(G21,$G$19:$G$24,0))","v":""},{"$f":"IF($AA$12=\"\",Distance!$B56,\" \")","v":2},{"$f":"IF(OR(D21=0,D21=\"\",D21=\" \"),\"\",IF($A$17=\"F\",HLOOKUP(D21,females2,$A$18,FALSE),IF($A$17=\"M\",HLOOKUP(D21,males2,$A$18,FALSE),\"\")))","v":"-"},{"$f":"IF(OR(D21=0,D21=\"\",ISERROR(VLOOKUP(D21,match_teams2,4,FALSE)=TRUE)),\"\",VLOOKUP(D21,match_teams2,4,FALSE))","v":"Linc W"},null,{"$f":"IF(OR(G21=0,G21=\"\",$A$22=0,$A$22=\"\",$A$23=0,$A$23=\"\",$A$24=0,$A$24=\"\",$A$25=0,$A$25=\"\"),\"\",IF(G21>=$A$22,1,IF(G21>=$A$23,2,IF(G21>=$A$24,3,IF(G21>=$A$25,4,\"\")))))","v":""},{"$f":"VLOOKUP(K17,eventno,7,FALSE)","v":74.8},3,{"$f":"IF(OR(O21=0,O21=\"\",T(O21)<>\"\"),\"\",RANK(O21,$O$19:$O$24,0))","v":3},{"$f":"IF($AA$13=\"\",Distance!$B88,\" \")","v":1},{"$f":"IF(OR(L21=0,L21=\"\",L21=\" \"),\"\",IF($I$17=\"F\",HLOOKUP(L21,females2,$I$18,FALSE),IF($I$17=\"M\",HLOOKUP(L21,males2,$I$18,FALSE),\"\")))","v":"Niall Hunt"},{"$f":"IF(OR(L21=0,L21=\"\",ISERROR(VLOOKUP(L21,match_teams2,4,FALSE)=TRUE)),\"\",VLOOKUP(L21,match_teams2,4,FALSE))","v":"DASH"},19.440000000000001,{"$f":"IF(OR(O21=0,O21=\"\",$I$22=0,$I$22=\"\",$I$23=0,$I$23=\"\",$I$24=0,$I$24=\"\",$I$25=0,$I$25=\"\"),\"\",IF(O21>=$I$22,1,IF(O21>=$I$23,2,IF(O21>=$I$24,3,IF(O21>=$I$25,4,\"\")))))","v":""},{"$f":"VLOOKUP(S17,eventno,7,FALSE)","v":52.37},3,{"$f":"IF(OR(W21=0,W21=\"\",T(W21)<>\"\"),\"\",RANK(W21,$W$19:$W$24,0))","v":""},{"$f":"IF($AA$14=\"\",Distance!$B120,\" \")","v":3},{"$f":"IF(OR(T21=0,T21=\"\",T21=\" \"),\"\",IF($Q$17=\"F\",HLOOKUP(T21,females2,$Q$18,FALSE),IF($Q$17=\"M\",HLOOKUP(T21,males2,$Q$18,FALSE),\"\")))","v":"-"},{"$f":"IF(OR(T21=0,T21=\"\",ISERROR(VLOOKUP(T21,match_teams2,4,FALSE)=TRUE)),\"\",VLOOKUP(T21,match_teams2,4,FALSE))","v":"Hallam"},null,{"$f":"IF(OR(W21=0,W21=\"\",$Q$22=0,$Q$22=\"\",$Q$23=0,$Q$23=\"\",$Q$24=0,$Q$24=\"\",$Q$25=0,$Q$25=\"\"),\"\",IF(W21>=$Q$22,1,IF(W21>=$Q$23,2,IF(W21>=$Q$24,3,IF(W21>=$Q$25,4,\"\")))))","v":""},null,"F13",null,0,4,0]
[{"$f":"VLOOKUP(C17,eventno,8,FALSE)","v":46.2},4,{"$f":"IF(OR(G22=0,G22=\"\",T(G22)<>\"\"),\"\",RANK(G22,$G$19:$G$24,0))","v":""},{"$f":"IF($AA$12=\"\",Distance!$B57,\" \")","v":33},{"$f":"IF(OR(D22=0,D22=\"\",D22=\" \"),\"\",IF($A$17=\"F\",HLOOKUP(D22,females2,$A$18,FALSE),IF($A$17=\"M\",HLOOKUP(D22,males2,$A$18,FALSE),\"\")))","v":"-"},{"$f":"IF(OR(D22=0,D22=\"\",ISERROR(VLOOKUP(D22,match_teams2,4,FALSE)=TRUE)),\"\",VLOOKUP(D22,match_teams2,4,FALSE))","v":"Hallam"},null,{"$f":"IF(OR(G22=0,G22=\"\",$A$22=0,$A$22=\"\",$A$23=0,$A$23=\"\",$A$24=0,$A$24=\"\",$A$25=0,$A$25=\"\"),\"\",IF(G22>=$A$22,1,IF(G22>=$A$23,2,IF(G22>=$A$24,3,IF(G22>=$A$25,4,\"\")))))","v":""},{"$f":"VLOOKUP(K17,eventno,8,FALSE)","v":58},2,{"$f":"IF(OR(O22=0,O22=\"\",T(O22)<>\"\"),\"\",RANK(O22,$O$19:$O$24,0))","v":""},{"$f":"IF($AA$13=\"\",Distance!$B87,\" \")","v":3},{"$f":"IF(OR(L22=0,L22=\"\",L22=\" \"),\"\",IF($I$17=\"F\",HLOOKUP(L22,females2,$I$18,FALSE),IF($I$17=\"M\",HLOOKUP(L22,males2,$I$18,FALSE),\"\")))","v":"-"},{"$f":"IF(OR(L22=0,L22=\"\",ISERROR(VLOOKUP(L22,match_teams2,4,FALSE)=TRUE)),\"\",VLOOKUP(L22,match_teams2,4,FALSE))","v":"Hallam"},null,{"$f":"IF(OR(O22=0,O22=\"\",$I$22=0,$I$22=\"\",$I$23=0,$I$23=\"\",$I$24=0,$I$24=\"\",$I$25=0,$I$25=\"\"),\"\",IF(O22>=$I$22,1,IF(O22>=$I$23,2,IF(O22>=$I$24,3,IF(O22>=$I$25,4,\"\")))))","v":""},{"$f":"VLOOKUP(S17,eventno,8,FALSE)","v":40.700000000000003},4,{"$f":"IF(OR(W22=0,W22=\"\",T(W22)<>\"\"),\"\",RANK(W22,$W$19:$W$24,0))","v":""},{"$f":"IF($AA$14=\"\",Distance!$B121,\" \")","v":11},{"$f":"IF(OR(T22=0,T22=\"\",T22=\" \"),\"\",IF($Q$17=\"F\",HLOOKUP(T22,females2,$Q$18,FALSE),IF($Q$17=\"M\",HLOOKUP(T22,males2,$Q$18,FALSE),\"\")))","v":"-"},{"$f":"IF(OR(T22=0,T22=\"\",ISERROR(VLOOKUP(T22,match_teams2,4,FALSE)=TRUE)),\"\",VLOOKUP(T22,match_teams2,4,FALSE))","v":"DASH"},null,{"$f":"IF(OR(W22=0,W22=\"\",$Q$22=0,$Q$22=\"\",$Q$23=0,$Q$23=\"\",$Q$24=0,$Q$24=\"\",$Q$25=0,$Q$25=\"\"),\"\",IF(W22>=$Q$22,1,IF(W22>=$Q$23,2,IF(W22>=$Q$24,3,IF(W22>=$Q$25,4,\"\")))))","v":""},null,"F14",null,0,0,0]
[{"$f":"VLOOKUP(C17,eventno,9,FALSE)","v":41.1},5,{"$f":"IF(OR(G23=0,G23=\"\",T(G23)<>\"\"),\"\",RANK(G23,$G$19:$G$24,0))","v":""},{"$f":"IF($AA$12=\"\",Distance!$B58,\" \")","v":11},{"$f":"IF(OR(D23=0,D23=\"\",D23=\" \"),\"\",IF($A$17=\"F\",HLOOKUP(D23,females2,$A$18,FALSE),IF($A$17=\"M\",HLOOKUP(D23,males2,$A$18,FALSE),\"\")))","v":"-"},{"$f":"IF(OR(D23=0,D23=\"\",ISERROR(VLOOKUP(D23,match_teams2,4,FALSE)=TRUE)),\"\",VLOOKUP(D23,match_teams2,4,FALSE))","v":"DASH"},null,{"$f":"IF(OR(G23=0,G23=\"\",$A$22=0,$A$22=\"\",$A$23=0,$A$23=\"\",$A$24=0,$A$24=\"\",$A$25=0,$A$25=\"\"),\"\",IF(G23>=$A$22,1,IF(G23>=$A$23,2,IF(G23>=$A$24,3,IF(G23>=$A$25,4,\"\")))))","v":""},{"$f":"VLOOKUP(K17,eventno,9,FALSE)","v":48.6},4,{"$f":"IF(OR(O23=0,O23=\"\",T(O23)<>\"\"),\"\",RANK(O23,$O$19:$O$24,0))","v":""},{"$f":"IF($AA$13=\"\",Distance!$B89,\" \")","v":22},{"$f":"IF(OR(L23=0,L23=\"\",L23=\" \"),\"\",IF($I$17=\"F\",HLOOKUP(L23,females2,$I$18,FALSE),IF($I$17=\"M\",HLOOKUP(L23,males2,$I$18,FALSE),\"\")))","v":"-"},{"$f":"IF(OR(L23=0,L23=\"\",ISERROR(VLOOKUP(L23,match_teams2,4,FALSE)=TRUE)),\"\",VLOOKUP(L23,match_teams2,4,FALSE))","v":"Linc W"},null,{"$f":"IF(OR(O23=0,O23=\"\",$I$22=0,$I$22=\"\",$I$23=0,$I$23=\"\",$I$24=0,$I$24=\"\",$I$25=0,$I$25=\"\"),\"\",IF(O23>=$I$22,1,IF(O23>=$I$23,2,IF(O23>=$I$24,3,IF(O23>=$I$25,4,\"\")))))","v":""},{"$f":"VLOOKUP(S17,eventno,9,FALSE)","v":36.85},5,{"$f":"IF(OR(W23=0,W23=\"\",T(W23)<>\"\"),\"\",RANK(W23,$W$19:$W$24,0))","v":""},{"$f":"IF($AA$14=\"\",Distance!$B122,\" \")","v":22},{"$f":"IF(OR(T23=0,T23=\"\",T23=\" \"),\"\",IF($Q$17=\"F\",HLOOKUP(T23,females2,$Q$18,FALSE),IF($Q$17=\"M\",HLOOKUP(T23,males2,$Q$18,FALSE),\"\")))","v":"-"},{"$f":"IF(OR(T23=0,T23=\"\",ISERROR(VLOOKUP(T23,match_teams2,4,FALSE)=TRUE)),\"\",VLOOKUP(T23,match_teams2,4,FALSE))","v":"Linc W"},null,{"$f":"IF(OR(W23=0,W23=\"\",$Q$22=0,$Q$22=\"\",$Q$23=0,$Q$23=\"\",$Q$24=0,$Q$24=\"\",$Q$25=0,$Q$25=\"\"),\"\",IF(W23>=$Q$22,1,IF(W23>=$Q$23,2,IF(W23>=$Q$24,3,IF(W23>=$Q$25,4,\"\")))))","v":""},null,"F15",null,0,0,0]
[{"$f":"VLOOKUP(C17,eventno,10,FALSE)","v":34.200000000000003},6,{"$f":"IF(OR(G24=0,G24=\"\",T(G24)<>\"\"),\"\",RANK(G24,$G$19:$G$24,0))","v":""},{"$f":"IF($AA$12=\"\",Distance!$B59,\" \")","v":22},{"$f":"IF(OR(D24=0,D24=\"\",D24=\" \"),\"\",IF($A$17=\"F\",HLOOKUP(D24,females2,$A$18,FALSE),IF($A$17=\"M\",HLOOKUP(D24,males2,$A$18,FALSE),\"\")))","v":"-"},{"$f":"IF(OR(D24=0,D24=\"\",ISERROR(VLOOKUP(D24,match_teams2,4,FALSE)=TRUE)),\"\",VLOOKUP(D24,match_teams2,4,FALSE))","v":"Linc W"},null,{"$f":"IF(OR(G24=0,G24=\"\",$A$22=0,$A$22=\"\",$A$23=0,$A$23=\"\",$A$24=0,$A$24=\"\",$A$25=0,$A$25=\"\"),\"\",IF(G24>=$A$22,1,IF(G24>=$A$23,2,IF(G24>=$A$24,3,IF(G24>=$A$25,4,\"\")))))","v":""},{"$f":"VLOOKUP(K17,eventno,10,FALSE)","v":39.25},5,{"$f":"IF(OR(O24=0,O24=\"\",T(O24)<>\"\"),\"\",RANK(O24,$O$19:$O$24,0))","v":""},{"$f":"IF($AA$13=\"\",Distance!$B90,\" \")","v":33},{"$f":"IF(OR(L24=0,L24=\"\",L24=\" \"),\"\",IF($I$17=\"F\",HLOOKUP(L24,females2,$I$18,FALSE),IF($I$17=\"M\",HLOOKUP(L24,males2,$I$18,FALSE),\"\")))","v":"-"},{"$f":"IF(OR(L24=0,L24=\"\",ISERROR(VLOOKUP(L24,match_teams2,4,FALSE)=TRUE)),\"\",VLOOKUP(L24,match_teams2,4,FALSE))","v":"Hallam"},null,{"$f":"IF(OR(O24=0,O24=\"\",$I$22=0,$I$22=\"\",$I$23=0,$I$23=\"\",$I$24=0,$I$24=\"\",$I$25=0,$I$25=\"\"),\"\",IF(O24>=$I$22,1,IF(O24>=$I$23,2,IF(O24>=$I$24,3,IF(O24>=$I$25,4,\"\")))))","v":""},{"$f":"VLOOKUP(S17,eventno,10,FALSE)","v":31.6},6,{"$f":"IF(OR(W24=0,W24=\"\",T(W24)<>\"\"),\"\",RANK(W24,$W$19:$W$24,0))","v":""},{"$f":"IF($AA$14=\"\",Distance!$B123,\" \")","v":33},{"$f":"IF(OR(T24=0,T24=\"\",T24=\" \"),\"\",IF($Q$17=\"F\",HLOOKUP(T24,females2,$Q$18,FALSE),IF($Q$17=\"M\",HLOOKUP(T24,males2,$Q$18,FALSE),\"\")))","v":"-"},{"$f":"IF(OR(T24=0,T24=\"\",ISERROR(VLOOKUP(T24,match_teams2,4,FALSE)=TRUE)),\"\",VLOOKUP(T24,match_teams2,4,FALSE))","v":"Hallam"},null,{"$f":"IF(OR(W24=0,W24=\"\",$Q$22=0,$Q$22=\"\",$Q$23=0,$Q$23=\"\",$Q$24=0,$Q$24=\"\",$Q$25=0,$Q$25=\"\"),\"\",IF(W24>=$Q$22,1,IF(W24>=$Q$23,2,IF(W24>=$Q$24,3,IF(W24>=$Q$25,4,\"\")))))","v":""},null,"F16",null,0,0,0]
[{"$f":"VLOOKUP(C17,eventno,11,FALSE)","v":27.8},null,null,null,null,null,null,null,{"$f":"VLOOKUP(K17,eventno,11,FALSE)","v":29.3},null,null,null,null,null,null,null,{"$f":"VLOOKUP(S17,eventno,11,FALSE)","v":22.6},null,null,null,null,null,null,null,null,"F17",null,0,0,0]
[{"$f":"VLOOKUP(C26,eventno,5,FALSE)","v":"F"},null,"F7",{"$f":"VLOOKUP(C26,eventno,4,FALSE)","v":"U17W Long Jump"},null,{"$f":"IF(A29=\"W\",\"Wind =\",\"\")","v":""},null,{"$f":"IF(OR(G28=0,G28=\"\",$A$30=0,$A$30=\"\"),\"\",IF($A$28=\"F\",IF(G28>$A$30,\"LR\",IF(G28=$A$30,\"LR=\",\"\"))))","v":""},{"$f":"VLOOKUP(K26,eventno,5,FALSE)","v":"M"},null,"F8",{"$f":"VLOOKUP(K26,eventno,4,FALSE)","v":"U15B Shot"},null,{"$f":"IF(I29=\"W\",\"Wind =\",\"\")","v":""},null,{"$f":"IF(OR(O28=0,O28=\"\",$I$30=0,$I$30=\"\"),\"\",IF($I$28=\"F\",IF(O28>$I$30,\"LR\",IF(O28=$I$30,\"LR=\",\"\"))))","v":""},{"$f":"VLOOKUP(S26,eventno,5,FALSE)","v":"F"},null,"F9",{"$f":"VLOOKUP(S26,eventno,4,FALSE)","v":"U13G Long Jump"},null,{"$f":"IF(Q29=\"W\",\"Wind =\",\"\")","v":""},null,{"$f":"IF(OR(W28=0,W28=\"\",$Q$30=0,$Q$30=\"\"),\"\",IF($Q$28=\"F\",IF(W28>$Q$30,\"LR\",IF(W28=$Q$30,\"LR=\",\"\"))))","v":""},null,"F18",null,0,0,0]
[{"$f":"IF(A26=\"M\",VLOOKUP(C26,males2,15,FALSE),VLOOKUP(C26,females2,15,FALSE))","v":43},null,"Posn","Bib","Athlete","Club","Perf","Gr",{"$f":"IF(I26=\"M\",VLOOKUP(K26,males2,15,FALSE),VLOOKUP(K26,females2,15,FALSE))","v":37},null,"Posn","Bib","Athlete","Club","Perf","Gr",{"$f":"IF(Q26=\"M\",VLOOKUP(S26,males2,15,FALSE),VLOOKUP(S26,females2,15,FALSE))","v":32},null,"Posn","Bib","Athlete","Club","Perf","Gr",null,"F19",null,{"$error":"#N/A"},{"$error":"#N/A"},{"$error":"#N/A"}]
[{"$f":"LEFT(C26,1)","v":"F"},2,{"$f":"IF(OR(G28=0,G28=\"\",T(G28)<>\"\"),\"\",RANK(G28,$G$28:$G$33,0))","v":1},{"$f":"IF($AA$15=\"\",Distance!$B151,\" \")","v":2},{"$f":"IF(OR(D28=0,D28=\"\",D28=\" \"),\"\",IF($A$26=\"F\",HLOOKUP(D28,females2,$A$27,FALSE),IF($A$26=\"M\",HLOOKUP(D28,males2,$A$27,FALSE),\"\")))","v":"Sydney Cherrie"},{"$f":"IF(OR(D28=0,D28=\"\",ISERROR(VLOOKUP(D28,match_teams2,4,FALSE)=TRUE)),\"\",VLOOKUP(D28,match_teams2,4,FALSE))","v":"Linc W"},4.59,{"$f":"IF(OR(G28=0,G28=\"\",$A$31=0,$A$31=\"\",$A$32=0,$A$32=\"\",$A$33=0,$A$33=\"\",$A$34=0,$A$34=\"\"),\"\",IF(G28>=$A$31,1,IF(G28>=$A$32,2,IF(G28>=$A$33,3,IF(G28>=$A$34,4,\"\")))))","v":""},{"$f":"LEFT(K26,1)","v":"F"},1,{"$f":"IF(OR(O28=0,O28=\"\",T(O28)<>\"\"),\"\",RANK(O28,$O$28:$O$33,0))","v":1},{"$f":"IF($AA$16=\"\",Distance!$B182,VALUE(LEFT($AA$16,3)))","v":2},{"$f":"IF(OR(L28=0,L28=\"\",L28=\" \"),\"\",IF($I$26=\"F\",HLOOKUP(L28,females2,$I$27,FALSE),IF($I$26=\"M\",HLOOKUP(L28,males2,$I$27,FALSE),\"\")))","v":"Daniel Flemming"},{"$f":"IF(OR(L28=0,L28=\"\",ISERROR(VLOOKUP(L28,match_teams2,4,FALSE)=TRUE)),\"\",VLOOKUP(L28,match_teams2,4,FALSE))","v":"Linc W"},9.27,{"$f":"IF(OR(O28=0,O28=\"\",$I$31=0,$I$31=\"\",$I$32=0,$I$32=\"\",$I$33=0,$I$33=\"\",$I$34=0,$I$34=\"\"),\"\",IF(O28>=$I$31,1,IF(O28>=$I$32,2,IF(O28>=$I$33,3,IF(O28>=$I$34,4,\"\")))))","v":""},{"$f":"LEFT(S26,1)","v":"F"},1,{"$f":"IF(OR(W28=0,W28=\"\",T(W28)<>\"\"),\"\",RANK(W28,$W$28:$W$33,0))","v":1},{"$f":"IF($AA$17=\"\",Distance!$B214,VALUE(LEFT($AA$17,3)))","v":3},{"$f":"IF(OR(T28=0,T28=\"\",T28=\" \"),\"\",IF($Q$26=\"F\",HLOOKUP(T28,females2,$Q$27,FALSE),IF($Q$26=\"M\",HLOOKUP(T28,males2,$Q$27,FALSE),\"\")))","v":"Gabby Craft"},{"$f":"IF(OR(T28=0,T28=\"\",ISERROR(VLOOKUP(T28,match_teams2,4,FALSE)=TRUE)),\"\",VLOOKUP(T28,match_teams2,4,FALSE))","v":"Hallam"},3.78,{"$f":"IF(OR(W28=0,W28=\"\",$Q$31=0,$Q$31=\"\",$Q$32=0,$Q$32=\"\",$Q$33=0,$Q$33=\"\",$Q$34=0,$Q$34=\"\"),\"\",IF(W28>=$Q$31,1,IF(W28>=$Q$32,2,IF(W28>=$Q$33,3,IF(W28>=$Q$34,4,\"\")))))","v":""},null,"F20",null,6,6,6]
[{"$f":"VLOOKUP(C26,eventno,6,FALSE)","v":0},1,{"$f":"IF(OR(G29=0,G29=\"\",T(G29)<>\"\"),\"\",RANK(G29,$G$28:$G$33,0))","v":""},{"$f":"IF($AA$15=\"\",Distance!$B150,VALUE(LEFT($AA$15,3)))","v":1},{"$f":"IF(OR(D29=0,D29=\"\",D29=\" \"),\"\",IF($A$26=\"F\",HLOOKUP(D29,females2,$A$27,FALSE),IF($A$26=\"M\",HLOOKUP(D29,males2,$A$27,FALSE),\"\")))","v":"-"},{"$f":"IF(OR(D29=0,D29=\"\",ISERROR(VLOOKUP(D29,match_teams2,4,FALSE)=TRUE)),\"\",VLOOKUP(D29,match_teams2,4,FALSE))","v":"DASH"},null,{"$f":"IF(OR(G29=0,G29=\"\",$A$31=0,$A$31=\"\",$A$32=0,$A$32=\"\",$A$33=0,$A$33=\"\",$A$34=0,$A$34=\"\"),\"\",IF(G29>=$A$31,1,IF(G29>=$A$32,2,IF(G29>=$A$33,3,IF(G29>=$A$34,4,\"\")))))","v":""},{"$f":"VLOOKUP(K26,eventno,6,FALSE)","v":0},2,{"$f":"IF(OR(O29=0,O29=\"\",T(O29)<>\"\"),\"\",RANK(O29,$O$28:$O$33,0))","v":2},{"$f":"IF($AA$16=\"\",Distance!$B183,\" \")","v":3},{"$f":"IF(OR(L29=0,L29=\"\",L29=\" \"),\"\",IF($I$26=\"F\",HLOOKUP(L29,females2,$I$27,FALSE),IF($I$26=\"M\",HLOOKUP(L29,males2,$I$27,FALSE),\"\")))","v":"Jack Jones"},{"$f":"IF(OR(L29=0,L29=\"\",ISERROR(VLOOKUP(L29,match_teams2,4,FALSE)=TRUE)),\"\",VLOOKUP(L29,match_teams2,4,FALSE))","v":"Hallam"},9.0399999999999991,{"$f":"IF(OR(O29=0,O29=\"\",$I$31=0,$I$31=\"\",$I$32=0,$I$32=\"\",$I$33=0,$I$33=\"\",$I$34=0,$I$34=\"\"),\"\",IF(O29>=$I$31,1,IF(O29>=$I$32,2,IF(O29>=$I$33,3,IF(O29>=$I$34,4,\"\")))))","v":""},{"$f":"VLOOKUP(S26,eventno,6,FALSE)","v":0},4,{"$f":"IF(OR(W29=0,W29=\"\",T(W29)<>\"\"),\"\",RANK(W29,$W$28:$W$33,0))","v":2},{"$f":"IF($AA$17=\"\",Distance!$B217,\" \")","v":33},{"$f":"IF(OR(T29=0,T29=\"\",T29=\" \"),\"\",IF($Q$26=\"F\",HLOOKUP(T29,females2,$Q$27,FALSE),IF($Q$26=\"M\",HLOOKUP(T29,males2,$Q$27,FALSE),\"\")))","v":"Hannah Bellamy"},{"$f":"IF(OR(T29=0,T29=\"\",ISERROR(VLOOKUP(T29,match_teams2,4,FALSE)=TRUE)),\"\",VLOOKUP(T29,match_teams2,4,FALSE))","v":"Hallam"},3.57,{"$f":"IF(OR(W29=0,W29=\"\",$Q$31=0,$Q$31=\"\",$Q$32=0,$Q$32=\"\",$Q$33=0,$Q$33=\"\",$Q$34=0,$Q$34=\"\"),\"\",IF(W29>=$Q$31,1,IF(W29>=$Q$32,2,IF(W29>=$Q$33,3,IF(W29>=$Q$34,4,\"\")))))","v":""},null,"F21",null,0,5,5]
[{"$f":"VLOOKUP(C26,eventno,7,FALSE)","v":6.15},3,{"$f":"IF(OR(G30=0,G30=\"\",T(G30)<>\"\"),\"\",RANK(G30,$G$28:$G$33,0))","v":""},{"$f":"IF($AA$15=\"\",Distance!$B152,\" \")","v":3},{"$f":"IF(OR(D30=0,D30=\"\",D30=\" \"),\"\",IF($A$26=\"F\",HLOOKUP(D30,females2,$A$27,FALSE),IF($A$26=\"M\",HLOOKUP(D30,males2,$A$27,FALSE),\"\")))","v":"-"},{"$f":"IF(OR(D30=0,D30=\"\",ISERROR(VLOOKUP(D30,match_teams2,4,FALSE)=TRUE)),\"\",VLOOKUP(D30,match_teams2,4,FALSE))","v":"Hallam"},null,{"$f":"IF(OR(G30=0,G30=\"\",$A$31=0,$A$31=\"\",$A$32=0,$A$32=\"\",$A$33=0,$A$33=\"\",$A$34=0,$A$34=\"\"),\"\",IF(G30>=$A$31,1,IF(G30>=$A$32,2,IF(G30>=$A$33,3,IF(G30>=$A$34,4,\"\")))))","v":""},{"$f":"VLOOKUP(K26,eventno,7,FALSE)","v":18.5},3,{"$f":"IF(OR(O30=0,O30=\"\",T(O30)<>\"\"),\"\",RANK(O30,$O$28:$O$33,0))","v":3},{"$f":"IF($AA$16=\"\",Distance!$B184,\" \")","v":1},{"$f":"IF(OR(L30=0,L30=\"\",L30=\" \"),\"\",IF($I$26=\"F\",HLOOKUP(L30,females2,$I$27,FALSE),IF($I$26=\"M\",HLOOKUP(L30,males2,$I$27,FALSE),\"\")))","v":"Daniel Salt"},{"$f":"IF(OR(L30=0,L30=\"\",ISERROR(VLOOKUP(L30,match_teams2,4,FALSE)=TRUE)),\"\",VLOOKUP(L30,match_teams2,4,FALSE))","v":"DASH"},7.64,{"$f":"IF(OR(O30=0,O30=\"\",$I$31=0,$I$31=\"\",$I$32=0,$I$32=\"\",$I$33=0,$I$33=\"\",$I$34=0,$I$34=\"\"),\"\",IF(O30>=$I$31,1,IF(O30>=$I$32,2,IF(O30>=$I$33,3,IF(O30>=$I$34,4,\"\")))))","v":""},{"$f":"VLOOKUP(S26,eventno,7,FALSE)","v":5.35},3,{"$f":"IF(OR(W30=0,W30=\"\",T(W30)<>\"\"),\"\",RANK(W30,$W$28:$W$33,0))","v":3},{"$f":"IF($AA$17=\"\",Distance!$B216,\" \")","v":2},{"$f":"IF(OR(T30=0,T30=\"\",T30=\" \"),\"\",IF($Q$26=\"F\",HLOOKUP(T30,females2,$Q$27,FALSE),IF($Q$26=\"M\",HLOOKUP(T30,males2,$Q$27,FALSE),\"\")))","v":"Laura Wilkinson"},{"$f":"IF(OR(T30=0,T30=\"\",ISERROR(VLOOKUP(T30,match_teams2,4,FALSE)=TRUE)),\"\",VLOOKUP(T30,match_teams2,4,FALSE))","v":"Linc W"},3.55,{"$f":"IF(OR(W30=0,W30=\"\",$Q$31=0,$Q$31=\"\",$Q$32=0,$Q$32=\"\",$Q$33=0,$Q$33=\"\",$Q$34=0,$Q$34=\"\"),\"\",IF(W30>=$Q$31,1,IF(W30>=$Q$32,2,IF(W30>=$Q$33,3,IF(W30>=$Q$34,4,\"\")))))","v":""},null,"F22",null,0,4,4]
[{"$f":"VLOOKUP(C26,eventno,8,FALSE)","v":5.35},4,{"$f":"IF(OR(G31=0,G31=\"\",T(G31)<>\"\"),\"\",RANK(G31,$G$28:$G$33,0))","v":""},{"$f":"IF($AA$15=\"\",Distance!$B153,\" \")","v":11},{"$f":"IF(OR(D31=0,D31=\"\",D31=\" \"),\"\",IF($A$26=\"F\",HLOOKUP(D31,females2,$A$27,FALSE),IF($A$26=\"M\",HLOOKUP(D31,males2,$A$27,FALSE),\"\")))","v":"-"},{"$f":"IF(OR(D31=0,D31=\"\",ISERROR(VLOOKUP(D31,match_teams2,4,FALSE)=TRUE)),\"\",VLOOKUP(D31,match_teams2,4,FALSE))","v":"DASH"},null,{"$f":"IF(OR(G31=0,G31=\"\",$A$31=0,$A$31=\"\",$A$32=0,$A$32=\"\",$A$33=0,$A$33=\"\",$A$34=0,$A$34=\"\"),\"\",IF(G31>=$A$31,1,IF(G31>=$A$32,2,IF(G31>=$A$33,3,IF(G31>=$A$34,4,\"\")))))","v":""},{"$f":"VLOOKUP(K26,eventno,8,FALSE)","v":12.35},4,{"$f":"IF(OR(O31=0,O31=\"\",T(O31)<>\"\"),\"\",RANK(O31,$O$28:$O$33,0))","v":4},{"$f":"IF($AA$16=\"\",Distance!$B185,\" \")","v":22},{"$f":"IF(OR(L31=0,L31=\"\",L31=\" \"),\"\",IF($I$26=\"F\",HLOOKUP(L31,females2,$I$27,FALSE),IF($I$26=\"M\",HLOOKUP(L31,males2,$I$27,FALSE),\"\")))","v":"Daniel Skinner"},{"$f":"IF(OR(L31=0,L31=\"\",ISERROR(VLOOKUP(L31,match_teams2,4,FALSE)=TRUE)),\"\",VLOOKUP(L31,match_teams2,4,FALSE))","v":"Linc W"},6.2,{"$f":"IF(OR(O31=0,O31=\"\",$I$31=0,$I$31=\"\",$I$32=0,$I$32=\"\",$I$33=0,$I$33=\"\",$I$34=0,$I$34=\"\"),\"\",IF(O31>=$I$31,1,IF(O31>=$I$32,2,IF(O31>=$I$33,3,IF(O31>=$I$34,4,\"\")))))","v":""},{"$f":"VLOOKUP(S26,eventno,8,FALSE)","v":4.45},5,{"$f":"IF(OR(W31=0,W31=\"\",T(W31)<>\"\"),\"\",RANK(W31,$W$28:$W$33,0))","v":4},{"$f":"IF($AA$17=\"\",Distance!$B218,\" \")","v":11},{"$f":"IF(OR(T31=0,T31=\"\",T31=\" \"),\"\",IF($Q$26=\"F\",HLOOKUP(T31,females2,$Q$27,FALSE),IF($Q$26=\"M\",HLOOKUP(T31,males2,$Q$27,FALSE),\"\")))","v":"Hope Leverette"},{"$f":"IF(OR(T31=0,T31=\"\",ISERROR(VLOOKUP(T31,match_teams2,4,FALSE)=TRUE)),\"\",VLOOKUP(T31,match_teams2,4,FALSE))","v":"DASH"},3.08,{"$f":"IF(OR(W31=0,W31=\"\",$Q$31=0,$Q$31=\"\",$Q$32=0,$Q$32=\"\",$Q$33=0,$Q$33=\"\",$Q$34=0,$Q$34=\"\"),\"\",IF(W31>=$Q$31,1,IF(W31>=$Q$32,2,IF(W31>=$Q$33,3,IF(W31>=$Q$34,4,\"\")))))","v":""},null,"F23",null,0,3,3]
[{"$f":"VLOOKUP(C26,eventno,9,FALSE)","v":5.2},5,{"$f":"IF(OR(G32=0,G32=\"\",T(G32)<>\"\"),\"\",RANK(G32,$G$28:$G$33,0))","v":""},{"$f":"IF($AA$15=\"\",Distance!$B154,\" \")","v":22},{"$f":"IF(OR(D32=0,D32=\"\",D32=\" \"),\"\",IF($A$26=\"F\",HLOOKUP(D32,females2,$A$27,FALSE),IF($A$26=\"M\",HLOOKUP(D32,males2,$A$27,FALSE),\"\")))","v":"-"},{"$f":"IF(OR(D32=0,D32=\"\",ISERROR(VLOOKUP(D32,match_teams2,4,FALSE)=TRUE)),\"\",VLOOKUP(D32,match_teams2,4,FALSE))","v":"Linc W"},null,{"$f":"IF(OR(G32=0,G32=\"\",$A$31=0,$A$31=\"\",$A$32=0,$A$32=\"\",$A$33=0,$A$33=\"\",$A$34=0,$A$34=\"\"),\"\",IF(G32>=$A$31,1,IF(G32>=$A$32,2,IF(G32>=$A$33,3,IF(G32>=$A$34,4,\"\")))))","v":""},{"$f":"VLOOKUP(K26,eventno,9,FALSE)","v":11.75},5,{"$f":"IF(OR(O32=0,O32=\"\",T(O32)<>\"\"),\"\",RANK(O32,$O$28:$O$33,0))","v":5},{"$f":"IF($AA$16=\"\",Distance!$B186,\" \")","v":33},{"$f":"IF(OR(L32=0,L32=\"\",L32=\" \"),\"\",IF($I$26=\"F\",HLOOKUP(L32,females2,$I$27,FALSE),IF($I$26=\"M\",HLOOKUP(L32,males2,$I$27,FALSE),\"\")))","v":"OscarBryce"},{"$f":"IF(OR(L32=0,L32=\"\",ISERROR(VLOOKUP(L32,match_teams2,4,FALSE)=TRUE)),\"\",VLOOKUP(L32,match_teams2,4,FALSE))","v":"Hallam"},5.8,{"$f":"IF(OR(O32=0,O32=\"\",$I$31=0,$I$31=\"\",$I$32=0,$I$32=\"\",$I$33=0,$I$33=\"\",$I$34=0,$I$34=\"\"),\"\",IF(O32>=$I$31,1,IF(O32>=$I$32,2,IF(O32>=$I$33,3,IF(O32>=$I$34,4,\"\")))))","v":""},{"$f":"VLOOKUP(S26,eventno,9,FALSE)","v":4.3499999999999996},2,{"$f":"IF(OR(W32=0,W32=\"\",T(W32)<>\"\"),\"\",RANK(W32,$W$28:$W$33,0))","v":5},{"$f":"IF($AA$17=\"\",Distance!$B215,\" \")","v":1},{"$f":"IF(OR(T32=0,T32=\"\",T32=\" \"),\"\",IF($Q$26=\"F\",HLOOKUP(T32,females2,$Q$27,FALSE),IF($Q$26=\"M\",HLOOKUP(T32,males2,$Q$27,FALSE),\"\")))","v":"Jessica Wragg"},{"$f":"IF(OR(T32=0,T32=\"\",ISERROR(VLOOKUP(T32,match_teams2,4,FALSE)=TRUE)),\"\",VLOOKUP(T32,match_teams2,4,FALSE))","v":"DASH"},3.07,{"$f":"IF(OR(W32=0,W32=\"\",$Q$31=0,$Q$31=\"\",$Q$32=0,$Q$32=\"\",$Q$33=0,$Q$33=\"\",$Q$34=0,$Q$34=\"\"),\"\",IF(W32>=$Q$31,1,IF(W32>=$Q$32,2,IF(W32>=$Q$33,3,IF(W32>=$Q$34,4,\"\")))))","v":""},null,"F24",null,0,2,2]
[{"$f":"VLOOKUP(C26,eventno,10,FALSE)","v":5.05},6,{"$f":"IF(OR(G33=0,G33=\"\",T(G33)<>\"\"),\"\",RANK(G33,$G$28:$G$33,0))","v":""},{"$f":"IF($AA$15=\"\",Distance!$B155,\" \")","v":33},{"$f":"IF(OR(D33=0,D33=\"\",D33=\" \"),\"\",IF($A$26=\"F\",HLOOKUP(D33,females2,$A$27,FALSE),IF($A$26=\"M\",HLOOKUP(D33,males2,$A$27,FALSE),\"\")))","v":"-"},{"$f":"IF(OR(D33=0,D33=\"\",ISERROR(VLOOKUP(D33,match_teams2,4,FALSE)=TRUE)),\"\",VLOOKUP(D33,match_teams2,4,FALSE))","v":"Hallam"},null,{"$f":"IF(OR(G33=0,G33=\"\",$A$31=0,$A$31=\"\",$A$32=0,$A$32=\"\",$A$33=0,$A$33=\"\",$A$34=0,$A$34=\"\"),\"\",IF(G33>=$A$31,1,IF(G33>=$A$32,2,IF(G33>=$A$33,3,IF(G33>=$A$34,4,\"\")))))","v":""},{"$f":"VLOOKUP(K26,eventno,10,FALSE)","v":10.95},6,{"$f":"IF(OR(O33=0,O33=\"\",T(O33)<>\"\"),\"\",RANK(O33,$O$28:$O$33,0))","v":""},{"$f":"IF($AA$16=\"\",Distance!$B187,\" \")","v":11},{"$f":"IF(OR(L33=0,L33=\"\",L33=\" \"),\"\",IF($I$26=\"F\",HLOOKUP(L33,females2,$I$27,FALSE),IF($I$26=\"M\",HLOOKUP(L33,males2,$I$27,FALSE),\"\")))","v":"-"},{"$f":"IF(OR(L33=0,L33=\"\",ISERROR(VLOOKUP(L33,match_teams2,4,FALSE)=TRUE)),\"\",VLOOKUP(L33,match_teams2,4,FALSE))","v":"DASH"},null,{"$f":"IF(OR(O33=0,O33=\"\",$I$31=0,$I$31=\"\",$I$32=0,$I$32=\"\",$I$33=0,$I$33=\"\",$I$34=0,$I$34=\"\"),\"\",IF(O33>=$I$31,1,IF(O33>=$I$32,2,IF(O33>=$I$33,3,IF(O33>=$I$34,4,\"\")))))","v":""},{"$f":"VLOOKUP(S26,eventno,10,FALSE)","v":4.2},6,{"$f":"IF(OR(W33=0,W33=\"\",T(W33)<>\"\"),\"\",RANK(W33,$W$28:$W$33,0))","v":6},{"$f":"IF($AA$17=\"\",Distance!$B219,\" \")","v":22},{"$f":"IF(OR(T33=0,T33=\"\",T33=\" \"),\"\",IF($Q$26=\"F\",HLOOKUP(T33,females2,$Q$27,FALSE),IF($Q$26=\"M\",HLOOKUP(T33,males2,$Q$27,FALSE),\"\")))","v":"Clea Butcher"},{"$f":"IF(OR(T33=0,T33=\"\",ISERROR(VLOOKUP(T33,match_teams2,4,FALSE)=TRUE)),\"\",VLOOKUP(T33,match_teams2,4,FALSE))","v":"Linc W"},2.85,{"$f":"IF(OR(W33=0,W33=\"\",$Q$31=0,$Q$31=\"\",$Q$32=0,$Q$32=\"\",$Q$33=0,$Q$33=\"\",$Q$34=0,$Q$34=\"\"),\"\",IF(W33>=$Q$31,1,IF(W33>=$Q$32,2,IF(W33>=$Q$33,3,IF(W33>=$Q$34,4,\"\")))))","v":""},null,"F25",null,0,0,1]
[{"$f":"VLOOKUP(C26,eventno,11,FALSE)","v":4.75},null,null,null,null,null,null,null,{"$f":"VLOOKUP(K26,eventno,11,FALSE)","v":10.15},null,null,null,null,null,null,null,{"$f":"VLOOKUP(S26,eventno,11,FALSE)","v":3.95},null,null,null,null,null,null,null,null,"F26",null,0,0,0]
[{"$f":"VLOOKUP(C35,eventno,5,FALSE)","v":"M"},null,"F10",{"$f":"VLOOKUP(C35,eventno,4,FALSE)","v":"U15B Javelin"},null,{"$f":"IF(A38=\"W\",\"Wind =\",\"\")","v":""},null,{"$f":"IF(OR(G37=0,G37=\"\",$A$39=0,$A$39=\"\"),\"\",IF($A$37=\"F\",IF(G37>$A$39,\"LR\",IF(G37=$A$39,\"LR=\",\"\"))))","v":""},{"$f":"VLOOKUP(K35,eventno,5,FALSE)","v":"M"},null,"F11",{"$f":"VLOOKUP(K35,eventno,4,FALSE)","v":"U17M Javelin"},null,{"$f":"IF(I38=\"W\",\"Wind =\",\"\")","v":""},null,{"$f":"IF(OR(O37=0,O37=\"\",$I$39=0,$I$39=\"\"),\"\",IF($I$37=\"F\",IF(O37>$I$39,\"LR\",IF(O37=$I$39,\"LR=\",\"\"))))","v":""},{"$f":"VLOOKUP(S35,eventno,5,FALSE)","v":"M"},null,"F12",{"$f":"VLOOKUP(S35,eventno,4,FALSE)","v":"U13B High Jump"},null,{"$f":"IF(Q38=\"W\",\"Wind =\",\"\")","v":""},null,{"$f":"IF(OR(W37=0,W37=\"\",$Q$39=0,$Q$39=\"\"),\"\",IF($Q$37=\"F\",IF(W37>$Q$39,\"LR\",IF(W37=$Q$39,\"LR=\",\"\"))))","v":""},null,"F27",null,0,0,0]
[{"$f":"IF(A35=\"M\",VLOOKUP(C35,males2,15,FALSE),VLOOKUP(C35,females2,15,FALSE))","v":38},null,"Posn","Bib","Athlete","Club","Perf","Gr",{"$f":"IF(I35=\"M\",VLOOKUP(K35,males2,15,FALSE),VLOOKUP(K35,females2,15,FALSE))","v":39},null,"Posn","Bib","Athlete","Club","Perf","Gr",{"$f":"IF(Q35=\"M\",VLOOKUP(S35,males2,15,FALSE),VLOOKUP(S35,females2,15,FALSE))","v":40},null,"Posn","Bib","Athlete","Club","Perf","Gr",null,"F28",null,{"$error":"#N/A"},{"$error":"#N/A"},{"$error":"#N/A"}]
[{"$f":"LEFT(C35,1)","v":"F"},3,{"$f":"IF(OR(G37=0,G37=\"\",T(G37)<>\"\"),\"\",RANK(G37,$G$37:$G$42,0))","v":1},{"$f":"IF($AA$18=\"\",Distance!$B248,\" \")","v":1},{"$f":"IF(OR(D37=0,D37=\"\",D37=\" \"),\"\",IF($A$35=\"F\",HLOOKUP(D37,females2,$A$36,FALSE),IF($A$35=\"M\",HLOOKUP(D37,males2,$A$36,FALSE),\"\")))","v":"Jack Lamb"},{"$f":"IF(OR(D37=0,D37=\"\",ISERROR(VLOOKUP(D37,match_teams2,4,FALSE)=TRUE)),\"\",VLOOKUP(D37,match_teams2,4,FALSE))","v":"DASH"},24.13,{"$f":"IF(OR(G37=0,G37=\"\",$A$40=0,$A$40=\"\",$A$41=0,$A$41=\"\",$A$42=0,$A$42=\"\",$A$43=0,$A$43=\"\"),\"\",IF(G37>=$A$40,1,IF(G37>=$A$41,2,IF(G37>=$A$42,3,IF(G37>=$A$43,4,\"\")))))","v":""},{"$f":"LEFT(K35,1)","v":"F"},1,{"$f":"IF(OR(O37=0,O37=\"\",T(O37)<>\"\"),\"\",RANK(O37,$O$37:$O$42,0))","v":1},{"$f":"IF($AA$19=\"\",Distance!$B278,VALUE(LEFT($AA$19,3)))","v":2},{"$f":"IF(OR(L37=0,L37=\"\",L37=\" \"),\"\",IF($I$35=\"F\",HLOOKUP(L37,females2,$I$36,FALSE),IF($I$35=\"M\",HLOOKUP(L37,males2,$I$36,FALSE),\"\")))","v":"Kyle Nicholson"},{"$f":"IF(OR(L37=0,L37=\"\",ISERROR(VLOOKUP(L37,match_teams2,4,FALSE)=TRUE)),\"\",VLOOKUP(L37,match_teams2,4,FALSE))","v":"Linc W"},23.3,{"$f":"IF(OR(O37=0,O37=\"\",$I$40=0,$I$40=\"\",$I$41=0,$I$41=\"\",$I$42=0,$I$42=\"\",$I$43=0,$I$43=\"\"),\"\",IF(O37>=$I$40,1,IF(O37>=$I$41,2,IF(O37>=$I$42,3,IF(O37>=$I$43,4,\"\")))))","v":""},{"$f":"LEFT(S35,1)","v":"F"},1,{"$f":"IF(OR(W37=0,W37=\"\",T(W37)<>\"\",W37=\"NHC\"),\"\",RANK(W37,$W$37:$W$42,0))","v":""},{"$f":"IF($AA$20=\"\",Height!$B82,VALUE(LEFT($AA$20,3)))","v":2},{"$f":"IF(OR(T37=0,T37=\"\",T37=\" \"),\"\",IF($Q$35=\"F\",HLOOKUP(T37,females2,$Q$36,FALSE),IF($Q$35=\"M\",HLOOKUP(T37,males2,$Q$36,FALSE),\"\")))","v":"-"},{"$f":"IF(OR(T37=0,T37=\"\",ISERROR(VLOOKUP(T37,match_teams2,4,FALSE)=TRUE)),\"\",VLOOKUP(T37,match_teams2,4,FALSE))","v":"Linc W"},null,{"$f":"IF(OR(W37=0,W37=\"\",W37=\"NHC\",$Q$40=0,$Q$40=\"\",$Q$41=0,$Q$41=\"\",$Q$42=0,$Q$42=\"\",$Q$43=0,$Q$43=\"\"),\"\",IF(W37>=$Q$40,1,IF(W37>=$Q$41,2,IF(W37>=$Q$42,3,IF(W37>=$Q$43,4,\"\")))))","v":""},null,"F29",null,6,6,0]
[{"$f":"VLOOKUP(C35,eventno,6,FALSE)","v":0},1,{"$f":"IF(OR(G38=0,G38=\"\",T(G38)<>\"\"),\"\",RANK(G38,$G$37:$G$42,0))","v":2},{"$f":"IF($AA$18=\"\",Distance!$B246,VALUE(LEFT($AA$18,3)))","v":3},{"$f":"IF(OR(D38=0,D38=\"\",D38=\" \"),\"\",IF($A$35=\"F\",HLOOKUP(D38,females2,$A$36,FALSE),IF($A$35=\"M\",HLOOKUP(D38,males2,$A$36,FALSE),\"\")))","v":"Bob Walker"},{"$f":"IF(OR(D38=0,D38=\"\",ISERROR(VLOOKUP(D38,match_teams2,4,FALSE)=TRUE)),\"\",VLOOKUP(D38,match_teams2,4,FALSE))","v":"Hallam"},22.41,{"$f":"IF(OR(G38=0,G38=\"\",$A$40=0,$A$40=\"\",$A$41=0,$A$41=\"\",$A$42=0,$A$42=\"\",$A$43=0,$A$43=\"\"),\"\",IF(G38>=$A$40,1,IF(G38>=$A$41,2,IF(G38>=$A$42,3,IF(G38>=$A$43,4,\"\")))))","v":""},{"$f":"VLOOKUP(K35,eventno,6,FALSE)","v":0},2,{"$f":"IF(OR(O38=0,O38=\"\",T(O38)<>\"\"),\"\",RANK(O38,$O$37:$O$42,0))","v":""},{"$f":"IF($AA$19=\"\",Distance!$B279,\" \")","v":3},{"$f":"IF(OR(L38=0,L38=\"\",L38=\" \"),\"\",IF($I$35=\"F\",HLOOKUP(L38,females2,$I$36,FALSE),IF($I$35=\"M\",HLOOKUP(L38,males2,$I$36,FALSE),\"\")))","v":"-"},{"$f":"IF(OR(L38=0,L38=\"\",ISERROR(VLOOKUP(L38,match_teams2,4,FALSE)=TRUE)),\"\",VLOOKUP(L38,match_teams2,4,FALSE))","v":"Hallam"},null,{"$f":"IF(OR(O38=0,O38=\"\",$I$40=0,$I$40=\"\",$I$41=0,$I$41=\"\",$I$42=0,$I$42=\"\",$I$43=0,$I$43=\"\"),\"\",IF(O38>=$I$40,1,IF(O38>=$I$41,2,IF(O38>=$I$42,3,IF(O38>=$I$43,4,\"\")))))","v":""},{"$f":"VLOOKUP(S35,eventno,6,FALSE)","v":0},2,{"$f":"IF(OR(W38=0,W38=\"\",T(W38)<>\"\",W38=\"NHC\"),\"\",RANK(W38,$W$37:$W$42,0))","v":""},{"$f":"IF($AA$20=\"\",Height!$B83,\" \")","v":3},{"$f":"IF(OR(T38=0,T38=\"\",T38=\" \"),\"\",IF($Q$35=\"F\",HLOOKUP(T38,females2,$Q$36,FALSE),IF($Q$35=\"M\",HLOOKUP(T38,males2,$Q$36,FALSE),\"\")))","v":"-"},{"$f":"IF(OR(T38=0,T38=\"\",ISERROR(VLOOKUP(T38,match_teams2,4,FALSE)=TRUE)),\"\",VLOOKUP(T38,match_teams2,4,FALSE))","v":"Hallam"},null,{"$f":"IF(OR(W38=0,W38=\"\",W38=\"NHC\",$Q$40=0,$Q$40=\"\",$Q$41=0,$Q$41=\"\",$Q$42=0,$Q$42=\"\",$Q$43=0,$Q$43=\"\"),\"\",IF(W38>=$Q$40,1,IF(W38>=$Q$41,2,IF(W38>=$Q$42,3,IF(W38>=$Q$43,4,\"\")))))","v":""},null,"F30",null,5,0,0]
[{"$f":"VLOOKUP(C35,eventno,7,FALSE)","v":57.67},4,{"$f":"IF(OR(G39=0,G39=\"\",T(G39)<>\"\"),\"\",RANK(G39,$G$37:$G$42,0))","v":3},{"$f":"IF($AA$18=\"\",Distance!$B249,\" \")","v":33},{"$f":"IF(OR(D39=0,D39=\"\",D39=\" \"),\"\",IF($A$35=\"F\",HLOOKUP(D39,females2,$A$36,FALSE),IF($A$35=\"M\",HLOOKUP(D39,males2,$A$36,FALSE),\"\")))","v":"Aiden Johnson"},{"$f":"IF(OR(D39=0,D39=\"\",ISERROR(VLOOKUP(D39,match_teams2,4,FALSE)=TRUE)),\"\",VLOOKUP(D39,match_teams2,4,FALSE))","v":"Hallam"},20.440000000000001,{"$f":"IF(OR(G39=0,G39=\"\",$A$40=0,$A$40=\"\",$A$41=0,$A$41=\"\",$A$42=0,$A$42=\"\",$A$43=0,$A$43=\"\"),\"\",IF(G39>=$A$40,1,IF(G39>=$A$41,2,IF(G39>=$A$42,3,IF(G39>=$A$43,4,\"\")))))","v":""},{"$f":"VLOOKUP(K35,eventno,7,FALSE)","v":70.22},3,{"$f":"IF(OR(O39=0,O39=\"\",T(O39)<>\"\"),\"\",RANK(O39,$O$37:$O$42,0))","v":""},{"$f":"IF($AA$19=\"\",Distance!$B280,\" \")","v":1},{"$f":"IF(OR(L39=0,L39=\"\",L39=\" \"),\"\",IF($I$35=\"F\",HLOOKUP(L39,females2,$I$36,FALSE),IF($I$35=\"M\",HLOOKUP(L39,males2,$I$36,FALSE),\"\")))","v":"Aidon Sahni"},{"$f":"IF(OR(L39=0,L39=\"\",ISERROR(VLOOKUP(L39,match_teams2,4,FALSE)=TRUE)),\"\",VLOOKUP(L39,match_teams2,4,FALSE))","v":"DASH"},null,{"$f":"IF(OR(O39=0,O39=\"\",$I$40=0,$I$40=\"\",$I$41=0,$I$41=\"\",$I$42=0,$I$42=\"\",$I$43=0,$I$43=\"\"),\"\",IF(O39>=$I$40,1,IF(O39>=$I$41,2,IF(O39>=$I$42,3,IF(O39>=$I$43,4,\"\")))))","v":""},{"$f":"VLOOKUP(S35,eventno,7,FALSE)","v":1.65},3,{"$f":"IF(OR(W39=0,W39=\"\",T(W39)<>\"\",W39=\"NHC\"),\"\",RANK(W39,$W$37:$W$42,0))","v":""},{"$f":"IF($AA$20=\"\",Height!$B84,\" \")","v":1},{"$f":"IF(OR(T39=0,T39=\"\",T39=\" \"),\"\",IF($Q$35=\"F\",HLOOKUP(T39,females2,$Q$36,FALSE),IF($Q$35=\"M\",HLOOKUP(T39,males2,$Q$36,FALSE),\"\")))","v":"-"},{"$f":"IF(OR(T39=0,T39=\"\",ISERROR(VLOOKUP(T39,match_teams2,4,FALSE)=TRUE)),\"\",VLOOKUP(T39,match_teams2,4,FALSE))","v":"DASH"},null,{"$f":"IF(OR(W39=0,W39=\"\",W39=\"NHC\",$Q$40=0,$Q$40=\"\",$Q$41=0,$Q$41=\"\",$Q$42=0,$Q$42=\"\",$Q$43=0,$Q$43=\"\"),\"\",IF(W39>=$Q$40,1,IF(W39>=$Q$41,2,IF(W39>=$Q$42,3,IF(W39>=$Q$43,4,\"\")))))","v":""},null,"F31",null,4,0,0]
[{"$f":"VLOOKUP(C35,eventno,8,FALSE)","v":42.55},2,{"$f":"IF(OR(G40=0,G40=\"\",T(G40)<>\"\"),\"\",RANK(G40,$G$37:$G$42,0))","v":""},{"$f":"IF($AA$18=\"\",Distance!$B247,\" \")","v":2},{"$f":"IF(OR(D40=0,D40=\"\",D40=\" \"),\"\",IF($A$35=\"F\",HLOOKUP(D40,females2,$A$36,FALSE),IF($A$35=\"M\",HLOOKUP(D40,males2,$A$36,FALSE),\"\")))","v":"Declan Dickinson"},{"$f":"IF(OR(D40=0,D40=\"\",ISERROR(VLOOKUP(D40,match_teams2,4,FALSE)=TRUE)),\"\",VLOOKUP(D40,match_teams2,4,FALSE))","v":"Linc W"},null,{"$f":"IF(OR(G40=0,G40=\"\",$A$40=0,$A$40=\"\",$A$41=0,$A$41=\"\",$A$42=0,$A$42=\"\",$A$43=0,$A$43=\"\"),\"\",IF(G40>=$A$40,1,IF(G40>=$A$41,2,IF(G40>=$A$42,3,IF(G40>=$A$43,4,\"\")))))","v":""},{"$f":"VLOOKUP(K35,eventno,8,FALSE)","v":50.55},4,{"$f":"IF(OR(O40=0,O40=\"\",T(O40)<>\"\"),\"\",RANK(O40,$O$37:$O$42,0))","v":""},{"$f":"IF($AA$19=\"\",Distance!$B281,\" \")","v":22},{"$f":"IF(OR(L40=0,L40=\"\",L40=\" \"),\"\",IF($I$35=\"F\",HLOOKUP(L40,females2,$I$36,FALSE),IF($I$35=\"M\",HLOOKUP(L40,males2,$I$36,FALSE),\"\")))","v":"Joshua Asbrey"},{"$f":"IF(OR(L40=0,L40=\"\",ISERROR(VLOOKUP(L40,match_teams2,4,FALSE)=TRUE)),\"\",VLOOKUP(L40,match_teams2,4,FALSE))","v":"Linc W"},null,{"$f":"IF(OR(O40=0,O40=\"\",$I$40=0,$I$40=\"\",$I$41=0,$I$41=\"\",$I$42=0,$I$42=\"\",$I$43=0,$I$43=\"\"),\"\",IF(O40>=$I$40,1,IF(O40>=$I$41,2,IF(O40>=$I$42,3,IF(O40>=$I$43,4,\"\")))))","v":""},{"$f":"VLOOKUP(S35,eventno,8,FALSE)","v":1.45},4,{"$f":"IF(OR(W40=0,W40=\"\",T(W40)<>\"\",W40=\"NHC\"),\"\",RANK(W40,$W$37:$W$42,0))","v":""},{"$f":"IF($AA$20=\"\",Height!$B85,\" \")","v":22},{"$f":"IF(OR(T40=0,T40=\"\",T40=\" \"),\"\",IF($Q$35=\"F\",HLOOKUP(T40,females2,$Q$36,FALSE),IF($Q$35=\"M\",HLOOKUP(T40,males2,$Q$36,FALSE),\"\")))","v":"Luke Cherrie"},{"$f":"IF(OR(T40=0,T40=\"\",ISERROR(VLOOKUP(T40,match_teams2,4,FALSE)=TRUE)),\"\",VLOOKUP(T40,match_teams2,4,FALSE))","v":"Linc W"},null,{"$f":"IF(OR(W40=0,W40=\"\",W40=\"NHC\",$Q$40=0,$Q$40=\"\",$Q$41=0,$Q$41=\"\",$Q$42=0,$Q$42=\"\",$Q$43=0,$Q$43=\"\"),\"\",IF(W40>=$Q$40,1,IF(W40>=$Q$41,2,IF(W40>=$Q$42,3,IF(W40>=$Q$43,4,\"\")))))","v":""},null,"F32",null,{"$f":"IF(OR(C40=0,C40=\"\",D40=0,D40=\"\",G40=0,G40=\"\",LEFT(G40,1)=\"D\"),0,VLOOKUP(C40,points,2,FALSE))","v":0},{"$f":"IF(OR(K40=0,K40=\"\",L40=0,L40=\"\",O40=0,O40=\"\",LEFT(O40,1)=\"D\"),0,VLOOKUP(K40,points,2,FALSE))","v":0},{"$f":"IF(OR(S40=0,S40=\"\",T40=0,T40=\"\",W40=0,W40=\"\",LEFT(W40,1)=\"D\"),0,VLOOKUP(S40,points,2,FALSE))","v":0}]
[{"$f":"VLOOKUP(C35,eventno,9,FALSE)","v":39.9},5,{"$f":"IF(OR(G41=0,G41=\"\",T(G41)<>\"\"),\"\",RANK(G41,$G$37:$G$42,0))","v":""},{"$f":"IF($AA$18=\"\",Distance!$B250,\" \")","v":22},{"$f":"IF(OR(D41=0,D41=\"\",D41=\" \"),\"\",IF($A$35=\"F\",HLOOKUP(D41,females2,$A$36,FALSE),IF($A$35=\"M\",HLOOKUP(D41,males2,$A$36,FALSE),\"\")))","v":"Bradley Kent"},{"$f":"IF(OR(D41=0,D41=\"\",ISERROR(VLOOKUP(D41,match_teams2,4,FALSE)=TRUE)),\"\",VLOOKUP(D41,match_teams2,4,FALSE))","v":"Linc W"},null,{"$f":"IF(OR(G41=0,G41=\"\",$A$40=0,$A$40=\"\",$A$41=0,$A$41=\"\",$A$42=0,$A$42=\"\",$A$43=0,$A$43=\"\"),\"\",IF(G41>=$A$40,1,IF(G41>=$A$41,2,IF(G41>=$A$42,3,IF(G41>=$A$43,4,\"\")))))","v":""},{"$f":"VLOOKUP(K35,eventno,9,FALSE)","v":47},5,{"$f":"IF(OR(O41=0,O41=\"\",T(O41)<>\"\"),\"\",RANK(O41,$O$37:$O$42,0))","v":""},{"$f":"IF($AA$19=\"\",Distance!$B282,\" \")","v":33},{"$f":"IF(OR(L41=0,L41=\"\",L41=\" \"),\"\",IF($I$35=\"F\",HLOOKUP(L41,females2,$I$36,FALSE),IF($I$35=\"M\",HLOOKUP(L41,males2,$I$36,FALSE),\"\")))","v":"-"},{"$f":"IF(OR(L41=0,L41=\"\",ISERROR(VLOOKUP(L41,match_teams2,4,FALSE)=TRUE)),\"\",VLOOKUP(L41,match_teams2,4,FALSE))","v":"Hallam"},null,{"$f":"IF(OR(O41=0,O41=\"\",$I$40=0,$I$40=\"\",$I$41=0,$I$41=\"\",$I$42=0,$I$42=\"\",$I$43=0,$I$43=\"\"),\"\",IF(O41>=$I$40,1,IF(O41>=$I$41,2,IF(O41>=$I$42,3,IF(O41>=$I$43,4,\"\")))))","v":""},{"$f":"VLOOKUP(S35,eventno,9,FALSE)","v":1.4},5,{"$f":"IF(OR(W41=0,W41=\"\",T(W41)<>\"\",W41=\"NHC\"),\"\",RANK(W41,$W$37:$W$42,0))","v":""},{"$f":"IF($AA$20=\"\",Height!$B86,\" \")","v":33},{"$f":"IF(OR(T41=0,T41=\"\",T41=\" \"),\"\",IF($Q$35=\"F\",HLOOKUP(T41,females2,$Q$36,FALSE),IF($Q$35=\"M\",HLOOKUP(T41,males2,$Q$36,FALSE),\"\")))","v":"-"},{"$f":"IF(OR(T41=0,T41=\"\",ISERROR(VLOOKUP(T41,match_teams2,4,FALSE)=TRUE)),\"\",VLOOKUP(T41,match_teams2,4,FALSE))","v":"Hallam"},null,{"$f":"IF(OR(W41=0,W41=\"\",W41=\"NHC\",$Q$40=0,$Q$40=\"\",$Q$41=0,$Q$41=\"\",$Q$42=0,$Q$42=\"\",$Q$43=0,$Q$43=\"\"),\"\",IF(W41>=$Q$40,1,IF(W41>=$Q$41,2,IF(W41>=$Q$42,3,IF(W41>=$Q$43,4,\"\")))))","v":""},null,"F33",null,0,0,0]
[{"$f":"VLOOKUP(C35,eventno,10,FALSE)","v":37},6,{"$f":"IF(OR(G42=0,G42=\"\",T(G42)<>\"\"),\"\",RANK(G42,$G$37:$G$42,0))","v":""},{"$f":"IF($AA$18=\"\",Distance!$B251,\" \")","v":11},{"$f":"IF(OR(D42=0,D42=\"\",D42=\" \"),\"\",IF($A$35=\"F\",HLOOKUP(D42,females2,$A$36,FALSE),IF($A$35=\"M\",HLOOKUP(D42,males2,$A$36,FALSE),\"\")))","v":"Toby Leverette"},{"$f":"IF(OR(D42=0,D42=\"\",ISERROR(VLOOKUP(D42,match_teams2,4,FALSE)=TRUE)),\"\",VLOOKUP(D42,match_teams2,4,FALSE))","v":"DASH"},null,{"$f":"IF(OR(G42=0,G42=\"\",$A$40=0,$A$40=\"\",$A$41=0,$A$41=\"\",$A$42=0,$A$42=\"\",$A$43=0,$A$43=\"\"),\"\",IF(G42>=$A$40,1,IF(G42>=$A$41,2,IF(G42>=$A$42,3,IF(G42>=$A$43,4,\"\")))))","v":""},{"$f":"VLOOKUP(K35,eventno,10,FALSE)","v":43.3},6,{"$f":"IF(OR(O42=0,O42=\"\",T(O42)<>\"\"),\"\",RANK(O42,$O$37:$O$42,0))","v":""},{"$f":"IF($AA$19=\"\",Distance!$B283,\" \")","v":11},{"$f":"IF(OR(L42=0,L42=\"\",L42=\" \"),\"\",IF($I$35=\"F\",HLOOKUP(L42,females2,$I$36,FALSE),IF($I$35=\"M\",HLOOKUP(L42,males2,$I$36,FALSE),\"\")))","v":"-"},{"$f":"IF(OR(L42=0,L42=\"\",ISERROR(VLOOKUP(L42,match_teams2,4,FALSE)=TRUE)),\"\",VLOOKUP(L42,match_teams2,4,FALSE))","v":"DASH"},null,{"$f":"IF(OR(O42=0,O42=\"\",$I$40=0,$I$40=\"\",$I$41=0,$I$41=\"\",$I$42=0,$I$42=\"\",$I$43=0,$I$43=\"\"),\"\",IF(O42>=$I$40,1,IF(O42>=$I$41,2,IF(O42>=$I$42,3,IF(O42>=$I$43,4,\"\")))))","v":""},{"$f":"VLOOKUP(S35,eventno,10,FALSE)","v":1.35},6,{"$f":"IF(OR(W42=0,W42=\"\",T(W42)<>\"\",W42=\"NHC\"),\"\",RANK(W42,$W$37:$W$42,0))","v":""},{"$f":"IF($AA$20=\"\",Height!$B87,\" \")","v":11},{"$f":"IF(OR(T42=0,T42=\"\",T42=\" \"),\"\",IF($Q$35=\"F\",HLOOKUP(T42,females2,$Q$36,FALSE),IF($Q$35=\"M\",HLOOKUP(T42,males2,$Q$36,FALSE),\"\")))","v":"-"},{"$f":"IF(OR(T42=0,T42=\"\",ISERROR(VLOOKUP(T42,match_teams2,4,FALSE)=TRUE)),\"\",VLOOKUP(T42,match_teams2,4,FALSE))","v":"DASH"},null,{"$f":"IF(OR(W42=0,W42=\"\",W42=\"NHC\",$Q$40=0,$Q$40=\"\",$Q$41=0,$Q$41=\"\",$Q$42=0,$Q$42=\"\",$Q$43=0,$Q$43=\"\"),\"\",IF(W42>=$Q$40,1,IF(W42>=$Q$41,2,IF(W42>=$Q$42,3,IF(W42>=$Q$43,4,\"\")))))","v":""},null,"F34",null,0,0,0]
[{"$f":"VLOOKUP(C35,eventno,11,FALSE)","v":32.65},null,null,null,null,null,null,null,{"$f":"VLOOKUP(K35,eventno,11,FALSE)","v":38.1},null,null,null,null,null,null,null,{"$f":"VLOOKUP(S35,eventno,11,FALSE)","v":1.3},null,null,null,null,null,null,null,null,"F35",null,0,0,0]
[{"$f":"VLOOKUP(C44,eventno,5,FALSE)","v":"F"},null,"F13",{"$f":"VLOOKUP(C44,eventno,4,FALSE)","v":"U13G High Jump"},null,{"$f":"IF(A47=\"W\",\"Wind =\",\"\")","v":""},null,{"$f":"IF(OR(G46=0,G46=\"\",$A$48=0,$A$48=\"\"),\"\",IF($A$46=\"F\",IF(G46>$A$48,\"LR\",IF(G46=$A$48,\"LR=\",\"\"))))","v":""},{"$f":"VLOOKUP(K44,eventno,5,FALSE)","v":"M"},null,"F14",{"$f":"VLOOKUP(K44,eventno,4,FALSE)","v":"U15B Pole Vault"},null,{"$f":"IF(I47=\"W\",\"Wind =\",\"\")","v":""},null,{"$f":"IF(OR(O46=0,O46=\"\",$I$48=0,$I$48=\"\"),\"\",IF($I$46=\"F\",IF(O46>$I$48,\"LR\",IF(O46=$I$48,\"LR=\",\"\"))))","v":""},{"$f":"VLOOKUP(S44,eventno,5,FALSE)","v":"M"},null,"F15",{"$f":"VLOOKUP(S44,eventno,4,FALSE)","v":"U17M Pole Vault"},null,{"$f":"IF(Q47=\"W\",\"Wind =\",\"\")","v":""},null,{"$f":"IF(OR(W46=0,W46=\"\",$Q$48=0,$Q$48=\"\"),\"\",IF($Q$46=\"F\",IF(W46>$Q$48,\"LR\",IF(W46=$Q$48,\"LR=\",\"\"))))","v":""},null,null,null,0,0,0]
[{"$f":"IF(A44=\"M\",VLOOKUP(C44,males2,15,FALSE),VLOOKUP(C44,females2,15,FALSE))","v":40},null,"Posn","Bib","Athlete","Club","Perf","Gr",{"$f":"IF(I44=\"M\",VLOOKUP(K44,males2,15,FALSE),VLOOKUP(K44,females2,15,FALSE))","v":41},null,"Posn","Bib","Athlete","Club","Perf","Gr",{"$f":"IF(Q44=\"M\",VLOOKUP(S44,males2,15,FALSE),VLOOKUP(S44,females2,15,FALSE))","v":42},null,"Posn","Bib","Athlete","Club","Perf","Gr",null,null,null,{"$error":"#N/A"},{"$error":"#N/A"},{"$error":"#N/A"}]
[{"$f":"LEFT(C44,1)","v":"F"},2,{"$f":"IF(OR(G46=0,G46=\"\",T(G46)<>\"\",G46=\"NHC\"),\"\",RANK(G46,$G$46:$G$51,0))","v":1},{"$f":"IF($AA$21=\"\",Height!$B115,\" \")","v":1},{"$f":"IF(OR(D46=0,D46=\"\",D46=\" \"),\"\",IF($A$44=\"F\",HLOOKUP(D46,females2,$A$45,FALSE),IF($A$44=\"M\",HLOOKUP(D46,males2,$A$45,FALSE),\"\")))","v":"Talitha Thompson"},{"$f":"IF(OR(D46=0,D46=\"\",ISERROR(VLOOKUP(D46,match_teams2,4,FALSE)=TRUE)),\"\",VLOOKUP(D46,match_teams2,4,FALSE))","v":"DASH"},1.05,{"$f":"IF(OR(G46=0,G46=\"\",G46=\"NHC\",$A$49=0,$A$49=\"\",$A$50=0,$A$50=\"\",$A$51=0,$A$51=\"\",$A$52=0,$A$52=\"\"),\"\",IF(G46>=$A$49,1,IF(G46>=$A$50,2,IF(G46>=$A$51,3,IF(G46>=$A$52,4,\"\")))))","v":""},{"$f":"LEFT(K44,1)","v":"F"},2,{"$f":"IF(OR(O46=0,O46=\"\",T(O46)<>\"\",O46=\"NHC\"),\"\",RANK(O46,$O$46:$O$51,0))","v":1},{"$f":"IF($AA$22=\"\",Height!$B147,\" \")","v":1},{"$f":"IF(OR(L46=0,L46=\"\",L46=\" \"),\"\",IF($I$44=\"F\",HLOOKUP(L46,females2,$I$45,FALSE),IF($I$44=\"M\",HLOOKUP(L46,males2,$I$45,FALSE),\"\")))","v":"Alistair Mclunty"},{"$f":"IF(OR(L46=0,L46=\"\",ISERROR(VLOOKUP(L46,match_teams2,4,FALSE)=TRUE)),\"\",VLOOKUP(L46,match_teams2,4,FALSE))","v":"DASH"},2.0499999999999998,{"$f":"IF(OR(O46=0,O46=\"\",O46=\"NHC\",$I$49=0,$I$49=\"\",$I$50=0,$I$50=\"\",$I$51=0,$I$51=\"\",$I$52=0,$I$52=\"\"),\"\",IF(O46>=$I$49,1,IF(O46>=$I$50,2,IF(O46>=$I$51,3,IF(O46>=$I$52,4,\"\")))))","v":""},{"$f":"LEFT(S44,1)","v":"F"},1,{"$f":"IF(OR(W46=0,W46=\"\",T(W46)<>\"\",W46=\"NHC\"),\"\",RANK(W46,$W$46:$W$51,0))","v":""},{"$f":"IF($AA$23=\"\",Height!$B178,VALUE(LEFT($AA$23,3)))","v":2},{"$f":"IF(OR(T46=0,T46=\"\",T46=\" \"),\"\",IF($Q$44=\"F\",HLOOKUP(T46,females2,$Q$45,FALSE),IF($Q$44=\"M\",HLOOKUP(T46,males2,$Q$45,FALSE),\"\")))","v":"-"},{"$f":"IF(OR(T46=0,T46=\"\",ISERROR(VLOOKUP(T46,match_teams2,4,FALSE)=TRUE)),\"\",VLOOKUP(T46,match_teams2,4,FALSE))","v":"Linc W"},null,{"$f":"IF(OR(W46=0,W46=\"\",W46=\"NHC\",$Q$49=0,$Q$49=\"\",$Q$50=0,$Q$50=\"\",$Q$51=0,$Q$51=\"\",$Q$52=0,$Q$52=\"\"),\"\",IF(W46>=$Q$49,1,IF(W46>=$Q$50,2,IF(W46>=$Q$51,3,IF(W46>=$Q$52,4,\"\")))))","v":""},null,null,null,6,6,0]
[{"$f":"VLOOKUP(C44,eventno,6,FALSE)","v":0},1,{"$f":"IF(OR(G47=0,G47=\"\",T(G47)<>\"\",G47=\"NHC\"),\"\",RANK(G47,$G$46:$G$51,0))","v":""},{"$f":"IF($AA$21=\"\",Height!$B114,VALUE(LEFT($AA$21,3)))","v":3},{"$f":"IF(OR(D47=0,D47=\"\",D47=\" \"),\"\",IF($A$44=\"F\",HLOOKUP(D47,females2,$A$45,FALSE),IF($A$44=\"M\",HLOOKUP(D47,males2,$A$45,FALSE),\"\")))","v":"-"},{"$f":"IF(OR(D47=0,D47=\"\",ISERROR(VLOOKUP(D47,match_teams2,4,FALSE)=TRUE)),\"\",VLOOKUP(D47,match_teams2,4,FALSE))","v":"Hallam"},null,{"$f":"IF(OR(G47=0,G47=\"\",G47=\"NHC\",$A$49=0,$A$49=\"\",$A$50=0,$A$50=\"\",$A$51=0,$A$51=\"\",$A$52=0,$A$52=\"\"),\"\",IF(G47>=$A$49,1,IF(G47>=$A$50,2,IF(G47>=$A$51,3,IF(G47>=$A$52,4,\"\")))))","v":""},{"$f":"VLOOKUP(K44,eventno,6,FALSE)","v":0},1,{"$f":"IF(OR(O47=0,O47=\"\",T(O47)<>\"\",O47=\"NHC\"),\"\",RANK(O47,$O$46:$O$51,0))","v":""},{"$f":"IF($AA$22=\"\",Height!$B146,VALUE(LEFT($AA$22,3)))","v":2},{"$f":"IF(OR(L47=0,L47=\"\",L47=\" \"),\"\",IF($I$44=\"F\",HLOOKUP(L47,females2,$I$45,FALSE),IF($I$44=\"M\",HLOOKUP(L47,males2,$I$45,FALSE),\"\")))","v":"Daniel Flemming"},{"$f":"IF(OR(L47=0,L47=\"\",ISERROR(VLOOKUP(L47,match_teams2,4,FALSE)=TRUE)),\"\",VLOOKUP(L47,match_teams2,4,FALSE))","v":"Linc W"},null,{"$f":"IF(OR(O47=0,O47=\"\",O47=\"NHC\",$I$49=0,$I$49=\"\",$I$50=0,$I$50=\"\",$I$51=0,$I$51=\"\",$I$52=0,$I$52=\"\"),\"\",IF(O47>=$I$49,1,IF(O47>=$I$50,2,IF(O47>=$I$51,3,IF(O47>=$I$52,4,\"\")))))","v":""},{"$f":"VLOOKUP(S44,eventno,6,FALSE)","v":0},2,{"$f":"IF(OR(W47=0,W47=\"\",T(W47)<>\"\",W47=\"NHC\"),\"\",RANK(W47,$W$46:$W$51,0))","v":""},{"$f":"IF($AA$23=\"\",Height!$B179,\" \")","v":3},{"$f":"IF(OR(T47=0,T47=\"\",T47=\" \"),\"\",IF($Q$44=\"F\",HLOOKUP(T47,females2,$Q$45,FALSE),IF($Q$44=\"M\",HLOOKUP(T47,males2,$Q$45,FALSE),\"\")))","v":"-"},{"$f":"IF(OR(T47=0,T47=\"\",ISERROR(VLOOKUP(T47,match_teams2,4,FALSE)=TRUE)),\"\",VLOOKUP(T47,match_teams2,4,FALSE))","v":"Hallam"},null,{"$f":"IF(OR(W47=0,W47=\"\",W47=\"NHC\",$Q$49=0,$Q$49=\"\",$Q$50=0,$Q$50=\"\",$Q$51=0,$Q$51=\"\",$Q$52=0,$Q$52=\"\"),\"\",IF(W47>=$Q$49,1,IF(W47>=$Q$50,2,IF(W47>=$Q$51,3,IF(W47>=$Q$52,4,\"\")))))","v":""},null,null,null,0,0,0]
[{"$f":"VLOOKUP(C44,eventno,7,FALSE)","v":1.62},3,{"$f":"IF(OR(G48=0,G48=\"\",T(G48)<>\"\",G48=\"NHC\"),\"\",RANK(G48,$G$46:$G$51,0))","v":""},{"$f":"IF($AA$21=\"\",Height!$B116,\" \")","v":2},{"$f":"IF(OR(D48=0,D48=\"\",D48=\" \"),\"\",IF($A$44=\"F\",HLOOKUP(D48,females2,$A$45,FALSE),IF($A$44=\"M\",HLOOKUP(D48,males2,$A$45,FALSE),\"\")))","v":"Rhiannon Martin"},{"$f":"IF(OR(D48=0,D48=\"\",ISERROR(VLOOKUP(D48,match_teams2,4,FALSE)=TRUE)),\"\",VLOOKUP(D48,match_teams2,4,FALSE))","v":"Linc W"},null,{"$f":"IF(OR(G48=0,G48=\"\",G48=\"NHC\",$A$49=0,$A$49=\"\",$A$50=0,$A$50=\"\",$A$51=0,$A$51=\"\",$A$52=0,$A$52=\"\"),\"\",IF(G48>=$A$49,1,IF(G48>=$A$50,2,IF(G48>=$A$51,3,IF(G48>=$A$52,4,\"\")))))","v":""},{"$f":"VLOOKUP(K44,eventno,7,FALSE)","v":4.2},3,{"$f":"IF(OR(O48=0,O48=\"\",T(O48)<>\"\",O48=\"NHC\"),\"\",RANK(O48,$O$46:$O$51,0))","v":""},{"$f":"IF($AA$22=\"\",Height!$B148,\" \")","v":3},{"$f":"IF(OR(L48=0,L48=\"\",L48=\" \"),\"\",IF($I$44=\"F\",HLOOKUP(L48,females2,$I$45,FALSE),IF($I$44=\"M\",HLOOKUP(L48,males2,$I$45,FALSE),\"\")))","v":"Bob Walker"},{"$f":"IF(OR(L48=0,L48=\"\",ISERROR(VLOOKUP(L48,match_teams2,4,FALSE)=TRUE)),\"\",VLOOKUP(L48,match_teams2,4,FALSE))","v":"Hallam"},null,{"$f":"IF(OR(O48=0,O48=\"\",O48=\"NHC\",$I$49=0,$I$49=\"\",$I$50=0,$I$50=\"\",$I$51=0,$I$51=\"\",$I$52=0,$I$52=\"\"),\"\",IF(O48>=$I$49,1,IF(O48>=$I$50,2,IF(O48>=$I$51,3,IF(O48>=$I$52,4,\"\")))))","v":""},{"$f":"VLOOKUP(S44,eventno,7,FALSE)","v":5.2},3,{"$f":"IF(OR(W48=0,W48=\"\",T(W48)<>\"\",W48=\"NHC\"),\"\",RANK(W48,$W$46:$W$51,0))","v":""},{"$f":"IF($AA$23=\"\",Height!$B180,\" \")","v":1},{"$f":"IF(OR(T48=0,T48=\"\",T48=\" \"),\"\",IF($Q$44=\"F\",HLOOKUP(T48,females2,$Q$45,FALSE),IF($Q$44=\"M\",HLOOKUP(T48,males2,$Q$45,FALSE),\"\")))","v":"-"},{"$f":"IF(OR(T48=0,T48=\"\",ISERROR(VLOOKUP(T48,match_teams2,4,FALSE)=TRUE)),\"\",VLOOKUP(T48,match_teams2,4,FALSE))","v":"DASH"},null,{"$f":"IF(OR(W48=0,W48=\"\",W48=\"NHC\",$Q$49=0,$Q$49=\"\",$Q$50=0,$Q$50=\"\",$Q$51=0,$Q$51=\"\",$Q$52=0,$Q$52=\"\"),\"\",IF(W48>=$Q$49,1,IF(W48>=$Q$50,2,IF(W48>=$Q$51,3,IF(W48>=$Q$52,4,\"\")))))","v":""},null,null,null,0,0,0]
[{"$f":"VLOOKUP(C44,eventno,8,FALSE)","v":1.4},4,{"$f":"IF(OR(G49=0,G49=\"\",T(G49)<>\"\",G49=\"NHC\"),\"\",RANK(G49,$G$46:$G$51,0))","v":""},{"$f":"IF($AA$21=\"\",Height!$B117,\" \")","v":33},{"$f":"IF(OR(D49=0,D49=\"\",D49=\" \"),\"\",IF($A$44=\"F\",HLOOKUP(D49,females2,$A$45,FALSE),IF($A$44=\"M\",HLOOKUP(D49,males2,$A$45,FALSE),\"\")))","v":"-"},{"$f":"IF(OR(D49=0,D49=\"\",ISERROR(VLOOKUP(D49,match_teams2,4,FALSE)=TRUE)),\"\",VLOOKUP(D49,match_teams2,4,FALSE))","v":"Hallam"},null,{"$f":"IF(OR(G49=0,G49=\"\",G49=\"NHC\",$A$49=0,$A$49=\"\",$A$50=0,$A$50=\"\",$A$51=0,$A$51=\"\",$A$52=0,$A$52=\"\"),\"\",IF(G49>=$A$49,1,IF(G49>=$A$50,2,IF(G49>=$A$51,3,IF(G49>=$A$52,4,\"\")))))","v":""},{"$f":"VLOOKUP(K44,eventno,8,FALSE)","v":3.2},4,{"$f":"IF(OR(O49=0,O49=\"\",T(O49)<>\"\",O49=\"NHC\"),\"\",RANK(O49,$O$46:$O$51,0))","v":""},{"$f":"IF($AA$22=\"\",Height!$B149,\" \")","v":22},{"$f":"IF(OR(L49=0,L49=\"\",L49=\" \"),\"\",IF($I$44=\"F\",HLOOKUP(L49,females2,$I$45,FALSE),IF($I$44=\"M\",HLOOKUP(L49,males2,$I$45,FALSE),\"\")))","v":"Bradley Kent"},{"$f":"IF(OR(L49=0,L49=\"\",ISERROR(VLOOKUP(L49,match_teams2,4,FALSE)=TRUE)),\"\",VLOOKUP(L49,match_teams2,4,FALSE))","v":"Linc W"},null,{"$f":"IF(OR(O49=0,O49=\"\",O49=\"NHC\",$I$49=0,$I$49=\"\",$I$50=0,$I$50=\"\",$I$51=0,$I$51=\"\",$I$52=0,$I$52=\"\"),\"\",IF(O49>=$I$49,1,IF(O49>=$I$50,2,IF(O49>=$I$51,3,IF(O49>=$I$52,4,\"\")))))","v":""},{"$f":"VLOOKUP(S44,eventno,8,FALSE)","v":4},4,{"$f":"IF(OR(W49=0,W49=\"\",T(W49)<>\"\",W49=\"NHC\"),\"\",RANK(W49,$W$46:$W$51,0))","v":""},{"$f":"IF($AA$23=\"\",Height!$B181,\" \")","v":22},{"$f":"IF(OR(T49=0,T49=\"\",T49=\" \"),\"\",IF($Q$44=\"F\",HLOOKUP(T49,females2,$Q$45,FALSE),IF($Q$44=\"M\",HLOOKUP(T49,males2,$Q$45,FALSE),\"\")))","v":"-"},{"$f":"IF(OR(T49=0,T49=\"\",ISERROR(VLOOKUP(T49,match_teams2,4,FALSE)=TRUE)),\"\",VLOOKUP(T49,match_teams2,4,FALSE))","v":"Linc W"},null,{"$f":"IF(OR(W49=0,W49=\"\",W49=\"NHC\",$Q$49=0,$Q$49=\"\",$Q$50=0,$Q$50=\"\",$Q$51=0,$Q$51=\"\",$Q$52=0,$Q$52=\"\"),\"\",IF(W49>=$Q$49,1,IF(W49>=$Q$50,2,IF(W49>=$Q$51,3,IF(W49>=$Q$52,4,\"\")))))","v":""},null,null,null,0,0,0]
[{"$f":"VLOOKUP(C44,eventno,9,FALSE)","v":1.35},5,{"$f":"IF(OR(G50=0,G50=\"\",T(G50)<>\"\",G50=\"NHC\"),\"\",RANK(G50,$G$46:$G$51,0))","v":""},{"$f":"IF($AA$21=\"\",Height!$B118,\" \")","v":11},{"$f":"IF(OR(D50=0,D50=\"\",D50=\" \"),\"\",IF($A$44=\"F\",HLOOKUP(D50,females2,$A$45,FALSE),IF($A$44=\"M\",HLOOKUP(D50,males2,$A$45,FALSE),\"\")))","v":"Anna Manfred"},{"$f":"IF(OR(D50=0,D50=\"\",ISERROR(VLOOKUP(D50,match_teams2,4,FALSE)=TRUE)),\"\",VLOOKUP(D50,match_teams2,4,FALSE))","v":"DASH"},null,{"$f":"IF(OR(G50=0,G50=\"\",G50=\"NHC\",$A$49=0,$A$49=\"\",$A$50=0,$A$50=\"\",$A$51=0,$A$51=\"\",$A$52=0,$A$52=\"\"),\"\",IF(G50>=$A$49,1,IF(G50>=$A$50,2,IF(G50>=$A$51,3,IF(G50>=$A$52,4,\"\")))))","v":""},{"$f":"VLOOKUP(K44,eventno,9,FALSE)","v":3},5,{"$f":"IF(OR(O50=0,O50=\"\",T(O50)<>\"\",O50=\"NHC\"),\"\",RANK(O50,$O$46:$O$51,0))","v":""},{"$f":"IF($AA$22=\"\",Height!$B150,\" \")","v":11},{"$f":"IF(OR(L50=0,L50=\"\",L50=\" \"),\"\",IF($I$44=\"F\",HLOOKUP(L50,females2,$I$45,FALSE),IF($I$44=\"M\",HLOOKUP(L50,males2,$I$45,FALSE),\"\")))","v":"-"},{"$f":"IF(OR(L50=0,L50=\"\",ISERROR(VLOOKUP(L50,match_teams2,4,FALSE)=TRUE)),\"\",VLOOKUP(L50,match_teams2,4,FALSE))","v":"DASH"},null,{"$f":"IF(OR(O50=0,O50=\"\",O50=\"NHC\",$I$49=0,$I$49=\"\",$I$50=0,$I$50=\"\",$I$51=0,$I$51=\"\",$I$52=0,$I$52=\"\"),\"\",IF(O50>=$I$49,1,IF(O50>=$I$50,2,IF(O50>=$I$51,3,IF(O50>=$I$52,4,\"\")))))","v":""},{"$f":"VLOOKUP(S44,eventno,9,FALSE)","v":3.65},5,{"$f":"IF(OR(W50=0,W50=\"\",T(W50)<>\"\",W50=\"NHC\"),\"\",RANK(W50,$W$46:$W$51,0))","v":""},{"$f":"IF($AA$23=\"\",Height!$B182,\" \")","v":33},{"$f":"IF(OR(T50=0,T50=\"\",T50=\" \"),\"\",IF($Q$44=\"F\",HLOOKUP(T50,females2,$Q$45,FALSE),IF($Q$44=\"M\",HLOOKUP(T50,males2,$Q$45,FALSE),\"\")))","v":"-"},{"$f":"IF(OR(T50=0,T50=\"\",ISERROR(VLOOKUP(T50,match_teams2,4,FALSE)=TRUE)),\"\",VLOOKUP(T50,match_teams2,4,FALSE))","v":"Hallam"},null,{"$f":"IF(OR(W50=0,W50=\"\",W50=\"NHC\",$Q$49=0,$Q$49=\"\",$Q$50=0,$Q$50=\"\",$Q$51=0,$Q$51=\"\",$Q$52=0,$Q$52=\"\"),\"\",IF(W50>=$Q$49,1,IF(W50>=$Q$50,2,IF(W50>=$Q$51,3,IF(W50>=$Q$52,4,\"\")))))","v":""},null,null,null,0,0,0]
[{"$f":"VLOOKUP(C44,eventno,10,FALSE)","v":1.3},6,{"$f":"IF(OR(G51=0,G51=\"\",T(G51)<>\"\",G51=\"NHC\"),\"\",RANK(G51,$G$46:$G$51,0))","v":""},{"$f":"IF($AA$21=\"\",Height!$B119,\" \")","v":22},{"$f":"IF(OR(D51=0,D51=\"\",D51=\" \"),\"\",IF($A$44=\"F\",HLOOKUP(D51,females2,$A$45,FALSE),IF($A$44=\"M\",HLOOKUP(D51,males2,$A$45,FALSE),\"\")))","v":"Megan Brockie"},{"$f":"IF(OR(D51=0,D51=\"\",ISERROR(VLOOKUP(D51,match_teams2,4,FALSE)=TRUE)),\"\",VLOOKUP(D51,match_teams2,4,FALSE))","v":"Linc W"},null,{"$f":"IF(OR(G51=0,G51=\"\",G51=\"NHC\",$A$49=0,$A$49=\"\",$A$50=0,$A$50=\"\",$A$51=0,$A$51=\"\",$A$52=0,$A$52=\"\"),\"\",IF(G51>=$A$49,1,IF(G51>=$A$50,2,IF(G51>=$A$51,3,IF(G51>=$A$52,4,\"\")))))","v":""},{"$f":"VLOOKUP(K44,eventno,10,FALSE)","v":2.8},6,{"$f":"IF(OR(O51=0,O51=\"\",T(O51)<>\"\",O51=\"NHC\"),\"\",RANK(O51,$O$46:$O$51,0))","v":""},{"$f":"IF($AA$22=\"\",Height!$B151,\" \")","v":33},{"$f":"IF(OR(L51=0,L51=\"\",L51=\" \"),\"\",IF($I$44=\"F\",HLOOKUP(L51,females2,$I$45,FALSE),IF($I$44=\"M\",HLOOKUP(L51,males2,$I$45,FALSE),\"\")))","v":"-"},{"$f":"IF(OR(L51=0,L51=\"\",ISERROR(VLOOKUP(L51,match_teams2,4,FALSE)=TRUE)),\"\",VLOOKUP(L51,match_teams2,4,FALSE))","v":"Hallam"},null,{"$f":"IF(OR(O51=0,O51=\"\",O51=\"NHC\",$I$49=0,$I$49=\"\",$I$50=0,$I$50=\"\",$I$51=0,$I$51=\"\",$I$52=0,$I$52=\"\"),\"\",IF(O51>=$I$49,1,IF(O51>=$I$50,2,IF(O51>=$I$51,3,IF(O51>=$I$52,4,\"\")))))","v":""},{"$f":"VLOOKUP(S44,eventno,10,FALSE)","v":3.5},6,{"$f":"IF(OR(W51=0,W51=\"\",T(W51)<>\"\",W51=\"NHC\"),\"\",RANK(W51,$W$46:$W$51,0))","v":""},{"$f":"IF($AA$23=\"\",Height!$B183,\" \")","v":11},{"$f":"IF(OR(T51=0,T51=\"\",T51=\" \"),\"\",IF($Q$44=\"F\",HLOOKUP(T51,females2,$Q$45,FALSE),IF($Q$44=\"M\",HLOOKUP(T51,males2,$Q$45,FALSE),\"\")))","v":"-"},{"$f":"IF(OR(T51=0,T51=\"\",ISERROR(VLOOKUP(T51,match_teams2,4,FALSE)=TRUE)),\"\",VLOOKUP(T51,match_teams2,4,FALSE))","v":"DASH"},null,{"$f":"IF(OR(W51=0,W51=\"\",W51=\"NHC\",$Q$49=0,$Q$49=\"\",$Q$50=0,$Q$50=\"\",$Q$51=0,$Q$51=\"\",$Q$52=0,$Q$52=\"\"),\"\",IF(W51>=$Q$49,1,IF(W51>=$Q$50,2,IF(W51>=$Q$51,3,IF(W51>=$Q$52,4,\"\")))))","v":""},null,null,null,0,0,0]
[{"$f":"VLOOKUP(C44,eventno,11,FALSE)","v":1.25},null,null,null,null,null,null,null,{"$f":"VLOOKUP(K44,eventno,11,FALSE)","v":2.4},null,null,null,null,null,null,null,{"$f":"VLOOKUP(S44,eventno,11,FALSE)","v":3},null,null,null,null,null,null,null,null,null,null,0,0,0]
[{"$f":"VLOOKUP(C53,eventno,5,FALSE)","v":"F"},null,"F16",{"$f":"VLOOKUP(C53,eventno,4,FALSE)","v":"U15G Pole Vault"},null,{"$f":"IF(A56=\"W\",\"Wind =\",\"\")","v":""},null,{"$f":"IF(OR(G55=0,G55=\"\",$A$57=0,$A$57=\"\"),\"\",IF($A$55=\"F\",IF(G55>$A$57,\"LR\",IF(G55=$A$57,\"LR=\",\"\"))))","v":""},{"$f":"VLOOKUP(K53,eventno,5,FALSE)","v":"F"},null,"F17",{"$f":"VLOOKUP(K53,eventno,4,FALSE)","v":"U17W Pole Vault"},null,{"$f":"IF(I56=\"W\",\"Wind =\",\"\")","v":""},null,{"$f":"IF(OR(O55=0,O55=\"\",$I$57=0,$I$57=\"\"),\"\",IF($I$55=\"F\",IF(O55>$I$57,\"LR\",IF(O55=$I$57,\"LR=\",\"\"))))","v":""},{"$f":"VLOOKUP(S53,eventno,5,FALSE)","v":"F"},null,"F18",{"$f":"VLOOKUP(S53,eventno,4,FALSE)","v":"U17W Shot"},null,{"$f":"IF(Q56=\"W\",\"Wind =\",\"\")","v":""},null,{"$f":"IF(OR(W55=0,W55=\"\",$Q$57=0,$Q$57=\"\"),\"\",IF($Q$55=\"F\",IF(W55>$Q$57,\"LR\",IF(W55=$Q$57,\"LR=\",\"\"))))","v":""},null,null,null,0,0,0]
[{"$f":"IF(A53=\"M\",VLOOKUP(C53,males2,15,FALSE),VLOOKUP(C53,females2,15,FALSE))","v":41},null,"Posn","Bib","Athlete","Club","Perf","Gr",{"$f":"IF(I53=\"M\",VLOOKUP(K53,males2,15,FALSE),VLOOKUP(K53,females2,15,FALSE))","v":42},null,"Posn","Bib","Athlete","Club","Perf","Gr",{"$f":"IF(Q53=\"M\",VLOOKUP(S53,males2,15,FALSE),VLOOKUP(S53,females2,15,FALSE))","v":48},null,"Posn","Bib","Athlete","Club","Perf","Gr",null,null,null,{"$error":"#N/A"},{"$error":"#N/A"},{"$error":"#N/A"}]
[{"$f":"LEFT(C53,1)","v":"F"},1,{"$f":"IF(OR(G55=0,G55=\"\",T(G55)<>\"\",G55=\"NHC\"),\"\",RANK(G55,$G$55:$G$60,0))","v":""},{"$f":"IF($AA$24=\"\",Height!$B210,VALUE(LEFT($AA$24,3)))","v":3},{"$f":"IF(OR(D55=0,D55=\"\",D55=\" \"),\"\",IF($A$53=\"F\",HLOOKUP(D55,females2,$A$54,FALSE),IF($A$53=\"M\",HLOOKUP(D55,males2,$A$54,FALSE),\"\")))","v":"-"},{"$f":"IF(OR(D55=0,D55=\"\",ISERROR(VLOOKUP(D55,match_teams2,4,FALSE)=TRUE)),\"\",VLOOKUP(D55,match_teams2,4,FALSE))","v":"Hallam"},null,{"$f":"IF(OR(G55=0,G55=\"\",G55=\"NHC\",$A$58=0,$A$58=\"\",$A$59=0,$A$59=\"\",$A$60=0,$A$60=\"\",$A$61=0,$A$61=\"\"),\"\",IF(G55>=$A$58,1,IF(G55>=$A$59,2,IF(G55>=$A$60,3,IF(G55>=$A$61,4,\"\")))))","v":""},{"$f":"LEFT(K53,1)","v":"F"},1,{"$f":"IF(OR(O55=0,O55=\"\",T(O55)<>\"\",O55=\"NHC\"),\"\",RANK(O55,$O$55:$O$60,0))","v":""},{"$f":"IF($AA$25=\"\",Height!$B242,VALUE(LEFT($AA$25,3)))","v":2},{"$f":"IF(OR(L55=0,L55=\"\",L55=\" \"),\"\",IF($I$53=\"F\",HLOOKUP(L55,females2,$I$54,FALSE),IF($I$53=\"M\",HLOOKUP(L55,males2,$I$54,FALSE),\"\")))","v":"-"},{"$f":"IF(OR(L55=0,L55=\"\",ISERROR(VLOOKUP(L55,match_teams2,4,FALSE)=TRUE)),\"\",VLOOKUP(L55,match_teams2,4,FALSE))","v":"Linc W"},null,{"$f":"IF(OR(O55=0,O55=\"\",O55=\"NHC\",$I$58=0,$I$58=\"\",$I$59=0,$I$59=\"\",$I$60=0,$I$60=\"\",$I$61=0,$I$61=\"\"),\"\",IF(O55>=$I$58,1,IF(O55>=$I$59,2,IF(O55>=$I$60,3,IF(O55>=$I$61,4,\"\")))))","v":""},{"$f":"LEFT(S53,1)","v":"F"},3,{"$f":"IF(OR(W55=0,W55=\"\",T(W55)<>\"\"),\"\",RANK(W55,$W$55:$W$60,0))","v":1},{"$f":"IF($AA$26=\"\",Distance!$B312,\" \")","v":2},{"$f":"IF(OR(T55=0,T55=\"\",T55=\" \"),\"\",IF($Q$53=\"F\",HLOOKUP(T55,females2,$Q$54,FALSE),IF($Q$53=\"M\",HLOOKUP(T55,males2,$Q$54,FALSE),\"\")))","v":"Katie McMunn"},{"$f":"IF(OR(T55=0,T55=\"\",ISERROR(VLOOKUP(T55,match_teams2,4,FALSE)=TRUE)),\"\",VLOOKUP(T55,match_teams2,4,FALSE))","v":"Linc W"},7.86,{"$f":"IF(OR(W55=0,W55=\"\",$Q$58=0,$Q$58=\"\",$Q$59=0,$Q$59=\"\",$Q$60=0,$Q$60=\"\",$Q$61=0,$Q$61=\"\"),\"\",IF(W55>=$Q$58,1,IF(W55>=$Q$59,2,IF(W55>=$Q$60,3,IF(W55>=$Q$61,4,\"\")))))","v":4},null,null,null,0,0,6]
[{"$f":"VLOOKUP(C53,eventno,6,FALSE)","v":0},2,{"$f":"IF(OR(G56=0,G56=\"\",T(G56)<>\"\",G56=\"NHC\"),\"\",RANK(G56,$G$55:$G$60,0))","v":""},{"$f":"IF($AA$24=\"\",Height!$B211,\" \")","v":1},{"$f":"IF(OR(D56=0,D56=\"\",D56=\" \"),\"\",IF($A$53=\"F\",HLOOKUP(D56,females2,$A$54,FALSE),IF($A$53=\"M\",HLOOKUP(D56,males2,$A$54,FALSE),\"\")))","v":"-"},{"$f":"IF(OR(D56=0,D56=\"\",ISERROR(VLOOKUP(D56,match_teams2,4,FALSE)=TRUE)),\"\",VLOOKUP(D56,match_teams2,4,FALSE))","v":"DASH"},null,{"$f":"IF(OR(G56=0,G56=\"\",G56=\"NHC\",$A$58=0,$A$58=\"\",$A$59=0,$A$59=\"\",$A$60=0,$A$60=\"\",$A$61=0,$A$61=\"\"),\"\",IF(G56>=$A$58,1,IF(G56>=$A$59,2,IF(G56>=$A$60,3,IF(G56>=$A$61,4,\"\")))))","v":""},{"$f":"VLOOKUP(K53,eventno,6,FALSE)","v":0},2,{"$f":"IF(OR(O56=0,O56=\"\",T(O56)<>\"\",O56=\"NHC\"),\"\",RANK(O56,$O$55:$O$60,0))","v":""},{"$f":"IF($AA$25=\"\",Height!$B243,\" \")","v":3},{"$f":"IF(OR(L56=0,L56=\"\",L56=\" \"),\"\",IF($I$53=\"F\",HLOOKUP(L56,females2,$I$54,FALSE),IF($I$53=\"M\",HLOOKUP(L56,males2,$I$54,FALSE),\"\")))","v":"-"},{"$f":"IF(OR(L56=0,L56=\"\",ISERROR(VLOOKUP(L56,match_teams2,4,FALSE)=TRUE)),\"\",VLOOKUP(L56,match_teams2,4,FALSE))","v":"Hallam"},null,{"$f":"IF(OR(O56=0,O56=\"\",O56=\"NHC\",$I$58=0,$I$58=\"\",$I$59=0,$I$59=\"\",$I$60=0,$I$60=\"\",$I$61=0,$I$61=\"\"),\"\",IF(O56>=$I$58,1,IF(O56>=$I$59,2,IF(O56>=$I$60,3,IF(O56>=$I$61,4,\"\")))))","v":""},{"$f":"VLOOKUP(S53,eventno,6,FALSE)","v":0},2,{"$f":"IF(OR(W56=0,W56=\"\",T(W56)<>\"\"),\"\",RANK(W56,$W$55:$W$60,0))","v":2},{"$f":"IF($AA$26=\"\",Distance!$B311,\" \")","v":3},{"$f":"IF(OR(T56=0,T56=\"\",T56=\" \"),\"\",IF($Q$53=\"F\",HLOOKUP(T56,females2,$Q$54,FALSE),IF($Q$53=\"M\",HLOOKUP(T56,males2,$Q$54,FALSE),\"\")))","v":"Claire Wilsher"},{"$f":"IF(OR(T56=0,T56=\"\",ISERROR(VLOOKUP(T56,match_teams2,4,FALSE)=TRUE)),\"\",VLOOKUP(T56,match_teams2,4,FALSE))","v":"Hallam"},6.99,{"$f":"IF(OR(W56=0,W56=\"\",$Q$58=0,$Q$58=\"\",$Q$59=0,$Q$59=\"\",$Q$60=0,$Q$60=\"\",$Q$61=0,$Q$61=\"\"),\"\",IF(W56>=$Q$58,1,IF(W56>=$Q$59,2,IF(W56>=$Q$60,3,IF(W56>=$Q$61,4,\"\")))))","v":""},null,null,null,0,0,5]
[{"$f":"VLOOKUP(C53,eventno,7,FALSE)","v":3.3},3,{"$f":"IF(OR(G57=0,G57=\"\",T(G57)<>\"\",G57=\"NHC\"),\"\",RANK(G57,$G$55:$G$60,0))","v":""},{"$f":"IF($AA$24=\"\",Height!$B212,\" \")","v":2},{"$f":"IF(OR(D57=0,D57=\"\",D57=\" \"),\"\",IF($A$53=\"F\",HLOOKUP(D57,females2,$A$54,FALSE),IF($A$53=\"M\",HLOOKUP(D57,males2,$A$54,FALSE),\"\")))","v":"-"},{"$f":"IF(OR(D57=0,D57=\"\",ISERROR(VLOOKUP(D57,match_teams2,4,FALSE)=TRUE)),\"\",VLOOKUP(D57,match_teams2,4,FALSE))","v":"Linc W"},null,{"$f":"IF(OR(G57=0,G57=\"\",G57=\"NHC\",$A$58=0,$A$58=\"\",$A$59=0,$A$59=\"\",$A$60=0,$A$60=\"\",$A$61=0,$A$61=\"\"),\"\",IF(G57>=$A$58,1,IF(G57>=$A$59,2,IF(G57>=$A$60,3,IF(G57>=$A$61,4,\"\")))))","v":""},{"$f":"VLOOKUP(K53,eventno,7,FALSE)","v":4.03},3,{"$f":"IF(OR(O57=0,O57=\"\",T(O57)<>\"\",O57=\"NHC\"),\"\",RANK(O57,$O$55:$O$60,0))","v":""},{"$f":"IF($AA$25=\"\",Height!$B244,\" \")","v":1},{"$f":"IF(OR(L57=0,L57=\"\",L57=\" \"),\"\",IF($I$53=\"F\",HLOOKUP(L57,females2,$I$54,FALSE),IF($I$53=\"M\",HLOOKUP(L57,males2,$I$54,FALSE),\"\")))","v":"-"},{"$f":"IF(OR(L57=0,L57=\"\",ISERROR(VLOOKUP(L57,match_teams2,4,FALSE)=TRUE)),\"\",VLOOKUP(L57,match_teams2,4,FALSE))","v":"DASH"},null,{"$f":"IF(OR(O57=0,O57=\"\",O57=\"NHC\",$I$58=0,$I$58=\"\",$I$59=0,$I$59=\"\",$I$60=0,$I$60=\"\",$I$61=0,$I$61=\"\"),\"\",IF(O57>=$I$58,1,IF(O57>=$I$59,2,IF(O57>=$I$60,3,IF(O57>=$I$61,4,\"\")))))","v":""},{"$f":"VLOOKUP(S53,eventno,7,FALSE)","v":13.57},5,{"$f":"IF(OR(W57=0,W57=\"\",T(W57)<>\"\"),\"\",RANK(W57,$W$55:$W$60,0))","v":3},{"$f":"IF($AA$26=\"\",Distance!$B314,\" \")","v":33},{"$f":"IF(OR(T57=0,T57=\"\",T57=\" \"),\"\",IF($Q$53=\"F\",HLOOKUP(T57,females2,$Q$54,FALSE),IF($Q$53=\"M\",HLOOKUP(T57,males2,$Q$54,FALSE),\"\")))","v":"Nicole Norton"},{"$f":"IF(OR(T57=0,T57=\"\",ISERROR(VLOOKUP(T57,match_teams2,4,FALSE)=TRUE)),\"\",VLOOKUP(T57,match_teams2,4,FALSE))","v":"Hallam"},5.79,{"$f":"IF(OR(W57=0,W57=\"\",$Q$58=0,$Q$58=\"\",$Q$59=0,$Q$59=\"\",$Q$60=0,$Q$60=\"\",$Q$61=0,$Q$61=\"\"),\"\",IF(W57>=$Q$58,1,IF(W57>=$Q$59,2,IF(W57>=$Q$60,3,IF(W57>=$Q$61,4,\"\")))))","v":""},null,null,null,0,0,4]
[{"$f":"VLOOKUP(C53,eventno,8,FALSE)","v":2.9},4,{"$f":"IF(OR(G58=0,G58=\"\",T(G58)<>\"\",G58=\"NHC\"),\"\",RANK(G58,$G$55:$G$60,0))","v":""},{"$f":"IF($AA$24=\"\",Height!$B213,\" \")","v":33},{"$f":"IF(OR(D58=0,D58=\"\",D58=\" \"),\"\",IF($A$53=\"F\",HLOOKUP(D58,females2,$A$54,FALSE),IF($A$53=\"M\",HLOOKUP(D58,males2,$A$54,FALSE),\"\")))","v":"-"},{"$f":"IF(OR(D58=0,D58=\"\",ISERROR(VLOOKUP(D58,match_teams2,4,FALSE)=TRUE)),\"\",VLOOKUP(D58,match_teams2,4,FALSE))","v":"Hallam"},null,{"$f":"IF(OR(G58=0,G58=\"\",G58=\"NHC\",$A$58=0,$A$58=\"\",$A$59=0,$A$59=\"\",$A$60=0,$A$60=\"\",$A$61=0,$A$61=\"\"),\"\",IF(G58>=$A$58,1,IF(G58>=$A$59,2,IF(G58>=$A$60,3,IF(G58>=$A$61,4,\"\")))))","v":""},{"$f":"VLOOKUP(K53,eventno,8,FALSE)","v":3.4},4,{"$f":"IF(OR(O58=0,O58=\"\",T(O58)<>\"\",O58=\"NHC\"),\"\",RANK(O58,$O$55:$O$60,0))","v":""},{"$f":"IF($AA$25=\"\",Height!$B245,\" \")","v":22},{"$f":"IF(OR(L58=0,L58=\"\",L58=\" \"),\"\",IF($I$53=\"F\",HLOOKUP(L58,females2,$I$54,FALSE),IF($I$53=\"M\",HLOOKUP(L58,males2,$I$54,FALSE),\"\")))","v":"-"},{"$f":"IF(OR(L58=0,L58=\"\",ISERROR(VLOOKUP(L58,match_teams2,4,FALSE)=TRUE)),\"\",VLOOKUP(L58,match_teams2,4,FALSE))","v":"Linc W"},null,{"$f":"IF(OR(O58=0,O58=\"\",O58=\"NHC\",$I$58=0,$I$58=\"\",$I$59=0,$I$59=\"\",$I$60=0,$I$60=\"\",$I$61=0,$I$61=\"\"),\"\",IF(O58>=$I$58,1,IF(O58>=$I$59,2,IF(O58>=$I$60,3,IF(O58>=$I$61,4,\"\")))))","v":""},{"$f":"VLOOKUP(S53,eventno,8,FALSE)","v":9.9499999999999993},1,{"$f":"IF(OR(W58=0,W58=\"\",T(W58)<>\"\"),\"\",RANK(W58,$W$55:$W$60,0))","v":4},{"$f":"IF($AA$26=\"\",Distance!$B310,VALUE(LEFT($AA$26,3)))","v":1},{"$f":"IF(OR(T58=0,T58=\"\",T58=\" \"),\"\",IF($Q$53=\"F\",HLOOKUP(T58,females2,$Q$54,FALSE),IF($Q$53=\"M\",HLOOKUP(T58,males2,$Q$54,FALSE),\"\")))","v":"Hannah Short"},{"$f":"IF(OR(T58=0,T58=\"\",ISERROR(VLOOKUP(T58,match_teams2,4,FALSE)=TRUE)),\"\",VLOOKUP(T58,match_teams2,4,FALSE))","v":"DASH"},4.7699999999999996,{"$f":"IF(OR(W58=0,W58=\"\",$Q$58=0,$Q$58=\"\",$Q$59=0,$Q$59=\"\",$Q$60=0,$Q$60=\"\",$Q$61=0,$Q$61=\"\"),\"\",IF(W58>=$Q$58,1,IF(W58>=$Q$59,2,IF(W58>=$Q$60,3,IF(W58>=$Q$61,4,\"\")))))","v":""},null,null,null,0,0,3]
[{"$f":"VLOOKUP(C53,eventno,9,FALSE)","v":2.8},5,{"$f":"IF(OR(G59=0,G59=\"\",T(G59)<>\"\",G59=\"NHC\"),\"\",RANK(G59,$G$55:$G$60,0))","v":""},{"$f":"IF($AA$24=\"\",Height!$B214,\" \")","v":11},{"$f":"IF(OR(D59=0,D59=\"\",D59=\" \"),\"\",IF($A$53=\"F\",HLOOKUP(D59,females2,$A$54,FALSE),IF($A$53=\"M\",HLOOKUP(D59,males2,$A$54,FALSE),\"\")))","v":"-"},{"$f":"IF(OR(D59=0,D59=\"\",ISERROR(VLOOKUP(D59,match_teams2,4,FALSE)=TRUE)),\"\",VLOOKUP(D59,match_teams2,4,FALSE))","v":"DASH"},null,{"$f":"IF(OR(G59=0,G59=\"\",G59=\"NHC\",$A$58=0,$A$58=\"\",$A$59=0,$A$59=\"\",$A$60=0,$A$60=\"\",$A$61=0,$A$61=\"\"),\"\",IF(G59>=$A$58,1,IF(G59>=$A$59,2,IF(G59>=$A$60,3,IF(G59>=$A$61,4,\"\")))))","v":""},{"$f":"VLOOKUP(K53,eventno,9,FALSE)","v":3.2},5,{"$f":"IF(OR(O59=0,O59=\"\",T(O59)<>\"\",O59=\"NHC\"),\"\",RANK(O59,$O$55:$O$60,0))","v":""},{"$f":"IF($AA$25=\"\",Height!$B246,\" \")","v":33},{"$f":"IF(OR(L59=0,L59=\"\",L59=\" \"),\"\",IF($I$53=\"F\",HLOOKUP(L59,females2,$I$54,FALSE),IF($I$53=\"M\",HLOOKUP(L59,males2,$I$54,FALSE),\"\")))","v":"-"},{"$f":"IF(OR(L59=0,L59=\"\",ISERROR(VLOOKUP(L59,match_teams2,4,FALSE)=TRUE)),\"\",VLOOKUP(L59,match_teams2,4,FALSE))","v":"Hallam"},null,{"$f":"IF(OR(O59=0,O59=\"\",O59=\"NHC\",$I$58=0,$I$58=\"\",$I$59=0,$I$59=\"\",$I$60=0,$I$60=\"\",$I$61=0,$I$61=\"\"),\"\",IF(O59>=$I$58,1,IF(O59>=$I$59,2,IF(O59>=$I$60,3,IF(O59>=$I$61,4,\"\")))))","v":""},{"$f":"VLOOKUP(S53,eventno,9,FALSE)","v":9.35},4,{"$f":"IF(OR(W59=0,W59=\"\",T(W59)<>\"\"),\"\",RANK(W59,$W$55:$W$60,0))","v":""},{"$f":"IF($AA$26=\"\",Distance!$B313,\" \")","v":11},{"$f":"IF(OR(T59=0,T59=\"\",T59=\" \"),\"\",IF($Q$53=\"F\",HLOOKUP(T59,females2,$Q$54,FALSE),IF($Q$53=\"M\",HLOOKUP(T59,males2,$Q$54,FALSE),\"\")))","v":"-"},{"$f":"IF(OR(T59=0,T59=\"\",ISERROR(VLOOKUP(T59,match_teams2,4,FALSE)=TRUE)),\"\",VLOOKUP(T59,match_teams2,4,FALSE))","v":"DASH"},null,{"$f":"IF(OR(W59=0,W59=\"\",$Q$58=0,$Q$58=\"\",$Q$59=0,$Q$59=\"\",$Q$60=0,$Q$60=\"\",$Q$61=0,$Q$61=\"\"),\"\",IF(W59>=$Q$58,1,IF(W59>=$Q$59,2,IF(W59>=$Q$60,3,IF(W59>=$Q$61,4,\"\")))))","v":""},null,null,null,0,0,0]
[{"$f":"VLOOKUP(C53,eventno,10,FALSE)","v":2.5},6,{"$f":"IF(OR(G60=0,G60=\"\",T(G60)<>\"\",G60=\"NHC\"),\"\",RANK(G60,$G$55:$G$60,0))","v":""},{"$f":"IF($AA$24=\"\",Height!$B215,\" \")","v":22},{"$f":"IF(OR(D60=0,D60=\"\",D60=\" \"),\"\",IF($A$53=\"F\",HLOOKUP(D60,females2,$A$54,FALSE),IF($A$53=\"M\",HLOOKUP(D60,males2,$A$54,FALSE),\"\")))","v":"-"},{"$f":"IF(OR(D60=0,D60=\"\",ISERROR(VLOOKUP(D60,match_teams2,4,FALSE)=TRUE)),\"\",VLOOKUP(D60,match_teams2,4,FALSE))","v":"Linc W"},null,{"$f":"IF(OR(G60=0,G60=\"\",G60=\"NHC\",$A$58=0,$A$58=\"\",$A$59=0,$A$59=\"\",$A$60=0,$A$60=\"\",$A$61=0,$A$61=\"\"),\"\",IF(G60>=$A$58,1,IF(G60>=$A$59,2,IF(G60>=$A$60,3,IF(G60>=$A$61,4,\"\")))))","v":""},{"$f":"VLOOKUP(K53,eventno,10,FALSE)","v":2.9},6,{"$f":"IF(OR(O60=0,O60=\"\",T(O60)<>\"\",O60=\"NHC\"),\"\",RANK(O60,$O$55:$O$60,0))","v":""},{"$f":"IF($AA$25=\"\",Height!$B247,\" \")","v":11},{"$f":"IF(OR(L60=0,L60=\"\",L60=\" \"),\"\",IF($I$53=\"F\",HLOOKUP(L60,females2,$I$54,FALSE),IF($I$53=\"M\",HLOOKUP(L60,males2,$I$54,FALSE),\"\")))","v":"-"},{"$f":"IF(OR(L60=0,L60=\"\",ISERROR(VLOOKUP(L60,match_teams2,4,FALSE)=TRUE)),\"\",VLOOKUP(L60,match_teams2,4,FALSE))","v":"DASH"},null,{"$f":"IF(OR(O60=0,O60=\"\",O60=\"NHC\",$I$58=0,$I$58=\"\",$I$59=0,$I$59=\"\",$I$60=0,$I$60=\"\",$I$61=0,$I$61=\"\"),\"\",IF(O60>=$I$58,1,IF(O60>=$I$59,2,IF(O60>=$I$60,3,IF(O60>=$I$61,4,\"\")))))","v":""},{"$f":"VLOOKUP(S53,eventno,10,FALSE)","v":8.6999999999999993},6,{"$f":"IF(OR(W60=0,W60=\"\",T(W60)<>\"\"),\"\",RANK(W60,$W$55:$W$60,0))","v":""},{"$f":"IF($AA$26=\"\",Distance!$B315,\" \")","v":22},{"$f":"IF(OR(T60=0,T60=\"\",T60=\" \"),\"\",IF($Q$53=\"F\",HLOOKUP(T60,females2,$Q$54,FALSE),IF($Q$53=\"M\",HLOOKUP(T60,males2,$Q$54,FALSE),\"\")))","v":"-"},{"$f":"IF(OR(T60=0,T60=\"\",ISERROR(VLOOKUP(T60,match_teams2,4,FALSE)=TRUE)),\"\",VLOOKUP(T60,match_teams2,4,FALSE))","v":"Linc W"},null,{"$f":"IF(OR(W60=0,W60=\"\",$Q$58=0,$Q$58=\"\",$Q$59=0,$Q$59=\"\",$Q$60=0,$Q$60=\"\",$Q$61=0,$Q$61=\"\"),\"\",IF(W60>=$Q$58,1,IF(W60>=$Q$59,2,IF(W60>=$Q$60,3,IF(W60>=$Q$61,4,\"\")))))","v":""},null,null,null,0,0,0]
[{"$f":"VLOOKUP(C53,eventno,11,FALSE)","v":2.2000000000000002},null,null,null,null,null,null,null,{"$f":"VLOOKUP(K53,eventno,11,FALSE)","v":2.5},null,null,null,null,null,null,null,{"$f":"VLOOKUP(S53,eventno,11,FALSE)","v":7.8},null,null,null,null,null,null,null,null,null,null,0,0,0]
[{"$f":"VLOOKUP(C62,eventno,5,FALSE)","v":"M"},null,"F19",{"$f":"VLOOKUP(C62,eventno,4,FALSE)","v":"U17M Long Jump"},null,{"$f":"IF(A65=\"W\",\"Wind =\",\"\")","v":""},null,{"$f":"IF(OR(G64=0,G64=\"\",$A$66=0,$A$66=\"\"),\"\",IF($A$64=\"F\",IF(G64>$A$66,\"LR\",IF(G64=$A$66,\"LR=\",\"\"))))","v":""},{"$f":"VLOOKUP(K62,eventno,5,FALSE)","v":"F"},null,"F20",{"$f":"VLOOKUP(K62,eventno,4,FALSE)","v":"U15G Discus"},null,{"$f":"IF(I65=\"W\",\"Wind =\",\"\")","v":""},null,{"$f":"IF(OR(O64=0,O64=\"\",$I$66=0,$I$66=\"\"),\"\",IF($I$64=\"F\",IF(O64>$I$66,\"LR\",IF(O64=$I$66,\"LR=\",\"\"))))","v":""},{"$f":"VLOOKUP(S62,eventno,5,FALSE)","v":"F"},null,"F21",{"$f":"VLOOKUP(S62,eventno,4,FALSE)","v":"U17W Discus"},null,{"$f":"IF(Q65=\"W\",\"Wind =\",\"\")","v":""},null,{"$f":"IF(OR(W64=0,W64=\"\",$Q$66=0,$Q$66=\"\"),\"\",IF($Q$64=\"F\",IF(W64>$Q$66,\"LR\",IF(W64=$Q$66,\"LR=\",\"\"))))","v":""},null,null,null,0,0,0]
[{"$f":"IF(A62=\"M\",VLOOKUP(C62,males2,15,FALSE),VLOOKUP(C62,females2,15,FALSE))","v":43},null,"Posn","Bib","Athlete","Club","Perf","Gr",{"$f":"IF(I62=\"M\",VLOOKUP(K62,males2,15,FALSE),VLOOKUP(K62,females2,15,FALSE))","v":46},null,"Posn","Bib","Athlete","Club","Perf","Gr",{"$f":"IF(Q62=\"M\",VLOOKUP(S62,males2,15,FALSE),VLOOKUP(S62,females2,15,FALSE))","v":47},null,"Posn","Bib","Athlete","Club","Perf","Gr",null,null,null,{"$error":"#N/A"},{"$error":"#N/A"},{"$error":"#N/A"}]
[{"$f":"LEFT(C62,1)","v":"F"},3,{"$f":"IF(OR(G64=0,G64=\"\",T(G64)<>\"\"),\"\",RANK(G64,$G$64:$G$69,0))","v":1},{"$f":"IF($AA$27=\"\",Distance!$B344,\" \")","v":2},{"$f":"IF(OR(D64=0,D64=\"\",D64=\" \"),\"\",IF($A$62=\"F\",HLOOKUP(D64,females2,$A$63,FALSE),IF($A$62=\"M\",HLOOKUP(D64,males2,$A$63,FALSE),\"\")))","v":"Josh Holden"},{"$f":"IF(OR(D64=0,D64=\"\",ISERROR(VLOOKUP(D64,match_teams2,4,FALSE)=TRUE)),\"\",VLOOKUP(D64,match_teams2,4,FALSE))","v":"Linc W"},5.22,{"$f":"IF(OR(G64=0,G64=\"\",$A$67=0,$A$67=\"\",$A$68=0,$A$68=\"\",$A$69=0,$A$69=\"\",$A$70=0,$A$70=\"\"),\"\",IF(G64>=$A$67,1,IF(G64>=$A$68,2,IF(G64>=$A$69,3,IF(G64>=$A$70,4,\"\")))))","v":""},{"$f":"LEFT(K62,1)","v":"F"},1,{"$f":"IF(OR(O64=0,O64=\"\",T(O64)<>\"\"),\"\",RANK(O64,$O$64:$O$69,0))","v":1},{"$f":"IF($AA$28=\"\",Distance!$B374,VALUE(LEFT($AA$28,3)))","v":2},{"$f":"IF(OR(L64=0,L64=\"\",L64=\" \"),\"\",IF($I$62=\"F\",HLOOKUP(L64,females2,$I$63,FALSE),IF($I$62=\"M\",HLOOKUP(L64,males2,$I$63,FALSE),\"\")))","v":"India Freeman"},{"$f":"IF(OR(L64=0,L64=\"\",ISERROR(VLOOKUP(L64,match_teams2,4,FALSE)=TRUE)),\"\",VLOOKUP(L64,match_teams2,4,FALSE))","v":"Linc W"},18.41,{"$f":"IF(OR(O64=0,O64=\"\",$I$67=0,$I$67=\"\",$I$68=0,$I$68=\"\",$I$69=0,$I$69=\"\",$I$70=0,$I$70=\"\"),\"\",IF(O64>=$I$67,1,IF(O64>=$I$68,2,IF(O64>=$I$69,3,IF(O64>=$I$70,4,\"\")))))","v":""},{"$f":"LEFT(S62,1)","v":"F"},2,{"$f":"IF(OR(W64=0,W64=\"\",T(W64)<>\"\"),\"\",RANK(W64,$W$64:$W$69,0))","v":1},{"$f":"IF($AA$29=\"\",Distance!$B407,\" \")","v":2},{"$f":"IF(OR(T64=0,T64=\"\",T64=\" \"),\"\",IF($Q$62=\"F\",HLOOKUP(T64,females2,$Q$63,FALSE),IF($Q$62=\"M\",HLOOKUP(T64,males2,$Q$63,FALSE),\"\")))","v":"Elsie Dawes"},{"$f":"IF(OR(T64=0,T64=\"\",ISERROR(VLOOKUP(T64,match_teams2,4,FALSE)=TRUE)),\"\",VLOOKUP(T64,match_teams2,4,FALSE))","v":"Linc W"},24.06,{"$f":"IF(OR(W64=0,W64=\"\",$Q$67=0,$Q$67=\"\",$Q$68=0,$Q$68=\"\",$Q$69=0,$Q$69=\"\",$Q$70=0,$Q$70=\"\"),\"\",IF(W64>=$Q$67,1,IF(W64>=$Q$68,2,IF(W64>=$Q$69,3,IF(W64>=$Q$70,4,\"\")))))","v":4},null,null,null,6,6,6]
[{"$f":"VLOOKUP(C62,eventno,6,FALSE)","v":0},5,{"$f":"IF(OR(G65=0,G65=\"\",T(G65)<>\"\"),\"\",RANK(G65,$G$64:$G$69,0))","v":2},{"$f":"IF($AA$27=\"\",Distance!$B346,\" \")","v":11},{"$f":"IF(OR(D65=0,D65=\"\",D65=\" \"),\"\",IF($A$62=\"F\",HLOOKUP(D65,females2,$A$63,FALSE),IF($A$62=\"M\",HLOOKUP(D65,males2,$A$63,FALSE),\"\")))","v":"Adam Milner"},{"$f":"IF(OR(D65=0,D65=\"\",ISERROR(VLOOKUP(D65,match_teams2,4,FALSE)=TRUE)),\"\",VLOOKUP(D65,match_teams2,4,FALSE))","v":"DASH"},4.76,{"$f":"IF(OR(G65=0,G65=\"\",$A$67=0,$A$67=\"\",$A$68=0,$A$68=\"\",$A$69=0,$A$69=\"\",$A$70=0,$A$70=\"\"),\"\",IF(G65>=$A$67,1,IF(G65>=$A$68,2,IF(G65>=$A$69,3,IF(G65>=$A$70,4,\"\")))))","v":""},{"$f":"VLOOKUP(K62,eventno,6,FALSE)","v":0},2,{"$f":"IF(OR(O65=0,O65=\"\",T(O65)<>\"\"),\"\",RANK(O65,$O$64:$O$69,0))","v":2},{"$f":"IF($AA$28=\"\",Distance!$B375,\" \")","v":3},{"$f":"IF(OR(L65=0,L65=\"\",L65=\" \"),\"\",IF($I$62=\"F\",HLOOKUP(L65,females2,$I$63,FALSE),IF($I$62=\"M\",HLOOKUP(L65,males2,$I$63,FALSE),\"\")))","v":"Charlotte Mather"},{"$f":"IF(OR(L65=0,L65=\"\",ISERROR(VLOOKUP(L65,match_teams2,4,FALSE)=TRUE)),\"\",VLOOKUP(L65,match_teams2,4,FALSE))","v":"Hallam"},16.93,{"$f":"IF(OR(O65=0,O65=\"\",$I$67=0,$I$67=\"\",$I$68=0,$I$68=\"\",$I$69=0,$I$69=\"\",$I$70=0,$I$70=\"\"),\"\",IF(O65>=$I$67,1,IF(O65>=$I$68,2,IF(O65>=$I$69,3,IF(O65>=$I$70,4,\"\")))))","v":""},{"$f":"VLOOKUP(S62,eventno,6,FALSE)","v":0},3,{"$f":"IF(OR(W65=0,W65=\"\",T(W65)<>\"\"),\"\",RANK(W65,$W$64:$W$69,0))","v":2},{"$f":"IF($AA$29=\"\",Distance!$B408,\" \")","v":3},{"$f":"IF(OR(T65=0,T65=\"\",T65=\" \"),\"\",IF($Q$62=\"F\",HLOOKUP(T65,females2,$Q$63,FALSE),IF($Q$62=\"M\",HLOOKUP(T65,males2,$Q$63,FALSE),\"\")))","v":"Emily Fox"},{"$f":"IF(OR(T65=0,T65=\"\",ISERROR(VLOOKUP(T65,match_teams2,4,FALSE)=TRUE)),\"\",VLOOKUP(T65,match_teams2,4,FALSE))","v":"Hallam"},19.38,{"$f":"IF(OR(W65=0,W65=\"\",$Q$67=0,$Q$67=\"\",$Q$68=0,$Q$68=\"\",$Q$69=0,$Q$69=\"\",$Q$70=0,$Q$70=\"\"),\"\",IF(W65>=$Q$67,1,IF(W65>=$Q$68,2,IF(W65>=$Q$69,3,IF(W65>=$Q$70,4,\"\")))))","v":""},null,null,null,5,5,5]
[{"$f":"VLOOKUP(C62,eventno,7,FALSE)","v":7.45},6,{"$f":"IF(OR(G66=0,G66=\"\",T(G66)<>\"\"),\"\",RANK(G66,$G$64:$G$69,0))","v":3},{"$f":"IF($AA$27=\"\",Distance!$B347,\" \")","v":22},{"$f":"IF(OR(D66=0,D66=\"\",D66=\" \"),\"\",IF($A$62=\"F\",HLOOKUP(D66,females2,$A$63,FALSE),IF($A$62=\"M\",HLOOKUP(D66,males2,$A$63,FALSE),\"\")))","v":"Jack Harper"},{"$f":"IF(OR(D66=0,D66=\"\",ISERROR(VLOOKUP(D66,match_teams2,4,FALSE)=TRUE)),\"\",VLOOKUP(D66,match_teams2,4,FALSE))","v":"Linc W"},4.32,{"$f":"IF(OR(G66=0,G66=\"\",$A$67=0,$A$67=\"\",$A$68=0,$A$68=\"\",$A$69=0,$A$69=\"\",$A$70=0,$A$70=\"\"),\"\",IF(G66>=$A$67,1,IF(G66>=$A$68,2,IF(G66>=$A$69,3,IF(G66>=$A$70,4,\"\")))))","v":""},{"$f":"VLOOKUP(K62,eventno,7,FALSE)","v":39.47},4,{"$f":"IF(OR(O66=0,O66=\"\",T(O66)<>\"\"),\"\",RANK(O66,$O$64:$O$69,0))","v":3},{"$f":"IF($AA$28=\"\",Distance!$B377,\" \")","v":22},{"$f":"IF(OR(L66=0,L66=\"\",L66=\" \"),\"\",IF($I$62=\"F\",HLOOKUP(L66,females2,$I$63,FALSE),IF($I$62=\"M\",HLOOKUP(L66,males2,$I$63,FALSE),\"\")))","v":"Abbie Donnelly"},{"$f":"IF(OR(L66=0,L66=\"\",ISERROR(VLOOKUP(L66,match_teams2,4,FALSE)=TRUE)),\"\",VLOOKUP(L66,match_teams2,4,FALSE))","v":"Linc W"},13.97,{"$f":"IF(OR(O66=0,O66=\"\",$I$67=0,$I$67=\"\",$I$68=0,$I$68=\"\",$I$69=0,$I$69=\"\",$I$70=0,$I$70=\"\"),\"\",IF(O66>=$I$67,1,IF(O66>=$I$68,2,IF(O66>=$I$69,3,IF(O66>=$I$70,4,\"\")))))","v":""},{"$f":"VLOOKUP(S62,eventno,7,FALSE)","v":45.48},5,{"$f":"IF(OR(W66=0,W66=\"\",T(W66)<>\"\"),\"\",RANK(W66,$W$64:$W$69,0))","v":3},{"$f":"IF($AA$29=\"\",Distance!$B410,\" \")","v":22},{"$f":"IF(OR(T66=0,T66=\"\",T66=\" \"),\"\",IF($Q$62=\"F\",HLOOKUP(T66,females2,$Q$63,FALSE),IF($Q$62=\"M\",HLOOKUP(T66,males2,$Q$63,FALSE),\"\")))","v":"Rhiannon Philps"},{"$f":"IF(OR(T66=0,T66=\"\",ISERROR(VLOOKUP(T66,match_teams2,4,FALSE)=TRUE)),\"\",VLOOKUP(T66,match_teams2,4,FALSE))","v":"Linc W"},16.100000000000001,{"$f":"IF(OR(W66=0,W66=\"\",$Q$67=0,$Q$67=\"\",$Q$68=0,$Q$68=\"\",$Q$69=0,$Q$69=\"\",$Q$70=0,$Q$70=\"\"),\"\",IF(W66>=$Q$67,1,IF(W66>=$Q$68,2,IF(W66>=$Q$69,3,IF(W66>=$Q$70,4,\"\")))))","v":""},null,null,null,4,4,4]
[{"$f":"VLOOKUP(C62,eventno,8,FALSE)","v":0},2,{"$f":"IF(OR(G67=0,G67=\"\",T(G67)<>\"\"),\"\",RANK(G67,$G$64:$G$69,0))","v":4},{"$f":"IF($AA$27=\"\",Distance!$B343,\" \")","v":1},{"$f":"IF(OR(D67=0,D67=\"\",D67=\" \"),\"\",IF($A$62=\"F\",HLOOKUP(D67,females2,$A$63,FALSE),IF($A$62=\"M\",HLOOKUP(D67,males2,$A$63,FALSE),\"\")))","v":"Ryan Sutherland"},{"$f":"IF(OR(D67=0,D67=\"\",ISERROR(VLOOKUP(D67,match_teams2,4,FALSE)=TRUE)),\"\",VLOOKUP(D67,match_teams2,4,FALSE))","v":"DASH"},2.5099999999999998,{"$f":"IF(OR(G67=0,G67=\"\",$A$67=0,$A$67=\"\",$A$68=0,$A$68=\"\",$A$69=0,$A$69=\"\",$A$70=0,$A$70=\"\"),\"\",IF(G67>=$A$67,1,IF(G67>=$A$68,2,IF(G67>=$A$69,3,IF(G67>=$A$70,4,\"\")))))","v":""},{"$f":"VLOOKUP(K62,eventno,8,FALSE)","v":27.3},5,{"$f":"IF(OR(O67=0,O67=\"\",T(O67)<>\"\"),\"\",RANK(O67,$O$64:$O$69,0))","v":4},{"$f":"IF($AA$28=\"\",Distance!$B378,\" \")","v":33},{"$f":"IF(OR(L67=0,L67=\"\",L67=\" \"),\"\",IF($I$62=\"F\",HLOOKUP(L67,females2,$I$63,FALSE),IF($I$62=\"M\",HLOOKUP(L67,males2,$I$63,FALSE),\"\")))","v":"Lexie Wilson"},{"$f":"IF(OR(L67=0,L67=\"\",ISERROR(VLOOKUP(L67,match_teams2,4,FALSE)=TRUE)),\"\",VLOOKUP(L67,match_teams2,4,FALSE))","v":"Hallam"},12.64,{"$f":"IF(OR(O67=0,O67=\"\",$I$67=0,$I$67=\"\",$I$68=0,$I$68=\"\",$I$69=0,$I$69=\"\",$I$70=0,$I$70=\"\"),\"\",IF(O67>=$I$67,1,IF(O67>=$I$68,2,IF(O67>=$I$69,3,IF(O67>=$I$70,4,\"\")))))","v":""},{"$f":"VLOOKUP(S62,eventno,8,FALSE)","v":33.25},6,{"$f":"IF(OR(W67=0,W67=\"\",T(W67)<>\"\"),\"\",RANK(W67,$W$64:$W$69,0))","v":4},{"$f":"IF($AA$29=\"\",Distance!$B411,\" \")","v":33},{"$f":"IF(OR(T67=0,T67=\"\",T67=\" \"),\"\",IF($Q$62=\"F\",HLOOKUP(T67,females2,$Q$63,FALSE),IF($Q$62=\"M\",HLOOKUP(T67,males2,$Q$63,FALSE),\"\")))","v":"Fiona Bell"},{"$f":"IF(OR(T67=0,T67=\"\",ISERROR(VLOOKUP(T67,match_teams2,4,FALSE)=TRUE)),\"\",VLOOKUP(T67,match_teams2,4,FALSE))","v":"Hallam"},10.44,{"$f":"IF(OR(W67=0,W67=\"\",$Q$67=0,$Q$67=\"\",$Q$68=0,$Q$68=\"\",$Q$69=0,$Q$69=\"\",$Q$70=0,$Q$70=\"\"),\"\",IF(W67>=$Q$67,1,IF(W67>=$Q$68,2,IF(W67>=$Q$69,3,IF(W67>=$Q$70,4,\"\")))))","v":""},null,null,null,3,3,3]
[{"$f":"VLOOKUP(C62,eventno,9,FALSE)","v":0},1,{"$f":"IF(OR(G68=0,G68=\"\",T(G68)<>\"\"),\"\",RANK(G68,$G$64:$G$69,0))","v":""},{"$f":"IF($AA$27=\"\",Distance!$B342,VALUE(LEFT($AA$27,3)))","v":3},{"$f":"IF(OR(D68=0,D68=\"\",D68=\" \"),\"\",IF($A$62=\"F\",HLOOKUP(D68,females2,$A$63,FALSE),IF($A$62=\"M\",HLOOKUP(D68,males2,$A$63,FALSE),\"\")))","v":"-"},{"$f":"IF(OR(D68=0,D68=\"\",ISERROR(VLOOKUP(D68,match_teams2,4,FALSE)=TRUE)),\"\",VLOOKUP(D68,match_teams2,4,FALSE))","v":"Hallam"},null,{"$f":"IF(OR(G68=0,G68=\"\",$A$67=0,$A$67=\"\",$A$68=0,$A$68=\"\",$A$69=0,$A$69=\"\",$A$70=0,$A$70=\"\"),\"\",IF(G68>=$A$67,1,IF(G68>=$A$68,2,IF(G68>=$A$69,3,IF(G68>=$A$70,4,\"\")))))","v":""},{"$f":"VLOOKUP(K62,eventno,9,FALSE)","v":25.05},3,{"$f":"IF(OR(O68=0,O68=\"\",T(O68)<>\"\"),\"\",RANK(O68,$O$64:$O$69,0))","v":5},{"$f":"IF($AA$28=\"\",Distance!$B376,\" \")","v":1},{"$f":"IF(OR(L68=0,L68=\"\",L68=\" \"),\"\",IF($I$62=\"F\",HLOOKUP(L68,females2,$I$63,FALSE),IF($I$62=\"M\",HLOOKUP(L68,males2,$I$63,FALSE),\"\")))","v":"Emma Clarkson"},{"$f":"IF(OR(L68=0,L68=\"\",ISERROR(VLOOKUP(L68,match_teams2,4,FALSE)=TRUE)),\"\",VLOOKUP(L68,match_teams2,4,FALSE))","v":"DASH"},8.43,{"$f":"IF(OR(O68=0,O68=\"\",$I$67=0,$I$67=\"\",$I$68=0,$I$68=\"\",$I$69=0,$I$69=\"\",$I$70=0,$I$70=\"\"),\"\",IF(O68>=$I$67,1,IF(O68>=$I$68,2,IF(O68>=$I$69,3,IF(O68>=$I$70,4,\"\")))))","v":""},{"$f":"VLOOKUP(S62,eventno,9,FALSE)","v":31.5},1,{"$f":"IF(OR(W68=0,W68=\"\",T(W68)<>\"\"),\"\",RANK(W68,$W$64:$W$69,0))","v":""},{"$f":"IF($AA$29=\"\",Distance!$B406,VALUE(LEFT($AA$29,3)))","v":1},{"$f":"IF(OR(T68=0,T68=\"\",T68=\" \"),\"\",IF($Q$62=\"F\",HLOOKUP(T68,females2,$Q$63,FALSE),IF($Q$62=\"M\",HLOOKUP(T68,males2,$Q$63,FALSE),\"\")))","v":"-"},{"$f":"IF(OR(T68=0,T68=\"\",ISERROR(VLOOKUP(T68,match_teams2,4,FALSE)=TRUE)),\"\",VLOOKUP(T68,match_teams2,4,FALSE))","v":"DASH"},null,{"$f":"IF(OR(W68=0,W68=\"\",$Q$67=0,$Q$67=\"\",$Q$68=0,$Q$68=\"\",$Q$69=0,$Q$69=\"\",$Q$70=0,$Q$70=\"\"),\"\",IF(W68>=$Q$67,1,IF(W68>=$Q$68,2,IF(W68>=$Q$69,3,IF(W68>=$Q$70,4,\"\")))))","v":""},null,null,null,0,2,0]
[{"$f":"VLOOKUP(C62,eventno,10,FALSE)","v":0},4,{"$f":"IF(OR(G69=0,G69=\"\",T(G69)<>\"\"),\"\",RANK(G69,$G$64:$G$69,0))","v":""},{"$f":"IF($AA$27=\"\",Distance!$B345,\" \")","v":33},{"$f":"IF(OR(D69=0,D69=\"\",D69=\" \"),\"\",IF($A$62=\"F\",HLOOKUP(D69,females2,$A$63,FALSE),IF($A$62=\"M\",HLOOKUP(D69,males2,$A$63,FALSE),\"\")))","v":"-"},{"$f":"IF(OR(D69=0,D69=\"\",ISERROR(VLOOKUP(D69,match_teams2,4,FALSE)=TRUE)),\"\",VLOOKUP(D69,match_teams2,4,FALSE))","v":"Hallam"},null,{"$f":"IF(OR(G69=0,G69=\"\",$A$67=0,$A$67=\"\",$A$68=0,$A$68=\"\",$A$69=0,$A$69=\"\",$A$70=0,$A$70=\"\"),\"\",IF(G69>=$A$67,1,IF(G69>=$A$68,2,IF(G69>=$A$69,3,IF(G69>=$A$70,4,\"\")))))","v":""},{"$f":"VLOOKUP(K62,eventno,10,FALSE)","v":22.3},6,{"$f":"IF(OR(O69=0,O69=\"\",T(O69)<>\"\"),\"\",RANK(O69,$O$64:$O$69,0))","v":""},{"$f":"IF($AA$28=\"\",Distance!$B379,\" \")","v":11},{"$f":"IF(OR(L69=0,L69=\"\",L69=\" \"),\"\",IF($I$62=\"F\",HLOOKUP(L69,females2,$I$63,FALSE),IF($I$62=\"M\",HLOOKUP(L69,males2,$I$63,FALSE),\"\")))","v":"-"},{"$f":"IF(OR(L69=0,L69=\"\",ISERROR(VLOOKUP(L69,match_teams2,4,FALSE)=TRUE)),\"\",VLOOKUP(L69,match_teams2,4,FALSE))","v":"DASH"},null,{"$f":"IF(OR(O69=0,O69=\"\",$I$67=0,$I$67=\"\",$I$68=0,$I$68=\"\",$I$69=0,$I$69=\"\",$I$70=0,$I$70=\"\"),\"\",IF(O69>=$I$67,1,IF(O69>=$I$68,2,IF(O69>=$I$69,3,IF(O69>=$I$70,4,\"\")))))","v":""},{"$f":"VLOOKUP(S62,eventno,10,FALSE)","v":27.9},4,{"$f":"IF(OR(W69=0,W69=\"\",T(W69)<>\"\"),\"\",RANK(W69,$W$64:$W$69,0))","v":""},{"$f":"IF($AA$29=\"\",Distance!$B409,\" \")","v":11},{"$f":"IF(OR(T69=0,T69=\"\",T69=\" \"),\"\",IF($Q$62=\"F\",HLOOKUP(T69,females2,$Q$63,FALSE),IF($Q$62=\"M\",HLOOKUP(T69,males2,$Q$63,FALSE),\"\")))","v":"-"},{"$f":"IF(OR(T69=0,T69=\"\",ISERROR(VLOOKUP(T69,match_teams2,4,FALSE)=TRUE)),\"\",VLOOKUP(T69,match_teams2,4,FALSE))","v":"DASH"},null,{"$f":"IF(OR(W69=0,W69=\"\",$Q$67=0,$Q$67=\"\",$Q$68=0,$Q$68=\"\",$Q$69=0,$Q$69=\"\",$Q$70=0,$Q$70=\"\"),\"\",IF(W69>=$Q$67,1,IF(W69>=$Q$68,2,IF(W69>=$Q$69,3,IF(W69>=$Q$70,4,\"\")))))","v":""},null,null,null,0,0,0]
[{"$f":"VLOOKUP(C62,eventno,11,FALSE)","v":0},null,null,null,null,null,null,null,{"$f":"VLOOKUP(K62,eventno,11,FALSE)","v":19.649999999999999},null,null,null,null,null,null,null,{"$f":"VLOOKUP(S62,eventno,11,FALSE)","v":23.25},null,null,null,null,null,null,null,null,null,null,0,0,0]
[{"$f":"VLOOKUP(C71,eventno,5,FALSE)","v":"M"},null,"F22",{"$f":"VLOOKUP(C71,eventno,4,FALSE)","v":"U13B Shot"},null,{"$f":"IF(A74=\"W\",\"Wind =\",\"\")","v":""},null,{"$f":"IF(OR(G73=0,G73=\"\",$A$75=0,$A$75=\"\"),\"\",IF($A$73=\"F\",IF(G73>$A$75,\"LR\",IF(G73=$A$75,\"LR=\",\"\"))))","v":""},{"$f":"VLOOKUP(K71,eventno,5,FALSE)","v":"F"},null,"F23",{"$f":"VLOOKUP(K71,eventno,4,FALSE)","v":"U15G Long Jump"},null,{"$f":"IF(I74=\"W\",\"Wind =\",\"\")","v":""},null,{"$f":"IF(OR(O73=0,O73=\"\",$I$75=0,$I$75=\"\"),\"\",IF($I$73=\"F\",IF(O73>$I$75,\"LR\",IF(O73=$I$75,\"LR=\",\"\"))))","v":""},{"$f":"VLOOKUP(S71,eventno,5,FALSE)","v":"F"},null,"F24",{"$f":"VLOOKUP(S71,eventno,4,FALSE)","v":"U15G Shot"},null,{"$f":"IF(Q74=\"W\",\"Wind =\",\"\")","v":""},null,{"$f":"IF(OR(W73=0,W73=\"\",$Q$75=0,$Q$75=\"\"),\"\",IF($Q$73=\"F\",IF(W73>$Q$75,\"LR\",IF(W73=$Q$75,\"LR=\",\"\"))))","v":""},null,null,null,0,0,0]
[{"$f":"IF(A71=\"M\",VLOOKUP(C71,males2,15,FALSE),VLOOKUP(C71,females2,15,FALSE))","v":44},null,"Posn","Bib","Athlete","Club","Perf","Gr",{"$f":"IF(I71=\"M\",VLOOKUP(K71,males2,15,FALSE),VLOOKUP(K71,females2,15,FALSE))","v":45},null,"Posn","Bib","Athlete","Club","Perf","Gr",{"$f":"IF(Q71=\"M\",VLOOKUP(S71,males2,15,FALSE),VLOOKUP(S71,females2,15,FALSE))","v":37},null,"Posn","Bib","Athlete","Club","Perf","Gr",null,null,null,{"$f":"IF(OR(C72=0,C72=\"\",D72=0,D72=\"\",G72=0,G72=\"\",LEFT(G72,1)=\"D\"),0,VLOOKUP(C72,points,2,FALSE))","v":{"$error":"#N/A"}},{"$f":"IF(OR(K72=0,K72=\"\",L72=0,L72=\"\",O72=0,O72=\"\",LEFT(O72,1)=\"D\"),0,VLOOKUP(K72,points,2,FALSE))","v":{"$error":"#N/A"}},{"$f":"IF(OR(S72=0,S72=\"\",T72=0,T72=\"\",W72=0,W72=\"\",LEFT(W72,1)=\"D\"),0,VLOOKUP(S72,points,2,FALSE))","v":{"$error":"#N/A"}}]
[{"$f":"LEFT(C71,1)","v":"F"},1,{"$f":"IF(OR(G73=0,G73=\"\",T(G73)<>\"\"),\"\",RANK(G73,$G$73:$G$78,0))","v":1},{"$f":"IF($AA$30=\"\",Distance!$B439,\" \")","v":1},{"$f":"IF(OR(D73=0,D73=\"\",D73=\" \"),\"\",IF($A$71=\"F\",HLOOKUP(D73,females2,$A$72,FALSE),IF($A$71=\"M\",HLOOKUP(D73,males2,$A$72,FALSE),\"\")))","v":"James Mckell"},{"$f":"IF(OR(D73=0,D73=\"\",ISERROR(VLOOKUP(D73,match_teams2,4,FALSE)=TRUE)),\"\",VLOOKUP(D73,match_teams2,4,FALSE))","v":"DASH"},5.93,{"$f":"IF(OR(G73=0,G73=\"\",$A$76=0,$A$76=\"\",$A$77=0,$A$77=\"\",$A$78=0,$A$78=\"\",$A$79=0,$A$79=\"\"),\"\",IF(G73>=$A$76,1,IF(G73>=$A$77,2,IF(G73>=$A$78,3,IF(G73>=$A$79,4,\"\")))))","v":""},{"$f":"LEFT(K71,1)","v":"F"},1,{"$f":"IF(OR(O73=0,O73=\"\",T(O73)<>\"\"),\"\",RANK(O73,$O$73:$O$78,0))","v":1},{"$f":"IF($AA$31=\"\",Distance!$B470,VALUE(LEFT($AA$31,3)))","v":3},{"$f":"IF(OR(L73=0,L73=\"\",L73=\" \"),\"\",IF($I$71=\"F\",HLOOKUP(L73,females2,$I$72,FALSE),IF($I$71=\"M\",HLOOKUP(L73,males2,$I$72,FALSE),\"\")))","v":"Elaine Williams"},{"$f":"IF(OR(L73=0,L73=\"\",ISERROR(VLOOKUP(L73,match_teams2,4,FALSE)=TRUE)),\"\",VLOOKUP(L73,match_teams2,4,FALSE))","v":"Hallam"},4.26,{"$f":"IF(OR(O73=0,O73=\"\",$I$76=0,$I$76=\"\",$I$77=0,$I$77=\"\",$I$78=0,$I$78=\"\",$I$79=0,$I$79=\"\"),\"\",IF(O73>=$I$76,1,IF(O73>=$I$77,2,IF(O73>=$I$78,3,IF(O73>=$I$79,4,\"\")))))","v":""},{"$f":"LEFT(S71,1)","v":"F"},3,{"$f":"IF(OR(W73=0,W73=\"\",T(W73)<>\"\"),\"\",RANK(W73,$W$73:$W$78,0))","v":1},{"$f":"IF($AA$32=\"\",Distance!$B504,\" \")","v":2},{"$f":"IF(OR(T73=0,T73=\"\",T73=\" \"),\"\",IF($Q$71=\"F\",HLOOKUP(T73,females2,$Q$72,FALSE),IF($Q$71=\"M\",HLOOKUP(T73,males2,$Q$72,FALSE),\"\")))","v":"India Freeman"},{"$f":"IF(OR(T73=0,T73=\"\",ISERROR(VLOOKUP(T73,match_teams2,4,FALSE)=TRUE)),\"\",VLOOKUP(T73,match_teams2,4,FALSE))","v":"Linc W"},7.06,{"$f":"IF(OR(W73=0,W73=\"\",$Q$76=0,$Q$76=\"\",$Q$77=0,$Q$77=\"\",$Q$78=0,$Q$78=\"\",$Q$79=0,$Q$79=\"\"),\"\",IF(W73>=$Q$76,1,IF(W73>=$Q$77,2,IF(W73>=$Q$78,3,IF(W73>=$Q$79,4,\"\")))))","v":""},null,null,null,6,6,6]
[{"$f":"VLOOKUP(C71,eventno,6,FALSE)","v":0},6,{"$f":"IF(OR(G74=0,G74=\"\",T(G74)<>\"\"),\"\",RANK(G74,$G$73:$G$78,0))","v":2},{"$f":"IF($AA$30=\"\",Distance!$B443,\" \")","v":33},{"$f":"IF(OR(D74=0,D74=\"\",D74=\" \"),\"\",IF($A$71=\"F\",HLOOKUP(D74,females2,$A$72,FALSE),IF($A$71=\"M\",HLOOKUP(D74,males2,$A$72,FALSE),\"\")))","v":"Jacob Worthington"},{"$f":"IF(OR(D74=0,D74=\"\",ISERROR(VLOOKUP(D74,match_teams2,4,FALSE)=TRUE)),\"\",VLOOKUP(D74,match_teams2,4,FALSE))","v":"Hallam"},5.49,{"$f":"IF(OR(G74=0,G74=\"\",$A$76=0,$A$76=\"\",$A$77=0,$A$77=\"\",$A$78=0,$A$78=\"\",$A$79=0,$A$79=\"\"),\"\",IF(G74>=$A$76,1,IF(G74>=$A$77,2,IF(G74>=$A$78,3,IF(G74>=$A$79,4,\"\")))))","v":""},{"$f":"VLOOKUP(K71,eventno,6,FALSE)","v":0},2,{"$f":"IF(OR(O74=0,O74=\"\",T(O74)<>\"\"),\"\",RANK(O74,$O$73:$O$78,0))","v":2},{"$f":"IF($AA$31=\"\",Distance!$B471,\" \")","v":1},{"$f":"IF(OR(L74=0,L74=\"\",L74=\" \"),\"\",IF($I$71=\"F\",HLOOKUP(L74,females2,$I$72,FALSE),IF($I$71=\"M\",HLOOKUP(L74,males2,$I$72,FALSE),\"\")))","v":"Emily Miles"},{"$f":"IF(OR(L74=0,L74=\"\",ISERROR(VLOOKUP(L74,match_teams2,4,FALSE)=TRUE)),\"\",VLOOKUP(L74,match_teams2,4,FALSE))","v":"DASH"},3.96,{"$f":"IF(OR(O74=0,O74=\"\",$I$76=0,$I$76=\"\",$I$77=0,$I$77=\"\",$I$78=0,$I$78=\"\",$I$79=0,$I$79=\"\"),\"\",IF(O74>=$I$76,1,IF(O74>=$I$77,2,IF(O74>=$I$78,3,IF(O74>=$I$79,4,\"\")))))","v":""},{"$f":"VLOOKUP(S71,eventno,6,FALSE)","v":0},1,{"$f":"IF(OR(W74=0,W74=\"\",T(W74)<>\"\"),\"\",RANK(W74,$W$73:$W$78,0))","v":2},{"$f":"IF($AA$32=\"\",Distance!$B502,VALUE(LEFT($AA$32,3)))","v":3},{"$f":"IF(OR(T74=0,T74=\"\",T74=\" \"),\"\",IF($Q$71=\"F\",HLOOKUP(T74,females2,$Q$72,FALSE),IF($Q$71=\"M\",HLOOKUP(T74,males2,$Q$72,FALSE),\"\")))","v":"Elaine Williams"},{"$f":"IF(OR(T74=0,T74=\"\",ISERROR(VLOOKUP(T74,match_teams2,4,FALSE)=TRUE)),\"\",VLOOKUP(T74,match_teams2,4,FALSE))","v":"Hallam"},6.88,{"$f":"IF(OR(W74=0,W74=\"\",$Q$76=0,$Q$76=\"\",$Q$77=0,$Q$77=\"\",$Q$78=0,$Q$78=\"\",$Q$79=0,$Q$79=\"\"),\"\",IF(W74>=$Q$76,1,IF(W74>=$Q$77,2,IF(W74>=$Q$78,3,IF(W74>=$Q$79,4,\"\")))))","v":""},null,null,null,5,5,5]
[{"$f":"VLOOKUP(C71,eventno,7,FALSE)","v":14.47},5,{"$f":"IF(OR(G75=0,G75=\"\",T(G75)<>\"\"),\"\",RANK(G75,$G$73:$G$78,0))","v":3},{"$f":"IF($AA$30=\"\",Distance!$B442,\" \")","v":11},{"$f":"IF(OR(D75=0,D75=\"\",D75=\" \"),\"\",IF($A$71=\"F\",HLOOKUP(D75,females2,$A$72,FALSE),IF($A$71=\"M\",HLOOKUP(D75,males2,$A$72,FALSE),\"\")))","v":"Bradley Gabbitas"},{"$f":"IF(OR(D75=0,D75=\"\",ISERROR(VLOOKUP(D75,match_teams2,4,FALSE)=TRUE)),\"\",VLOOKUP(D75,match_teams2,4,FALSE))","v":"DASH"},5.12,{"$f":"IF(OR(G75=0,G75=\"\",$A$76=0,$A$76=\"\",$A$77=0,$A$77=\"\",$A$78=0,$A$78=\"\",$A$79=0,$A$79=\"\"),\"\",IF(G75>=$A$76,1,IF(G75>=$A$77,2,IF(G75>=$A$78,3,IF(G75>=$A$79,4,\"\")))))","v":""},{"$f":"VLOOKUP(K71,eventno,7,FALSE)","v":6.07},3,{"$f":"IF(OR(O75=0,O75=\"\",T(O75)<>\"\"),\"\",RANK(O75,$O$73:$O$78,0))","v":3},{"$f":"IF($AA$31=\"\",Distance!$B472,\" \")","v":2},{"$f":"IF(OR(L75=0,L75=\"\",L75=\" \"),\"\",IF($I$71=\"F\",HLOOKUP(L75,females2,$I$72,FALSE),IF($I$71=\"M\",HLOOKUP(L75,males2,$I$72,FALSE),\"\")))","v":"Lauren Ward"},{"$f":"IF(OR(L75=0,L75=\"\",ISERROR(VLOOKUP(L75,match_teams2,4,FALSE)=TRUE)),\"\",VLOOKUP(L75,match_teams2,4,FALSE))","v":"Linc W"},3.94,{"$f":"IF(OR(O75=0,O75=\"\",$I$76=0,$I$76=\"\",$I$77=0,$I$77=\"\",$I$78=0,$I$78=\"\",$I$79=0,$I$79=\"\"),\"\",IF(O75>=$I$76,1,IF(O75>=$I$77,2,IF(O75>=$I$78,3,IF(O75>=$I$79,4,\"\")))))","v":""},{"$f":"VLOOKUP(S71,eventno,7,FALSE)","v":13.75},4,{"$f":"IF(OR(W75=0,W75=\"\",T(W75)<>\"\"),\"\",RANK(W75,$W$73:$W$78,0))","v":3},{"$f":"IF($AA$32=\"\",Distance!$B505,\" \")","v":33},{"$f":"IF(OR(T75=0,T75=\"\",T75=\" \"),\"\",IF($Q$71=\"F\",HLOOKUP(T75,females2,$Q$72,FALSE),IF($Q$71=\"M\",HLOOKUP(T75,males2,$Q$72,FALSE),\"\")))","v":"Evelyn Williams"},{"$f":"IF(OR(T75=0,T75=\"\",ISERROR(VLOOKUP(T75,match_teams2,4,FALSE)=TRUE)),\"\",VLOOKUP(T75,match_teams2,4,FALSE))","v":"Hallam"},6.58,{"$f":"IF(OR(W75=0,W75=\"\",$Q$76=0,$Q$76=\"\",$Q$77=0,$Q$77=\"\",$Q$78=0,$Q$78=\"\",$Q$79=0,$Q$79=\"\"),\"\",IF(W75>=$Q$76,1,IF(W75>=$Q$77,2,IF(W75>=$Q$78,3,IF(W75>=$Q$79,4,\"\")))))","v":""},null,null,null,4,4,4]
[{"$f":"VLOOKUP(C71,eventno,8,FALSE)","v":9.5500000000000007},2,{"$f":"IF(OR(G76=0,G76=\"\",T(G76)<>\"\"),\"\",RANK(G76,$G$73:$G$78,0))","v":4},{"$f":"IF($AA$30=\"\",Distance!$B440,\" \")","v":3},{"$f":"IF(OR(D76=0,D76=\"\",D76=\" \"),\"\",IF($A$71=\"F\",HLOOKUP(D76,females2,$A$72,FALSE),IF($A$71=\"M\",HLOOKUP(D76,males2,$A$72,FALSE),\"\")))","v":"Jake Steade"},{"$f":"IF(OR(D76=0,D76=\"\",ISERROR(VLOOKUP(D76,match_teams2,4,FALSE)=TRUE)),\"\",VLOOKUP(D76,match_teams2,4,FALSE))","v":"Hallam"},4.71,{"$f":"IF(OR(G76=0,G76=\"\",$A$76=0,$A$76=\"\",$A$77=0,$A$77=\"\",$A$78=0,$A$78=\"\",$A$79=0,$A$79=\"\"),\"\",IF(G76>=$A$76,1,IF(G76>=$A$77,2,IF(G76>=$A$78,3,IF(G76>=$A$79,4,\"\")))))","v":""},{"$f":"VLOOKUP(K71,eventno,8,FALSE)","v":5},6,{"$f":"IF(OR(O76=0,O76=\"\",T(O76)<>\"\"),\"\",RANK(O76,$O$73:$O$78,0))","v":4},{"$f":"IF($AA$31=\"\",Distance!$B475,\" \")","v":22},{"$f":"IF(OR(L76=0,L76=\"\",L76=\" \"),\"\",IF($I$71=\"F\",HLOOKUP(L76,females2,$I$72,FALSE),IF($I$71=\"M\",HLOOKUP(L76,males2,$I$72,FALSE),\"\")))","v":"Alex Jackson"},{"$f":"IF(OR(L76=0,L76=\"\",ISERROR(VLOOKUP(L76,match_teams2,4,FALSE)=TRUE)),\"\",VLOOKUP(L76,match_teams2,4,FALSE))","v":"Linc W"},3.51,{"$f":"IF(OR(O76=0,O76=\"\",$I$76=0,$I$76=\"\",$I$77=0,$I$77=\"\",$I$78=0,$I$78=\"\",$I$79=0,$I$79=\"\"),\"\",IF(O76>=$I$76,1,IF(O76>=$I$77,2,IF(O76>=$I$78,3,IF(O76>=$I$79,4,\"\")))))","v":""},{"$f":"VLOOKUP(S71,eventno,8,FALSE)","v":9.85},2,{"$f":"IF(OR(W76=0,W76=\"\",T(W76)<>\"\"),\"\",RANK(W76,$W$73:$W$78,0))","v":4},{"$f":"IF($AA$32=\"\",Distance!$B503,\" \")","v":1},{"$f":"IF(OR(T76=0,T76=\"\",T76=\" \"),\"\",IF($Q$71=\"F\",HLOOKUP(T76,females2,$Q$72,FALSE),IF($Q$71=\"M\",HLOOKUP(T76,males2,$Q$72,FALSE),\"\")))","v":"Emma Clarkson"},{"$f":"IF(OR(T76=0,T76=\"\",ISERROR(VLOOKUP(T76,match_teams2,4,FALSE)=TRUE)),\"\",VLOOKUP(T76,match_teams2,4,FALSE))","v":"DASH"},5.96,{"$f":"IF(OR(W76=0,W76=\"\",$Q$76=0,$Q$76=\"\",$Q$77=0,$Q$77=\"\",$Q$78=0,$Q$78=\"\",$Q$79=0,$Q$79=\"\"),\"\",IF(W76>=$Q$76,1,IF(W76>=$Q$77,2,IF(W76>=$Q$78,3,IF(W76>=$Q$79,4,\"\")))))","v":""},null,null,null,3,3,3]
[{"$f":"VLOOKUP(C71,eventno,9,FALSE)","v":8.9499999999999993},3,{"$f":"IF(OR(G77=0,G77=\"\",T(G77)<>\"\"),\"\",RANK(G77,$G$73:$G$78,0))","v":5},{"$f":"IF($AA$30=\"\",Distance!$B438,VALUE(LEFT($AA$30,3)))","v":2},{"$f":"IF(OR(D77=0,D77=\"\",D77=\" \"),\"\",IF($A$71=\"F\",HLOOKUP(D77,females2,$A$72,FALSE),IF($A$71=\"M\",HLOOKUP(D77,males2,$A$72,FALSE),\"\")))","v":"Oliver Jackson"},{"$f":"IF(OR(D77=0,D77=\"\",ISERROR(VLOOKUP(D77,match_teams2,4,FALSE)=TRUE)),\"\",VLOOKUP(D77,match_teams2,4,FALSE))","v":"Linc W"},3.28,{"$f":"IF(OR(G77=0,G77=\"\",$A$76=0,$A$76=\"\",$A$77=0,$A$77=\"\",$A$78=0,$A$78=\"\",$A$79=0,$A$79=\"\"),\"\",IF(G77>=$A$76,1,IF(G77>=$A$77,2,IF(G77>=$A$78,3,IF(G77>=$A$79,4,\"\")))))","v":""},{"$f":"VLOOKUP(K71,eventno,9,FALSE)","v":4.8499999999999996},5,{"$f":"IF(OR(O77=0,O77=\"\",T(O77)<>\"\"),\"\",RANK(O77,$O$73:$O$78,0))","v":5},{"$f":"IF($AA$31=\"\",Distance!$B474,\" \")","v":11},{"$f":"IF(OR(L77=0,L77=\"\",L77=\" \"),\"\",IF($I$71=\"F\",HLOOKUP(L77,females2,$I$72,FALSE),IF($I$71=\"M\",HLOOKUP(L77,males2,$I$72,FALSE),\"\")))","v":"Catriona Mckell"},{"$f":"IF(OR(L77=0,L77=\"\",ISERROR(VLOOKUP(L77,match_teams2,4,FALSE)=TRUE)),\"\",VLOOKUP(L77,match_teams2,4,FALSE))","v":"DASH"},1.49,{"$f":"IF(OR(O77=0,O77=\"\",$I$76=0,$I$76=\"\",$I$77=0,$I$77=\"\",$I$78=0,$I$78=\"\",$I$79=0,$I$79=\"\"),\"\",IF(O77>=$I$76,1,IF(O77>=$I$77,2,IF(O77>=$I$78,3,IF(O77>=$I$79,4,\"\")))))","v":""},{"$f":"VLOOKUP(S71,eventno,9,FALSE)","v":9.15},6,{"$f":"IF(OR(W77=0,W77=\"\",T(W77)<>\"\"),\"\",RANK(W77,$W$73:$W$78,0))","v":5},{"$f":"IF($AA$32=\"\",Distance!$B507,\" \")","v":22},{"$f":"IF(OR(T77=0,T77=\"\",T77=\" \"),\"\",IF($Q$71=\"F\",HLOOKUP(T77,females2,$Q$72,FALSE),IF($Q$71=\"M\",HLOOKUP(T77,males2,$Q$72,FALSE),\"\")))","v":"Lauren Ward"},{"$f":"IF(OR(T77=0,T77=\"\",ISERROR(VLOOKUP(T77,match_teams2,4,FALSE)=TRUE)),\"\",VLOOKUP(T77,match_teams2,4,FALSE))","v":"Linc W"},5.19,{"$f":"IF(OR(W77=0,W77=\"\",$Q$76=0,$Q$76=\"\",$Q$77=0,$Q$77=\"\",$Q$78=0,$Q$78=\"\",$Q$79=0,$Q$79=\"\"),\"\",IF(W77>=$Q$76,1,IF(W77>=$Q$77,2,IF(W77>=$Q$78,3,IF(W77>=$Q$79,4,\"\")))))","v":""},null,null,null,2,2,2]
[{"$f":"VLOOKUP(C71,eventno,10,FALSE)","v":8.1},4,{"$f":"IF(OR(G78=0,G78=\"\",T(G78)<>\"\"),\"\",RANK(G78,$G$73:$G$78,0))","v":""},{"$f":"IF($AA$30=\"\",Distance!$B441,\" \")","v":22},{"$f":"IF(OR(D78=0,D78=\"\",D78=\" \"),\"\",IF($A$71=\"F\",HLOOKUP(D78,females2,$A$72,FALSE),IF($A$71=\"M\",HLOOKUP(D78,males2,$A$72,FALSE),\"\")))","v":"Maxwell Sheehan"},{"$f":"IF(OR(D78=0,D78=\"\",ISERROR(VLOOKUP(D78,match_teams2,4,FALSE)=TRUE)),\"\",VLOOKUP(D78,match_teams2,4,FALSE))","v":"Linc W"},null,{"$f":"IF(OR(G78=0,G78=\"\",$A$76=0,$A$76=\"\",$A$77=0,$A$77=\"\",$A$78=0,$A$78=\"\",$A$79=0,$A$79=\"\"),\"\",IF(G78>=$A$76,1,IF(G78>=$A$77,2,IF(G78>=$A$78,3,IF(G78>=$A$79,4,\"\")))))","v":""},{"$f":"VLOOKUP(K71,eventno,10,FALSE)","v":4.7},4,{"$f":"IF(OR(O78=0,O78=\"\",T(O78)<>\"\"),\"\",RANK(O78,$O$73:$O$78,0))","v":""},{"$f":"IF($AA$31=\"\",Distance!$B473,\" \")","v":33},{"$f":"IF(OR(L78=0,L78=\"\",L78=\" \"),\"\",IF($I$71=\"F\",HLOOKUP(L78,females2,$I$72,FALSE),IF($I$71=\"M\",HLOOKUP(L78,males2,$I$72,FALSE),\"\")))","v":"Evelyn Williams"},{"$f":"IF(OR(L78=0,L78=\"\",ISERROR(VLOOKUP(L78,match_teams2,4,FALSE)=TRUE)),\"\",VLOOKUP(L78,match_teams2,4,FALSE))","v":"Hallam"},"3..66",{"$f":"IF(OR(O78=0,O78=\"\",$I$76=0,$I$76=\"\",$I$77=0,$I$77=\"\",$I$78=0,$I$78=\"\",$I$79=0,$I$79=\"\"),\"\",IF(O78>=$I$76,1,IF(O78>=$I$77,2,IF(O78>=$I$78,3,IF(O78>=$I$79,4,\"\")))))","v":1},{"$f":"VLOOKUP(S71,eventno,10,FALSE)","v":8.6},5,{"$f":"IF(OR(W78=0,W78=\"\",T(W78)<>\"\"),\"\",RANK(W78,$W$73:$W$78,0))","v":6},{"$f":"IF($AA$32=\"\",Distance!$B506,\" \")","v":11},{"$f":"IF(OR(T78=0,T78=\"\",T78=\" \"),\"\",IF($Q$71=\"F\",HLOOKUP(T78,females2,$Q$72,FALSE),IF($Q$71=\"M\",HLOOKUP(T78,males2,$Q$72,FALSE),\"\")))","v":"Catriona Mckell"},{"$f":"IF(OR(T78=0,T78=\"\",ISERROR(VLOOKUP(T78,match_teams2,4,FALSE)=TRUE)),\"\",VLOOKUP(T78,match_teams2,4,FALSE))","v":"DASH"},3.39,{"$f":"IF(OR(W78=0,W78=\"\",$Q$76=0,$Q$76=\"\",$Q$77=0,$Q$77=\"\",$Q$78=0,$Q$78=\"\",$Q$79=0,$Q$79=\"\"),\"\",IF(W78>=$Q$76,1,IF(W78>=$Q$77,2,IF(W78>=$Q$78,3,IF(W78>=$Q$79,4,\"\")))))","v":""},null,null,null,0,0,1]
[{"$f":"VLOOKUP(C71,eventno,11,FALSE)","v":7.1},null,null,null,null,null,null,null,{"$f":"VLOOKUP(K71,eventno,11,FALSE)","v":4.45},null,null,null,null,null,null,null,{"$f":"VLOOKUP(S71,eventno,11,FALSE)","v":7.85},null,null,null,null,null,null,null,null,null,null,0,0,0]
[{"$f":"VLOOKUP(C80,eventno,5,FALSE)","v":"M"},null,"F25",{"$f":"VLOOKUP(C80,eventno,4,FALSE)","v":"U15B Long Jump"},null,{"$f":"IF(A83=\"W\",\"Wind =\",\"\")","v":""},null,{"$f":"IF(OR(G82=0,G82=\"\",$A$84=0,$A$84=\"\"),\"\",IF($A$82=\"F\",IF(G82>$A$84,\"LR\",IF(G82=$A$84,\"LR=\",\"\"))))","v":""},{"$f":"VLOOKUP(K80,eventno,5,FALSE)","v":"M"},null,"F26",{"$f":"VLOOKUP(K80,eventno,4,FALSE)","v":"U15B Discus"},null,{"$f":"IF(I83=\"W\",\"Wind =\",\"\")","v":""},null,{"$f":"IF(OR(O82=0,O82=\"\",$I$84=0,$I$84=\"\"),\"\",IF($I$82=\"F\",IF(O82>$I$84,\"LR\",IF(O82=$I$84,\"LR=\",\"\"))))","v":""},{"$f":"VLOOKUP(S80,eventno,5,FALSE)","v":"M"},null,"F27",{"$f":"VLOOKUP(S80,eventno,4,FALSE)","v":"U17M Discus"},null,{"$f":"IF(Q83=\"W\",\"Wind =\",\"\")","v":""},null,{"$f":"IF(OR(W82=0,W82=\"\",$Q$84=0,$Q$84=\"\"),\"\",IF($Q$82=\"F\",IF(W82>$Q$84,\"LR\",IF(W82=$Q$84,\"LR=\",\"\"))))","v":""},null,null,null,0,0,0]
[{"$f":"IF(A80=\"M\",VLOOKUP(C80,males2,15,FALSE),VLOOKUP(C80,females2,15,FALSE))","v":45},null,"Posn","Bib","Athlete","Club","Perf","Gr",{"$f":"IF(I80=\"M\",VLOOKUP(K80,males2,15,FALSE),VLOOKUP(K80,females2,15,FALSE))","v":46},null,"Posn","Bib","Athlete","Club","Perf","Gr",{"$f":"IF(Q80=\"M\",VLOOKUP(S80,males2,15,FALSE),VLOOKUP(S80,females2,15,FALSE))","v":47},null,"Posn","Bib","Athlete","Club","Perf","Gr",null,null,null,{"$error":"#N/A"},{"$error":"#N/A"},{"$error":"#N/A"}]
[{"$f":"LEFT(C80,1)","v":"F"},1,{"$f":"IF(OR(G82=0,G82=\"\",T(G82)<>\"\"),\"\",RANK(G82,$G$82:$G$87,0))","v":1},{"$f":"IF($AA$33=\"\",Distance!$B534,VALUE(LEFT($AA$33,3)))","v":2},{"$f":"IF(OR(D82=0,D82=\"\",D82=\" \"),\"\",IF($A$80=\"F\",HLOOKUP(D82,females2,$A$81,FALSE),IF($A$80=\"M\",HLOOKUP(D82,males2,$A$81,FALSE),\"\")))","v":"Oliver Fluck"},{"$f":"IF(OR(D82=0,D82=\"\",ISERROR(VLOOKUP(D82,match_teams2,4,FALSE)=TRUE)),\"\",VLOOKUP(D82,match_teams2,4,FALSE))","v":"Linc W"},4.82,{"$f":"IF(OR(G82=0,G82=\"\",$A$85=0,$A$85=\"\",$A$86=0,$A$86=\"\",$A$87=0,$A$87=\"\",$A$88=0,$A$88=\"\"),\"\",IF(G82>=$A$85,1,IF(G82>=$A$86,2,IF(G82>=$A$87,3,IF(G82>=$A$88,4,\"\")))))","v":""},{"$f":"LEFT(K80,1)","v":"F"},2,{"$f":"IF(OR(O82=0,O82=\"\",T(O82)<>\"\"),\"\",RANK(O82,$O$82:$O$87,0))","v":1},{"$f":"IF($AA$34=\"\",Distance!$B567,\" \")","v":2},{"$f":"IF(OR(L82=0,L82=\"\",L82=\" \"),\"\",IF($I$80=\"F\",HLOOKUP(L82,females2,$I$81,FALSE),IF($I$80=\"M\",HLOOKUP(L82,males2,$I$81,FALSE),\"\")))","v":"Daniel Flemming"},{"$f":"IF(OR(L82=0,L82=\"\",ISERROR(VLOOKUP(L82,match_teams2,4,FALSE)=TRUE)),\"\",VLOOKUP(L82,match_teams2,4,FALSE))","v":"Linc W"},38.32,{"$f":"IF(OR(O82=0,O82=\"\",$I$85=0,$I$85=\"\",$I$86=0,$I$86=\"\",$I$87=0,$I$87=\"\",$I$88=0,$I$88=\"\"),\"\",IF(O82>=$I$85,1,IF(O82>=$I$86,2,IF(O82>=$I$87,3,IF(O82>=$I$88,4,\"\")))))","v":1},{"$f":"LEFT(S80,1)","v":"F"},3,{"$f":"IF(OR(W82=0,W82=\"\",T(W82)<>\"\"),\"\",RANK(W82,$W$82:$W$87,0))","v":1},{"$f":"IF($AA$35=\"\",Distance!$B600,\" \")","v":1},{"$f":"IF(OR(T82=0,T82=\"\",T82=\" \"),\"\",IF($Q$80=\"F\",HLOOKUP(T82,females2,$Q$81,FALSE),IF($Q$80=\"M\",HLOOKUP(T82,males2,$Q$81,FALSE),\"\")))","v":"Niall Hunt"},{"$f":"IF(OR(T82=0,T82=\"\",ISERROR(VLOOKUP(T82,match_teams2,4,FALSE)=TRUE)),\"\",VLOOKUP(T82,match_teams2,4,FALSE))","v":"DASH"},28.22,{"$f":"IF(OR(W82=0,W82=\"\",$Q$85=0,$Q$85=\"\",$Q$86=0,$Q$86=\"\",$Q$87=0,$Q$87=\"\",$Q$88=0,$Q$88=\"\"),\"\",IF(W82>=$Q$85,1,IF(W82>=$Q$86,2,IF(W82>=$Q$87,3,IF(W82>=$Q$88,4,\"\")))))","v":4},null,null,null,6,6,6]
[{"$f":"VLOOKUP(C80,eventno,6,FALSE)","v":0},4,{"$f":"IF(OR(G83=0,G83=\"\",T(G83)<>\"\"),\"\",RANK(G83,$G$82:$G$87,0))","v":1},{"$f":"IF($AA$33=\"\",Distance!$B537,\" \")","v":22},{"$f":"IF(OR(D83=0,D83=\"\",D83=\" \"),\"\",IF($A$80=\"F\",HLOOKUP(D83,females2,$A$81,FALSE),IF($A$80=\"M\",HLOOKUP(D83,males2,$A$81,FALSE),\"\")))","v":"Frazer McDowall"},{"$f":"IF(OR(D83=0,D83=\"\",ISERROR(VLOOKUP(D83,match_teams2,4,FALSE)=TRUE)),\"\",VLOOKUP(D83,match_teams2,4,FALSE))","v":"Linc W"},4.82,{"$f":"IF(OR(G83=0,G83=\"\",$A$85=0,$A$85=\"\",$A$86=0,$A$86=\"\",$A$87=0,$A$87=\"\",$A$88=0,$A$88=\"\"),\"\",IF(G83>=$A$85,1,IF(G83>=$A$86,2,IF(G83>=$A$87,3,IF(G83>=$A$88,4,\"\")))))","v":""},{"$f":"VLOOKUP(K80,eventno,6,FALSE)","v":0},1,{"$f":"IF(OR(O83=0,O83=\"\",T(O83)<>\"\"),\"\",RANK(O83,$O$82:$O$87,0))","v":2},{"$f":"IF($AA$34=\"\",Distance!$B566,VALUE(LEFT($AA$34,3)))","v":1},{"$f":"IF(OR(L83=0,L83=\"\",L83=\" \"),\"\",IF($I$80=\"F\",HLOOKUP(L83,females2,$I$81,FALSE),IF($I$80=\"M\",HLOOKUP(L83,males2,$I$81,FALSE),\"\")))","v":"Daniel Salt"},{"$f":"IF(OR(L83=0,L83=\"\",ISERROR(VLOOKUP(L83,match_teams2,4,FALSE)=TRUE)),\"\",VLOOKUP(L83,match_teams2,4,FALSE))","v":"DASH"},22.12,{"$f":"IF(OR(O83=0,O83=\"\",$I$85=0,$I$85=\"\",$I$86=0,$I$86=\"\",$I$87=0,$I$87=\"\",$I$88=0,$I$88=\"\"),\"\",IF(O83>=$I$85,1,IF(O83>=$I$86,2,IF(O83>=$I$87,3,IF(O83>=$I$88,4,\"\")))))","v":""},{"$f":"VLOOKUP(S80,eventno,6,FALSE)","v":0},6,{"$f":"IF(OR(W83=0,W83=\"\",T(W83)<>\"\"),\"\",RANK(W83,$W$82:$W$87,0))","v":2},{"$f":"IF($AA$35=\"\",Distance!$B603,\" \")","v":11},{"$f":"IF(OR(T83=0,T83=\"\",T83=\" \"),\"\",IF($Q$80=\"F\",HLOOKUP(T83,females2,$Q$81,FALSE),IF($Q$80=\"M\",HLOOKUP(T83,males2,$Q$81,FALSE),\"\")))","v":"James Smith"},{"$f":"IF(OR(T83=0,T83=\"\",ISERROR(VLOOKUP(T83,match_teams2,4,FALSE)=TRUE)),\"\",VLOOKUP(T83,match_teams2,4,FALSE))","v":"DASH"},24.18,{"$f":"IF(OR(W83=0,W83=\"\",$Q$85=0,$Q$85=\"\",$Q$86=0,$Q$86=\"\",$Q$87=0,$Q$87=\"\",$Q$88=0,$Q$88=\"\"),\"\",IF(W83>=$Q$85,1,IF(W83>=$Q$86,2,IF(W83>=$Q$87,3,IF(W83>=$Q$88,4,\"\")))))","v":""},null,null,null,6,5,5]
[{"$f":"VLOOKUP(C80,eventno,7,FALSE)","v":6.72},3,{"$f":"IF(OR(G84=0,G84=\"\",T(G84)<>\"\"),\"\",RANK(G84,$G$82:$G$87,0))","v":3},{"$f":"IF($AA$33=\"\",Distance!$B536,\" \")","v":1},{"$f":"IF(OR(D84=0,D84=\"\",D84=\" \"),\"\",IF($A$80=\"F\",HLOOKUP(D84,females2,$A$81,FALSE),IF($A$80=\"M\",HLOOKUP(D84,males2,$A$81,FALSE),\"\")))","v":"Chris Li"},{"$f":"IF(OR(D84=0,D84=\"\",ISERROR(VLOOKUP(D84,match_teams2,4,FALSE)=TRUE)),\"\",VLOOKUP(D84,match_teams2,4,FALSE))","v":"DASH"},4.51,{"$f":"IF(OR(G84=0,G84=\"\",$A$85=0,$A$85=\"\",$A$86=0,$A$86=\"\",$A$87=0,$A$87=\"\",$A$88=0,$A$88=\"\"),\"\",IF(G84>=$A$85,1,IF(G84>=$A$86,2,IF(G84>=$A$87,3,IF(G84>=$A$88,4,\"\")))))","v":""},{"$f":"VLOOKUP(K80,eventno,7,FALSE)","v":53.93},6,{"$f":"IF(OR(O84=0,O84=\"\",T(O84)<>\"\"),\"\",RANK(O84,$O$82:$O$87,0))","v":3},{"$f":"IF($AA$34=\"\",Distance!$B571,\" \")","v":33},{"$f":"IF(OR(L84=0,L84=\"\",L84=\" \"),\"\",IF($I$80=\"F\",HLOOKUP(L84,females2,$I$81,FALSE),IF($I$80=\"M\",HLOOKUP(L84,males2,$I$81,FALSE),\"\")))","v":"Sam Draycott"},{"$f":"IF(OR(L84=0,L84=\"\",ISERROR(VLOOKUP(L84,match_teams2,4,FALSE)=TRUE)),\"\",VLOOKUP(L84,match_teams2,4,FALSE))","v":"Hallam"},16.100000000000001,{"$f":"IF(OR(O84=0,O84=\"\",$I$85=0,$I$85=\"\",$I$86=0,$I$86=\"\",$I$87=0,$I$87=\"\",$I$88=0,$I$88=\"\"),\"\",IF(O84>=$I$85,1,IF(O84>=$I$86,2,IF(O84>=$I$87,3,IF(O84>=$I$88,4,\"\")))))","v":""},{"$f":"VLOOKUP(S80,eventno,7,FALSE)","v":58.24},4,{"$f":"IF(OR(W84=0,W84=\"\",T(W84)<>\"\"),\"\",RANK(W84,$W$82:$W$87,0))","v":3},{"$f":"IF($AA$35=\"\",Distance!$B601,\" \")","v":22},{"$f":"IF(OR(T84=0,T84=\"\",T84=\" \"),\"\",IF($Q$80=\"F\",HLOOKUP(T84,females2,$Q$81,FALSE),IF($Q$80=\"M\",HLOOKUP(T84,males2,$Q$81,FALSE),\"\")))","v":"Josh Holden"},{"$f":"IF(OR(T84=0,T84=\"\",ISERROR(VLOOKUP(T84,match_teams2,4,FALSE)=TRUE)),\"\",VLOOKUP(T84,match_teams2,4,FALSE))","v":"Linc W"},23.96,{"$f":"IF(OR(W84=0,W84=\"\",$Q$85=0,$Q$85=\"\",$Q$86=0,$Q$86=\"\",$Q$87=0,$Q$87=\"\",$Q$88=0,$Q$88=\"\"),\"\",IF(W84>=$Q$85,1,IF(W84>=$Q$86,2,IF(W84>=$Q$87,3,IF(W84>=$Q$88,4,\"\")))))","v":""},null,null,null,4,4,4]
[{"$f":"VLOOKUP(C80,eventno,8,FALSE)","v":5.7},5,{"$f":"IF(OR(G85=0,G85=\"\",T(G85)<>\"\"),\"\",RANK(G85,$G$82:$G$87,0))","v":4},{"$f":"IF($AA$33=\"\",Distance!$B538,\" \")","v":33},{"$f":"IF(OR(D85=0,D85=\"\",D85=\" \"),\"\",IF($A$80=\"F\",HLOOKUP(D85,females2,$A$81,FALSE),IF($A$80=\"M\",HLOOKUP(D85,males2,$A$81,FALSE),\"\")))","v":"James Lee"},{"$f":"IF(OR(D85=0,D85=\"\",ISERROR(VLOOKUP(D85,match_teams2,4,FALSE)=TRUE)),\"\",VLOOKUP(D85,match_teams2,4,FALSE))","v":"Hallam"},4.0999999999999996,{"$f":"IF(OR(G85=0,G85=\"\",$A$85=0,$A$85=\"\",$A$86=0,$A$86=\"\",$A$87=0,$A$87=\"\",$A$88=0,$A$88=\"\"),\"\",IF(G85>=$A$85,1,IF(G85>=$A$86,2,IF(G85>=$A$87,3,IF(G85>=$A$88,4,\"\")))))","v":""},{"$f":"VLOOKUP(K80,eventno,8,FALSE)","v":34.5},4,{"$f":"IF(OR(O85=0,O85=\"\",T(O85)<>\"\"),\"\",RANK(O85,$O$82:$O$87,0))","v":4},{"$f":"IF($AA$34=\"\",Distance!$B569,\" \")","v":11},{"$f":"IF(OR(L85=0,L85=\"\",L85=\" \"),\"\",IF($I$80=\"F\",HLOOKUP(L85,females2,$I$81,FALSE),IF($I$80=\"M\",HLOOKUP(L85,males2,$I$81,FALSE),\"\")))","v":"Toby Leverette"},{"$f":"IF(OR(L85=0,L85=\"\",ISERROR(VLOOKUP(L85,match_teams2,4,FALSE)=TRUE)),\"\",VLOOKUP(L85,match_teams2,4,FALSE))","v":"DASH"},14.15,{"$f":"IF(OR(O85=0,O85=\"\",$I$85=0,$I$85=\"\",$I$86=0,$I$86=\"\",$I$87=0,$I$87=\"\",$I$88=0,$I$88=\"\"),\"\",IF(O85>=$I$85,1,IF(O85>=$I$86,2,IF(O85>=$I$87,3,IF(O85>=$I$88,4,\"\")))))","v":""},{"$f":"VLOOKUP(S80,eventno,8,FALSE)","v":40.950000000000003},2,{"$f":"IF(OR(W85=0,W85=\"\",T(W85)<>\"\"),\"\",RANK(W85,$W$82:$W$87,0))","v":4},{"$f":"IF($AA$35=\"\",Distance!$B599,\" \")","v":3},{"$f":"IF(OR(T85=0,T85=\"\",T85=\" \"),\"\",IF($Q$80=\"F\",HLOOKUP(T85,females2,$Q$81,FALSE),IF($Q$80=\"M\",HLOOKUP(T85,males2,$Q$81,FALSE),\"\")))","v":"Anthony Tierney"},{"$f":"IF(OR(T85=0,T85=\"\",ISERROR(VLOOKUP(T85,match_teams2,4,FALSE)=TRUE)),\"\",VLOOKUP(T85,match_teams2,4,FALSE))","v":"Hallam"},22.77,{"$f":"IF(OR(W85=0,W85=\"\",$Q$85=0,$Q$85=\"\",$Q$86=0,$Q$86=\"\",$Q$87=0,$Q$87=\"\",$Q$88=0,$Q$88=\"\"),\"\",IF(W85>=$Q$85,1,IF(W85>=$Q$86,2,IF(W85>=$Q$87,3,IF(W85>=$Q$88,4,\"\")))))","v":""},null,null,null,3,3,3]
[{"$f":"VLOOKUP(C80,eventno,9,FALSE)","v":5.55},2,{"$f":"IF(OR(G86=0,G86=\"\",T(G86)<>\"\"),\"\",RANK(G86,$G$82:$G$87,0))","v":""},{"$f":"IF($AA$33=\"\",Distance!$B535,\" \")","v":3},{"$f":"IF(OR(D86=0,D86=\"\",D86=\" \"),\"\",IF($A$80=\"F\",HLOOKUP(D86,females2,$A$81,FALSE),IF($A$80=\"M\",HLOOKUP(D86,males2,$A$81,FALSE),\"\")))","v":"Thomas Hughes"},{"$f":"IF(OR(D86=0,D86=\"\",ISERROR(VLOOKUP(D86,match_teams2,4,FALSE)=TRUE)),\"\",VLOOKUP(D86,match_teams2,4,FALSE))","v":"Hallam"},null,{"$f":"IF(OR(G86=0,G86=\"\",$A$85=0,$A$85=\"\",$A$86=0,$A$86=\"\",$A$87=0,$A$87=\"\",$A$88=0,$A$88=\"\"),\"\",IF(G86>=$A$85,1,IF(G86>=$A$86,2,IF(G86>=$A$87,3,IF(G86>=$A$88,4,\"\")))))","v":""},{"$f":"VLOOKUP(K80,eventno,9,FALSE)","v":32.15},3,{"$f":"IF(OR(O86=0,O86=\"\",T(O86)<>\"\"),\"\",RANK(O86,$O$82:$O$87,0))","v":5},{"$f":"IF($AA$34=\"\",Distance!$B568,\" \")","v":3},{"$f":"IF(OR(L86=0,L86=\"\",L86=\" \"),\"\",IF($I$80=\"F\",HLOOKUP(L86,females2,$I$81,FALSE),IF($I$80=\"M\",HLOOKUP(L86,males2,$I$81,FALSE),\"\")))","v":"OscarBryce"},{"$f":"IF(OR(L86=0,L86=\"\",ISERROR(VLOOKUP(L86,match_teams2,4,FALSE)=TRUE)),\"\",VLOOKUP(L86,match_teams2,4,FALSE))","v":"Hallam"},11.81,{"$f":"IF(OR(O86=0,O86=\"\",$I$85=0,$I$85=\"\",$I$86=0,$I$86=\"\",$I$87=0,$I$87=\"\",$I$88=0,$I$88=\"\"),\"\",IF(O86>=$I$85,1,IF(O86>=$I$86,2,IF(O86>=$I$87,3,IF(O86>=$I$88,4,\"\")))))","v":""},{"$f":"VLOOKUP(S80,eventno,9,FALSE)","v":37.1},1,{"$f":"IF(OR(W86=0,W86=\"\",T(W86)<>\"\"),\"\",RANK(W86,$W$82:$W$87,0))","v":5},{"$f":"IF($AA$35=\"\",Distance!$B598,VALUE(LEFT($AA$35,3)))","v":2},{"$f":"IF(OR(T86=0,T86=\"\",T86=\" \"),\"\",IF($Q$80=\"F\",HLOOKUP(T86,females2,$Q$81,FALSE),IF($Q$80=\"M\",HLOOKUP(T86,males2,$Q$81,FALSE),\"\")))","v":"Dominic Sykes"},{"$f":"IF(OR(T86=0,T86=\"\",ISERROR(VLOOKUP(T86,match_teams2,4,FALSE)=TRUE)),\"\",VLOOKUP(T86,match_teams2,4,FALSE))","v":"Linc W"},22.25,{"$f":"IF(OR(W86=0,W86=\"\",$Q$85=0,$Q$85=\"\",$Q$86=0,$Q$86=\"\",$Q$87=0,$Q$87=\"\",$Q$88=0,$Q$88=\"\"),\"\",IF(W86>=$Q$85,1,IF(W86>=$Q$86,2,IF(W86>=$Q$87,3,IF(W86>=$Q$88,4,\"\")))))","v":""},null,null,null,0,2,2]
[{"$f":"VLOOKUP(C80,eventno,10,FALSE)","v":5.32},6,{"$f":"IF(OR(G87=0,G87=\"\",T(G87)<>\"\"),\"\",RANK(G87,$G$82:$G$87,0))","v":""},{"$f":"IF($AA$33=\"\",Distance!$B539,\" \")","v":11},{"$f":"IF(OR(D87=0,D87=\"\",D87=\" \"),\"\",IF($A$80=\"F\",HLOOKUP(D87,females2,$A$81,FALSE),IF($A$80=\"M\",HLOOKUP(D87,males2,$A$81,FALSE),\"\")))","v":"-"},{"$f":"IF(OR(D87=0,D87=\"\",ISERROR(VLOOKUP(D87,match_teams2,4,FALSE)=TRUE)),\"\",VLOOKUP(D87,match_teams2,4,FALSE))","v":"DASH"},null,{"$f":"IF(OR(G87=0,G87=\"\",$A$85=0,$A$85=\"\",$A$86=0,$A$86=\"\",$A$87=0,$A$87=\"\",$A$88=0,$A$88=\"\"),\"\",IF(G87>=$A$85,1,IF(G87>=$A$86,2,IF(G87>=$A$87,3,IF(G87>=$A$88,4,\"\")))))","v":""},{"$f":"VLOOKUP(K80,eventno,10,FALSE)","v":28.9},5,{"$f":"IF(OR(O87=0,O87=\"\",T(O87)<>\"\"),\"\",RANK(O87,$O$82:$O$87,0))","v":6},{"$f":"IF($AA$34=\"\",Distance!$B570,\" \")","v":22},{"$f":"IF(OR(L87=0,L87=\"\",L87=\" \"),\"\",IF($I$80=\"F\",HLOOKUP(L87,females2,$I$81,FALSE),IF($I$80=\"M\",HLOOKUP(L87,males2,$I$81,FALSE),\"\")))","v":"Michael Harper"},{"$f":"IF(OR(L87=0,L87=\"\",ISERROR(VLOOKUP(L87,match_teams2,4,FALSE)=TRUE)),\"\",VLOOKUP(L87,match_teams2,4,FALSE))","v":"Linc W"},11.64,{"$f":"IF(OR(O87=0,O87=\"\",$I$85=0,$I$85=\"\",$I$86=0,$I$86=\"\",$I$87=0,$I$87=\"\",$I$88=0,$I$88=\"\"),\"\",IF(O87>=$I$85,1,IF(O87>=$I$86,2,IF(O87>=$I$87,3,IF(O87>=$I$88,4,\"\")))))","v":""},{"$f":"VLOOKUP(S80,eventno,10,FALSE)","v":32.700000000000003},5,{"$f":"IF(OR(W87=0,W87=\"\",T(W87)<>\"\"),\"\",RANK(W87,$W$82:$W$87,0))","v":""},{"$f":"IF($AA$35=\"\",Distance!$B602,\" \")","v":33},{"$f":"IF(OR(T87=0,T87=\"\",T87=\" \"),\"\",IF($Q$80=\"F\",HLOOKUP(T87,females2,$Q$81,FALSE),IF($Q$80=\"M\",HLOOKUP(T87,males2,$Q$81,FALSE),\"\")))","v":"-"},{"$f":"IF(OR(T87=0,T87=\"\",ISERROR(VLOOKUP(T87,match_teams2,4,FALSE)=TRUE)),\"\",VLOOKUP(T87,match_teams2,4,FALSE))","v":"Hallam"},null,{"$f":"IF(OR(W87=0,W87=\"\",$Q$85=0,$Q$85=\"\",$Q$86=0,$Q$86=\"\",$Q$87=0,$Q$87=\"\",$Q$88=0,$Q$88=\"\"),\"\",IF(W87>=$Q$85,1,IF(W87>=$Q$86,2,IF(W87>=$Q$87,3,IF(W87>=$Q$88,4,\"\")))))","v":""},null,null,null,0,1,0]
[{"$f":"VLOOKUP(C80,eventno,11,FALSE)","v":5},null,null,null,null,null,null,null,{"$f":"VLOOKUP(K80,eventno,11,FALSE)","v":25.55},null,null,null,null,null,null,null,{"$f":"VLOOKUP(S80,eventno,11,FALSE)","v":28.1},null,null,null,null,null,null,null,null,null,null,0,0,0]
[{"$f":"VLOOKUP(C89,eventno,5,FALSE)","v":"F"},null,"F28",{"$f":"VLOOKUP(C89,eventno,4,FALSE)","v":"U15G High Jump"},null,{"$f":"IF(A92=\"W\",\"Wind =\",\"\")","v":""},null,{"$f":"IF(OR(G91=0,G91=\"\",$A$93=0,$A$93=\"\"),\"\",IF($A$91=\"F\",IF(G91>$A$93,\"LR\",IF(G91=$A$93,\"LR=\",\"\"))))","v":""},{"$f":"VLOOKUP(K89,eventno,5,FALSE)","v":"F"},null,"F29",{"$f":"VLOOKUP(K89,eventno,4,FALSE)","v":"U17W High Jump"},null,{"$f":"IF(I92=\"W\",\"Wind =\",\"\")","v":""},null,{"$f":"IF(OR(O91=0,O91=\"\",$I$93=0,$I$93=\"\"),\"\",IF($I$91=\"F\",IF(O91>$I$93,\"LR\",IF(O91=$I$93,\"LR=\",\"\"))))","v":""},{"$f":"VLOOKUP(S89,eventno,5,FALSE)","v":"M"},null,"F30",{"$f":"VLOOKUP(S89,eventno,4,FALSE)","v":"U17M Shot"},null,{"$f":"IF(Q92=\"W\",\"Wind =\",\"\")","v":""},null,{"$f":"IF(OR(W91=0,W91=\"\",$Q$93=0,$Q$93=\"\"),\"\",IF($Q$91=\"F\",IF(W91>$Q$93,\"LR\",IF(W91=$Q$93,\"LR=\",\"\"))))","v":""},null,null,null,0,0,0]
[{"$f":"IF(A89=\"M\",VLOOKUP(C89,males2,15,FALSE),VLOOKUP(C89,females2,15,FALSE))","v":34},null,"Posn","Bib","Athlete","Club","Perf","Gr",{"$f":"IF(I89=\"M\",VLOOKUP(K89,males2,15,FALSE),VLOOKUP(K89,females2,15,FALSE))","v":33},null,"Posn","Bib","Athlete","Club","Perf","Gr",{"$f":"IF(Q89=\"M\",VLOOKUP(S89,males2,15,FALSE),VLOOKUP(S89,females2,15,FALSE))","v":48},null,"Posn","Bib","Athlete","Club","Perf","Gr",null,null,null,{"$error":"#N/A"},{"$error":"#N/A"},{"$error":"#N/A"}]
[{"$f":"LEFT(C89,1)","v":"F"},3,{"$f":"IF(OR(G91=0,G91=\"\",T(G91)<>\"\",G91=\"NHC\"),\"\",RANK(G91,$G$91:$G$96,0))","v":1},{"$f":"IF($AA$36=\"\",Height!$B276,\" \")","v":2},{"$f":"IF(OR(D91=0,D91=\"\",D91=\" \"),\"\",IF($A$89=\"F\",HLOOKUP(D91,females2,$A$90,FALSE),IF($A$89=\"M\",HLOOKUP(D91,males2,$A$90,FALSE),\"\")))","v":"Allison Mouzon"},{"$f":"IF(OR(D91=0,D91=\"\",ISERROR(VLOOKUP(D91,match_teams2,4,FALSE)=TRUE)),\"\",VLOOKUP(D91,match_teams2,4,FALSE))","v":"Linc W"},1.35,{"$f":"IF(OR(G91=0,G91=\"\",G91=\"NHC\",$A$94=0,$A$94=\"\",$A$95=0,$A$95=\"\",$A$96=0,$A$96=\"\",$A$97=0,$A$97=\"\"),\"\",IF(G91>=$A$94,1,IF(G91>=$A$95,2,IF(G91>=$A$96,3,IF(G91>=$A$97,4,\"\")))))","v":""},{"$f":"LEFT(K89,1)","v":"F"},1,{"$f":"IF(OR(O91=0,O91=\"\",T(O91)<>\"\",O91=\"NHC\"),\"\",RANK(O91,$O$91:$O$96,0))","v":1},{"$f":"IF($AA$37=\"\",Height!$B306,VALUE(LEFT($AA$37,3)))","v":2},{"$f":"IF(OR(L91=0,L91=\"\",L91=\" \"),\"\",IF($I$89=\"F\",HLOOKUP(L91,females2,$I$90,FALSE),IF($I$89=\"M\",HLOOKUP(L91,males2,$I$90,FALSE),\"\")))","v":"Katie McMunn"},{"$f":"IF(OR(L91=0,L91=\"\",ISERROR(VLOOKUP(L91,match_teams2,4,FALSE)=TRUE)),\"\",VLOOKUP(L91,match_teams2,4,FALSE))","v":"Linc W"},1.35,{"$f":"IF(OR(O91=0,O91=\"\",O91=\"NHC\",$I$94=0,$I$94=\"\",$I$95=0,$I$95=\"\",$I$96=0,$I$96=\"\",$I$97=0,$I$97=\"\"),\"\",IF(O91>=$I$94,1,IF(O91>=$I$95,2,IF(O91>=$I$96,3,IF(O91>=$I$97,4,\"\")))))","v":""},{"$f":"LEFT(S89,1)","v":"F"},2,{"$f":"IF(OR(W91=0,W91=\"\",T(W91)<>\"\"),\"\",RANK(W91,$W$91:$W$96,0))","v":1},{"$f":"IF($AA$38=\"\",Distance!$B631,\" \")","v":2},{"$f":"IF(OR(T91=0,T91=\"\",T91=\" \"),\"\",IF($Q$89=\"F\",HLOOKUP(T91,females2,$Q$90,FALSE),IF($Q$89=\"M\",HLOOKUP(T91,males2,$Q$90,FALSE),\"\")))","v":"Dominic Sykes"},{"$f":"IF(OR(T91=0,T91=\"\",ISERROR(VLOOKUP(T91,match_teams2,4,FALSE)=TRUE)),\"\",VLOOKUP(T91,match_teams2,4,FALSE))","v":"Linc W"},9.94,{"$f":"IF(OR(W91=0,W91=\"\",$Q$94=0,$Q$94=\"\",$Q$95=0,$Q$95=\"\",$Q$96=0,$Q$96=\"\",$Q$97=0,$Q$97=\"\"),\"\",IF(W91>=$Q$94,1,IF(W91>=$Q$95,2,IF(W91>=$Q$96,3,IF(W91>=$Q$97,4,\"\")))))","v":""},null,null,null,6,6,6]
[{"$f":"VLOOKUP(C89,eventno,6,FALSE)","v":0},1,{"$f":"IF(OR(G92=0,G92=\"\",T(G92)<>\"\",G92=\"NHC\"),\"\",RANK(G92,$G$91:$G$96,0))","v":""},{"$f":"IF($AA$36=\"\",Height!$B274,VALUE(LEFT($AA$36,3)))","v":3},{"$f":"IF(OR(D92=0,D92=\"\",D92=\" \"),\"\",IF($A$89=\"F\",HLOOKUP(D92,females2,$A$90,FALSE),IF($A$89=\"M\",HLOOKUP(D92,males2,$A$90,FALSE),\"\")))","v":"Emily Malmgren"},{"$f":"IF(OR(D92=0,D92=\"\",ISERROR(VLOOKUP(D92,match_teams2,4,FALSE)=TRUE)),\"\",VLOOKUP(D92,match_teams2,4,FALSE))","v":"Hallam"},null,{"$f":"IF(OR(G92=0,G92=\"\",G92=\"NHC\",$A$94=0,$A$94=\"\",$A$95=0,$A$95=\"\",$A$96=0,$A$96=\"\",$A$97=0,$A$97=\"\"),\"\",IF(G92>=$A$94,1,IF(G92>=$A$95,2,IF(G92>=$A$96,3,IF(G92>=$A$97,4,\"\")))))","v":""},{"$f":"VLOOKUP(K89,eventno,6,FALSE)","v":0},2,{"$f":"IF(OR(O92=0,O92=\"\",T(O92)<>\"\",O92=\"NHC\"),\"\",RANK(O92,$O$91:$O$96,0))","v":""},{"$f":"IF($AA$37=\"\",Height!$B307,\" \")","v":3},{"$f":"IF(OR(L92=0,L92=\"\",L92=\" \"),\"\",IF($I$89=\"F\",HLOOKUP(L92,females2,$I$90,FALSE),IF($I$89=\"M\",HLOOKUP(L92,males2,$I$90,FALSE),\"\")))","v":"-"},{"$f":"IF(OR(L92=0,L92=\"\",ISERROR(VLOOKUP(L92,match_teams2,4,FALSE)=TRUE)),\"\",VLOOKUP(L92,match_teams2,4,FALSE))","v":"Hallam"},null,{"$f":"IF(OR(O92=0,O92=\"\",O92=\"NHC\",$I$94=0,$I$94=\"\",$I$95=0,$I$95=\"\",$I$96=0,$I$96=\"\",$I$97=0,$I$97=\"\"),\"\",IF(O92>=$I$94,1,IF(O92>=$I$95,2,IF(O92>=$I$96,3,IF(O92>=$I$97,4,\"\")))))","v":""},{"$f":"VLOOKUP(S89,eventno,6,FALSE)","v":0},4,{"$f":"IF(OR(W92=0,W92=\"\",T(W92)<>\"\"),\"\",RANK(W92,$W$91:$W$96,0))","v":2},{"$f":"IF($AA$38=\"\",Distance!$B633,\" \")","v":11},{"$f":"IF(OR(T92=0,T92=\"\",T92=\" \"),\"\",IF($Q$89=\"F\",HLOOKUP(T92,females2,$Q$90,FALSE),IF($Q$89=\"M\",HLOOKUP(T92,males2,$Q$90,FALSE),\"\")))","v":"James Smith"},{"$f":"IF(OR(T92=0,T92=\"\",ISERROR(VLOOKUP(T92,match_teams2,4,FALSE)=TRUE)),\"\",VLOOKUP(T92,match_teams2,4,FALSE))","v":"DASH"},9.3000000000000007,{"$f":"IF(OR(W92=0,W92=\"\",$Q$94=0,$Q$94=\"\",$Q$95=0,$Q$95=\"\",$Q$96=0,$Q$96=\"\",$Q$97=0,$Q$97=\"\"),\"\",IF(W92>=$Q$94,1,IF(W92>=$Q$95,2,IF(W92>=$Q$96,3,IF(W92>=$Q$97,4,\"\")))))","v":""},null,null,null,0,0,5]
[{"$f":"VLOOKUP(C89,eventno,7,FALSE)","v":1.76},2,{"$f":"IF(OR(G93=0,G93=\"\",T(G93)<>\"\",G93=\"NHC\"),\"\",RANK(G93,$G$91:$G$96,0))","v":""},{"$f":"IF($AA$36=\"\",Height!$B275,\" \")","v":1},{"$f":"IF(OR(D93=0,D93=\"\",D93=\" \"),\"\",IF($A$89=\"F\",HLOOKUP(D93,females2,$A$90,FALSE),IF($A$89=\"M\",HLOOKUP(D93,males2,$A$90,FALSE),\"\")))","v":"-"},{"$f":"IF(OR(D93=0,D93=\"\",ISERROR(VLOOKUP(D93,match_teams2,4,FALSE)=TRUE)),\"\",VLOOKUP(D93,match_teams2,4,FALSE))","v":"DASH"},null,{"$f":"IF(OR(G93=0,G93=\"\",G93=\"NHC\",$A$94=0,$A$94=\"\",$A$95=0,$A$95=\"\",$A$96=0,$A$96=\"\",$A$97=0,$A$97=\"\"),\"\",IF(G93>=$A$94,1,IF(G93>=$A$95,2,IF(G93>=$A$96,3,IF(G93>=$A$97,4,\"\")))))","v":""},{"$f":"VLOOKUP(K89,eventno,7,FALSE)","v":1.78},3,{"$f":"IF(OR(O93=0,O93=\"\",T(O93)<>\"\",O93=\"NHC\"),\"\",RANK(O93,$O$91:$O$96,0))","v":""},{"$f":"IF($AA$37=\"\",Height!$B308,\" \")","v":1},{"$f":"IF(OR(L93=0,L93=\"\",L93=\" \"),\"\",IF($I$89=\"F\",HLOOKUP(L93,females2,$I$90,FALSE),IF($I$89=\"M\",HLOOKUP(L93,males2,$I$90,FALSE),\"\")))","v":"-"},{"$f":"IF(OR(L93=0,L93=\"\",ISERROR(VLOOKUP(L93,match_teams2,4,FALSE)=TRUE)),\"\",VLOOKUP(L93,match_teams2,4,FALSE))","v":"DASH"},null,{"$f":"IF(OR(O93=0,O93=\"\",O93=\"NHC\",$I$94=0,$I$94=\"\",$I$95=0,$I$95=\"\",$I$96=0,$I$96=\"\",$I$97=0,$I$97=\"\"),\"\",IF(O93>=$I$94,1,IF(O93>=$I$95,2,IF(O93>=$I$96,3,IF(O93>=$I$97,4,\"\")))))","v":""},{"$f":"VLOOKUP(S89,eventno,7,FALSE)","v":20.350000000000001},1,{"$f":"IF(OR(W93=0,W93=\"\",T(W93)<>\"\"),\"\",RANK(W93,$W$91:$W$96,0))","v":3},{"$f":"IF($AA$38=\"\",Distance!$B630,VALUE(LEFT($AA$38,3)))","v":1},{"$f":"IF(OR(T93=0,T93=\"\",T93=\" \"),\"\",IF($Q$89=\"F\",HLOOKUP(T93,females2,$Q$90,FALSE),IF($Q$89=\"M\",HLOOKUP(T93,males2,$Q$90,FALSE),\"\")))","v":"Niall Hunt"},{"$f":"IF(OR(T93=0,T93=\"\",ISERROR(VLOOKUP(T93,match_teams2,4,FALSE)=TRUE)),\"\",VLOOKUP(T93,match_teams2,4,FALSE))","v":"DASH"},8.99,{"$f":"IF(OR(W93=0,W93=\"\",$Q$94=0,$Q$94=\"\",$Q$95=0,$Q$95=\"\",$Q$96=0,$Q$96=\"\",$Q$97=0,$Q$97=\"\"),\"\",IF(W93>=$Q$94,1,IF(W93>=$Q$95,2,IF(W93>=$Q$96,3,IF(W93>=$Q$97,4,\"\")))))","v":""},null,null,null,0,0,4]
[{"$f":"VLOOKUP(C89,eventno,8,FALSE)","v":1.55},4,{"$f":"IF(OR(G94=0,G94=\"\",T(G94)<>\"\",G94=\"NHC\"),\"\",RANK(G94,$G$91:$G$96,0))","v":""},{"$f":"IF($AA$36=\"\",Height!$B277,\" \")","v":33},{"$f":"IF(OR(D94=0,D94=\"\",D94=\" \"),\"\",IF($A$89=\"F\",HLOOKUP(D94,females2,$A$90,FALSE),IF($A$89=\"M\",HLOOKUP(D94,males2,$A$90,FALSE),\"\")))","v":"Kate DeSouza"},{"$f":"IF(OR(D94=0,D94=\"\",ISERROR(VLOOKUP(D94,match_teams2,4,FALSE)=TRUE)),\"\",VLOOKUP(D94,match_teams2,4,FALSE))","v":"Hallam"},null,{"$f":"IF(OR(G94=0,G94=\"\",G94=\"NHC\",$A$94=0,$A$94=\"\",$A$95=0,$A$95=\"\",$A$96=0,$A$96=\"\",$A$97=0,$A$97=\"\"),\"\",IF(G94>=$A$94,1,IF(G94>=$A$95,2,IF(G94>=$A$96,3,IF(G94>=$A$97,4,\"\")))))","v":""},{"$f":"VLOOKUP(K89,eventno,8,FALSE)","v":1.65},4,{"$f":"IF(OR(O94=0,O94=\"\",T(O94)<>\"\",O94=\"NHC\"),\"\",RANK(O94,$O$91:$O$96,0))","v":""},{"$f":"IF($AA$37=\"\",Height!$B309,\" \")","v":22},{"$f":"IF(OR(L94=0,L94=\"\",L94=\" \"),\"\",IF($I$89=\"F\",HLOOKUP(L94,females2,$I$90,FALSE),IF($I$89=\"M\",HLOOKUP(L94,males2,$I$90,FALSE),\"\")))","v":"-"},{"$f":"IF(OR(L94=0,L94=\"\",ISERROR(VLOOKUP(L94,match_teams2,4,FALSE)=TRUE)),\"\",VLOOKUP(L94,match_teams2,4,FALSE))","v":"Linc W"},null,{"$f":"IF(OR(O94=0,O94=\"\",O94=\"NHC\",$I$94=0,$I$94=\"\",$I$95=0,$I$95=\"\",$I$96=0,$I$96=\"\",$I$97=0,$I$97=\"\"),\"\",IF(O94>=$I$94,1,IF(O94>=$I$95,2,IF(O94>=$I$96,3,IF(O94>=$I$97,4,\"\")))))","v":""},{"$f":"VLOOKUP(S89,eventno,8,FALSE)","v":13.35},5,{"$f":"IF(OR(W94=0,W94=\"\",T(W94)<>\"\"),\"\",RANK(W94,$W$91:$W$96,0))","v":4},{"$f":"IF($AA$38=\"\",Distance!$B634,\" \")","v":22},{"$f":"IF(OR(T94=0,T94=\"\",T94=\" \"),\"\",IF($Q$89=\"F\",HLOOKUP(T94,females2,$Q$90,FALSE),IF($Q$89=\"M\",HLOOKUP(T94,males2,$Q$90,FALSE),\"\")))","v":"Sam Shuttleworth"},{"$f":"IF(OR(T94=0,T94=\"\",ISERROR(VLOOKUP(T94,match_teams2,4,FALSE)=TRUE)),\"\",VLOOKUP(T94,match_teams2,4,FALSE))","v":"Linc W"},4.8,{"$f":"IF(OR(W94=0,W94=\"\",$Q$94=0,$Q$94=\"\",$Q$95=0,$Q$95=\"\",$Q$96=0,$Q$96=\"\",$Q$97=0,$Q$97=\"\"),\"\",IF(W94>=$Q$94,1,IF(W94>=$Q$95,2,IF(W94>=$Q$96,3,IF(W94>=$Q$97,4,\"\")))))","v":""},null,null,null,0,0,3]
[{"$f":"VLOOKUP(C89,eventno,9,FALSE)","v":1.5},5,{"$f":"IF(OR(G95=0,G95=\"\",T(G95)<>\"\",G95=\"NHC\"),\"\",RANK(G95,$G$91:$G$96,0))","v":""},{"$f":"IF($AA$36=\"\",Height!$B278,\" \")","v":11},{"$f":"IF(OR(D95=0,D95=\"\",D95=\" \"),\"\",IF($A$89=\"F\",HLOOKUP(D95,females2,$A$90,FALSE),IF($A$89=\"M\",HLOOKUP(D95,males2,$A$90,FALSE),\"\")))","v":"-"},{"$f":"IF(OR(D95=0,D95=\"\",ISERROR(VLOOKUP(D95,match_teams2,4,FALSE)=TRUE)),\"\",VLOOKUP(D95,match_teams2,4,FALSE))","v":"DASH"},null,{"$f":"IF(OR(G95=0,G95=\"\",G95=\"NHC\",$A$94=0,$A$94=\"\",$A$95=0,$A$95=\"\",$A$96=0,$A$96=\"\",$A$97=0,$A$97=\"\"),\"\",IF(G95>=$A$94,1,IF(G95>=$A$95,2,IF(G95>=$A$96,3,IF(G95>=$A$97,4,\"\")))))","v":""},{"$f":"VLOOKUP(K89,eventno,9,FALSE)","v":1.61},5,{"$f":"IF(OR(O95=0,O95=\"\",T(O95)<>\"\",O95=\"NHC\"),\"\",RANK(O95,$O$91:$O$96,0))","v":""},{"$f":"IF($AA$37=\"\",Height!$B310,\" \")","v":33},{"$f":"IF(OR(L95=0,L95=\"\",L95=\" \"),\"\",IF($I$89=\"F\",HLOOKUP(L95,females2,$I$90,FALSE),IF($I$89=\"M\",HLOOKUP(L95,males2,$I$90,FALSE),\"\")))","v":"-"},{"$f":"IF(OR(L95=0,L95=\"\",ISERROR(VLOOKUP(L95,match_teams2,4,FALSE)=TRUE)),\"\",VLOOKUP(L95,match_teams2,4,FALSE))","v":"Hallam"},null,{"$f":"IF(OR(O95=0,O95=\"\",O95=\"NHC\",$I$94=0,$I$94=\"\",$I$95=0,$I$95=\"\",$I$96=0,$I$96=\"\",$I$97=0,$I$97=\"\"),\"\",IF(O95>=$I$94,1,IF(O95>=$I$95,2,IF(O95>=$I$96,3,IF(O95>=$I$97,4,\"\")))))","v":""},{"$f":"VLOOKUP(S89,eventno,9,FALSE)","v":12.65},3,{"$f":"IF(OR(W95=0,W95=\"\",T(W95)<>\"\"),\"\",RANK(W95,$W$91:$W$96,0))","v":""},{"$f":"IF($AA$38=\"\",Distance!$B632,\" \")","v":3},{"$f":"IF(OR(T95=0,T95=\"\",T95=\" \"),\"\",IF($Q$89=\"F\",HLOOKUP(T95,females2,$Q$90,FALSE),IF($Q$89=\"M\",HLOOKUP(T95,males2,$Q$90,FALSE),\"\")))","v":"-"},{"$f":"IF(OR(T95=0,T95=\"\",ISERROR(VLOOKUP(T95,match_teams2,4,FALSE)=TRUE)),\"\",VLOOKUP(T95,match_teams2,4,FALSE))","v":"Hallam"},null,{"$f":"IF(OR(W95=0,W95=\"\",$Q$94=0,$Q$94=\"\",$Q$95=0,$Q$95=\"\",$Q$96=0,$Q$96=\"\",$Q$97=0,$Q$97=\"\"),\"\",IF(W95>=$Q$94,1,IF(W95>=$Q$95,2,IF(W95>=$Q$96,3,IF(W95>=$Q$97,4,\"\")))))","v":""},null,null,null,0,0,0]
[{"$f":"VLOOKUP(C89,eventno,10,FALSE)","v":1.45},6,{"$f":"IF(OR(G96=0,G96=\"\",T(G96)<>\"\",G96=\"NHC\"),\"\",RANK(G96,$G$91:$G$96,0))","v":""},{"$f":"IF($AA$36=\"\",Height!$B279,\" \")","v":22},{"$f":"IF(OR(D96=0,D96=\"\",D96=\" \"),\"\",IF($A$89=\"F\",HLOOKUP(D96,females2,$A$90,FALSE),IF($A$89=\"M\",HLOOKUP(D96,males2,$A$90,FALSE),\"\")))","v":"-"},{"$f":"IF(OR(D96=0,D96=\"\",ISERROR(VLOOKUP(D96,match_teams2,4,FALSE)=TRUE)),\"\",VLOOKUP(D96,match_teams2,4,FALSE))","v":"Linc W"},null,{"$f":"IF(OR(G96=0,G96=\"\",G96=\"NHC\",$A$94=0,$A$94=\"\",$A$95=0,$A$95=\"\",$A$96=0,$A$96=\"\",$A$97=0,$A$97=\"\"),\"\",IF(G96>=$A$94,1,IF(G96>=$A$95,2,IF(G96>=$A$96,3,IF(G96>=$A$97,4,\"\")))))","v":""},{"$f":"VLOOKUP(K89,eventno,10,FALSE)","v":1.55},6,{"$f":"IF(OR(O96=0,O96=\"\",T(O96)<>\"\",O96=\"NHC\"),\"\",RANK(O96,$O$91:$O$96,0))","v":""},{"$f":"IF($AA$37=\"\",Height!$B311,\" \")","v":11},{"$f":"IF(OR(L96=0,L96=\"\",L96=\" \"),\"\",IF($I$89=\"F\",HLOOKUP(L96,females2,$I$90,FALSE),IF($I$89=\"M\",HLOOKUP(L96,males2,$I$90,FALSE),\"\")))","v":"-"},{"$f":"IF(OR(L96=0,L96=\"\",ISERROR(VLOOKUP(L96,match_teams2,4,FALSE)=TRUE)),\"\",VLOOKUP(L96,match_teams2,4,FALSE))","v":"DASH"},null,{"$f":"IF(OR(O96=0,O96=\"\",O96=\"NHC\",$I$94=0,$I$94=\"\",$I$95=0,$I$95=\"\",$I$96=0,$I$96=\"\",$I$97=0,$I$97=\"\"),\"\",IF(O96>=$I$94,1,IF(O96>=$I$95,2,IF(O96>=$I$96,3,IF(O96>=$I$97,4,\"\")))))","v":""},{"$f":"VLOOKUP(S89,eventno,10,FALSE)","v":11.85},6,{"$f":"IF(OR(W96=0,W96=\"\",T(W96)<>\"\"),\"\",RANK(W96,$W$91:$W$96,0))","v":""},{"$f":"IF($AA$38=\"\",Distance!$B635,\" \")","v":33},{"$f":"IF(OR(T96=0,T96=\"\",T96=\" \"),\"\",IF($Q$89=\"F\",HLOOKUP(T96,females2,$Q$90,FALSE),IF($Q$89=\"M\",HLOOKUP(T96,males2,$Q$90,FALSE),\"\")))","v":"-"},{"$f":"IF(OR(T96=0,T96=\"\",ISERROR(VLOOKUP(T96,match_teams2,4,FALSE)=TRUE)),\"\",VLOOKUP(T96,match_teams2,4,FALSE))","v":"Hallam"},null,{"$f":"IF(OR(W96=0,W96=\"\",$Q$94=0,$Q$94=\"\",$Q$95=0,$Q$95=\"\",$Q$96=0,$Q$96=\"\",$Q$97=0,$Q$97=\"\"),\"\",IF(W96>=$Q$94,1,IF(W96>=$Q$95,2,IF(W96>=$Q$96,3,IF(W96>=$Q$97,4,\"\")))))","v":""},null,null,null,0,0,0]
[{"$f":"VLOOKUP(C89,eventno,11,FALSE)","v":1.4},null,null,null,null,null,null,null,{"$f":"VLOOKUP(K89,eventno,11,FALSE)","v":1.48},null,null,null,null,null,null,null,{"$f":"VLOOKUP(S89,eventno,11,FALSE)","v":10.7},null,null,null,null,null,null,null,null,null,null,0,0,0]
[{"$f":"VLOOKUP(C98,eventno,5,FALSE)","v":"M"},null,"F31",{"$f":"VLOOKUP(C98,eventno,4,FALSE)","v":"U17M Triple Jump"},null,{"$f":"IF(A101=\"W\",\"Wind =\",\"\")","v":""},null,{"$f":"IF(OR(G100=0,G100=\"\",$A$102=0,$A$102=\"\"),\"\",IF($A$100=\"F\",IF(G100>$A$102,\"LR\",IF(G100=$A$102,\"LR=\",\"\"))))","v":""},{"$f":"VLOOKUP(K98,eventno,5,FALSE)","v":"F"},null,"F32",{"$f":"VLOOKUP(K98,eventno,4,FALSE)","v":"U17W Triple Jump"},null,{"$f":"IF(I101=\"W\",\"Wind =\",\"\")","v":""},null,{"$f":"IF(OR(O100=0,O100=\"\",$I$102=0,$I$102=\"\"),\"\",IF($I$100=\"F\",IF(O100>$I$102,\"LR\",IF(O100=$I$102,\"LR=\",\"\"))))","v":""},{"$f":"VLOOKUP(S98,eventno,5,FALSE)","v":"F"},null,"F33",{"$f":"VLOOKUP(S98,eventno,4,FALSE)","v":"U15G Javelin"},null,{"$f":"IF(Q101=\"W\",\"Wind =\",\"\")","v":""},null,{"$f":"IF(OR(W100=0,W100=\"\",$Q$102=0,$Q$102=\"\"),\"\",IF($Q$100=\"F\",IF(W100>$Q$102,\"LR\",IF(W100=$Q$102,\"LR=\",\"\"))))","v":""},null,null,null,0,0,0]
[{"$f":"IF(A98=\"M\",VLOOKUP(C98,males2,15,FALSE),VLOOKUP(C98,females2,15,FALSE))","v":49},null,"Posn","Bib","Athlete","Club","Perf","Gr",{"$f":"IF(I98=\"M\",VLOOKUP(K98,males2,15,FALSE),VLOOKUP(K98,females2,15,FALSE))","v":49},null,"Posn","Bib","Athlete","Club","Perf","Gr",{"$f":"IF(Q98=\"M\",VLOOKUP(S98,males2,15,FALSE),VLOOKUP(S98,females2,15,FALSE))","v":38},null,"Posn","Bib","Athlete","Club","Perf","Gr",null,null,null,{"$error":"#N/A"},{"$error":"#N/A"},{"$error":"#N/A"}]
[{"$f":"LEFT(C98,1)","v":"F"},4,{"$f":"IF(OR(G100=0,G100=\"\",T(G100)<>\"\"),\"\",RANK(G100,$G$100:$G$105,0))","v":1},{"$f":"IF($AA$39=\"\",Distance!$B665,\" \")","v":22},{"$f":"IF(OR(D100=0,D100=\"\",D100=\" \"),\"\",IF($A$98=\"F\",HLOOKUP(D100,females2,$A$99,FALSE),IF($A$98=\"M\",HLOOKUP(D100,males2,$A$99,FALSE),\"\")))","v":"Joe Wilkinson"},{"$f":"IF(OR(D100=0,D100=\"\",ISERROR(VLOOKUP(D100,match_teams2,4,FALSE)=TRUE)),\"\",VLOOKUP(D100,match_teams2,4,FALSE))","v":"Linc W"},9.3000000000000007,{"$f":"IF(OR(G100=0,G100=\"\",$A$103=0,$A$103=\"\",$A$104=0,$A$104=\"\",$A$105=0,$A$105=\"\",$A$106=0,$A$106=\"\"),\"\",IF(G100>=$A$103,1,IF(G100>=$A$104,2,IF(G100>=$A$105,3,IF(G100>=$A$106,4,\"\")))))","v":""},{"$f":"LEFT(K98,1)","v":"F"},3,{"$f":"IF(OR(O100=0,O100=\"\",T(O100)<>\"\"),\"\",RANK(O100,$O$100:$O$105,0))","v":1},{"$f":"IF($AA$40=\"\",Distance!$B696,\" \")","v":2},{"$f":"IF(OR(L100=0,L100=\"\",L100=\" \"),\"\",IF($I$98=\"F\",HLOOKUP(L100,females2,$I$99,FALSE),IF($I$98=\"M\",HLOOKUP(L100,males2,$I$99,FALSE),\"\")))","v":"Rhiannon Philps"},{"$f":"IF(OR(L100=0,L100=\"\",ISERROR(VLOOKUP(L100,match_teams2,4,FALSE)=TRUE)),\"\",VLOOKUP(L100,match_teams2,4,FALSE))","v":"Linc W"},8.1999999999999993,{"$f":"IF(OR(O100=0,O100=\"\",$I$103=0,$I$103=\"\",$I$104=0,$I$104=\"\",$I$105=0,$I$105=\"\",$I$106=0,$I$106=\"\"),\"\",IF(O100>=$I$103,1,IF(O100>=$I$104,2,IF(O100>=$I$105,3,IF(O100>=$I$106,4,\"\")))))","v":""},{"$f":"LEFT(S98,1)","v":"F"},6,{"$f":"IF(OR(W100=0,W100=\"\",T(W100)<>\"\"),\"\",RANK(W100,$W$100:$W$105,0))","v":1},{"$f":"IF($AA$41=\"\",Distance!$B731,\" \")","v":22},{"$f":"IF(OR(T100=0,T100=\"\",T100=\" \"),\"\",IF($Q$98=\"F\",HLOOKUP(T100,females2,$Q$99,FALSE),IF($Q$98=\"M\",HLOOKUP(T100,males2,$Q$99,FALSE),\"\")))","v":"Allison Mouzon"},{"$f":"IF(OR(T100=0,T100=\"\",ISERROR(VLOOKUP(T100,match_teams2,4,FALSE)=TRUE)),\"\",VLOOKUP(T100,match_teams2,4,FALSE))","v":"Linc W"},18.5,{"$f":"IF(OR(W100=0,W100=\"\",$Q$103=0,$Q$103=\"\",$Q$104=0,$Q$104=\"\",$Q$105=0,$Q$105=\"\",$Q$106=0,$Q$106=\"\"),\"\",IF(W100>=$Q$103,1,IF(W100>=$Q$104,2,IF(W100>=$Q$105,3,IF(W100>=$Q$106,4,\"\")))))","v":""},null,null,null,6,6,6]
[{"$f":"VLOOKUP(C98,eventno,6,FALSE)","v":0},3,{"$f":"IF(OR(G101=0,G101=\"\",T(G101)<>\"\"),\"\",RANK(G101,$G$100:$G$105,0))","v":2},{"$f":"IF($AA$39=\"\",Distance!$B664,\" \")","v":1},{"$f":"IF(OR(D101=0,D101=\"\",D101=\" \"),\"\",IF($A$98=\"F\",HLOOKUP(D101,females2,$A$99,FALSE),IF($A$98=\"M\",HLOOKUP(D101,males2,$A$99,FALSE),\"\")))","v":"Aidon Sahni"},{"$f":"IF(OR(D101=0,D101=\"\",ISERROR(VLOOKUP(D101,match_teams2,4,FALSE)=TRUE)),\"\",VLOOKUP(D101,match_teams2,4,FALSE))","v":"DASH"},7.87,{"$f":"IF(OR(G101=0,G101=\"\",$A$103=0,$A$103=\"\",$A$104=0,$A$104=\"\",$A$105=0,$A$105=\"\",$A$106=0,$A$106=\"\"),\"\",IF(G101>=$A$103,1,IF(G101>=$A$104,2,IF(G101>=$A$105,3,IF(G101>=$A$106,4,\"\")))))","v":""},{"$f":"VLOOKUP(K98,eventno,6,FALSE)","v":0},1,{"$f":"IF(OR(O101=0,O101=\"\",T(O101)<>\"\"),\"\",RANK(O101,$O$100:$O$105,0))","v":""},{"$f":"IF($AA$40=\"\",Distance!$B694,VALUE(LEFT($AA$40,3)))","v":1},{"$f":"IF(OR(L101=0,L101=\"\",L101=\" \"),\"\",IF($I$98=\"F\",HLOOKUP(L101,females2,$I$99,FALSE),IF($I$98=\"M\",HLOOKUP(L101,males2,$I$99,FALSE),\"\")))","v":"-"},{"$f":"IF(OR(L101=0,L101=\"\",ISERROR(VLOOKUP(L101,match_teams2,4,FALSE)=TRUE)),\"\",VLOOKUP(L101,match_teams2,4,FALSE))","v":"DASH"},null,{"$f":"IF(OR(O101=0,O101=\"\",$I$103=0,$I$103=\"\",$I$104=0,$I$104=\"\",$I$105=0,$I$105=\"\",$I$106=0,$I$106=\"\"),\"\",IF(O101>=$I$103,1,IF(O101>=$I$104,2,IF(O101>=$I$105,3,IF(O101>=$I$106,4,\"\")))))","v":""},{"$f":"VLOOKUP(S98,eventno,6,FALSE)","v":0},3,{"$f":"IF(OR(W101=0,W101=\"\",T(W101)<>\"\"),\"\",RANK(W101,$W$100:$W$105,0))","v":2},{"$f":"IF($AA$41=\"\",Distance!$B728,\" \")","v":2},{"$f":"IF(OR(T101=0,T101=\"\",T101=\" \"),\"\",IF($Q$98=\"F\",HLOOKUP(T101,females2,$Q$99,FALSE),IF($Q$98=\"M\",HLOOKUP(T101,males2,$Q$99,FALSE),\"\")))","v":"India Freeman"},{"$f":"IF(OR(T101=0,T101=\"\",ISERROR(VLOOKUP(T101,match_teams2,4,FALSE)=TRUE)),\"\",VLOOKUP(T101,match_teams2,4,FALSE))","v":"Linc W"},16.09,{"$f":"IF(OR(W101=0,W101=\"\",$Q$103=0,$Q$103=\"\",$Q$104=0,$Q$104=\"\",$Q$105=0,$Q$105=\"\",$Q$106=0,$Q$106=\"\"),\"\",IF(W101>=$Q$103,1,IF(W101>=$Q$104,2,IF(W101>=$Q$105,3,IF(W101>=$Q$106,4,\"\")))))","v":""},null,null,null,5,0,5]
[{"$f":"VLOOKUP(C98,eventno,7,FALSE)","v":15.58},1,{"$f":"IF(OR(G102=0,G102=\"\",T(G102)<>\"\"),\"\",RANK(G102,$G$100:$G$105,0))","v":""},{"$f":"IF($AA$39=\"\",Distance!$B662,VALUE(LEFT($AA$39,3)))","v":2},{"$f":"IF(OR(D102=0,D102=\"\",D102=\" \"),\"\",IF($A$98=\"F\",HLOOKUP(D102,females2,$A$99,FALSE),IF($A$98=\"M\",HLOOKUP(D102,males2,$A$99,FALSE),\"\")))","v":"Joshua Asbrey"},{"$f":"IF(OR(D102=0,D102=\"\",ISERROR(VLOOKUP(D102,match_teams2,4,FALSE)=TRUE)),\"\",VLOOKUP(D102,match_teams2,4,FALSE))","v":"Linc W"},null,{"$f":"IF(OR(G102=0,G102=\"\",$A$103=0,$A$103=\"\",$A$104=0,$A$104=\"\",$A$105=0,$A$105=\"\",$A$106=0,$A$106=\"\"),\"\",IF(G102>=$A$103,1,IF(G102>=$A$104,2,IF(G102>=$A$105,3,IF(G102>=$A$106,4,\"\")))))","v":""},{"$f":"VLOOKUP(K98,eventno,7,FALSE)","v":11.84},2,{"$f":"IF(OR(O102=0,O102=\"\",T(O102)<>\"\"),\"\",RANK(O102,$O$100:$O$105,0))","v":""},{"$f":"IF($AA$40=\"\",Distance!$B695,\" \")","v":3},{"$f":"IF(OR(L102=0,L102=\"\",L102=\" \"),\"\",IF($I$98=\"F\",HLOOKUP(L102,females2,$I$99,FALSE),IF($I$98=\"M\",HLOOKUP(L102,males2,$I$99,FALSE),\"\")))","v":"-"},{"$f":"IF(OR(L102=0,L102=\"\",ISERROR(VLOOKUP(L102,match_teams2,4,FALSE)=TRUE)),\"\",VLOOKUP(L102,match_teams2,4,FALSE))","v":"Hallam"},null,{"$f":"IF(OR(O102=0,O102=\"\",$I$103=0,$I$103=\"\",$I$104=0,$I$104=\"\",$I$105=0,$I$105=\"\",$I$106=0,$I$106=\"\"),\"\",IF(O102>=$I$103,1,IF(O102>=$I$104,2,IF(O102>=$I$105,3,IF(O102>=$I$106,4,\"\")))))","v":""},{"$f":"VLOOKUP(S98,eventno,7,FALSE)","v":42.31},2,{"$f":"IF(OR(W102=0,W102=\"\",T(W102)<>\"\"),\"\",RANK(W102,$W$100:$W$105,0))","v":3},{"$f":"IF($AA$41=\"\",Distance!$B727,\" \")","v":3},{"$f":"IF(OR(T102=0,T102=\"\",T102=\" \"),\"\",IF($Q$98=\"F\",HLOOKUP(T102,females2,$Q$99,FALSE),IF($Q$98=\"M\",HLOOKUP(T102,males2,$Q$99,FALSE),\"\")))","v":"Charlotte Mather"},{"$f":"IF(OR(T102=0,T102=\"\",ISERROR(VLOOKUP(T102,match_teams2,4,FALSE)=TRUE)),\"\",VLOOKUP(T102,match_teams2,4,FALSE))","v":"Hallam"},15.42,{"$f":"IF(OR(W102=0,W102=\"\",$Q$103=0,$Q$103=\"\",$Q$104=0,$Q$104=\"\",$Q$105=0,$Q$105=\"\",$Q$106=0,$Q$106=\"\"),\"\",IF(W102>=$Q$103,1,IF(W102>=$Q$104,2,IF(W102>=$Q$105,3,IF(W102>=$Q$106,4,\"\")))))","v":""},null,null,null,0,0,4]
[{"$f":"VLOOKUP(C98,eventno,8,FALSE)","v":0},2,{"$f":"IF(OR(G103=0,G103=\"\",T(G103)<>\"\"),\"\",RANK(G103,$G$100:$G$105,0))","v":""},{"$f":"IF($AA$39=\"\",Distance!$B663,\" \")","v":3},{"$f":"IF(OR(D103=0,D103=\"\",D103=\" \"),\"\",IF($A$98=\"F\",HLOOKUP(D103,females2,$A$99,FALSE),IF($A$98=\"M\",HLOOKUP(D103,males2,$A$99,FALSE),\"\")))","v":"-"},{"$f":"IF(OR(D103=0,D103=\"\",ISERROR(VLOOKUP(D103,match_teams2,4,FALSE)=TRUE)),\"\",VLOOKUP(D103,match_teams2,4,FALSE))","v":"Hallam"},null,{"$f":"IF(OR(G103=0,G103=\"\",$A$103=0,$A$103=\"\",$A$104=0,$A$104=\"\",$A$105=0,$A$105=\"\",$A$106=0,$A$106=\"\"),\"\",IF(G103>=$A$103,1,IF(G103>=$A$104,2,IF(G103>=$A$105,3,IF(G103>=$A$106,4,\"\")))))","v":""},{"$f":"VLOOKUP(K98,eventno,8,FALSE)","v":10.9},4,{"$f":"IF(OR(O103=0,O103=\"\",T(O103)<>\"\"),\"\",RANK(O103,$O$100:$O$105,0))","v":""},{"$f":"IF($AA$40=\"\",Distance!$B697,\" \")","v":11},{"$f":"IF(OR(L103=0,L103=\"\",L103=\" \"),\"\",IF($I$98=\"F\",HLOOKUP(L103,females2,$I$99,FALSE),IF($I$98=\"M\",HLOOKUP(L103,males2,$I$99,FALSE),\"\")))","v":"-"},{"$f":"IF(OR(L103=0,L103=\"\",ISERROR(VLOOKUP(L103,match_teams2,4,FALSE)=TRUE)),\"\",VLOOKUP(L103,match_teams2,4,FALSE))","v":"DASH"},null,{"$f":"IF(OR(O103=0,O103=\"\",$I$103=0,$I$103=\"\",$I$104=0,$I$104=\"\",$I$105=0,$I$105=\"\",$I$106=0,$I$106=\"\"),\"\",IF(O103>=$I$103,1,IF(O103>=$I$104,2,IF(O103>=$I$105,3,IF(O103>=$I$106,4,\"\")))))","v":""},{"$f":"VLOOKUP(S98,eventno,8,FALSE)","v":28.8},4,{"$f":"IF(OR(W103=0,W103=\"\",T(W103)<>\"\"),\"\",RANK(W103,$W$100:$W$105,0))","v":4},{"$f":"IF($AA$41=\"\",Distance!$B729,\" \")","v":11},{"$f":"IF(OR(T103=0,T103=\"\",T103=\" \"),\"\",IF($Q$98=\"F\",HLOOKUP(T103,females2,$Q$99,FALSE),IF($Q$98=\"M\",HLOOKUP(T103,males2,$Q$99,FALSE),\"\")))","v":"Eleanor Rawson"},{"$f":"IF(OR(T103=0,T103=\"\",ISERROR(VLOOKUP(T103,match_teams2,4,FALSE)=TRUE)),\"\",VLOOKUP(T103,match_teams2,4,FALSE))","v":"DASH"},11.12,{"$f":"IF(OR(W103=0,W103=\"\",$Q$103=0,$Q$103=\"\",$Q$104=0,$Q$104=\"\",$Q$105=0,$Q$105=\"\",$Q$106=0,$Q$106=\"\"),\"\",IF(W103>=$Q$103,1,IF(W103>=$Q$104,2,IF(W103>=$Q$105,3,IF(W103>=$Q$106,4,\"\")))))","v":""},null,null,null,0,0,3]
[{"$f":"VLOOKUP(C98,eventno,9,FALSE)","v":0},5,{"$f":"IF(OR(G104=0,G104=\"\",T(G104)<>\"\"),\"\",RANK(G104,$G$100:$G$105,0))","v":""},{"$f":"IF($AA$39=\"\",Distance!$B666,\" \")","v":33},{"$f":"IF(OR(D104=0,D104=\"\",D104=\" \"),\"\",IF($A$98=\"F\",HLOOKUP(D104,females2,$A$99,FALSE),IF($A$98=\"M\",HLOOKUP(D104,males2,$A$99,FALSE),\"\")))","v":"-"},{"$f":"IF(OR(D104=0,D104=\"\",ISERROR(VLOOKUP(D104,match_teams2,4,FALSE)=TRUE)),\"\",VLOOKUP(D104,match_teams2,4,FALSE))","v":"Hallam"},null,{"$f":"IF(OR(G104=0,G104=\"\",$A$103=0,$A$103=\"\",$A$104=0,$A$104=\"\",$A$105=0,$A$105=\"\",$A$106=0,$A$106=\"\"),\"\",IF(G104>=$A$103,1,IF(G104>=$A$104,2,IF(G104>=$A$105,3,IF(G104>=$A$106,4,\"\")))))","v":""},{"$f":"VLOOKUP(K98,eventno,9,FALSE)","v":10.6},5,{"$f":"IF(OR(O104=0,O104=\"\",T(O104)<>\"\"),\"\",RANK(O104,$O$100:$O$105,0))","v":""},{"$f":"IF($AA$40=\"\",Distance!$B698,\" \")","v":33},{"$f":"IF(OR(L104=0,L104=\"\",L104=\" \"),\"\",IF($I$98=\"F\",HLOOKUP(L104,females2,$I$99,FALSE),IF($I$98=\"M\",HLOOKUP(L104,males2,$I$99,FALSE),\"\")))","v":"-"},{"$f":"IF(OR(L104=0,L104=\"\",ISERROR(VLOOKUP(L104,match_teams2,4,FALSE)=TRUE)),\"\",VLOOKUP(L104,match_teams2,4,FALSE))","v":"Hallam"},null,{"$f":"IF(OR(O104=0,O104=\"\",$I$103=0,$I$103=\"\",$I$104=0,$I$104=\"\",$I$105=0,$I$105=\"\",$I$106=0,$I$106=\"\"),\"\",IF(O104>=$I$103,1,IF(O104>=$I$104,2,IF(O104>=$I$105,3,IF(O104>=$I$106,4,\"\")))))","v":""},{"$f":"VLOOKUP(S98,eventno,9,FALSE)","v":26.35},5,{"$f":"IF(OR(W104=0,W104=\"\",T(W104)<>\"\"),\"\",RANK(W104,$W$100:$W$105,0))","v":5},{"$f":"IF($AA$41=\"\",Distance!$B730,\" \")","v":33},{"$f":"IF(OR(T104=0,T104=\"\",T104=\" \"),\"\",IF($Q$98=\"F\",HLOOKUP(T104,females2,$Q$99,FALSE),IF($Q$98=\"M\",HLOOKUP(T104,males2,$Q$99,FALSE),\"\")))","v":"Emily Malmgren"},{"$f":"IF(OR(T104=0,T104=\"\",ISERROR(VLOOKUP(T104,match_teams2,4,FALSE)=TRUE)),\"\",VLOOKUP(T104,match_teams2,4,FALSE))","v":"Hallam"},10.55,{"$f":"IF(OR(W104=0,W104=\"\",$Q$103=0,$Q$103=\"\",$Q$104=0,$Q$104=\"\",$Q$105=0,$Q$105=\"\",$Q$106=0,$Q$106=\"\"),\"\",IF(W104>=$Q$103,1,IF(W104>=$Q$104,2,IF(W104>=$Q$105,3,IF(W104>=$Q$106,4,\"\")))))","v":""},null,null,null,{"$f":"IF(OR(C104=0,C104=\"\",D104=0,D104=\"\",G104=0,G104=\"\",LEFT(G104,1)=\"D\"),0,VLOOKUP(C104,points,2,FALSE))","v":0},{"$f":"IF(OR(K104=0,K104=\"\",L104=0,L104=\"\",O104=0,O104=\"\",LEFT(O104,1)=\"D\"),0,VLOOKUP(K104,points,2,FALSE))","v":0},2]
[{"$f":"VLOOKUP(C98,eventno,10,FALSE)","v":0},6,{"$f":"IF(OR(G105=0,G105=\"\",T(G105)<>\"\"),\"\",RANK(G105,$G$100:$G$105,0))","v":""},{"$f":"IF($AA$39=\"\",Distance!$B667,\" \")","v":11},{"$f":"IF(OR(D105=0,D105=\"\",D105=\" \"),\"\",IF($A$98=\"F\",HLOOKUP(D105,females2,$A$99,FALSE),IF($A$98=\"M\",HLOOKUP(D105,males2,$A$99,FALSE),\"\")))","v":"-"},{"$f":"IF(OR(D105=0,D105=\"\",ISERROR(VLOOKUP(D105,match_teams2,4,FALSE)=TRUE)),\"\",VLOOKUP(D105,match_teams2,4,FALSE))","v":"DASH"},null,{"$f":"IF(OR(G105=0,G105=\"\",$A$103=0,$A$103=\"\",$A$104=0,$A$104=\"\",$A$105=0,$A$105=\"\",$A$106=0,$A$106=\"\"),\"\",IF(G105>=$A$103,1,IF(G105>=$A$104,2,IF(G105>=$A$105,3,IF(G105>=$A$106,4,\"\")))))","v":""},{"$f":"VLOOKUP(K98,eventno,10,FALSE)","v":10.1},6,{"$f":"IF(OR(O105=0,O105=\"\",T(O105)<>\"\"),\"\",RANK(O105,$O$100:$O$105,0))","v":""},{"$f":"IF($AA$40=\"\",Distance!$B699,\" \")","v":22},{"$f":"IF(OR(L105=0,L105=\"\",L105=\" \"),\"\",IF($I$98=\"F\",HLOOKUP(L105,females2,$I$99,FALSE),IF($I$98=\"M\",HLOOKUP(L105,males2,$I$99,FALSE),\"\")))","v":"-"},{"$f":"IF(OR(L105=0,L105=\"\",ISERROR(VLOOKUP(L105,match_teams2,4,FALSE)=TRUE)),\"\",VLOOKUP(L105,match_teams2,4,FALSE))","v":"Linc W"},null,{"$f":"IF(OR(O105=0,O105=\"\",$I$103=0,$I$103=\"\",$I$104=0,$I$104=\"\",$I$105=0,$I$105=\"\",$I$106=0,$I$106=\"\"),\"\",IF(O105>=$I$103,1,IF(O105>=$I$104,2,IF(O105>=$I$105,3,IF(O105>=$I$106,4,\"\")))))","v":""},{"$f":"VLOOKUP(S98,eventno,10,FALSE)","v":23.85},1,{"$f":"IF(OR(W105=0,W105=\"\",T(W105)<>\"\"),\"\",RANK(W105,$W$100:$W$105,0))","v":6},{"$f":"IF($AA$41=\"\",Distance!$B726,VALUE(LEFT($AA$41,3)))","v":1},{"$f":"IF(OR(T105=0,T105=\"\",T105=\" \"),\"\",IF($Q$98=\"F\",HLOOKUP(T105,females2,$Q$99,FALSE),IF($Q$98=\"M\",HLOOKUP(T105,males2,$Q$99,FALSE),\"\")))","v":"Emma Clarkson"},{"$f":"IF(OR(T105=0,T105=\"\",ISERROR(VLOOKUP(T105,match_teams2,4,FALSE)=TRUE)),\"\",VLOOKUP(T105,match_teams2,4,FALSE))","v":"DASH"},7.87,{"$f":"IF(OR(W105=0,W105=\"\",$Q$103=0,$Q$103=\"\",$Q$104=0,$Q$104=\"\",$Q$105=0,$Q$105=\"\",$Q$106=0,$Q$106=\"\"),\"\",IF(W105>=$Q$103,1,IF(W105>=$Q$104,2,IF(W105>=$Q$105,3,IF(W105>=$Q$106,4,\"\")))))","v":""},null,null,null,0,0,1]
[{"$f":"VLOOKUP(C98,eventno,11,FALSE)","v":0},null,null,null,null,null,null,null,{"$f":"VLOOKUP(K98,eventno,11,FALSE)","v":9.4},null,null,null,null,null,null,null,{"$f":"VLOOKUP(S98,eventno,11,FALSE)","v":20.399999999999999},null,null,null,null,null,null,null,null,null,null,0,0,0]
[{"$f":"VLOOKUP(C107,eventno,5,FALSE)","v":"F"},null,"F34",{"$f":"VLOOKUP(C107,eventno,4,FALSE)","v":"U17W Javelin"},null,{"$f":"IF(A110=\"W\",\"Wind =\",\"\")","v":""},null,{"$f":"IF(OR(G109=0,G109=\"\",$A$111=0,$A$111=\"\"),\"\",IF($A$109=\"F\",IF(G109>$A$111,\"LR\",IF(G109=$A$111,\"LR=\",\"\"))))","v":""},{"$f":"VLOOKUP(K107,eventno,5,FALSE)","v":"F"},null,"F35",{"$f":"VLOOKUP(K107,eventno,4,FALSE)","v":"U13G Shot"},null,{"$f":"IF(I110=\"W\",\"Wind =\",\"\")","v":""},null,{"$f":"IF(OR(O109=0,O109=\"\",$I$111=0,$I$111=\"\"),\"\",IF($I$109=\"F\",IF(O109>$I$111,\"LR\",IF(O109=$I$111,\"LR=\",\"\"))))","v":""},null,null,"FIELD OFFICIALS",null,null,null,null,null,null,null,null,0,0,0]
[{"$f":"IF(A107=\"M\",VLOOKUP(C107,males2,15,FALSE),VLOOKUP(C107,females2,15,FALSE))","v":39},null,"Posn","Bib","Athlete","Club","Perf","Gr",{"$f":"IF(I107=\"M\",VLOOKUP(K107,males2,15,FALSE),VLOOKUP(K107,females2,15,FALSE))","v":44},null,"Posn","Bib","Athlete","Club","Perf","Gr",null,null,null,"Bib",null,"Club","Number",null,null,null,null,{"$error":"#N/A"},{"$error":"#N/A"},0]
[{"$f":"LEFT(C107,1)","v":"F"},1,{"$f":"IF(OR(G109=0,G109=\"\",T(G109)<>\"\"),\"\",RANK(G109,$G$109:$G$114,0))","v":1},{"$f":"IF($AA$42=\"\",Distance!$B758,VALUE(LEFT($AA$42,3)))","v":2},{"$f":"IF(OR(D109=0,D109=\"\",D109=\" \"),\"\",IF($A$107=\"F\",HLOOKUP(D109,females2,$A$108,FALSE),IF($A$107=\"M\",HLOOKUP(D109,males2,$A$108,FALSE),\"\")))","v":"Elsie Dawes"},{"$f":"IF(OR(D109=0,D109=\"\",ISERROR(VLOOKUP(D109,match_teams2,4,FALSE)=TRUE)),\"\",VLOOKUP(D109,match_teams2,4,FALSE))","v":"Linc W"},26.46,{"$f":"IF(OR(G109=0,G109=\"\",$A$112=0,$A$112=\"\",$A$113=0,$A$113=\"\",$A$114=0,$A$114=\"\",$A$115=0,$A$115=\"\"),\"\",IF(G109>=$A$112,1,IF(G109>=$A$113,2,IF(G109>=$A$114,3,IF(G109>=$A$115,4,\"\")))))","v":4},{"$f":"LEFT(K107,1)","v":"F"},4,{"$f":"IF(OR(O109=0,O109=\"\",T(O109)<>\"\"),\"\",RANK(O109,$O$109:$O$114,0))","v":1},{"$f":"IF($AA$43=\"\",Distance!$B793,\" \")","v":11},{"$f":"IF(OR(L109=0,L109=\"\",L109=\" \"),\"\",IF($I$107=\"F\",HLOOKUP(L109,females2,$I$108,FALSE),IF($I$107=\"M\",HLOOKUP(L109,males2,$I$108,FALSE),\"\")))","v":"Maria Masserella"},{"$f":"IF(OR(L109=0,L109=\"\",ISERROR(VLOOKUP(L109,match_teams2,4,FALSE)=TRUE)),\"\",VLOOKUP(L109,match_teams2,4,FALSE))","v":"DASH"},5.77,{"$f":"IF(OR(O109=0,O109=\"\",$I$112=0,$I$112=\"\",$I$113=0,$I$113=\"\",$I$114=0,$I$114=\"\",$I$115=0,$I$115=\"\"),\"\",IF(O109>=$I$112,1,IF(O109>=$I$113,2,IF(O109>=$I$114,3,IF(O109>=$I$115,4,\"\")))))","v":""},null,null,null,{"$f":"AI3","v":1},null,{"$f":"IF(OR(T109=0,T109=\"\",ISERROR(VLOOKUP(T109,match_teams2,4,FALSE)=TRUE)),\"\",VLOOKUP(T109,match_teams2,4,FALSE))","v":"DASH"},4,null,null,null,null,6,6,{"$f":"IF(OR(T109=0,T109=\"\",W109=0,W109=\"\",LEFT(W109,1)=\"D\"),0,W109*10)","v":40}]
[{"$f":"VLOOKUP(C107,eventno,6,FALSE)","v":0},2,{"$f":"IF(OR(G110=0,G110=\"\",T(G110)<>\"\"),\"\",RANK(G110,$G$109:$G$114,0))","v":2},{"$f":"IF($AA$42=\"\",Distance!$B759,\" \")","v":3},{"$f":"IF(OR(D110=0,D110=\"\",D110=\" \"),\"\",IF($A$107=\"F\",HLOOKUP(D110,females2,$A$108,FALSE),IF($A$107=\"M\",HLOOKUP(D110,males2,$A$108,FALSE),\"\")))","v":"Emily Fox"},{"$f":"IF(OR(D110=0,D110=\"\",ISERROR(VLOOKUP(D110,match_teams2,4,FALSE)=TRUE)),\"\",VLOOKUP(D110,match_teams2,4,FALSE))","v":"Hallam"},23.59,{"$f":"IF(OR(G110=0,G110=\"\",$A$112=0,$A$112=\"\",$A$113=0,$A$113=\"\",$A$114=0,$A$114=\"\",$A$115=0,$A$115=\"\"),\"\",IF(G110>=$A$112,1,IF(G110>=$A$113,2,IF(G110>=$A$114,3,IF(G110>=$A$115,4,\"\")))))","v":""},{"$f":"VLOOKUP(K107,eventno,6,FALSE)","v":0},2,{"$f":"IF(OR(O110=0,O110=\"\",T(O110)<>\"\"),\"\",RANK(O110,$O$109:$O$114,0))","v":2},{"$f":"IF($AA$43=\"\",Distance!$B791,\" \")","v":2},{"$f":"IF(OR(L110=0,L110=\"\",L110=\" \"),\"\",IF($I$107=\"F\",HLOOKUP(L110,females2,$I$108,FALSE),IF($I$107=\"M\",HLOOKUP(L110,males2,$I$108,FALSE),\"\")))","v":"Laura Wilkinson"},{"$f":"IF(OR(L110=0,L110=\"\",ISERROR(VLOOKUP(L110,match_teams2,4,FALSE)=TRUE)),\"\",VLOOKUP(L110,match_teams2,4,FALSE))","v":"Linc W"},5.52,{"$f":"IF(OR(O110=0,O110=\"\",$I$112=0,$I$112=\"\",$I$113=0,$I$113=\"\",$I$114=0,$I$114=\"\",$I$115=0,$I$115=\"\"),\"\",IF(O110>=$I$112,1,IF(O110>=$I$113,2,IF(O110>=$I$114,3,IF(O110>=$I$115,4,\"\")))))","v":""},null,null,null,{"$f":"AI4","v":2},null,{"$f":"IF(OR(T110=0,T110=\"\",ISERROR(VLOOKUP(T110,match_teams2,4,FALSE)=TRUE)),\"\",VLOOKUP(T110,match_teams2,4,FALSE))","v":"Linc W"},4,null,null,null,null,5,5,{"$f":"IF(OR(T110=0,T110=\"\",W110=0,W110=\"\",LEFT(W110,1)=\"D\"),0,W110*10)","v":40}]
[{"$f":"VLOOKUP(C107,eventno,7,FALSE)","v":44.36},5,{"$f":"IF(OR(G111=0,G111=\"\",T(G111)<>\"\"),\"\",RANK(G111,$G$109:$G$114,0))","v":3},{"$f":"IF($AA$42=\"\",Distance!$B762,\" \")","v":33},{"$f":"IF(OR(D111=0,D111=\"\",D111=\" \"),\"\",IF($A$107=\"F\",HLOOKUP(D111,females2,$A$108,FALSE),IF($A$107=\"M\",HLOOKUP(D111,males2,$A$108,FALSE),\"\")))","v":"Fiona Bell"},{"$f":"IF(OR(D111=0,D111=\"\",ISERROR(VLOOKUP(D111,match_teams2,4,FALSE)=TRUE)),\"\",VLOOKUP(D111,match_teams2,4,FALSE))","v":"Hallam"},8.99,{"$f":"IF(OR(G111=0,G111=\"\",$A$112=0,$A$112=\"\",$A$113=0,$A$113=\"\",$A$114=0,$A$114=\"\",$A$115=0,$A$115=\"\"),\"\",IF(G111>=$A$112,1,IF(G111>=$A$113,2,IF(G111>=$A$114,3,IF(G111>=$A$115,4,\"\")))))","v":""},{"$f":"VLOOKUP(K107,eventno,7,FALSE)","v":12.31},1,{"$f":"IF(OR(O111=0,O111=\"\",T(O111)<>\"\"),\"\",RANK(O111,$O$109:$O$114,0))","v":3},{"$f":"IF($AA$43=\"\",Distance!$B790,VALUE(LEFT($AA$43,3)))","v":1},{"$f":"IF(OR(L111=0,L111=\"\",L111=\" \"),\"\",IF($I$107=\"F\",HLOOKUP(L111,females2,$I$108,FALSE),IF($I$107=\"M\",HLOOKUP(L111,males2,$I$108,FALSE),\"\")))","v":"-"},{"$f":"IF(OR(L111=0,L111=\"\",ISERROR(VLOOKUP(L111,match_teams2,4,FALSE)=TRUE)),\"\",VLOOKUP(L111,match_teams2,4,FALSE))","v":"DASH"},5.43,{"$f":"IF(OR(O111=0,O111=\"\",$I$112=0,$I$112=\"\",$I$113=0,$I$113=\"\",$I$114=0,$I$114=\"\",$I$115=0,$I$115=\"\"),\"\",IF(O111>=$I$112,1,IF(O111>=$I$113,2,IF(O111>=$I$114,3,IF(O111>=$I$115,4,\"\")))))","v":""},null,null,null,{"$f":"AI5","v":3},null,{"$f":"IF(OR(T111=0,T111=\"\",ISERROR(VLOOKUP(T111,match_teams2,4,FALSE)=TRUE)),\"\",VLOOKUP(T111,match_teams2,4,FALSE))","v":"Hallam"},4,null,null,null,null,4,4,{"$f":"IF(OR(T111=0,T111=\"\",W111=0,W111=\"\",LEFT(W111,1)=\"D\"),0,W111*10)","v":40}]
[{"$f":"VLOOKUP(C107,eventno,8,FALSE)","v":38.299999999999997},3,{"$f":"IF(OR(G112=0,G112=\"\",T(G112)<>\"\"),\"\",RANK(G112,$G$109:$G$114,0))","v":""},{"$f":"IF($AA$42=\"\",Distance!$B760,\" \")","v":1},{"$f":"IF(OR(D112=0,D112=\"\",D112=\" \"),\"\",IF($A$107=\"F\",HLOOKUP(D112,females2,$A$108,FALSE),IF($A$107=\"M\",HLOOKUP(D112,males2,$A$108,FALSE),\"\")))","v":"Hannah Short"},{"$f":"IF(OR(D112=0,D112=\"\",ISERROR(VLOOKUP(D112,match_teams2,4,FALSE)=TRUE)),\"\",VLOOKUP(D112,match_teams2,4,FALSE))","v":"DASH"},null,{"$f":"IF(OR(G112=0,G112=\"\",$A$112=0,$A$112=\"\",$A$113=0,$A$113=\"\",$A$114=0,$A$114=\"\",$A$115=0,$A$115=\"\"),\"\",IF(G112>=$A$112,1,IF(G112>=$A$113,2,IF(G112>=$A$114,3,IF(G112>=$A$115,4,\"\")))))","v":""},{"$f":"VLOOKUP(K107,eventno,8,FALSE)","v":8.35},3,{"$f":"IF(OR(O112=0,O112=\"\",T(O112)<>\"\"),\"\",RANK(O112,$O$109:$O$114,0))","v":4},{"$f":"IF($AA$43=\"\",Distance!$B792,\" \")","v":3},{"$f":"IF(OR(L112=0,L112=\"\",L112=\" \"),\"\",IF($I$107=\"F\",HLOOKUP(L112,females2,$I$108,FALSE),IF($I$107=\"M\",HLOOKUP(L112,males2,$I$108,FALSE),\"\")))","v":"Mary McCarthy"},{"$f":"IF(OR(L112=0,L112=\"\",ISERROR(VLOOKUP(L112,match_teams2,4,FALSE)=TRUE)),\"\",VLOOKUP(L112,match_teams2,4,FALSE))","v":"Hallam"},4.5599999999999996,{"$f":"IF(OR(O112=0,O112=\"\",$I$112=0,$I$112=\"\",$I$113=0,$I$113=\"\",$I$114=0,$I$114=\"\",$I$115=0,$I$115=\"\"),\"\",IF(O112>=$I$112,1,IF(O112>=$I$113,2,IF(O112>=$I$114,3,IF(O112>=$I$115,4,\"\")))))","v":""},null,null,null,null,null,null,null,null,null,null,null,0,3,{"$f":"IF(OR(S112=0,S112=\"\",T112=0,T112=\"\",W112=0,W112=\"\",LEFT(W112,1)=\"D\"),0,VLOOKUP(S112,points,2,FALSE))","v":0}]
[{"$f":"VLOOKUP(C107,eventno,9,FALSE)","v":34},4,{"$f":"IF(OR(G113=0,G113=\"\",T(G113)<>\"\"),\"\",RANK(G113,$G$109:$G$114,0))","v":""},{"$f":"IF($AA$42=\"\",Distance!$B761,\" \")","v":22},{"$f":"IF(OR(D113=0,D113=\"\",D113=\" \"),\"\",IF($A$107=\"F\",HLOOKUP(D113,females2,$A$108,FALSE),IF($A$107=\"M\",HLOOKUP(D113,males2,$A$108,FALSE),\"\")))","v":"-"},{"$f":"IF(OR(D113=0,D113=\"\",ISERROR(VLOOKUP(D113,match_teams2,4,FALSE)=TRUE)),\"\",VLOOKUP(D113,match_teams2,4,FALSE))","v":"Linc W"},null,{"$f":"IF(OR(G113=0,G113=\"\",$A$112=0,$A$112=\"\",$A$113=0,$A$113=\"\",$A$114=0,$A$114=\"\",$A$115=0,$A$115=\"\"),\"\",IF(G113>=$A$112,1,IF(G113>=$A$113,2,IF(G113>=$A$114,3,IF(G113>=$A$115,4,\"\")))))","v":""},{"$f":"VLOOKUP(K107,eventno,9,FALSE)","v":7.85},6,{"$f":"IF(OR(O113=0,O113=\"\",T(O113)<>\"\"),\"\",RANK(O113,$O$109:$O$114,0))","v":5},{"$f":"IF($AA$43=\"\",Distance!$B795,\" \")","v":33},{"$f":"IF(OR(L113=0,L113=\"\",L113=\" \"),\"\",IF($I$107=\"F\",HLOOKUP(L113,females2,$I$108,FALSE),IF($I$107=\"M\",HLOOKUP(L113,males2,$I$108,FALSE),\"\")))","v":"Caitlin Tevendale"},{"$f":"IF(OR(L113=0,L113=\"\",ISERROR(VLOOKUP(L113,match_teams2,4,FALSE)=TRUE)),\"\",VLOOKUP(L113,match_teams2,4,FALSE))","v":"Hallam"},3.69,{"$f":"IF(OR(O113=0,O113=\"\",$I$112=0,$I$112=\"\",$I$113=0,$I$113=\"\",$I$114=0,$I$114=\"\",$I$115=0,$I$115=\"\"),\"\",IF(O113>=$I$112,1,IF(O113>=$I$113,2,IF(O113>=$I$114,3,IF(O113>=$I$115,4,\"\")))))","v":""},null,null,null,null,null,null,null,null,null,null,null,0,2,{"$f":"IF(OR(S113=0,S113=\"\",T113=0,T113=\"\",W113=0,W113=\"\",LEFT(W113,1)=\"D\"),0,VLOOKUP(S113,points,2,FALSE))","v":0}]
[{"$f":"VLOOKUP(C107,eventno,10,FALSE)","v":29.6},6,{"$f":"IF(OR(G114=0,G114=\"\",T(G114)<>\"\"),\"\",RANK(G114,$G$109:$G$114,0))","v":""},{"$f":"IF($AA$42=\"\",Distance!$B763,\" \")","v":11},{"$f":"IF(OR(D114=0,D114=\"\",D114=\" \"),\"\",IF($A$107=\"F\",HLOOKUP(D114,females2,$A$108,FALSE),IF($A$107=\"M\",HLOOKUP(D114,males2,$A$108,FALSE),\"\")))","v":"-"},{"$f":"IF(OR(D114=0,D114=\"\",ISERROR(VLOOKUP(D114,match_teams2,4,FALSE)=TRUE)),\"\",VLOOKUP(D114,match_teams2,4,FALSE))","v":"DASH"},null,{"$f":"IF(OR(G114=0,G114=\"\",$A$112=0,$A$112=\"\",$A$113=0,$A$113=\"\",$A$114=0,$A$114=\"\",$A$115=0,$A$115=\"\"),\"\",IF(G114>=$A$112,1,IF(G114>=$A$113,2,IF(G114>=$A$114,3,IF(G114>=$A$115,4,\"\")))))","v":""},{"$f":"VLOOKUP(K107,eventno,10,FALSE)","v":7.35},5,{"$f":"IF(OR(O114=0,O114=\"\",T(O114)<>\"\"),\"\",RANK(O114,$O$109:$O$114,0))","v":""},{"$f":"IF($AA$43=\"\",Distance!$B794,\" \")","v":22},{"$f":"IF(OR(L114=0,L114=\"\",L114=\" \"),\"\",IF($I$107=\"F\",HLOOKUP(L114,females2,$I$108,FALSE),IF($I$107=\"M\",HLOOKUP(L114,males2,$I$108,FALSE),\"\")))","v":"Holly Horton"},{"$f":"IF(OR(L114=0,L114=\"\",ISERROR(VLOOKUP(L114,match_teams2,4,FALSE)=TRUE)),\"\",VLOOKUP(L114,match_teams2,4,FALSE))","v":"Linc W"},null,{"$f":"IF(OR(O114=0,O114=\"\",$I$112=0,$I$112=\"\",$I$113=0,$I$113=\"\",$I$114=0,$I$114=\"\",$I$115=0,$I$115=\"\"),\"\",IF(O114>=$I$112,1,IF(O114>=$I$113,2,IF(O114>=$I$114,3,IF(O114>=$I$115,4,\"\")))))","v":""},null,null,null,null,null,null,null,null,null,null,null,0,0,{"$f":"IF(OR(S114=0,S114=\"\",T114=0,T114=\"\",W114=0,W114=\"\",LEFT(W114,1)=\"D\"),0,VLOOKUP(S114,points,2,FALSE))","v":0}]
[{"$f":"VLOOKUP(C107,eventno,11,FALSE)","v":24.9},null,null,null,null,null,null,null,{"$f":"VLOOKUP(K107,eventno,11,FALSE)","v":6.55},null,null,null,null,null,null,null,null,null,null,null,null,null,null,null,null,null,null,0,0,{"$f":"IF(OR(S115=0,S115=\"\",T115=0,T115=\"\",W115=0,W115=\"\",LEFT(W115,1)=\"D\"),0,VLOOKUP(S115,points,2,FALSE))","v":0}]

{"sheet":"Relay (Match 2)","index":8,"n_rows":63,"n_cols":20,"rows_kept":63,"cut":false,"hidden":false,"merged":[[0,6,0,9],[7,1,7,2],[8,1,8,2]]}
[null,{"$f":"CONCATENATE(MatchDay!I3,\", \",MatchDay!I7)","v":"Northern 1 SE, Thornes Park Stadium, Wakefield"},null,null,null,null,{"$f":"MatchDay!C5","v":"Sunday 8th May 2011"},null,null,null,"Points",null,{"$f":"MatchDay!K11","v":"DASH"},{"$f":"MatchDay!K13","v":"Linc W"},{"$f":"MatchDay!K15","v":"Hallam"},"Scored","Validations"]
[null,null,null,null,null,null,null,null,null,null,"Col 1",null,{"$f":"SUMIF($H$10:$H$208,M$1,$K$10:$K$208)","v":17},{"$f":"SUMIF($H$10:$H$208,N$1,$K$10:$K$208)","v":36},{"$f":"SUMIF($H$10:$H$208,O$1,$K$10:$K$208)","v":42},{"$f":"COUNTIF($K$11:$K$208,\"6\")","v":9},null,null,null,"Track (Match 1)"]
[null,"Club",null,null," Match Points","Posn (League Points)","Match Statistics",null,"Events",null,null,null,null,null,null,null,{"$f":"MatchDay!H11","v":1}]
[null,{"$f":"MatchDay!I11","v":"2DASH"},null,null,{"$f":"'Track (Match 2)'!E4","v":322},{"$f":"CONCATENATE('Track (Match 2)'!F4, \"  (\",'Track (Match 2)'!G4,\")\")","v":"3  (1)"},{"$f":"'Track (Match 2)'!K4","v":"New League Records"},{"$f":"'Track (Match 2)'!L4","v":0},{"$f":"'Track (Match 2)'!S4","v":"Scored"},{"$f":"'Track (Match 2)'!T4","v":76},null,null,null,null,null,"Cancelled",{"$f":"MatchDay!H13","v":2},null,null,"Field (Match 1)"]
[null,{"$f":"MatchDay!I13","v":"Lincoln Wellington"},null,null,{"$f":"'Track (Match 2)'!E5","v":518},{"$f":"CONCATENATE('Track (Match 2)'!F5, \"  (\",'Track (Match 2)'!G5,\")\")","v":"1  (3)"},{"$f":"'Track (Match 2)'!K5","v":"= League Records"},{"$f":"'Track (Match 2)'!L5","v":0},"Not Held",{"$f":"'Track (Match 2)'!T5","v":0},null,null,null,null,null,{"$f":"COUNTIF($C$11:$C$208,\"101\")+COUNTIF($C$11:$C$208,\"102\")+COUNTIF($C$11:$C$208,\"103\")","v":0},{"$f":"MatchDay!H15","v":3}]
[null,{"$f":"MatchDay!I15","v":"Hallamshire Harr"},null,null,{"$f":"'Track (Match 2)'!E6","v":475},{"$f":"CONCATENATE('Track (Match 2)'!F6, \"  (\",'Track (Match 2)'!G6,\")\")","v":"2  (2)"},{"$f":"'Track (Match 2)'!K6","v":"Grade 1"},{"$f":"'Track (Match 2)'!L6","v":3},"Not Scored",{"$f":"'Track (Match 2)'!T6","v":6},null,null,null,null,null,null,{"$f":"CONCATENATE(Q3,Q3)","v":"11"},null,null,"Relay Match 1"]
[null,null,null,null,null,null,"Grade 2",{"$f":"'Track (Match 2)'!N4","v":2},null,null,null,null,null,null,null,null,{"$f":"CONCATENATE(Q4,Q4)","v":"22"}]
[null,"Boys",null,{"$f":"'Track (Match 2)'!Q4","v":67},null,null,"Grade 3",{"$f":"'Track (Match 2)'!N5","v":6},null,null,null,null,null,null,null,null,{"$f":"CONCATENATE(Q5,Q5)","v":"33"}]
[null,"Girls",null,{"$f":"'Track (Match 2)'!Q5","v":58},null,null,"Grade 4",{"$f":"'Track (Match 2)'!N6","v":16},null,null,null,null,null,null,null,null,101]
[null,null,null,null,null,null,null,null,null,null,null,null,null,null,null,null,102]
[{"$f":"VLOOKUP(B11,eventno,5,FALSE)","v":"F"},"T38",{"$f":"VLOOKUP(B11,eventno,4,FALSE)","v":"U17W 4 x 100m Relay"},null,null,null,null,{"$f":"IF(A14=\"W\",\"Wind =\",\"\")","v":""},null,{"$f":"IF(OR(I13=0,I13=\"\",A15=0,A15=\"\"),\"\",IF(A13=\"T\",IF(I13<A15,\"LR\",IF(I13=A15,\"LR=\",\"\"))))","v":""},{"$f":"IF(OR(B11=0,B11=\"\",C11=0,C11=\"\",I11=0,I11=\"\",LEFT(I11,1)=\"D\"),0,VLOOKUP(B11,points,2,FALSE))","v":0},null,null,null,null,null,103]
[{"$f":"IF(A11=\"M\",VLOOKUP(B11,males2,15,FALSE),VLOOKUP(B11,females2,15,FALSE))","v":21},"Posn","Bib","Leg 1","Leg 2","Leg 3","Leg 4","Club","Perf",null,{"$error":"#N/A"},null,null,null,null,null,104]
[{"$f":"LEFT(B11,1)","v":"T"},1,2,{"$f":"IF(OR(C13=0,C13=\"\"),\"\",IF(A11=\"F\",HLOOKUP(C13,females2,A12,FALSE),IF(A11=\"M\",HLOOKUP(C13,males2,A12,FALSE),\"\")))","v":"Rhiannon Philps"},{"$f":"IF(OR(C13=0,C13=\"\",D13=\"Event Cancelled\",D13=\"No Competitors Declared\"),\"\",IF(A11=\"F\",HLOOKUP(S13,females2,A12,FALSE),IF(A11=\"M\",HLOOKUP(S13,males2,A12,FALSE),\"\")))","v":"Katie McMunn"},{"$f":"IF(OR(C13=0,C13=\"\",D13=\"Event Cancelled\",D13=\"No Competitors Declared\"),\"\",IF(A11=\"F\",HLOOKUP(C13,females2,A12+1,FALSE),IF(A11=\"M\",HLOOKUP(C13,males2,A12+1,FALSE),\"\")))","v":"Sydney Cherrie"},{"$f":"IF(OR(C13=0,C13=\"\",D13=\"Event Cancelled\",D13=\"No Competitors Declared\"),\"\",IF(A11=\"F\",HLOOKUP(S13,females2,A12+1,FALSE),IF(A11=\"M\",HLOOKUP(S13,males2,A12+1,FALSE),\"\")))","v":"Lucy Helas"},{"$f":"IF(OR(C13=0,C13=\"\",ISERROR(VLOOKUP(C13,match_teams2,4,FALSE)=TRUE)),\"\",VLOOKUP(C13,match_teams2,4,FALSE))","v":"Linc W"},60.14,null,6,null,null,null,null,null,null,null,{"$f":"IF(T(C13)=\"\",C13*11,CONCATENATE(C13,C13))","v":22}]
[{"$f":"VLOOKUP(B11,eventno,6,FALSE)","v":0},2,null,{"$f":"IF(OR(C14=0,C14=\"\"),\"\",IF(A11=\"F\",HLOOKUP(C14,females2,A12,FALSE),IF(A11=\"M\",HLOOKUP(C14,males2,A12,FALSE),\"\")))","v":""},{"$f":"IF(OR(C14=0,C14=\"\"),\"\",IF(A11=\"F\",HLOOKUP(S14,females2,A12,FALSE),IF(A11=\"M\",HLOOKUP(S14,males2,A12,FALSE),\"\")))","v":""},{"$f":"IF(OR(C14=0,C14=\"\"),\"\",IF(A11=\"F\",HLOOKUP(C14,females2,A12+1,FALSE),IF(A11=\"M\",HLOOKUP(C14,males2,A12+1,FALSE),\"\")))","v":""},{"$f":"IF(OR(C14=0,C14=\"\"),\"\",IF(A11=\"F\",HLOOKUP(S14,females2,A12+1,FALSE),IF(A11=\"M\",HLOOKUP(S14,males2,A12+1,FALSE),\"\")))","v":""},{"$f":"IF(OR(C14=0,C14=\"\",ISERROR(VLOOKUP(C14,match_teams2,4,FALSE)=TRUE)),\"\",VLOOKUP(C14,match_teams2,4,FALSE))","v":""},null,null,0,null,null,null,null,null,null,null,{"$f":"IF(T(C14)=\"\",C14*11,CONCATENATE(C14,C14))","v":0}]
[{"$f":"VLOOKUP(B11,eventno,7,FALSE)","v":47.97},3,null,{"$f":"IF(OR(C15=0,C15=\"\"),\"\",IF(A11=\"F\",HLOOKUP(C15,females2,A12,FALSE),IF(A11=\"M\",HLOOKUP(C15,males2,A12,FALSE),\"\")))","v":""},{"$f":"IF(OR(C15=0,C15=\"\"),\"\",IF(A11=\"F\",HLOOKUP(S15,females2,A12,FALSE),IF(A11=\"M\",HLOOKUP(S15,males2,A12,FALSE),\"\")))","v":""},{"$f":"IF(OR(C15=0,C15=\"\"),\"\",IF(A11=\"F\",HLOOKUP(C15,females2,A12+1,FALSE),IF(A11=\"M\",HLOOKUP(C15,males2,A12+1,FALSE),\"\")))","v":""},{"$f":"IF(OR(C15=0,C15=\"\"),\"\",IF(A11=\"F\",HLOOKUP(S15,females2,A12+1,FALSE),IF(A11=\"M\",HLOOKUP(S15,males2,A12+1,FALSE),\"\")))","v":""},{"$f":"IF(OR(C15=0,C15=\"\",ISERROR(VLOOKUP(C15,match_teams2,4,FALSE)=TRUE)),\"\",VLOOKUP(C15,match_teams2,4,FALSE))","v":""},null,null,0,null,null,null,null,null,null,null,{"$f":"IF(T(C15)=\"\",C15*11,CONCATENATE(C15,C15))","v":0}]
[null,null,null,null,null,null,null,null,null,null,0]
[{"$f":"VLOOKUP(B17,eventno,5,FALSE)","v":"M"},"T39",{"$f":"VLOOKUP(B17,eventno,4,FALSE)","v":"U17M 4 x 100m Relay"},null,null,null,null,{"$f":"IF(A20=\"W\",\"Wind =\",\"\")","v":""},null,{"$f":"IF(OR(I19=0,I19=\"\",A21=0,A21=\"\"),\"\",IF(A19=\"T\",IF(I19<A21,\"LR\",IF(I19=A21,\"LR=\",\"\"))))","v":""},0]
[{"$f":"IF(A17=\"M\",VLOOKUP(B17,males2,15,FALSE),VLOOKUP(B17,females2,15,FALSE))","v":21},"Posn","Bib","Leg 1","Leg 2","Leg 3","Leg 4","Club","Perf",null,{"$error":"#N/A"}]
[{"$f":"LEFT(B17,1)","v":"T"},1,3,{"$f":"IF(OR(C19=0,C19=\"\"),\"\",IF(A17=\"F\",HLOOKUP(C19,females2,A18,FALSE),IF(A17=\"M\",HLOOKUP(C19,males2,A18,FALSE),\"\")))","v":"Dipo Ola"},{"$f":"IF(OR(C19=0,C19=\"\",D19=\"Event Cancelled\",D19=\"No Competitors Declared\"),\"\",IF(A17=\"F\",HLOOKUP(S19,females2,A18,FALSE),IF(A17=\"M\",HLOOKUP(S19,males2,A18,FALSE),\"\")))","v":"Tom Bains"},{"$f":"IF(OR(C19=0,C19=\"\",D19=\"Event Cancelled\",D19=\"No Competitors Declared\"),\"\",IF(A17=\"F\",HLOOKUP(C19,females2,A18+1,FALSE),IF(A17=\"M\",HLOOKUP(C19,males2,A18+1,FALSE),\"\")))","v":"Josh Dyball"},{"$f":"IF(OR(C19=0,C19=\"\",D19=\"Event Cancelled\",D19=\"No Competitors Declared\"),\"\",IF(A17=\"F\",HLOOKUP(S19,females2,A18+1,FALSE),IF(A17=\"M\",HLOOKUP(S19,males2,A18+1,FALSE),\"\")))","v":"Anthony Tierney"},{"$f":"IF(OR(C19=0,C19=\"\",ISERROR(VLOOKUP(C19,match_teams2,4,FALSE)=TRUE)),\"\",VLOOKUP(C19,match_teams2,4,FALSE))","v":"Hallam"},50.41,null,6,null,null,null,null,null,null,null,{"$f":"IF(T(C19)=\"\",C19*11,CONCATENATE(C19,C19))","v":33}]
[{"$f":"VLOOKUP(B17,eventno,6,FALSE)","v":0},2,2,{"$f":"IF(OR(C20=0,C20=\"\"),\"\",IF(A17=\"F\",HLOOKUP(C20,females2,A18,FALSE),IF(A17=\"M\",HLOOKUP(C20,males2,A18,FALSE),\"\")))","v":"Sam Chapman"},{"$f":"IF(OR(C20=0,C20=\"\"),\"\",IF(A17=\"F\",HLOOKUP(S20,females2,A18,FALSE),IF(A17=\"M\",HLOOKUP(S20,males2,A18,FALSE),\"\")))","v":"Josh Holden"},{"$f":"IF(OR(C20=0,C20=\"\"),\"\",IF(A17=\"F\",HLOOKUP(C20,females2,A18+1,FALSE),IF(A17=\"M\",HLOOKUP(C20,males2,A18+1,FALSE),\"\")))","v":"Sam Shuttleworth"},{"$f":"IF(OR(C20=0,C20=\"\"),\"\",IF(A17=\"F\",HLOOKUP(S20,females2,A18+1,FALSE),IF(A17=\"M\",HLOOKUP(S20,males2,A18+1,FALSE),\"\")))","v":"Jack Harper"},{"$f":"IF(OR(C20=0,C20=\"\",ISERROR(VLOOKUP(C20,match_teams2,4,FALSE)=TRUE)),\"\",VLOOKUP(C20,match_teams2,4,FALSE))","v":"Linc W"},50.79,null,5,null,null,null,null,null,null,null,{"$f":"IF(T(C20)=\"\",C20*11,CONCATENATE(C20,C20))","v":22}]
[{"$f":"VLOOKUP(B17,eventno,7,FALSE)","v":41.92},3,1,{"$f":"IF(OR(C21=0,C21=\"\"),\"\",IF(A17=\"F\",HLOOKUP(C21,females2,A18,FALSE),IF(A17=\"M\",HLOOKUP(C21,males2,A18,FALSE),\"\")))","v":"Niall Hunt"},{"$f":"IF(OR(C21=0,C21=\"\"),\"\",IF(A17=\"F\",HLOOKUP(S21,females2,A18,FALSE),IF(A17=\"M\",HLOOKUP(S21,males2,A18,FALSE),\"\")))","v":"Adam Milner"},{"$f":"IF(OR(C21=0,C21=\"\"),\"\",IF(A17=\"F\",HLOOKUP(C21,females2,A18+1,FALSE),IF(A17=\"M\",HLOOKUP(C21,males2,A18+1,FALSE),\"\")))","v":"James Smith"},{"$f":"IF(OR(C21=0,C21=\"\"),\"\",IF(A17=\"F\",HLOOKUP(S21,females2,A18+1,FALSE),IF(A17=\"M\",HLOOKUP(S21,males2,A18+1,FALSE),\"\")))","v":"Ben Aitkin-Porter"},{"$f":"IF(OR(C21=0,C21=\"\",ISERROR(VLOOKUP(C21,match_teams2,4,FALSE)=TRUE)),\"\",VLOOKUP(C21,match_teams2,4,FALSE))","v":"DASH"},57.26,null,4,null,null,null,null,null,null,null,{"$f":"IF(T(C21)=\"\",C21*11,CONCATENATE(C21,C21))","v":11}]
[null,null,null,null,null,null,null,null,null,null,0]
[{"$f":"VLOOKUP(B23,eventno,5,FALSE)","v":"F"},"T40",{"$f":"VLOOKUP(B23,eventno,4,FALSE)","v":"U15G 4 x 100m Relay"},null,null,null,null,{"$f":"IF(A26=\"W\",\"Wind =\",\"\")","v":""},null,{"$f":"IF(OR(I25=0,I25=\"\",A27=0,A27=\"\"),\"\",IF(A25=\"T\",IF(I25<A27,\"LR\",IF(I25=A27,\"LR=\",\"\"))))","v":""},0]
[{"$f":"IF(A23=\"M\",VLOOKUP(B23,males2,15,FALSE),VLOOKUP(B23,females2,15,FALSE))","v":23},"Posn","Bib","Leg 1","Leg 2","Leg 3","Leg 4","Club","Perf",null,{"$error":"#N/A"}]
[{"$f":"LEFT(B23,1)","v":"T"},1,3,{"$f":"IF(OR(C25=0,C25=\"\"),\"\",IF(A23=\"F\",HLOOKUP(C25,females2,A24,FALSE),IF(A23=\"M\",HLOOKUP(C25,males2,A24,FALSE),\"\")))","v":"Elaine Williams"},{"$f":"IF(OR(C25=0,C25=\"\",D25=\"Event Cancelled\",D25=\"No Competitors Declared\"),\"\",IF(A23=\"F\",HLOOKUP(S25,females2,A24,FALSE),IF(A23=\"M\",HLOOKUP(S25,males2,A24,FALSE),\"\")))","v":"Francesca Shaw"},{"$f":"IF(OR(C25=0,C25=\"\",D25=\"Event Cancelled\",D25=\"No Competitors Declared\"),\"\",IF(A23=\"F\",HLOOKUP(C25,females2,A24+1,FALSE),IF(A23=\"M\",HLOOKUP(C25,males2,A24+1,FALSE),\"\")))","v":"Charlotte Mather"},{"$f":"IF(OR(C25=0,C25=\"\",D25=\"Event Cancelled\",D25=\"No Competitors Declared\"),\"\",IF(A23=\"F\",HLOOKUP(S25,females2,A24+1,FALSE),IF(A23=\"M\",HLOOKUP(S25,males2,A24+1,FALSE),\"\")))","v":"Charlotte Slack"},{"$f":"IF(OR(C25=0,C25=\"\",ISERROR(VLOOKUP(C25,match_teams2,4,FALSE)=TRUE)),\"\",VLOOKUP(C25,match_teams2,4,FALSE))","v":"Hallam"},56.13,null,6,null,null,null,null,null,null,null,{"$f":"IF(T(C25)=\"\",C25*11,CONCATENATE(C25,C25))","v":33}]
[{"$f":"VLOOKUP(B23,eventno,6,FALSE)","v":0},2,2,{"$f":"IF(OR(C26=0,C26=\"\"),\"\",IF(A23=\"F\",HLOOKUP(C26,females2,A24,FALSE),IF(A23=\"M\",HLOOKUP(C26,males2,A24,FALSE),\"\")))","v":"Lauren Ward"},{"$f":"IF(OR(C26=0,C26=\"\"),\"\",IF(A23=\"F\",HLOOKUP(S26,females2,A24,FALSE),IF(A23=\"M\",HLOOKUP(S26,males2,A24,FALSE),\"\")))","v":"Alex Jackson"},{"$f":"IF(OR(C26=0,C26=\"\"),\"\",IF(A23=\"F\",HLOOKUP(C26,females2,A24+1,FALSE),IF(A23=\"M\",HLOOKUP(C26,males2,A24+1,FALSE),\"\")))","v":"Georgie Edwards"},{"$f":"IF(OR(C26=0,C26=\"\"),\"\",IF(A23=\"F\",HLOOKUP(S26,females2,A24+1,FALSE),IF(A23=\"M\",HLOOKUP(S26,males2,A24+1,FALSE),\"\")))","v":"Allison Mouzon"},{"$f":"IF(OR(C26=0,C26=\"\",ISERROR(VLOOKUP(C26,match_teams2,4,FALSE)=TRUE)),\"\",VLOOKUP(C26,match_teams2,4,FALSE))","v":"Linc W"},58.24,null,5,null,null,null,null,null,null,null,{"$f":"IF(T(C26)=\"\",C26*11,CONCATENATE(C26,C26))","v":22}]
[{"$f":"VLOOKUP(B23,eventno,7,FALSE)","v":49.13},3,1,{"$f":"IF(OR(C27=0,C27=\"\"),\"\",IF(A23=\"F\",HLOOKUP(C27,females2,A24,FALSE),IF(A23=\"M\",HLOOKUP(C27,males2,A24,FALSE),\"\")))","v":"Emily Miles"},{"$f":"IF(OR(C27=0,C27=\"\"),\"\",IF(A23=\"F\",HLOOKUP(S27,females2,A24,FALSE),IF(A23=\"M\",HLOOKUP(S27,males2,A24,FALSE),\"\")))","v":"Catriona Mckell"},{"$f":"IF(OR(C27=0,C27=\"\"),\"\",IF(A23=\"F\",HLOOKUP(C27,females2,A24+1,FALSE),IF(A23=\"M\",HLOOKUP(C27,males2,A24+1,FALSE),\"\")))","v":"Emma Clarkson"},{"$f":"IF(OR(C27=0,C27=\"\"),\"\",IF(A23=\"F\",HLOOKUP(S27,females2,A24+1,FALSE),IF(A23=\"M\",HLOOKUP(S27,males2,A24+1,FALSE),\"\")))","v":"Eleanor Rawson"},{"$f":"IF(OR(C27=0,C27=\"\",ISERROR(VLOOKUP(C27,match_teams2,4,FALSE)=TRUE)),\"\",VLOOKUP(C27,match_teams2,4,FALSE))","v":"DASH"},70.03,null,4,null,null,null,null,null,null,null,{"$f":"IF(T(C27)=\"\",C27*11,CONCATENATE(C27,C27))","v":11}]
[null,null,null,null,null,null,null,null,null,null,0]
[{"$f":"VLOOKUP(B29,eventno,5,FALSE)","v":"M"},"T41",{"$f":"VLOOKUP(B29,eventno,4,FALSE)","v":"U15B 4 x 100m Relay"},null,null,null,null,{"$f":"IF(A32=\"W\",\"Wind =\",\"\")","v":""},null,{"$f":"IF(OR(I31=0,I31=\"\",A33=0,A33=\"\"),\"\",IF(A31=\"T\",IF(I31<A33,\"LR\",IF(I31=A33,\"LR=\",\"\"))))","v":""},0]
[{"$f":"IF(A29=\"M\",VLOOKUP(B29,males2,15,FALSE),VLOOKUP(B29,females2,15,FALSE))","v":23},"Posn","Bib","Leg 1","Leg 2","Leg 3","Leg 4","Club","Perf",null,{"$error":"#N/A"}]
[{"$f":"LEFT(B29,1)","v":"T"},1,3,{"$f":"IF(OR(C31=0,C31=\"\"),\"\",IF(A29=\"F\",HLOOKUP(C31,females2,A30,FALSE),IF(A29=\"M\",HLOOKUP(C31,males2,A30,FALSE),\"\")))","v":"Sam Lawford"},{"$f":"IF(OR(C31=0,C31=\"\",D31=\"Event Cancelled\",D31=\"No Competitors Declared\"),\"\",IF(A29=\"F\",HLOOKUP(S31,females2,A30,FALSE),IF(A29=\"M\",HLOOKUP(S31,males2,A30,FALSE),\"\")))","v":"James Lee"},{"$f":"IF(OR(C31=0,C31=\"\",D31=\"Event Cancelled\",D31=\"No Competitors Declared\"),\"\",IF(A29=\"F\",HLOOKUP(C31,females2,A30+1,FALSE),IF(A29=\"M\",HLOOKUP(C31,males2,A30+1,FALSE),\"\")))","v":"Sam Draycott"},{"$f":"IF(OR(C31=0,C31=\"\",D31=\"Event Cancelled\",D31=\"No Competitors Declared\"),\"\",IF(A29=\"F\",HLOOKUP(S31,females2,A30+1,FALSE),IF(A29=\"M\",HLOOKUP(S31,males2,A30+1,FALSE),\"\")))","v":"Elliott Payne"},{"$f":"IF(OR(C31=0,C31=\"\",ISERROR(VLOOKUP(C31,match_teams2,4,FALSE)=TRUE)),\"\",VLOOKUP(C31,match_teams2,4,FALSE))","v":"Hallam"},53.34,null,6,null,null,null,null,null,null,null,{"$f":"IF(T(C31)=\"\",C31*11,CONCATENATE(C31,C31))","v":33}]
[{"$f":"VLOOKUP(B29,eventno,6,FALSE)","v":0},2,2,{"$f":"IF(OR(C32=0,C32=\"\"),\"\",IF(A29=\"F\",HLOOKUP(C32,females2,A30,FALSE),IF(A29=\"M\",HLOOKUP(C32,males2,A30,FALSE),\"\")))","v":"Oliver Fluck"},{"$f":"IF(OR(C32=0,C32=\"\"),\"\",IF(A29=\"F\",HLOOKUP(S32,females2,A30,FALSE),IF(A29=\"M\",HLOOKUP(S32,males2,A30,FALSE),\"\")))","v":"Michael Harper"},{"$f":"IF(OR(C32=0,C32=\"\"),\"\",IF(A29=\"F\",HLOOKUP(C32,females2,A30+1,FALSE),IF(A29=\"M\",HLOOKUP(C32,males2,A30+1,FALSE),\"\")))","v":"Daniel Flemming"},{"$f":"IF(OR(C32=0,C32=\"\"),\"\",IF(A29=\"F\",HLOOKUP(S32,females2,A30+1,FALSE),IF(A29=\"M\",HLOOKUP(S32,males2,A30+1,FALSE),\"\")))","v":"Harry Cain"},{"$f":"IF(OR(C32=0,C32=\"\",ISERROR(VLOOKUP(C32,match_teams2,4,FALSE)=TRUE)),\"\",VLOOKUP(C32,match_teams2,4,FALSE))","v":"Linc W"},53.35,null,5,null,null,null,null,null,null,null,{"$f":"IF(T(C32)=\"\",C32*11,CONCATENATE(C32,C32))","v":22}]
[{"$f":"VLOOKUP(B29,eventno,7,FALSE)","v":44.8},3,1,{"$f":"IF(OR(C33=0,C33=\"\"),\"\",IF(A29=\"F\",HLOOKUP(C33,females2,A30,FALSE),IF(A29=\"M\",HLOOKUP(C33,males2,A30,FALSE),\"\")))","v":"Josh Groggan"},{"$f":"IF(OR(C33=0,C33=\"\"),\"\",IF(A29=\"F\",HLOOKUP(S33,females2,A30,FALSE),IF(A29=\"M\",HLOOKUP(S33,males2,A30,FALSE),\"\")))","v":"Chris Li"},{"$f":"IF(OR(C33=0,C33=\"\"),\"\",IF(A29=\"F\",HLOOKUP(C33,females2,A30+1,FALSE),IF(A29=\"M\",HLOOKUP(C33,males2,A30+1,FALSE),\"\")))","v":"Toby Leverette"},{"$f":"IF(OR(C33=0,C33=\"\"),\"\",IF(A29=\"F\",HLOOKUP(S33,females2,A30+1,FALSE),IF(A29=\"M\",HLOOKUP(S33,males2,A30+1,FALSE),\"\")))","v":"George Collins"},{"$f":"IF(OR(C33=0,C33=\"\",ISERROR(VLOOKUP(C33,match_teams2,4,FALSE)=TRUE)),\"\",VLOOKUP(C33,match_teams2,4,FALSE))","v":"DASH"},59.36,null,4,null,null,null,null,null,null,null,{"$f":"IF(T(C33)=\"\",C33*11,CONCATENATE(C33,C33))","v":11}]
[null,null,null,null,null,null,null,null,null,null,0]
[{"$f":"VLOOKUP(B35,eventno,5,FALSE)","v":"F"},"T42",{"$f":"VLOOKUP(B35,eventno,4,FALSE)","v":"U13G 4 x 100m Relay"},null,null,null,null,{"$f":"IF(A38=\"W\",\"Wind =\",\"\")","v":""},null,{"$f":"IF(OR(I37=0,I37=\"\",A39=0,A39=\"\"),\"\",IF(A37=\"T\",IF(I37<A39,\"LR\",IF(I37=A39,\"LR=\",\"\"))))","v":""},0]
[{"$f":"IF(A35=\"M\",VLOOKUP(B35,males2,15,FALSE),VLOOKUP(B35,females2,15,FALSE))","v":25},"Posn","Bib","Leg 1","Leg 2","Leg 3","Leg 4","Club","Perf",null,{"$error":"#N/A"}]
[{"$f":"LEFT(B35,1)","v":"T"},1,3,{"$f":"IF(OR(C37=0,C37=\"\"),\"\",IF(A35=\"F\",HLOOKUP(C37,females2,A36,FALSE),IF(A35=\"M\",HLOOKUP(C37,males2,A36,FALSE),\"\")))","v":"Hannah Bellamy"},{"$f":"IF(OR(C37=0,C37=\"\",D37=\"Event Cancelled\",D37=\"No Competitors Declared\"),\"\",IF(A35=\"F\",HLOOKUP(S37,females2,A36,FALSE),IF(A35=\"M\",HLOOKUP(S37,males2,A36,FALSE),\"\")))","v":"Gabby Craft"},{"$f":"IF(OR(C37=0,C37=\"\",D37=\"Event Cancelled\",D37=\"No Competitors Declared\"),\"\",IF(A35=\"F\",HLOOKUP(C37,females2,A36+1,FALSE),IF(A35=\"M\",HLOOKUP(C37,males2,A36+1,FALSE),\"\")))","v":"Imani Wilson"},{"$f":"IF(OR(C37=0,C37=\"\",D37=\"Event Cancelled\",D37=\"No Competitors Declared\"),\"\",IF(A35=\"F\",HLOOKUP(S37,females2,A36+1,FALSE),IF(A35=\"M\",HLOOKUP(S37,males2,A36+1,FALSE),\"\")))","v":"Caitlin Hawley"},{"$f":"IF(OR(C37=0,C37=\"\",ISERROR(VLOOKUP(C37,match_teams2,4,FALSE)=TRUE)),\"\",VLOOKUP(C37,match_teams2,4,FALSE))","v":"Hallam"},61.92,null,6,null,null,null,null,null,null,null,{"$f":"IF(T(C37)=\"\",C37*11,CONCATENATE(C37,C37))","v":33}]
[{"$f":"VLOOKUP(B35,eventno,6,FALSE)","v":0},2,1,{"$f":"IF(OR(C38=0,C38=\"\"),\"\",IF(A35=\"F\",HLOOKUP(C38,females2,A36,FALSE),IF(A35=\"M\",HLOOKUP(C38,males2,A36,FALSE),\"\")))","v":"Libby Beach"},{"$f":"IF(OR(C38=0,C38=\"\"),\"\",IF(A35=\"F\",HLOOKUP(S38,females2,A36,FALSE),IF(A35=\"M\",HLOOKUP(S38,males2,A36,FALSE),\"\")))","v":"Dayna Downs"},{"$f":"IF(OR(C38=0,C38=\"\"),\"\",IF(A35=\"F\",HLOOKUP(C38,females2,A36+1,FALSE),IF(A35=\"M\",HLOOKUP(C38,males2,A36+1,FALSE),\"\")))","v":"Hope Leverette"},{"$f":"IF(OR(C38=0,C38=\"\"),\"\",IF(A35=\"F\",HLOOKUP(S38,females2,A36+1,FALSE),IF(A35=\"M\",HLOOKUP(S38,males2,A36+1,FALSE),\"\")))","v":"Morgan Swales"},{"$f":"IF(OR(C38=0,C38=\"\",ISERROR(VLOOKUP(C38,match_teams2,4,FALSE)=TRUE)),\"\",VLOOKUP(C38,match_teams2,4,FALSE))","v":"DASH"},63.11,null,5,null,null,null,null,null,null,null,{"$f":"IF(T(C38)=\"\",C38*11,CONCATENATE(C38,C38))","v":11}]
[{"$f":"VLOOKUP(B35,eventno,7,FALSE)","v":52.1},3,2,{"$f":"IF(OR(C39=0,C39=\"\"),\"\",IF(A35=\"F\",HLOOKUP(C39,females2,A36,FALSE),IF(A35=\"M\",HLOOKUP(C39,males2,A36,FALSE),\"\")))","v":"Holly Horton"},{"$f":"IF(OR(C39=0,C39=\"\"),\"\",IF(A35=\"F\",HLOOKUP(S39,females2,A36,FALSE),IF(A35=\"M\",HLOOKUP(S39,males2,A36,FALSE),\"\")))","v":"Rhiannon Martin"},{"$f":"IF(OR(C39=0,C39=\"\"),\"\",IF(A35=\"F\",HLOOKUP(C39,females2,A36+1,FALSE),IF(A35=\"M\",HLOOKUP(C39,males2,A36+1,FALSE),\"\")))","v":"Megan Brockie"},{"$f":"IF(OR(C39=0,C39=\"\"),\"\",IF(A35=\"F\",HLOOKUP(S39,females2,A36+1,FALSE),IF(A35=\"M\",HLOOKUP(S39,males2,A36+1,FALSE),\"\")))","v":"Georgina Campion"},{"$f":"IF(OR(C39=0,C39=\"\",ISERROR(VLOOKUP(C39,match_teams2,4,FALSE)=TRUE)),\"\",VLOOKUP(C39,match_teams2,4,FALSE))","v":"Linc W"},63.73,null,4,null,null,null,null,null,null,null,{"$f":"IF(T(C39)=\"\",C39*11,CONCATENATE(C39,C39))","v":22}]
[null,null,null,null,null,null,null,null,null,null,0]
[{"$f":"VLOOKUP(B41,eventno,5,FALSE)","v":"M"},"T43",{"$f":"VLOOKUP(B41,eventno,4,FALSE)","v":"U13B 4 x 100m Relay"},null,null,null,null,{"$f":"IF(A44=\"W\",\"Wind =\",\"\")","v":""},null,{"$f":"IF(OR(I43=0,I43=\"\",A45=0,A45=\"\"),\"\",IF(A43=\"T\",IF(I43<A45,\"LR\",IF(I43=A45,\"LR=\",\"\"))))","v":""},0]
[{"$f":"IF(A41=\"M\",VLOOKUP(B41,males2,15,FALSE),VLOOKUP(B41,females2,15,FALSE))","v":25},"Posn","Bib","Leg 1","Leg 2","Leg 3","Leg 4","Club","Perf",null,{"$error":"#N/A"}]
[{"$f":"LEFT(B41,1)","v":"T"},1,3,{"$f":"IF(OR(C43=0,C43=\"\"),\"\",IF(A41=\"F\",HLOOKUP(C43,females2,A42,FALSE),IF(A41=\"M\",HLOOKUP(C43,males2,A42,FALSE),\"\")))","v":"Christian Mills"},{"$f":"IF(OR(C43=0,C43=\"\",D43=\"Event Cancelled\",D43=\"No Competitors Declared\"),\"\",IF(A41=\"F\",HLOOKUP(S43,females2,A42,FALSE),IF(A41=\"M\",HLOOKUP(S43,males2,A42,FALSE),\"\")))","v":"Jake Steade"},{"$f":"IF(OR(C43=0,C43=\"\",D43=\"Event Cancelled\",D43=\"No Competitors Declared\"),\"\",IF(A41=\"F\",HLOOKUP(C43,females2,A42+1,FALSE),IF(A41=\"M\",HLOOKUP(C43,males2,A42+1,FALSE),\"\")))","v":"Jacob Worthington"},{"$f":"IF(OR(C43=0,C43=\"\",D43=\"Event Cancelled\",D43=\"No Competitors Declared\"),\"\",IF(A41=\"F\",HLOOKUP(S43,females2,A42+1,FALSE),IF(A41=\"M\",HLOOKUP(S43,males2,A42+1,FALSE),\"\")))","v":"Malik Miller"},{"$f":"IF(OR(C43=0,C43=\"\",ISERROR(VLOOKUP(C43,match_teams2,4,FALSE)=TRUE)),\"\",VLOOKUP(C43,match_teams2,4,FALSE))","v":"Hallam"},63.48,null,{"$f":"IF(OR(B43=0,B43=\"\",C43=0,C43=\"\",I43=0,I43=\"\",LEFT(I43,1)=\"D\"),0,VLOOKUP(B43,points,2,FALSE))","v":6},null,null,null,null,null,null,null,{"$f":"IF(T(C43)=\"\",C43*11,CONCATENATE(C43,C43))","v":33}]
[{"$f":"VLOOKUP(B41,eventno,6,FALSE)","v":0},2,null,{"$f":"IF(OR(C44=0,C44=\"\"),\"\",IF(A41=\"F\",HLOOKUP(C44,females2,A42,FALSE),IF(A41=\"M\",HLOOKUP(C44,males2,A42,FALSE),\"\")))","v":""},{"$f":"IF(OR(C44=0,C44=\"\"),\"\",IF(A41=\"F\",HLOOKUP(S44,females2,A42,FALSE),IF(A41=\"M\",HLOOKUP(S44,males2,A42,FALSE),\"\")))","v":""},{"$f":"IF(OR(C44=0,C44=\"\"),\"\",IF(A41=\"F\",HLOOKUP(C44,females2,A42+1,FALSE),IF(A41=\"M\",HLOOKUP(C44,males2,A42+1,FALSE),\"\")))","v":""},{"$f":"IF(OR(C44=0,C44=\"\"),\"\",IF(A41=\"F\",HLOOKUP(S44,females2,A42+1,FALSE),IF(A41=\"M\",HLOOKUP(S44,males2,A42+1,FALSE),\"\")))","v":""},{"$f":"IF(OR(C44=0,C44=\"\",ISERROR(VLOOKUP(C44,match_teams2,4,FALSE)=TRUE)),\"\",VLOOKUP(C44,match_teams2,4,FALSE))","v":""},null,null,0,null,null,null,null,null,null,null,{"$f":"IF(T(C44)=\"\",C44*11,CONCATENATE(C44,C44))","v":0}]
[{"$f":"VLOOKUP(B41,eventno,7,FALSE)","v":49.9},3,null,{"$f":"IF(OR(C45=0,C45=\"\"),\"\",IF(A41=\"F\",HLOOKUP(C45,females2,A42,FALSE),IF(A41=\"M\",HLOOKUP(C45,males2,A42,FALSE),\"\")))","v":""},{"$f":"IF(OR(C45=0,C45=\"\"),\"\",IF(A41=\"F\",HLOOKUP(S45,females2,A42,FALSE),IF(A41=\"M\",HLOOKUP(S45,males2,A42,FALSE),\"\")))","v":""},{"$f":"IF(OR(C45=0,C45=\"\"),\"\",IF(A41=\"F\",HLOOKUP(C45,females2,A42+1,FALSE),IF(A41=\"M\",HLOOKUP(C45,males2,A42+1,FALSE),\"\")))","v":""},{"$f":"IF(OR(C45=0,C45=\"\"),\"\",IF(A41=\"F\",HLOOKUP(S45,females2,A42+1,FALSE),IF(A41=\"M\",HLOOKUP(S45,males2,A42+1,FALSE),\"\")))","v":""},{"$f":"IF(OR(C45=0,C45=\"\",ISERROR(VLOOKUP(C45,match_teams2,4,FALSE)=TRUE)),\"\",VLOOKUP(C45,match_teams2,4,FALSE))","v":""},null,null,0,null,null,null,null,null,null,null,{"$f":"IF(T(C45)=\"\",C45*11,CONCATENATE(C45,C45))","v":0}]
[null,null,null,null,null,null,null,null,null,null,0]
[{"$f":"VLOOKUP(B47,eventno,5,FALSE)","v":"F"},"T44",{"$f":"VLOOKUP(B47,eventno,4,FALSE)","v":"U17W 4 x 300m Relay"},null,null,null,null,{"$f":"IF(A50=\"W\",\"Wind =\",\"\")","v":""},null,{"$f":"IF(OR(I49=0,I49=\"\",A51=0,A51=\"\"),\"\",IF(A49=\"T\",IF(I49<A51,\"LR\",IF(I49=A51,\"LR=\",\"\"))))","v":""},0]
[{"$f":"IF(A47=\"M\",VLOOKUP(B47,males2,15,FALSE),VLOOKUP(B47,females2,15,FALSE))","v":30},"Posn","Bib","Leg 1","Leg 2","Leg 3","Leg 4","Club","Perf",null,{"$error":"#N/A"}]
[{"$f":"LEFT(B47,1)","v":"T"},1,3,{"$f":"IF(OR(C49=0,C49=\"\"),\"\",IF(A47=\"F\",HLOOKUP(C49,females2,A48,FALSE),IF(A47=\"M\",HLOOKUP(C49,males2,A48,FALSE),\"\")))","v":"-"},{"$f":"IF(OR(C49=0,C49=\"\",D49=\"Event Cancelled\",D49=\"No Competitors Declared\"),\"\",IF(A47=\"F\",HLOOKUP(S49,females2,A48,FALSE),IF(A47=\"M\",HLOOKUP(S49,males2,A48,FALSE),\"\")))","v":"-"},{"$f":"IF(OR(C49=0,C49=\"\",D49=\"Event Cancelled\",D49=\"No Competitors Declared\"),\"\",IF(A47=\"F\",HLOOKUP(C49,females2,A48+1,FALSE),IF(A47=\"M\",HLOOKUP(C49,males2,A48+1,FALSE),\"\")))","v":"-"},{"$f":"IF(OR(C49=0,C49=\"\",D49=\"Event Cancelled\",D49=\"No Competitors Declared\"),\"\",IF(A47=\"F\",HLOOKUP(S49,females2,A48+1,FALSE),IF(A47=\"M\",HLOOKUP(S49,males2,A48+1,FALSE),\"\")))","v":"-"},{"$f":"IF(OR(C49=0,C49=\"\",ISERROR(VLOOKUP(C49,match_teams2,4,FALSE)=TRUE)),\"\",VLOOKUP(C49,match_teams2,4,FALSE))","v":"Hallam"},"00:03:14.790",null,6,null,null,null,null,null,null,null,{"$f":"IF(T(C49)=\"\",C49*11,CONCATENATE(C49,C49))","v":33}]
[{"$f":"VLOOKUP(B47,eventno,6,FALSE)","v":0},2,null,{"$f":"IF(OR(C50=0,C50=\"\"),\"\",IF(A47=\"F\",HLOOKUP(C50,females2,A48,FALSE),IF(A47=\"M\",HLOOKUP(C50,males2,A48,FALSE),\"\")))","v":""},{"$f":"IF(OR(C50=0,C50=\"\"),\"\",IF(A47=\"F\",HLOOKUP(S50,females2,A48,FALSE),IF(A47=\"M\",HLOOKUP(S50,males2,A48,FALSE),\"\")))","v":""},{"$f":"IF(OR(C50=0,C50=\"\"),\"\",IF(A47=\"F\",HLOOKUP(C50,females2,A48+1,FALSE),IF(A47=\"M\",HLOOKUP(C50,males2,A48+1,FALSE),\"\")))","v":""},{"$f":"IF(OR(C50=0,C50=\"\"),\"\",IF(A47=\"F\",HLOOKUP(S50,females2,A48+1,FALSE),IF(A47=\"M\",HLOOKUP(S50,males2,A48+1,FALSE),\"\")))","v":""},{"$f":"IF(OR(C50=0,C50=\"\",ISERROR(VLOOKUP(C50,match_teams2,4,FALSE)=TRUE)),\"\",VLOOKUP(C50,match_teams2,4,FALSE))","v":""},null,null,0,null,null,null,null,null,null,null,{"$f":"IF(T(C50)=\"\",C50*11,CONCATENATE(C50,C50))","v":0}]
[{"$f":"VLOOKUP(B47,eventno,7,FALSE)","v":1.8877314814814816E-3},3,null,{"$f":"IF(OR(C51=0,C51=\"\"),\"\",IF(A47=\"F\",HLOOKUP(C51,females2,A48,FALSE),IF(A47=\"M\",HLOOKUP(C51,males2,A48,FALSE),\"\")))","v":""},{"$f":"IF(OR(C51=0,C51=\"\"),\"\",IF(A47=\"F\",HLOOKUP(S51,females2,A48,FALSE),IF(A47=\"M\",HLOOKUP(S51,males2,A48,FALSE),\"\")))","v":""},{"$f":"IF(OR(C51=0,C51=\"\"),\"\",IF(A47=\"F\",HLOOKUP(C51,females2,A48+1,FALSE),IF(A47=\"M\",HLOOKUP(C51,males2,A48+1,FALSE),\"\")))","v":""},{"$f":"IF(OR(C51=0,C51=\"\"),\"\",IF(A47=\"F\",HLOOKUP(S51,females2,A48+1,FALSE),IF(A47=\"M\",HLOOKUP(S51,males2,A48+1,FALSE),\"\")))","v":""},{"$f":"IF(OR(C51=0,C51=\"\",ISERROR(VLOOKUP(C51,match_teams2,4,FALSE)=TRUE)),\"\",VLOOKUP(C51,match_teams2,4,FALSE))","v":""},null,null,0,null,null,null,null,null,null,null,{"$f":"IF(T(C51)=\"\",C51*11,CONCATENATE(C51,C51))","v":0}]
[null,null,null,null,null,null,null,null,null,null,0]
[{"$f":"VLOOKUP(B53,eventno,5,FALSE)","v":"M"},"T46",{"$f":"VLOOKUP(B53,eventno,4,FALSE)","v":"U15B 4 x 400m Relay"},null,null,null,null,{"$f":"IF(A56=\"W\",\"Wind =\",\"\")","v":""},null,{"$f":"IF(OR(I55=0,I55=\"\",A57=0,A57=\"\"),\"\",IF(A55=\"T\",IF(I55<A57,\"LR\",IF(I55=A57,\"LR=\",\"\"))))","v":""},0]
[{"$f":"IF(A53=\"M\",VLOOKUP(B53,males2,15,FALSE),VLOOKUP(B53,females2,15,FALSE))","v":28},"Posn","Bib","Leg 1","Leg 2","Leg 3","Leg 4","Club","Perf",null,{"$error":"#N/A"}]
[{"$f":"LEFT(B53,1)","v":"T"},1,3,{"$f":"IF(OR(C55=0,C55=\"\"),\"\",IF(A53=\"F\",HLOOKUP(C55,females2,A54,FALSE),IF(A53=\"M\",HLOOKUP(C55,males2,A54,FALSE),\"\")))","v":"Joe Hutcheson"},{"$f":"IF(OR(C55=0,C55=\"\",D55=\"Event Cancelled\",D55=\"No Competitors Declared\"),\"\",IF(A53=\"F\",HLOOKUP(S55,females2,A54,FALSE),IF(A53=\"M\",HLOOKUP(S55,males2,A54,FALSE),\"\")))","v":"Aiden Johnson"},{"$f":"IF(OR(C55=0,C55=\"\",D55=\"Event Cancelled\",D55=\"No Competitors Declared\"),\"\",IF(A53=\"F\",HLOOKUP(C55,females2,A54+1,FALSE),IF(A53=\"M\",HLOOKUP(C55,males2,A54+1,FALSE),\"\")))","v":"Jack Jones"},{"$f":"IF(OR(C55=0,C55=\"\",D55=\"Event Cancelled\",D55=\"No Competitors Declared\"),\"\",IF(A53=\"F\",HLOOKUP(S55,females2,A54+1,FALSE),IF(A53=\"M\",HLOOKUP(S55,males2,A54+1,FALSE),\"\")))","v":"Thomas Hughes"},{"$f":"IF(OR(C55=0,C55=\"\",ISERROR(VLOOKUP(C55,match_teams2,4,FALSE)=TRUE)),\"\",VLOOKUP(C55,match_teams2,4,FALSE))","v":"Hallam"},"00:04:16.710",null,6,null,null,null,null,null,null,null,{"$f":"IF(T(C55)=\"\",C55*11,CONCATENATE(C55,C55))","v":33}]
[{"$f":"VLOOKUP(B53,eventno,6,FALSE)","v":0},2,2,{"$f":"IF(OR(C56=0,C56=\"\"),\"\",IF(A53=\"F\",HLOOKUP(C56,females2,A54,FALSE),IF(A53=\"M\",HLOOKUP(C56,males2,A54,FALSE),\"\")))","v":"Dion Harrison"},{"$f":"IF(OR(C56=0,C56=\"\"),\"\",IF(A53=\"F\",HLOOKUP(S56,females2,A54,FALSE),IF(A53=\"M\",HLOOKUP(S56,males2,A54,FALSE),\"\")))","v":"Joe Shuttleworth"},{"$f":"IF(OR(C56=0,C56=\"\"),\"\",IF(A53=\"F\",HLOOKUP(C56,females2,A54+1,FALSE),IF(A53=\"M\",HLOOKUP(C56,males2,A54+1,FALSE),\"\")))","v":"Declan Dickinson"},{"$f":"IF(OR(C56=0,C56=\"\"),\"\",IF(A53=\"F\",HLOOKUP(S56,females2,A54+1,FALSE),IF(A53=\"M\",HLOOKUP(S56,males2,A54+1,FALSE),\"\")))","v":"Daniel Skinner"},{"$f":"IF(OR(C56=0,C56=\"\",ISERROR(VLOOKUP(C56,match_teams2,4,FALSE)=TRUE)),\"\",VLOOKUP(C56,match_teams2,4,FALSE))","v":"Linc W"},"00:04:26.480",null,5,null,null,null,null,null,null,null,{"$f":"IF(T(C56)=\"\",C56*11,CONCATENATE(C56,C56))","v":22}]
[{"$f":"VLOOKUP(B53,eventno,7,FALSE)","v":2.4849537037037036E-3},3,null,{"$f":"IF(OR(C57=0,C57=\"\"),\"\",IF(A53=\"F\",HLOOKUP(C57,females2,A54,FALSE),IF(A53=\"M\",HLOOKUP(C57,males2,A54,FALSE),\"\")))","v":""},{"$f":"IF(OR(C57=0,C57=\"\"),\"\",IF(A53=\"F\",HLOOKUP(S57,females2,A54,FALSE),IF(A53=\"M\",HLOOKUP(S57,males2,A54,FALSE),\"\")))","v":""},{"$f":"IF(OR(C57=0,C57=\"\"),\"\",IF(A53=\"F\",HLOOKUP(C57,females2,A54+1,FALSE),IF(A53=\"M\",HLOOKUP(C57,males2,A54+1,FALSE),\"\")))","v":""},{"$f":"IF(OR(C57=0,C57=\"\"),\"\",IF(A53=\"F\",HLOOKUP(S57,females2,A54+1,FALSE),IF(A53=\"M\",HLOOKUP(S57,males2,A54+1,FALSE),\"\")))","v":""},{"$f":"IF(OR(C57=0,C57=\"\",ISERROR(VLOOKUP(C57,match_teams2,4,FALSE)=TRUE)),\"\",VLOOKUP(C57,match_teams2,4,FALSE))","v":""},null,null,0,null,null,null,null,null,null,null,{"$f":"IF(T(C57)=\"\",C57*11,CONCATENATE(C57,C57))","v":0}]
[null,null,null,null,null,null,null,null,null,null,0]
[{"$f":"VLOOKUP(B59,eventno,5,FALSE)","v":"M"},"T47",{"$f":"VLOOKUP(B59,eventno,4,FALSE)","v":"U17M 4 x 400m Relay"},null,null,null,null,{"$f":"IF(A62=\"W\",\"Wind =\",\"\")","v":""},null,{"$f":"IF(OR(I61=0,I61=\"\",A63=0,A63=\"\"),\"\",IF(A61=\"T\",IF(I61<A63,\"LR\",IF(I61=A63,\"LR=\",\"\"))))","v":""},0]
[{"$f":"IF(A59=\"M\",VLOOKUP(B59,males2,15,FALSE),VLOOKUP(B59,females2,15,FALSE))","v":30},"Posn","Bib","Leg 1","Leg 2","Leg 3","Leg 4","Club","Perf",null,{"$error":"#N/A"}]
[{"$f":"LEFT(B59,1)","v":"T"},1,2,{"$f":"IF(OR(C61=0,C61=\"\"),\"\",IF(A59=\"F\",HLOOKUP(C61,females2,A60,FALSE),IF(A59=\"M\",HLOOKUP(C61,males2,A60,FALSE),\"\")))","v":"Richard Brine"},{"$f":"IF(OR(C61=0,C61=\"\",D61=\"Event Cancelled\",D61=\"No Competitors Declared\"),\"\",IF(A59=\"F\",HLOOKUP(S61,females2,A60,FALSE),IF(A59=\"M\",HLOOKUP(S61,males2,A60,FALSE),\"\")))","v":"Dylan Love "},{"$f":"IF(OR(C61=0,C61=\"\",D61=\"Event Cancelled\",D61=\"No Competitors Declared\"),\"\",IF(A59=\"F\",HLOOKUP(C61,females2,A60+1,FALSE),IF(A59=\"M\",HLOOKUP(C61,males2,A60+1,FALSE),\"\")))","v":"Joe Wilkinson"},{"$f":"IF(OR(C61=0,C61=\"\",D61=\"Event Cancelled\",D61=\"No Competitors Declared\"),\"\",IF(A59=\"F\",HLOOKUP(S61,females2,A60+1,FALSE),IF(A59=\"M\",HLOOKUP(S61,males2,A60+1,FALSE),\"\")))","v":"Kyle Nicholson"},{"$f":"IF(OR(C61=0,C61=\"\",ISERROR(VLOOKUP(C61,match_teams2,4,FALSE)=TRUE)),\"\",VLOOKUP(C61,match_teams2,4,FALSE))","v":"Linc W"},"00:03:56.270",null,6,null,null,null,null,null,null,null,{"$f":"IF(T(C61)=\"\",C61*11,CONCATENATE(C61,C61))","v":22}]
[{"$f":"VLOOKUP(B59,eventno,6,FALSE)","v":0},2,null,{"$f":"IF(OR(C62=0,C62=\"\"),\"\",IF(A59=\"F\",HLOOKUP(C62,females2,A60,FALSE),IF(A59=\"M\",HLOOKUP(C62,males2,A60,FALSE),\"\")))","v":""},{"$f":"IF(OR(C62=0,C62=\"\"),\"\",IF(A59=\"F\",HLOOKUP(S62,females2,A60,FALSE),IF(A59=\"M\",HLOOKUP(S62,males2,A60,FALSE),\"\")))","v":""},{"$f":"IF(OR(C62=0,C62=\"\"),\"\",IF(A59=\"F\",HLOOKUP(C62,females2,A60+1,FALSE),IF(A59=\"M\",HLOOKUP(C62,males2,A60+1,FALSE),\"\")))","v":""},{"$f":"IF(OR(C62=0,C62=\"\"),\"\",IF(A59=\"F\",HLOOKUP(S62,females2,A60+1,FALSE),IF(A59=\"M\",HLOOKUP(S62,males2,A60+1,FALSE),\"\")))","v":""},{"$f":"IF(OR(C62=0,C62=\"\",ISERROR(VLOOKUP(C62,match_teams2,4,FALSE)=TRUE)),\"\",VLOOKUP(C62,match_teams2,4,FALSE))","v":""},null,null,0,null,null,null,null,null,null,null,{"$f":"IF(T(C62)=\"\",C62*11,CONCATENATE(C62,C62))","v":0}]
[{"$f":"VLOOKUP(B59,eventno,7,FALSE)","v":2.3459490740740741E-3},3,null,{"$f":"IF(OR(C63=0,C63=\"\"),\"\",IF(A59=\"F\",HLOOKUP(C63,females2,A60,FALSE),IF(A59=\"M\",HLOOKUP(C63,males2,A60,FALSE),\"\")))","v":""},{"$f":"IF(OR(C63=0,C63=\"\"),\"\",IF(A59=\"F\",HLOOKUP(S63,females2,A60,FALSE),IF(A59=\"M\",HLOOKUP(S63,males2,A60,FALSE),\"\")))","v":""},{"$f":"IF(OR(C63=0,C63=\"\"),\"\",IF(A59=\"F\",HLOOKUP(C63,females2,A60+1,FALSE),IF(A59=\"M\",HLOOKUP(C63,males2,A60+1,FALSE),\"\")))","v":""},{"$f":"IF(OR(C63=0,C63=\"\"),\"\",IF(A59=\"F\",HLOOKUP(S63,females2,A60+1,FALSE),IF(A59=\"M\",HLOOKUP(S63,males2,A60+1,FALSE),\"\")))","v":""},{"$f":"IF(OR(C63=0,C63=\"\",ISERROR(VLOOKUP(C63,match_teams2,4,FALSE)=TRUE)),\"\",VLOOKUP(C63,match_teams2,4,FALSE))","v":""},null,null,0,null,null,null,null,null,null,null,{"$f":"IF(T(C63)=\"\",C63*11,CONCATENATE(C63,C63))","v":0}]

{"sheet":"Boys (Match 2)","index":9,"n_rows":78,"n_cols":78,"rows_kept":78,"cut":false,"hidden":false,"merged":[[1,67,1,68],[1,69,1,70],[1,71,1,72],[0,2,0,6],[0,7,0,11],[0,22,0,26],[0,27,0,31],[0,42,0,46],[0,47,0,51]]}
[null,"TRACK","FIELD",null,null,null,null,"RELAY",null,null,null,null,null,null,null,null,null,null,null,null,null,"TRACK","FIELD",null,null,null,null,"RELAY",null,null,null,null,null,null,null,null,null,null,null,null,null,"TRACK","FIELD",null,null,null,null,"RELAY"]
[null,{"$f":"MatchDay!I11","v":"2DASH"},"Sprint H","800m","100m","3000m","400mH","200m","1500m","400m","1500m S/C","4x100m R","4x400m R","Long J","Triple J","High J","Pole V","Shot","Discus","Javelin","Hammer",{"$f":"MatchDay!I13","v":"Lincoln Wellington"},"Sprint H","800m","100m","3000m","400mH","200m","1500m","400m","1500m S/C","4x100m R","4x400m R","Long J","Triple J","High J","Pole V","Shot","Discus","Javelin","Hammer",{"$f":"MatchDay!I15","v":"Hallamshire Harr"},"Sprint H","800m","100m","3000m","400mH","200m","1500m","400m","1500m S/C","4x100m R","4x400m R","Long J","Triple J","High J","Pole V","Shot","Discus","Javelin","Hammer",null,null,"Event No","Age G",null,null,{"$f":"B2","v":"2DASH"},null,{"$f":"V2","v":"Lincoln Wellington"},null,{"$f":"AP2","v":"Hallamshire Harr"}]
[null,{"$f":"CONCATENATE(Handbook!$Y$1,\" Athletes\")","v":"U13B Athletes"},null,null,null,null,null,null,null,null,null,null,null,null,null,null,null,null,null,null,null,{"$f":"B3","v":"U13B Athletes"},null,null,null,null,null,null,null,null,null,null,null,null,null,null,null,null,null,null,null,{"$f":"B3","v":"U13B Athletes"},null,null,null,null,null,null,null,null,null,null,null,null,null,null,null,null,null,null,null,null,"A",null,null,null,null,{"$f":"MatchDay!H11","v":1},{"$f":"MatchDay!H38","v":11},{"$f":"MatchDay!H13","v":2},{"$f":"MatchDay!H40","v":22},{"$f":"MatchDay!H15","v":3},{"$f":"MatchDay!H42","v":33},101,102,103,null,"Row"]
[1,"Bradley Gabbitas",null,null,"A",null,null,"A",null,null,null,2,null,null,null,null,null,"B",null,null,null,"Jack McMunn",null,"A",null,null,null,"A",null,null,null,1,null,"A",null,null,null,null,null,null,null,"Malik Miller","A",null,"A",null,null,null,null,null,null,4,null,null,null,null,null,null,null,null,null,null,"B","T2",{"$f":"VLOOKUP($BL4,eventno,2,FALSE)","v":"U13B"},{"$f":"VLOOKUP($BL4,eventno,3,FALSE)","v":"75m H"},null,{"$f":"IF(COUNTIF($C$4:$C$20,\"A\")=0,\"-\",INDIRECT(CONCATENATE(\"B\",MATCH(\"A\",$C$1:$C$20,0))))","v":"James Mckell"},{"$f":"IF(COUNTIF($C$4:$C$20,\"B\")=0,\"-\",INDIRECT(CONCATENATE(\"B\",MATCH(\"B\",$C$1:$C$20,0))))","v":"-"},{"$f":"IF(COUNTIF($W$4:$W$20,\"A\")=0,\"-\",INDIRECT(CONCATENATE(\"V\",MATCH(\"A\",$W$1:$W$20,0))))","v":"Luke Cherrie"},{"$f":"IF(COUNTIF($W$4:$W$20,\"B\")=0,\"-\",INDIRECT(CONCATENATE(\"V\",MATCH(\"B\",$W$1:$W$20,0))))","v":"-"},{"$f":"IF(COUNTIF($AQ$4:$AQ$20,\"A\")=0,\"-\",INDIRECT(CONCATENATE(\"AP\",MATCH(\"A\",$AQ$1:$AQ$20,0))))","v":"Malik Miller"},{"$f":"IF(COUNTIF($AQ$4:$AQ$20,\"B\")=0,\"-\",INDIRECT(CONCATENATE(\"AP\",MATCH(\"B\",$AQ$1:$AQ$20,0))))","v":"-"},"Event Cancelled","No Competitors","Opening Height Not Cleared",null,2]
[2,"James Castle",null,"A",null,null,null,"B",null,null,null,null,null,"A",null,null,null,null,null,null,null,"Ben Skinner",null,null,null,null,null,"B",null,null,null,2,null,null,null,null,null,null,null,null,null,"Jake Steade",null,"A",null,null,null,"A",null,null,null,2,null,null,null,null,null,"A",null,null,null,null,null,"T5",{"$f":"VLOOKUP(BL5,eventno,2,FALSE)","v":"U15B"},"80m H",null,{"$f":"IF(COUNTIF($C$24:$C$48,\"A\")=0,\"-\",INDIRECT(CONCATENATE(\"B\",MATCH(\"A\",$C$21:$C$48,0)+20)))","v":"Josh Groggan"},{"$f":"IF(COUNTIF($C$24:$C$48,\"B\")=0,\"-\",INDIRECT(CONCATENATE(\"B\",MATCH(\"B\",$C$21:$C$48,0)+20)))","v":"Jack Lamb"},{"$f":"IF(COUNTIF($W$24:$W$48,\"A\")=0,\"-\",INDIRECT(CONCATENATE(\"V\",MATCH(\"A\",$W$21:$W$48,0)+20)))","v":"Frazer McDowall"},{"$f":"IF(COUNTIF($W$24:$W$48,\"B\")=0,\"-\",INDIRECT(CONCATENATE(\"V\",MATCH(\"B\",$W$21:$W$48,0)+20)))","v":"Oliver Fluck"},{"$f":"IF(COUNTIF($AQ$24:$AQ$48,\"A\")=0,\"-\",INDIRECT(CONCATENATE(\"AP\",MATCH(\"A\",$AQ$21:$AQ$48,0)+20)))","v":"James Lee"},{"$f":"IF(COUNTIF($AQ$24:$AQ$48,\"B\")=0,\"-\",INDIRECT(CONCATENATE(\"AP\",MATCH(\"B\",$AQ$21:$AQ$48,0)+20)))","v":"Sam Draycott"},"Event Cancelled","No Competitors","Opening Height Not Cleared",null,3]
[3,"James Mckell","A",null,"B",null,null,null,null,null,null,1,null,null,null,null,null,"A",null,null,null,"Maxwell Sheehan",null,null,null,null,null,null,"A",null,null,null,null,null,null,null,null,"B",null,null,null,"Jacob Worthington",null,null,null,null,null,null,"A",null,null,3,null,null,null,null,null,"B",null,null,null,null,1,"T6","U17M","100m H",null,{"$f":"IF(COUNTIF($C$52:$C$77,\"A\")=0,\"-\",INDIRECT(CONCATENATE(\"B\",MATCH(\"A\",$C$49:$C$77,0)+48)))","v":"Adam Milner"},{"$f":"IF(COUNTIF($C$52:$C$77,\"B\")=0,\"-\",INDIRECT(CONCATENATE(\"B\",MATCH(\"B\",$C$49:$C$77,0)+48)))","v":"-"},{"$f":"IF(COUNTIF($W$52:$W$77,\"A\")=0,\"-\",INDIRECT(CONCATENATE(\"V\",MATCH(\"A\",$W$49:$W$77,0)+48)))","v":"-"},{"$f":"IF(COUNTIF($W$52:$W$77,\"B\")=0,\"-\",INDIRECT(CONCATENATE(\"V\",MATCH(\"B\",$W$49:$W$77,0)+48)))","v":"-"},{"$f":"IF(COUNTIF($AQ$52:$AQ$77,\"A\")=0,\"-\",INDIRECT(CONCATENATE(\"AP\",MATCH(\"A\",$AQ$49:$AQ$77,0)+48)))","v":"-"},{"$f":"IF(COUNTIF($AQ$52:$AQ$77,\"B\")=0,\"-\",INDIRECT(CONCATENATE(\"AP\",MATCH(\"B\",$AQ$49:$AQ$77,0)+48)))","v":"-"},"Event Cancelled","No Competitors","Opening Height Not Cleared",null,4]
[4,null,null,null,null,null,null,null,null,null,null,null,null,null,null,null,null,null,null,null,null,"Luke Cherrie","A",null,null,null,null,null,null,null,null,4,null,null,null,"B",null,null,null,null,null,"Niall Morton",null,null,null,null,null,null,"B",null,null,null,null,null,null,null,null,null,null,null,null,null,2,"T10","U13B","800m",null,{"$f":"IF(COUNTIF($D$4:$D$20,\"A\")=0,\"-\",INDIRECT(CONCATENATE(\"B\",MATCH(\"A\",$D$1:$D$20,0))))","v":"James Castle"},{"$f":"IF(COUNTIF($D$4:$D$20,\"B\")=0,\"-\",INDIRECT(CONCATENATE(\"B\",MATCH(\"B\",$D$1:$D$20,0))))","v":"-"},{"$f":"IF(COUNTIF($X$4:$X$20,\"A\")=0,\"-\",INDIRECT(CONCATENATE(\"V\",MATCH(\"A\",$X$1:$X$20,0))))","v":"Jack McMunn"},{"$f":"IF(COUNTIF($X$4:$X$20,\"B\")=0,\"-\",INDIRECT(CONCATENATE(\"V\",MATCH(\"B\",$X$1:$X$20,0))))","v":"-"},{"$f":"IF(COUNTIF($AR$4:$AR$20,\"A\")=0,\"-\",INDIRECT(CONCATENATE(\"AP\",MATCH(\"A\",$AR$1:$AR$20,0))))","v":"Jake Steade"},{"$f":"IF(COUNTIF($AR$4:$AR$20,\"B\")=0,\"-\",INDIRECT(CONCATENATE(\"AP\",MATCH(\"B\",$AR$1:$AR$20,0))))","v":"Christian Mills"},"Event Cancelled","No Competitors","Opening Height Not Cleared",null,5]
[5,null,null,null,null,null,null,null,null,null,null,null,null,null,null,null,null,null,null,null,null,"Oliver Jackson",null,null,"A",null,null,null,null,null,null,3,null,"B",null,null,null,"A",null,null,null,"Christian Mills",null,"B",null,null,null,"B",null,null,null,1,null,null,null,null,null,null,null,null,null,null,3,"T11","U15B","800m",null,{"$f":"IF(COUNTIF($D$24:$D$48,\"A\")=0,\"-\",INDIRECT(CONCATENATE(\"B\",MATCH(\"A\",$D$21:$D$48,0)+20)))","v":"George Collins"},{"$f":"IF(COUNTIF($D$24:$D$48,\"B\")=0,\"-\",INDIRECT(CONCATENATE(\"B\",MATCH(\"B\",$D$21:$D$48,0)+20)))","v":"Alistair Mclunty"},{"$f":"IF(COUNTIF($X$24:$X$48,\"A\")=0,\"-\",INDIRECT(CONCATENATE(\"V\",MATCH(\"A\",$X$21:$X$48,0)+20)))","v":"Joe Shuttleworth"},{"$f":"IF(COUNTIF($X$24:$X$48,\"B\")=0,\"-\",INDIRECT(CONCATENATE(\"V\",MATCH(\"B\",$X$21:$X$48,0)+20)))","v":"Max Chapman"},{"$f":"IF(COUNTIF($AR$24:$AR$48,\"A\")=0,\"-\",INDIRECT(CONCATENATE(\"AP\",MATCH(\"A\",$AR$21:$AR$48,0)+20)))","v":"Joe Hutcheson"},{"$f":"IF(COUNTIF($AR$24:$AR$48,\"B\")=0,\"-\",INDIRECT(CONCATENATE(\"AP\",MATCH(\"B\",$AR$21:$AR$48,0)+20)))","v":"Aiden Johnson"},"Event Cancelled","No Competitors","Opening Height Not Cleared",null,6]
[6,null,null,null,null,null,null,null,null,null,null,null,null,null,null,null,null,null,null,null,null,null,null,null,null,null,null,null,null,null,null,null,null,null,null,null,null,null,null,null,null,null,null,null,null,null,null,null,null,null,null,null,null,null,null,null,null,null,null,null,null,null,4,"T12","U17M","800m",null,{"$f":"IF(COUNTIF($D$52:$D$77,\"A\")=0,\"-\",INDIRECT(CONCATENATE(\"B\",MATCH(\"A\",$D$49:$D$77,0)+48)))","v":"Adam Milner"},{"$f":"IF(COUNTIF($D$52:$D$77,\"B\")=0,\"-\",INDIRECT(CONCATENATE(\"B\",MATCH(\"B\",$D$49:$D$77,0)+48)))","v":"Aidon Sahni"},{"$f":"IF(COUNTIF($X$52:$X$77,\"A\")=0,\"-\",INDIRECT(CONCATENATE(\"V\",MATCH(\"A\",$X$49:$X$77,0)+48)))","v":"Dylan Love "},{"$f":"IF(COUNTIF($X$52:$X$77,\"B\")=0,\"-\",INDIRECT(CONCATENATE(\"V\",MATCH(\"B\",$X$49:$X$77,0)+48)))","v":"Richard Brine"},{"$f":"IF(COUNTIF($AR$52:$AR$77,\"A\")=0,\"-\",INDIRECT(CONCATENATE(\"AP\",MATCH(\"A\",$AR$49:$AR$77,0)+48)))","v":"Josh Dyball"},{"$f":"IF(COUNTIF($AR$52:$AR$77,\"B\")=0,\"-\",INDIRECT(CONCATENATE(\"AP\",MATCH(\"B\",$AR$49:$AR$77,0)+48)))","v":"-"},"Event Cancelled","No Competitors","Opening Height Not Cleared",null,7]
[7,null,null,null,null,null,null,null,null,null,null,null,null,null,null,null,null,null,null,null,null,null,null,null,null,null,null,null,null,null,null,null,null,null,null,null,null,null,null,null,null,null,null,null,null,null,null,null,null,null,null,null,null,null,null,null,null,null,null,null,null,null,null,"T16","U17M","100m",null,{"$f":"IF(COUNTIF($E$52:$E$77,\"A\")=0,\"-\",INDIRECT(CONCATENATE(\"B\",MATCH(\"A\",$E$49:$E$77,0)+48)))","v":"-"},{"$f":"IF(COUNTIF($E$52:$E$77,\"B\")=0,\"-\",INDIRECT(CONCATENATE(\"B\",MATCH(\"B\",$E$49:$E$77,0)+48)))","v":"-"},{"$f":"IF(COUNTIF($Y$52:$Y$77,\"A\")=0,\"-\",INDIRECT(CONCATENATE(\"V\",MATCH(\"A\",$Y$49:$Y$77,0)+48)))","v":"Sam Chapman"},{"$f":"IF(COUNTIF($Y$52:$Y$77,\"B\")=0,\"-\",INDIRECT(CONCATENATE(\"V\",MATCH(\"B\",$Y$49:$Y$77,0)+48)))","v":"Jack Harper"},{"$f":"IF(COUNTIF($AS$52:$AS$77,\"A\")=0,\"-\",INDIRECT(CONCATENATE(\"AP\",MATCH(\"A\",$AS$49:$AS$77,0)+48)))","v":"Dipo Ola"},{"$f":"IF(COUNTIF($AS$52:$AS$77,\"B\")=0,\"-\",INDIRECT(CONCATENATE(\"AP\",MATCH(\"B\",$AS$49:$AS$77,0)+48)))","v":"-"},"Event Cancelled","No Competitors","Opening Height Not Cleared",null,8]
[8,null,null,null,null,null,null,null,null,null,null,null,null,null,null,null,null,null,null,null,null,null,null,null,null,null,null,null,null,null,null,null,null,null,null,null,null,null,null,null,null,null,null,null,null,null,null,null,null,null,null,null,null,null,null,null,null,null,null,null,null,null,null,"T17","U15B","100m",null,{"$f":"IF(COUNTIF($E$24:$E$48,\"A\")=0,\"-\",INDIRECT(CONCATENATE(\"B\",MATCH(\"A\",$E$21:$E$48,0)+20)))","v":"Chris Li"},{"$f":"IF(COUNTIF($E$24:$E$48,\"B\")=0,\"-\",INDIRECT(CONCATENATE(\"B\",MATCH(\"B\",$E$21:$E$48,0)+20)))","v":"-"},{"$f":"IF(COUNTIF($Y$24:$Y$48,\"A\")=0,\"-\",INDIRECT(CONCATENATE(\"V\",MATCH(\"A\",$Y$21:$Y$48,0)+20)))","v":"Oliver Fluck"},{"$f":"IF(COUNTIF($Y$24:$Y$48,\"B\")=0,\"-\",INDIRECT(CONCATENATE(\"V\",MATCH(\"B\",$Y$21:$Y$48,0)+20)))","v":"Frazer McDowall"},{"$f":"IF(COUNTIF($AS$24:$AS$48,\"A\")=0,\"-\",INDIRECT(CONCATENATE(\"AP\",MATCH(\"A\",$AS$21:$AS$48,0)+20)))","v":"Elliott Payne"},{"$f":"IF(COUNTIF($AS$24:$AS$48,\"B\")=0,\"-\",INDIRECT(CONCATENATE(\"AP\",MATCH(\"B\",$AS$21:$AS$48,0)+20)))","v":"Sam Lawford"},"Event Cancelled","No Competitors","Opening Height Not Cleared",null,9]
[9,null,null,null,null,null,null,null,null,null,null,null,null,null,null,null,null,null,null,null,null,null,null,null,null,null,null,null,null,null,null,null,null,null,null,null,null,null,null,null,null,null,null,null,null,null,null,null,null,null,null,null,null,null,null,null,null,null,null,null,null,null,null,"T18","U13B","100m",null,{"$f":"IF(COUNTIF($E$4:$E$20,\"A\")=0,\"-\",INDIRECT(CONCATENATE(\"B\",MATCH(\"A\",$E$1:$E$20,0))))","v":"Bradley Gabbitas"},{"$f":"IF(COUNTIF($E$4:$E$20,\"B\")=0,\"-\",INDIRECT(CONCATENATE(\"B\",MATCH(\"B\",$E$1:$E$20,0))))","v":"James Mckell"},{"$f":"IF(COUNTIF($Y$4:$Y$20,\"A\")=0,\"-\",INDIRECT(CONCATENATE(\"V\",MATCH(\"A\",$Y$1:$Y$20,0))))","v":"Oliver Jackson"},{"$f":"IF(COUNTIF($Y$4:$Y$20,\"B\")=0,\"-\",INDIRECT(CONCATENATE(\"V\",MATCH(\"B\",$Y$1:$Y$20,0))))","v":"-"},{"$f":"IF(COUNTIF($AS$4:$AS$20,\"A\")=0,\"-\",INDIRECT(CONCATENATE(\"AP\",MATCH(\"A\",$AS$1:$AS$20,0))))","v":"Malik Miller"},{"$f":"IF(COUNTIF($AS$4:$AS$20,\"B\")=0,\"-\",INDIRECT(CONCATENATE(\"AP\",MATCH(\"B\",$AS$1:$AS$20,0))))","v":"-"},"Event Cancelled","No Competitors","Opening Height Not Cleared",null,10]
[10,null,null,null,null,null,null,null,null,null,null,null,null,null,null,null,null,null,null,null,null,null,null,null,null,null,null,null,null,null,null,null,null,null,null,null,null,null,null,null,null,null,null,null,null,null,null,null,null,null,null,null,null,null,null,null,null,null,null,null,null,null,null,"T19","U17M","3000m",null,{"$f":"IF(COUNTIF($F$52:$F$77,\"A\")=0,\"-\",INDIRECT(CONCATENATE(\"B\",MATCH(\"A\",$F$49:$F$77,0)+48)))","v":"-"},{"$f":"IF(COUNTIF($F$52:$F$77,\"B\")=0,\"-\",INDIRECT(CONCATENATE(\"B\",MATCH(\"B\",$F$49:$F$77,0)+48)))","v":"-"},{"$f":"IF(COUNTIF($Z$52:$Z$77,\"A\")=0,\"-\",INDIRECT(CONCATENATE(\"V\",MATCH(\"A\",$Z$49:$Z$77,0)+48)))","v":"Dylan Love "},{"$f":"IF(COUNTIF($Z$52:$Z$77,\"B\")=0,\"-\",INDIRECT(CONCATENATE(\"V\",MATCH(\"B\",$Z$49:$Z$77,0)+48)))","v":"Joe Wilkinson"},{"$f":"IF(COUNTIF($AT$52:$AT$77,\"A\")=0,\"-\",INDIRECT(CONCATENATE(\"AP\",MATCH(\"A\",$AT$49:$AT$77,0)+48)))","v":"-"},{"$f":"IF(COUNTIF($AT$52:$AT$77,\"B\")=0,\"-\",INDIRECT(CONCATENATE(\"AP\",MATCH(\"B\",$AT$49:$AT$77,0)+48)))","v":"-"},"Event Cancelled","No Competitors","Opening Height Not Cleared",null,11]
[11,null,null,null,null,null,null,null,null,null,null,null,null,null,null,null,null,null,null,null,null,null,null,null,null,null,null,null,null,null,null,null,null,null,null,null,null,null,null,null,null,null,null,null,null,null,null,null,null,null,null,null,null,null,null,null,null,null,null,null,null,null,null,"T22","U17M","400m H",null,{"$f":"IF(COUNTIF($G$52:$G$77,\"A\")=0,\"-\",INDIRECT(CONCATENATE(\"B\",MATCH(\"A\",$G$49:$G$77,0)+48)))","v":"-"},{"$f":"IF(COUNTIF($G$52:$G$77,\"B\")=0,\"-\",INDIRECT(CONCATENATE(\"B\",MATCH(\"B\",$G$49:$G$77,0)+48)))","v":"-"},{"$f":"IF(COUNTIF($AA$52:$AA$77,\"A\")=0,\"-\",INDIRECT(CONCATENATE(\"V\",MATCH(\"A\",$AA$49:$AA$77,0)+48)))","v":"-"},{"$f":"IF(COUNTIF($AA$52:$AA$77,\"B\")=0,\"-\",INDIRECT(CONCATENATE(\"V\",MATCH(\"B\",$AA$49:$AA$77,0)+48)))","v":"-"},{"$f":"IF(COUNTIF($AU$52:$AU$77,\"A\")=0,\"-\",INDIRECT(CONCATENATE(\"AP\",MATCH(\"A\",$AU$49:$AU$77,0)+48)))","v":"-"},{"$f":"IF(COUNTIF($AU$52:$AU$77,\"B\")=0,\"-\",INDIRECT(CONCATENATE(\"AP\",MATCH(\"B\",$AU$49:$AU$77,0)+48)))","v":"-"},"Event Cancelled","No Competitors","Opening Height Not Cleared",null,12]
[12,null,null,null,null,null,null,null,null,null,null,null,null,null,null,null,null,null,null,null,null,null,null,null,null,null,null,null,null,null,null,null,null,null,null,null,null,null,null,null,null,null,null,null,null,null,null,null,null,null,null,null,null,null,null,null,null,null,null,null,null,null,null,"T24","U13B","200m",null,{"$f":"IF(COUNTIF($H$4:$H$20,\"A\")=0,\"-\",INDIRECT(CONCATENATE(\"B\",MATCH(\"A\",$H$1:$H$20,0))))","v":"Bradley Gabbitas"},{"$f":"IF(COUNTIF($H$4:$H$20,\"B\")=0,\"-\",INDIRECT(CONCATENATE(\"B\",MATCH(\"B\",$H$1:$H$20,0))))","v":"James Castle"},{"$f":"IF(COUNTIF($AB$4:$AB$20,\"A\")=0,\"-\",INDIRECT(CONCATENATE(\"V\",MATCH(\"A\",$AB$1:$AB$20,0))))","v":"Jack McMunn"},{"$f":"IF(COUNTIF($AB$4:$AB$20,\"B\")=0,\"-\",INDIRECT(CONCATENATE(\"V\",MATCH(\"B\",$AB$1:$AB$20,0))))","v":"Ben Skinner"},{"$f":"IF(COUNTIF($AV$4:$AV$20,\"A\")=0,\"-\",INDIRECT(CONCATENATE(\"AP\",MATCH(\"A\",$AV$1:$AV$20,0))))","v":"Jake Steade"},{"$f":"IF(COUNTIF($AV$4:$AV$20,\"B\")=0,\"-\",INDIRECT(CONCATENATE(\"AP\",MATCH(\"B\",$AV$1:$AV$20,0))))","v":"Christian Mills"},"Event Cancelled","No Competitors","Opening Height Not Cleared",null,13]
[13,null,null,null,null,null,null,null,null,null,null,null,null,null,null,null,null,null,null,null,null,null,null,null,null,null,null,null,null,null,null,null,null,null,null,null,null,null,null,null,null,null,null,null,null,null,null,null,null,null,null,null,null,null,null,null,null,null,null,null,null,null,null,"T26","U15B","200m",null,{"$f":"IF(COUNTIF($H$24:$H$48,\"A\")=0,\"-\",INDIRECT(CONCATENATE(\"B\",MATCH(\"A\",$H$21:$H$48,0)+20)))","v":"Chris Li"},{"$f":"IF(COUNTIF($H$24:$H$48,\"B\")=0,\"-\",INDIRECT(CONCATENATE(\"B\",MATCH(\"B\",$H$21:$H$48,0)+20)))","v":"-"},{"$f":"IF(COUNTIF($AB$24:$AB$48,\"A\")=0,\"-\",INDIRECT(CONCATENATE(\"V\",MATCH(\"A\",$AB$21:$AB$48,0)+20)))","v":"Harry Cain"},{"$f":"IF(COUNTIF($AB$24:$AB$48,\"B\")=0,\"-\",INDIRECT(CONCATENATE(\"V\",MATCH(\"B\",$AB$21:$AB$48,0)+20)))","v":"Daniel Skinner"},{"$f":"IF(COUNTIF($AV$24:$AV$48,\"A\")=0,\"-\",INDIRECT(CONCATENATE(\"AP\",MATCH(\"A\",$AV$21:$AV$48,0)+20)))","v":"Sam Lawford"},{"$f":"IF(COUNTIF($AV$24:$AV$48,\"B\")=0,\"-\",INDIRECT(CONCATENATE(\"AP\",MATCH(\"B\",$AV$21:$AV$48,0)+20)))","v":"-"},"Event Cancelled","No Competitors","Opening Height Not Cleared",null,14]
[14,null,null,null,null,null,null,null,null,null,null,null,null,null,null,null,null,null,null,null,null,null,null,null,null,null,null,null,null,null,null,null,null,null,null,null,null,null,null,null,null,null,null,null,null,null,null,null,null,null,null,null,null,null,null,null,null,null,null,null,null,null,null,"T28","U17M","200m",null,{"$f":"IF(COUNTIF($H$52:$H$77,\"A\")=0,\"-\",INDIRECT(CONCATENATE(\"B\",MATCH(\"A\",$H$49:$H$77,0)+48)))","v":"-"},{"$f":"IF(COUNTIF($H$52:$H$77,\"B\")=0,\"-\",INDIRECT(CONCATENATE(\"B\",MATCH(\"B\",$H$49:$H$77,0)+48)))","v":"Ben Aitkin-Porter"},{"$f":"IF(COUNTIF($AB$52:$AB$77,\"A\")=0,\"-\",INDIRECT(CONCATENATE(\"V\",MATCH(\"A\",$AB$49:$AB$77,0)+48)))","v":"Sam Chapman"},{"$f":"IF(COUNTIF($AB$52:$AB$77,\"B\")=0,\"-\",INDIRECT(CONCATENATE(\"V\",MATCH(\"B\",$AB$49:$AB$77,0)+48)))","v":"Harry Baxter"},{"$f":"IF(COUNTIF($AV$52:$AV$77,\"A\")=0,\"-\",INDIRECT(CONCATENATE(\"AP\",MATCH(\"A\",$AV$49:$AV$77,0)+48)))","v":"Anthony Tierney"},{"$f":"IF(COUNTIF($AV$52:$AV$77,\"B\")=0,\"-\",INDIRECT(CONCATENATE(\"AP\",MATCH(\"B\",$AV$49:$AV$77,0)+48)))","v":"Dipo Ola"},"Event Cancelled","No Competitors","Opening Height Not Cleared",null,15]
[15,null,null,null,null,null,null,null,null,null,null,null,null,null,null,null,null,null,null,null,null,null,null,null,null,null,null,null,null,null,null,null,null,null,null,null,null,null,null,null,null,null,null,null,null,null,null,null,null,null,null,null,null,null,null,null,null,null,null,null,null,null,null,"T30","U13B","1500m",null,{"$f":"IF(COUNTIF($I$4:$I$20,\"A\")=0,\"-\",INDIRECT(CONCATENATE(\"B\",MATCH(\"A\",$I$1:$I$20,0))))","v":"-"},{"$f":"IF(COUNTIF($I$4:$I$20,\"B\")=0,\"-\",INDIRECT(CONCATENATE(\"B\",MATCH(\"B\",$I$1:$I$20,0))))","v":"-"},{"$f":"IF(COUNTIF($AC$4:$AC$20,\"A\")=0,\"-\",INDIRECT(CONCATENATE(\"V\",MATCH(\"A\",$AC$1:$AC$20,0))))","v":"Maxwell Sheehan"},{"$f":"IF(COUNTIF($AC$4:$AC$20,\"B\")=0,\"-\",INDIRECT(CONCATENATE(\"V\",MATCH(\"B\",$AC$1:$AC$20,0))))","v":"-"},{"$f":"IF(COUNTIF($AW$4:$AW$20,\"A\")=0,\"-\",INDIRECT(CONCATENATE(\"AP\",MATCH(\"A\",$AW$1:$AW$20,0))))","v":"Jacob Worthington"},{"$f":"IF(COUNTIF($AW$4:$AW$20,\"B\")=0,\"-\",INDIRECT(CONCATENATE(\"AP\",MATCH(\"B\",$AW$1:$AW$20,0))))","v":"Niall Morton"},"Event Cancelled","No Competitors","Opening Height Not Cleared",null,16]
[16,null,null,null,null,null,null,null,null,null,null,null,null,null,null,null,null,null,null,null,null,null,null,null,null,null,null,null,null,null,null,null,null,null,null,null,null,null,null,null,null,null,null,null,null,null,null,null,null,null,null,null,null,null,null,null,null,null,null,null,null,null,null,"T32","U15B","1500m",null,{"$f":"IF(COUNTIF($I$24:$I$48,\"A\")=0,\"-\",INDIRECT(CONCATENATE(\"B\",MATCH(\"A\",$I$21:$I$48,0)+20)))","v":"-"},{"$f":"IF(COUNTIF($I$24:$I$48,\"B\")=0,\"-\",INDIRECT(CONCATENATE(\"B\",MATCH(\"B\",$I$21:$I$48,0)+20)))","v":"-"},{"$f":"IF(COUNTIF($AC$24:$AC$48,\"A\")=0,\"-\",INDIRECT(CONCATENATE(\"V\",MATCH(\"A\",$AC$21:$AC$48,0)+20)))","v":"Declan Dickinson"},{"$f":"IF(COUNTIF($AC$24:$AC$48,\"B\")=0,\"-\",INDIRECT(CONCATENATE(\"V\",MATCH(\"B\",$AC$21:$AC$48,0)+20)))","v":"Dion Harrison"},{"$f":"IF(COUNTIF($AW$24:$AW$48,\"A\")=0,\"-\",INDIRECT(CONCATENATE(\"AP\",MATCH(\"A\",$AW$21:$AW$48,0)+20)))","v":"Josh Walton"},{"$f":"IF(COUNTIF($AW$24:$AW$48,\"B\")=0,\"-\",INDIRECT(CONCATENATE(\"AP\",MATCH(\"B\",$AW$21:$AW$48,0)+20)))","v":"Ewan South"},"Event Cancelled","No Competitors","Opening Height Not Cleared",null,17]
[17,null,null,null,null,null,null,null,null,null,null,null,null,null,null,null,null,null,null,null,null,null,null,null,null,null,null,null,null,null,null,null,null,null,null,null,null,null,null,null,null,null,null,null,null,null,null,null,null,null,null,null,null,null,null,null,null,null,null,null,null,null,null,"T34","U17M","1500m",null,{"$f":"IF(COUNTIF($I$52:$I$77,\"A\")=0,\"-\",INDIRECT(CONCATENATE(\"B\",MATCH(\"A\",$I$49:$I$77,0)+48)))","v":"-"},{"$f":"IF(COUNTIF($I$52:$I$77,\"B\")=0,\"-\",INDIRECT(CONCATENATE(\"B\",MATCH(\"B\",$I$49:$I$77,0)+48)))","v":"-"},{"$f":"IF(COUNTIF($AC$52:$AC$77,\"A\")=0,\"-\",INDIRECT(CONCATENATE(\"V\",MATCH(\"A\",$AC$49:$AC$77,0)+48)))","v":"Joshua Asbrey"},{"$f":"IF(COUNTIF($AC$52:$AC$77,\"B\")=0,\"-\",INDIRECT(CONCATENATE(\"V\",MATCH(\"B\",$AC$49:$AC$77,0)+48)))","v":"Kyle Nicholson"},{"$f":"IF(COUNTIF($AW$52:$AW$77,\"A\")=0,\"-\",INDIRECT(CONCATENATE(\"AP\",MATCH(\"A\",$AW$49:$AW$77,0)+48)))","v":"Tom Bains"},{"$f":"IF(COUNTIF($AW$52:$AW$77,\"B\")=0,\"-\",INDIRECT(CONCATENATE(\"AP\",MATCH(\"B\",$AW$49:$AW$77,0)+48)))","v":"Matt Davies"},"Event Cancelled","No Competitors","Opening Height Not Cleared",null,18]
[null,null,null,null,null,null,null,null,null,null,null,null,null,null,null,null,null,null,null,null,null,null,null,null,null,null,null,null,null,null,null,null,null,null,null,null,null,null,null,null,null,null,null,null,null,null,null,null,null,null,null,null,null,null,null,null,null,null,null,null,null,null,null,"T36","U15B","400m",null,{"$f":"IF(COUNTIF($J$24:$J$48,\"A\")=0,\"-\",INDIRECT(CONCATENATE(\"B\",MATCH(\"A\",$J$21:$J$48,0)+20)))","v":"George Collins"},{"$f":"IF(COUNTIF($J$24:$J$48,\"B\")=0,\"-\",INDIRECT(CONCATENATE(\"B\",MATCH(\"B\",$J$21:$J$48,0)+20)))","v":"-"},{"$f":"IF(COUNTIF($AD$24:$AD$48,\"A\")=0,\"-\",INDIRECT(CONCATENATE(\"V\",MATCH(\"A\",$AD$21:$AD$48,0)+20)))","v":"Bradley Kent"},{"$f":"IF(COUNTIF($AD$24:$AD$48,\"B\")=0,\"-\",INDIRECT(CONCATENATE(\"V\",MATCH(\"B\",$AD$21:$AD$48,0)+20)))","v":"Michael Harper"},{"$f":"IF(COUNTIF($AX$24:$AX$48,\"A\")=0,\"-\",INDIRECT(CONCATENATE(\"AP\",MATCH(\"A\",$AX$21:$AX$48,0)+20)))","v":"Joe Hutcheson"},{"$f":"IF(COUNTIF($AX$24:$AX$48,\"B\")=0,\"-\",INDIRECT(CONCATENATE(\"AP\",MATCH(\"B\",$AX$21:$AX$48,0)+20)))","v":"Jack Jones"},"Event Cancelled","No Competitors","Opening Height Not Cleared",null,19]
[null,null,null,null,null,null,null,null,null,null,null,null,null,null,null,null,null,null,null,null,null,null,null,null,null,null,null,null,null,null,null,null,null,null,null,null,null,null,null,null,null,null,null,null,null,null,null,null,null,null,null,null,null,null,null,null,null,null,null,null,null,null,null,"T37","U17M","400m",null,{"$f":"IF(COUNTIF($J$52:$J$77,\"A\")=0,\"-\",INDIRECT(CONCATENATE(\"B\",MATCH(\"A\",$J$49:$J$77,0)+48)))","v":"-"},{"$f":"IF(COUNTIF($J$52:$J$77,\"B\")=0,\"-\",INDIRECT(CONCATENATE(\"B\",MATCH(\"B\",$J$49:$J$77,0)+48)))","v":"Ben Aitkin-Porter"},{"$f":"IF(COUNTIF($AD$52:$AD$77,\"A\")=0,\"-\",INDIRECT(CONCATENATE(\"V\",MATCH(\"A\",$AD$49:$AD$77,0)+48)))","v":"Sam Shuttleworth"},{"$f":"IF(COUNTIF($AD$52:$AD$77,\"B\")=0,\"-\",INDIRECT(CONCATENATE(\"V\",MATCH(\"B\",$AD$49:$AD$77,0)+48)))","v":"Jack Harper"},{"$f":"IF(COUNTIF($AX$52:$AX$77,\"A\")=0,\"-\",INDIRECT(CONCATENATE(\"AP\",MATCH(\"A\",$AX$49:$AX$77,0)+48)))","v":"Josh Dyball"},{"$f":"IF(COUNTIF($AX$52:$AX$77,\"B\")=0,\"-\",INDIRECT(CONCATENATE(\"AP\",MATCH(\"B\",$AX$49:$AX$77,0)+48)))","v":"Anthony Tierney"},"Event Cancelled","No Competitors","Opening Height Not Cleared",null,20]
[null,{"$f":"CONCATENATE(Handbook!$Z$1,\" Athletes\")","v":"U15B Athletes"},null,null,null,null,null,null,null,null,null,null,null,null,null,null,null,null,null,null,null,{"$f":"B23","v":"U15B Athletes"},null,null,null,null,null,null,null,null,null,null,null,null,null,null,null,null,null,null,null,{"$f":"B23","v":"U15B Athletes"},null,null,null,null,null,null,null,null,null,null,null,null,null,null,null,null,null,null,null,null,null,"T39","U17M","4 x 100m Relay",null,{"$f":"IF(COUNTIF($L$52:$L$77,\"1\")=0,\"-\",INDIRECT(CONCATENATE(\"B\",MATCH(1,$L$49:$L$77,0)+48)))","v":"Niall Hunt"},{"$f":"IF(COUNTIF($L$52:$L$77,\"2\")=0,\"-\",INDIRECT(CONCATENATE(\"B\",MATCH(2,$L$49:$L$77,0)+48)))","v":"Adam Milner"},{"$f":"IF(COUNTIF($AF$52:$AF$77,\"1\")=0,\"-\",INDIRECT(CONCATENATE(\"V\",MATCH(1,$AF$49:$AF$77,0)+48)))","v":"Sam Chapman"},{"$f":"IF(COUNTIF($AF$52:$AF$77,\"2\")=0,\"-\",INDIRECT(CONCATENATE(\"V\",MATCH(2,$AF$49:$AF$77,0)+48)))","v":"Josh Holden"},{"$f":"IF(COUNTIF($AZ$52:$AZ$77,\"1\")=0,\"-\",INDIRECT(CONCATENATE(\"AP\",MATCH(1,$AZ$49:$AZ$77,0)+48)))","v":"Dipo Ola"},{"$f":"IF(COUNTIF($AZ$52:$AZ$77,\"2\")=0,\"-\",INDIRECT(CONCATENATE(\"AP\",MATCH(2,$AZ$49:$AZ$77,0)+48)))","v":"Tom Bains"},"Event Cancelled","No Competitors","Opening Height Not Cleared",null,21]
[18,"Alistair Mclunty",null,"B",null,null,null,null,null,null,null,null,1,null,null,null,"A",null,null,null,null,"Oliver Fluck","B",null,"A",null,null,null,null,null,null,1,null,"A",null,null,null,null,null,null,null,"Elliott Payne",null,null,"A",null,null,null,null,null,null,4,null,null,null,"A",null,null,null,null,null,null,null,null,null,null,null,{"$f":"IF(COUNTIF($L$52:$L$77,\"3\")=0,\"-\",INDIRECT(CONCATENATE(\"B\",MATCH(3,$L$49:$L$77,0)+48)))","v":"James Smith"},{"$f":"IF(COUNTIF($L$52:$L$77,\"4\")=0,\"-\",INDIRECT(CONCATENATE(\"B\",MATCH(4,$L$49:$L$77,0)+48)))","v":"Ben Aitkin-Porter"},{"$f":"IF(COUNTIF($AF$52:$AF$77,\"3\")=0,\"-\",INDIRECT(CONCATENATE(\"V\",MATCH(3,$AF$49:$AF$77,0)+48)))","v":"Sam Shuttleworth"},{"$f":"IF(COUNTIF($AF$52:$AF$77,\"4\")=0,\"-\",INDIRECT(CONCATENATE(\"V\",MATCH(4,$AF$49:$AF$77,0)+48)))","v":"Jack Harper"},{"$f":"IF(COUNTIF($AZ$52:$AZ$77,\"3\")=0,\"-\",INDIRECT(CONCATENATE(\"AP\",MATCH(3,$AZ$49:$AZ$77,0)+48)))","v":"Josh Dyball"},{"$f":"IF(COUNTIF($AZ$52:$AZ$77,\"4\")=0,\"-\",INDIRECT(CONCATENATE(\"AP\",MATCH(4,$AZ$49:$AZ$77,0)+48)))","v":"Anthony Tierney"},"Event Cancelled","No Competitors","Opening Height Not Cleared",null,22]
[19,"Chris Li",null,null,"A",null,null,"A",null,null,null,2,null,"A",null,null,null,null,null,null,null,"Joe Shuttleworth",null,"A",null,null,null,null,null,null,null,null,2,null,null,"A",null,null,null,null,null,"Sam Lawford",null,null,"B",null,null,"A",null,null,null,1,null,null,null,null,null,null,null,null,null,null,null,"T41",{"$f":"VLOOKUP(BL25,eventno,2,FALSE)","v":"U15B"},{"$f":"VLOOKUP($BL25,eventno,3,FALSE)","v":"4 x 100m Relay"},null,{"$f":"IF(COUNTIF($L$24:$L$48,\"1\")=0,\"-\",INDIRECT(CONCATENATE(\"B\",MATCH(1,$L$21:$L$48,0)+20)))","v":"Josh Groggan"},{"$f":"IF(COUNTIF($L$24:$L$48,\"2\")=0,\"-\",INDIRECT(CONCATENATE(\"B\",MATCH(2,$L$21:$L$48,0)+20)))","v":"Chris Li"},{"$f":"IF(COUNTIF($AF$24:$AF$48,\"1\")=0,\"-\",INDIRECT(CONCATENATE(\"V\",MATCH(1,$AF$21:$AF$48,0)+20)))","v":"Oliver Fluck"},{"$f":"IF(COUNTIF($AF$24:$AF$48,\"2\")=0,\"-\",INDIRECT(CONCATENATE(\"V\",MATCH(2,$AF$21:$AF$48,0)+20)))","v":"Michael Harper"},{"$f":"IF(COUNTIF($AZ$24:$AZ$48,\"1\")=0,\"-\",INDIRECT(CONCATENATE(\"AP\",MATCH(1,$AZ$21:$AZ$48,0)+20)))","v":"Sam Lawford"},{"$f":"IF(COUNTIF($AZ$24:$AZ$48,\"2\")=0,\"-\",INDIRECT(CONCATENATE(\"AP\",MATCH(2,$AZ$21:$AZ$48,0)+20)))","v":"James Lee"},"Event Cancelled","No Competitors","Opening Height Not Cleared",null,23]
[20,"Josh Groggan","A",null,null,null,"B",null,null,null,null,1,null,null,null,"A",null,null,null,null,null,"Daniel Skinner",null,null,null,null,null,"B",null,null,null,null,4,null,null,null,null,"B",null,null,null,"Joe Hutcheson",null,"A",null,null,null,null,null,"A",null,null,1,null,null,null,null,null,null,null,null,null,null,null,null,null,null,{"$f":"IF(COUNTIF($L$24:$L$48,\"3\")=0,\"-\",INDIRECT(CONCATENATE(\"B\",MATCH(3,$L$21:$L$48,0)+20)))","v":"Toby Leverette"},{"$f":"IF(COUNTIF($L$24:$L$48,\"4\")=0,\"-\",INDIRECT(CONCATENATE(\"B\",MATCH(4,$L$21:$L$48,0)+20)))","v":"George Collins"},{"$f":"IF(COUNTIF($AF$24:$AF$48,\"3\")=0,\"-\",INDIRECT(CONCATENATE(\"V\",MATCH(3,$AF$21:$AF$48,0)+20)))","v":"Daniel Flemming"},{"$f":"IF(COUNTIF($AF$24:$AF$48,\"4\")=0,\"-\",INDIRECT(CONCATENATE(\"V\",MATCH(4,$AF$21:$AF$48,0)+20)))","v":"Harry Cain"},{"$f":"IF(COUNTIF($AZ$24:$AZ$48,\"3\")=0,\"-\",INDIRECT(CONCATENATE(\"AP\",MATCH(3,$AZ$21:$AZ$48,0)+20)))","v":"Sam Draycott"},{"$f":"IF(COUNTIF($AZ$24:$AZ$48,\"4\")=0,\"-\",INDIRECT(CONCATENATE(\"AP\",MATCH(4,$AZ$21:$AZ$48,0)+20)))","v":"Elliott Payne"},"Event Cancelled","No Competitors","Opening Height Not Cleared",null,24]
[21,"George Collins",null,"A",null,null,null,null,null,"A",null,4,3,null,null,null,null,null,null,null,null,"Frazer McDowall","A",null,"B",null,null,null,null,null,null,null,null,"B",null,null,null,null,null,null,null,"Jack Jones",null,null,null,null,null,null,null,"B",null,null,3,null,null,"B",null,"A",null,null,null,null,null,"T43",{"$f":"VLOOKUP(BL27,eventno,2,FALSE)","v":"U13B"},{"$f":"VLOOKUP($BL27,eventno,3,FALSE)","v":"4 x 100m Relay"},null,{"$f":"IF(COUNTIF($L$4:$L$20,\"1\")=0,\"-\",INDIRECT(CONCATENATE(\"B\",MATCH(1,$L$1:$L$20,0))))","v":"James Mckell"},{"$f":"IF(COUNTIF($L$4:$L$20,\"2\")=0,\"-\",INDIRECT(CONCATENATE(\"B\",MATCH(2,$L$1:$L$20,0))))","v":"Bradley Gabbitas"},{"$f":"IF(COUNTIF($AF$4:$AF$20,\"1\")=0,\"-\",INDIRECT(CONCATENATE(\"V\",MATCH(1,$AF$1:$AF$20,0))))","v":"Jack McMunn"},{"$f":"IF(COUNTIF($AF$4:$AF$20,\"2\")=0,\"-\",INDIRECT(CONCATENATE(\"V\",MATCH(2,$AF$1:$AF$20,0))))","v":"Ben Skinner"},{"$f":"IF(COUNTIF($AZ$4:$AZ$20,\"1\")=0,\"-\",INDIRECT(CONCATENATE(\"AP\",MATCH(1,$AZ$1:$AZ$20,0))))","v":"Christian Mills"},{"$f":"IF(COUNTIF($AZ$4:$AZ$20,\"2\")=0,\"-\",INDIRECT(CONCATENATE(\"AP\",MATCH(2,$AZ$1:$AZ$20,0))))","v":"Jake Steade"},"Event Cancelled","No Competitors","Opening Height Not Cleared",null,25]
[22,"Jack Lamb","B",null,null,null,null,null,null,null,null,null,2,null,null,null,null,null,null,"A",null,"Declan Dickinson",null,null,null,null,null,null,"A",null,null,null,3,null,null,null,null,null,null,"A",null,"Aiden Johnson",null,"B",null,null,null,null,null,null,null,null,2,null,null,null,null,null,null,"B",null,null,null,null,null,null,null,{"$f":"IF(COUNTIF($L$4:$L$20,\"3\")=0,\"-\",INDIRECT(CONCATENATE(\"B\",MATCH(3,$L$1:$L$20,0))))","v":"-"},{"$f":"IF(COUNTIF($L$4:$L$20,\"4\")=0,\"-\",INDIRECT(CONCATENATE(\"B\",MATCH(4,$L$1:$L$20,0))))","v":"-"},{"$f":"IF(COUNTIF($AF$4:$AF$20,\"3\")=0,\"-\",INDIRECT(CONCATENATE(\"V\",MATCH(3,$AF$1:$AF$20,0))))","v":"Oliver Jackson"},{"$f":"IF(COUNTIF($AF$4:$AF$20,\"4\")=0,\"-\",INDIRECT(CONCATENATE(\"V\",MATCH(4,$AF$1:$AF$20,0))))","v":"Luke Cherrie"},{"$f":"IF(COUNTIF($AZ$4:$AZ$20,\"3\")=0,\"-\",INDIRECT(CONCATENATE(\"AP\",MATCH(3,$AZ$1:$AZ$20,0))))","v":"Jacob Worthington"},{"$f":"IF(COUNTIF($AZ$4:$AZ$20,\"4\")=0,\"-\",INDIRECT(CONCATENATE(\"AP\",MATCH(4,$AZ$1:$AZ$20,0))))","v":"Malik Miller"},"Event Cancelled","No Competitors","Opening Height Not Cleared",null,26]
[23,"Daniel Salt",null,null,null,null,null,null,null,null,null,null,null,null,null,null,null,"A","A",null,"A","Max Chapman",null,"B",null,null,null,null,null,null,null,null,null,null,null,null,null,null,null,null,null,"Josh Walton",null,null,null,null,null,null,"A",null,null,null,null,null,null,null,null,null,null,null,null,null,null,"T45",{"$f":"VLOOKUP(BL29,eventno,2,FALSE)","v":"U17M"},{"$f":"VLOOKUP($BL29,eventno,3,FALSE)","v":"1500m S/Chase"},null,{"$f":"IF(COUNTIF($K$52:$K$77,\"A\")=0,\"-\",INDIRECT(CONCATENATE(\"B\",MATCH(\"A\",$K$49:$K$77,0)+48)))","v":"-"},{"$f":"IF(COUNTIF($K$52:$K$77,\"B\")=0,\"-\",INDIRECT(CONCATENATE(\"B\",MATCH(\"B\",$K$49:$K$77,0)+48)))","v":"-"},{"$f":"IF(COUNTIF($AE$52:$AE$77,\"A\")=0,\"-\",INDIRECT(CONCATENATE(\"V\",MATCH(\"A\",$AE$49:$AE$77,0)+48)))","v":"Haran Dunderdale"},{"$f":"IF(COUNTIF($AE$52:$AE$77,\"B\")=0,\"-\",INDIRECT(CONCATENATE(\"V\",MATCH(\"B\",$AE$49:$AE$77,0)+48)))","v":"Kyle Nicholson"},{"$f":"IF(COUNTIF($AY$52:$AY$77,\"A\")=0,\"-\",INDIRECT(CONCATENATE(\"AP\",MATCH(\"A\",$AY$49:$AY$77,0)+48)))","v":"-"},{"$f":"IF(COUNTIF($AY$52:$AY$77,\"B\")=0,\"-\",INDIRECT(CONCATENATE(\"AP\",MATCH(\"B\",$AY$49:$AY$77,0)+48)))","v":"-"},"Event Cancelled","No Competitors","Opening Height Not Cleared",null,27]
[24,"Toby Leverette",null,null,null,null,null,null,null,null,null,3,null,null,null,null,null,null,"B","B",null,"Michael Harper",null,null,null,null,null,null,null,"B",null,2,null,null,null,null,null,null,"B",null,null,"Ewan South",null,null,null,null,null,null,"B",null,null,null,null,null,null,null,null,null,null,null,null,null,null,"T46",{"$f":"VLOOKUP(BL30,eventno,2,FALSE)","v":"U15B"},{"$f":"VLOOKUP($BL30,eventno,3,FALSE)","v":"4 x 400m Relay"},null,{"$f":"IF(COUNTIF($M$24:$M$48,\"1\")=0,\"-\",INDIRECT(CONCATENATE(\"B\",MATCH(1,$M$21:$M$48,0)+20)))","v":"Alistair Mclunty"},{"$f":"IF(COUNTIF($M$24:$M$48,\"2\")=0,\"-\",INDIRECT(CONCATENATE(\"B\",MATCH(2,$M$21:$M$48,0)+20)))","v":"Jack Lamb"},{"$f":"IF(COUNTIF($AG$24:$AG$48,\"1\")=0,\"-\",INDIRECT(CONCATENATE(\"V\",MATCH(1,$AG$21:$AG$48,0)+20)))","v":"Dion Harrison"},{"$f":"IF(COUNTIF($AG$24:$AG$48,\"2\")=0,\"-\",INDIRECT(CONCATENATE(\"V\",MATCH(2,$AG$21:$AG$48,0)+20)))","v":"Joe Shuttleworth"},{"$f":"IF(COUNTIF($BA$24:$BA$48,\"1\")=0,\"-\",INDIRECT(CONCATENATE(\"AP\",MATCH(1,$BA$21:$BA$48,0)+20)))","v":"Joe Hutcheson"},{"$f":"IF(COUNTIF($BA$24:$BA$48,\"2\")=0,\"-\",INDIRECT(CONCATENATE(\"AP\",MATCH(2,$BA$21:$BA$48,0)+20)))","v":"Aiden Johnson"},"Event Cancelled","No Competitors","Opening Height Not Cleared",null,28]
[25,"Sam Bowler",null,null,null,null,null,null,null,null,null,null,null,null,null,null,null,null,null,null,null,"Daniel Flemming",null,null,null,null,null,null,null,null,null,3,null,null,null,null,"A","A","A",null,null,"James Lee","A",null,null,null,null,null,null,null,null,2,null,"B",null,null,null,null,null,null,null,null,null,null,null,null,null,{"$f":"IF(COUNTIF($M$24:$M$48,\"3\")=0,\"-\",INDIRECT(CONCATENATE(\"B\",MATCH(3,$M$21:$M$48,0)+20)))","v":"George Collins"},{"$f":"IF(COUNTIF($M$24:$M$48,\"4\")=0,\"-\",INDIRECT(CONCATENATE(\"B\",MATCH(4,$M$21:$M$48,0)+20)))","v":"-"},{"$f":"IF(COUNTIF($AG$24:$AG$48,\"3\")=0,\"-\",INDIRECT(CONCATENATE(\"V\",MATCH(3,$AG$21:$AG$48,0)+20)))","v":"Declan Dickinson"},{"$f":"IF(COUNTIF($AG$24:$AG$48,\"4\")=0,\"-\",INDIRECT(CONCATENATE(\"V\",MATCH(4,$AG$21:$AG$48,0)+20)))","v":"Daniel Skinner"},{"$f":"IF(COUNTIF($BA$24:$BA$48,\"3\")=0,\"-\",INDIRECT(CONCATENATE(\"AP\",MATCH(3,$BA$21:$BA$48,0)+20)))","v":"Jack Jones"},{"$f":"IF(COUNTIF($BA$24:$BA$48,\"4\")=0,\"-\",INDIRECT(CONCATENATE(\"AP\",MATCH(4,$BA$21:$BA$48,0)+20)))","v":"Thomas Hughes"},"Event Cancelled","No Competitors","Opening Height Not Cleared",null,29]
[26,null,null,null,null,null,null,null,null,null,null,null,null,null,null,null,null,null,null,null,null,"Dion Harrison",null,null,null,null,null,null,"B",null,null,null,1,null,null,null,null,null,null,null,null,"Sam Draycott","B",null,null,null,null,null,null,null,null,3,null,null,null,null,null,null,"B",null,null,null,null,"T47",{"$f":"VLOOKUP(BL32,eventno,2,FALSE)","v":"U17M"},{"$f":"VLOOKUP($BL32,eventno,3,FALSE)","v":"4 x 400m Relay"},null,{"$f":"IF(COUNTIF($M$52:$M$77,\"1\")=0,\"-\",INDIRECT(CONCATENATE(\"B\",MATCH(1,$M$49:$M$77,0)+48)))","v":"-"},{"$f":"IF(COUNTIF($M$52:$M$77,\"2\")=0,\"-\",INDIRECT(CONCATENATE(\"B\",MATCH(2,$M$49:$M$77,0)+48)))","v":"-"},{"$f":"IF(COUNTIF($AG$52:$AG$77,\"1\")=0,\"-\",INDIRECT(CONCATENATE(\"V\",MATCH(1,$AG$49:$AG$77,0)+48)))","v":"Richard Brine"},{"$f":"IF(COUNTIF($AG$52:$AG$77,\"2\")=0,\"-\",INDIRECT(CONCATENATE(\"V\",MATCH(2,$AG$49:$AG$77,0)+48)))","v":"Dylan Love "},{"$f":"IF(COUNTIF($BA$52:$BA$77,\"1\")=0,\"-\",INDIRECT(CONCATENATE(\"AP\",MATCH(1,$BA$49:$BA$77,0)+48)))","v":"-"},{"$f":"IF(COUNTIF($BA$52:$BA$77,\"2\")=0,\"-\",INDIRECT(CONCATENATE(\"AP\",MATCH(2,$BA$49:$BA$77,0)+48)))","v":"-"},"Event Cancelled","No Competitors","Opening Height Not Cleared",null,30]
[27,null,null,null,null,null,null,null,null,null,null,null,null,null,null,null,null,null,null,null,null,"Bradley Kent",null,null,null,null,null,null,null,"A",null,null,null,null,null,null,"B",null,null,"B",null,"Thomas Hughes",null,null,null,null,null,null,null,null,null,null,4,"A",null,null,null,null,null,null,null,null,null,null,null,null,null,{"$f":"IF(COUNTIF($M$52:$M$77,\"3\")=0,\"-\",INDIRECT(CONCATENATE(\"B\",MATCH(3,$M$49:$M$77,0)+48)))","v":"-"},{"$f":"IF(COUNTIF($M$52:$M$77,\"4\")=0,\"-\",INDIRECT(CONCATENATE(\"B\",MATCH(4,$M$49:$M$77,0)+48)))","v":"-"},{"$f":"IF(COUNTIF($AG$52:$AG$77,\"3\")=0,\"-\",INDIRECT(CONCATENATE(\"V\",MATCH(3,$AG$49:$AG$77,0)+48)))","v":"Joe Wilkinson"},{"$f":"IF(COUNTIF($AG$52:$AG$77,\"4\")=0,\"-\",INDIRECT(CONCATENATE(\"V\",MATCH(4,$AG$49:$AG$77,0)+48)))","v":"Kyle Nicholson"},{"$f":"IF(COUNTIF($BA$52:$BA$77,\"3\")=0,\"-\",INDIRECT(CONCATENATE(\"AP\",MATCH(3,$BA$49:$BA$77,0)+48)))","v":"-"},{"$f":"IF(COUNTIF($BA$52:$BA$77,\"4\")=0,\"-\",INDIRECT(CONCATENATE(\"AP\",MATCH(4,$BA$49:$BA$77,0)+48)))","v":"-"},"Event Cancelled","No Competitors","Opening Height Not Cleared",null,31]
[28,null,null,null,null,null,null,null,null,null,null,null,null,null,null,null,null,null,null,null,null,"Harry Cain",null,null,null,null,null,"A",null,null,null,4,null,null,null,"B",null,null,null,null,null,"OscarBryce",null,null,null,null,null,null,null,null,null,null,null,null,null,null,null,"B","A",null,null,null,null,"F1",{"$f":"VLOOKUP(BL34,eventno,2,FALSE)","v":"U13B"},{"$f":"VLOOKUP($BL34,eventno,3,FALSE)","v":"Long Jump"},null,{"$f":"IF(COUNTIF($N$4:$N$20,\"A\")=0,\"-\",INDIRECT(CONCATENATE(\"B\",MATCH(\"A\",$N$1:$N$20,0))))","v":"James Castle"},{"$f":"IF(COUNTIF($N$4:$N$20,\"B\")=0,\"-\",INDIRECT(CONCATENATE(\"B\",MATCH(\"B\",$N$1:$N$20,0))))","v":"-"},{"$f":"IF(COUNTIF($AH$4:$AH$20,\"A\")=0,\"-\",INDIRECT(CONCATENATE(\"V\",MATCH(\"A\",$AH$1:$AH$20,0))))","v":"Jack McMunn"},{"$f":"IF(COUNTIF($AH$4:$AH$20,\"B\")=0,\"-\",INDIRECT(CONCATENATE(\"V\",MATCH(\"B\",$AH$1:$AH$20,0))))","v":"Oliver Jackson"},{"$f":"IF(COUNTIF($BB$4:$BB$20,\"A\")=0,\"-\",INDIRECT(CONCATENATE(\"AP\",MATCH(\"A\",$BB$1:$BB$20,0))))","v":"-"},{"$f":"IF(COUNTIF($BB$4:$BB$20,\"B\")=0,\"-\",INDIRECT(CONCATENATE(\"AP\",MATCH(\"B\",$BB$1:$BB$20,0))))","v":"-"},"Event Cancelled","No Competitors","Opening Height Not Cleared",null,32]
[29,null,null,null,null,null,null,null,null,null,null,null,null,null,null,null,null,null,null,null,null,null,null,null,null,null,null,null,null,null,null,null,null,null,null,null,null,null,null,null,null,"Bob Walker",null,null,null,null,null,null,null,null,null,null,null,null,null,null,"A",null,null,"A",null,null,null,"F2","U17M","High Jump",null,{"$f":"IF(COUNTIF($P$52:$P$77,\"A\")=0,\"-\",INDIRECT(CONCATENATE(\"B\",MATCH(\"A\",$P$49:$P$77,0)+48)))","v":"-"},{"$f":"IF(COUNTIF($P$52:$P$77,\"B\")=0,\"-\",INDIRECT(CONCATENATE(\"B\",MATCH(\"B\",$P$49:$P$77,0)+48)))","v":"-"},{"$f":"IF(COUNTIF($AJ$52:$AJ$77,\"A\")=0,\"-\",INDIRECT(CONCATENATE(\"V\",MATCH(\"A\",$AJ$49:$AJ$77,0)+48)))","v":"Josh Holden"},{"$f":"IF(COUNTIF($AJ$52:$AJ$77,\"B\")=0,\"-\",INDIRECT(CONCATENATE(\"V\",MATCH(\"B\",$AJ$49:$AJ$77,0)+48)))","v":"Sam Chapman"},{"$f":"IF(COUNTIF($BD$52:$BD$77,\"A\")=0,\"-\",INDIRECT(CONCATENATE(\"AP\",MATCH(\"A\",$BD$49:$BD$77,0)+48)))","v":"Dipo Ola"},{"$f":"IF(COUNTIF($BD$52:$BD$77,\"B\")=0,\"-\",INDIRECT(CONCATENATE(\"AP\",MATCH(\"B\",$BD$49:$BD$77,0)+48)))","v":"-"},"Event Cancelled","No Competitors","Opening Height Not Cleared",null,33]
[30,null,null,null,null,null,null,null,null,null,null,null,null,null,null,null,null,null,null,null,null,null,null,null,null,null,null,null,null,null,null,null,null,null,null,null,null,null,null,null,null,null,null,null,null,null,null,null,null,null,null,null,null,null,null,null,null,null,null,null,null,null,null,"F3","U15B","High Jump",null,{"$f":"IF(COUNTIF($P$24:$P$48,\"A\")=0,\"-\",INDIRECT(CONCATENATE(\"B\",MATCH(\"A\",$P$21:$P$48,0)+20)))","v":"Josh Groggan"},{"$f":"IF(COUNTIF($P$24:$P$48,\"B\")=0,\"-\",INDIRECT(CONCATENATE(\"B\",MATCH(\"B\",$P$21:$P$48,0)+20)))","v":"-"},{"$f":"IF(COUNTIF($AJ$24:$AJ$48,\"A\")=0,\"-\",INDIRECT(CONCATENATE(\"V\",MATCH(\"A\",$AJ$21:$AJ$48,0)+20)))","v":"Joe Shuttleworth"},{"$f":"IF(COUNTIF($AJ$24:$AJ$48,\"B\")=0,\"-\",INDIRECT(CONCATENATE(\"V\",MATCH(\"B\",$AJ$21:$AJ$48,0)+20)))","v":"Harry Cain"},{"$f":"IF(COUNTIF($BD$24:$BD$48,\"A\")=0,\"-\",INDIRECT(CONCATENATE(\"AP\",MATCH(\"A\",$BD$21:$BD$48,0)+20)))","v":"Elliott Payne"},{"$f":"IF(COUNTIF($BD$24:$BD$48,\"B\")=0,\"-\",INDIRECT(CONCATENATE(\"AP\",MATCH(\"B\",$BD$21:$BD$48,0)+20)))","v":"Jack Jones"},"Event Cancelled","No Competitors","Opening Height Not Cleared",null,34]
[31,null,null,null,null,null,null,null,null,null,null,null,null,null,null,null,null,null,null,null,null,null,null,null,null,null,null,null,null,null,null,null,null,null,null,null,null,null,null,null,null,null,null,null,null,null,null,null,null,null,null,null,null,null,null,null,null,null,null,null,null,null,null,"F4","U15B","Hammer",null,{"$f":"IF(COUNTIF($U$24:$U$48,\"A\")=0,\"-\",INDIRECT(CONCATENATE(\"B\",MATCH(\"A\",$U$21:$U$48,0)+20)))","v":"Daniel Salt"},{"$f":"IF(COUNTIF($U$24:$U$48,\"B\")=0,\"-\",INDIRECT(CONCATENATE(\"B\",MATCH(\"B\",$U$21:$U$48,0)+20)))","v":"-"},{"$f":"IF(COUNTIF($AO$24:$AO$48,\"A\")=0,\"-\",INDIRECT(CONCATENATE(\"V\",MATCH(\"A\",$AO$21:$AO$48,0)+20)))","v":"-"},{"$f":"IF(COUNTIF($AO$24:$AO$48,\"B\")=0,\"-\",INDIRECT(CONCATENATE(\"V\",MATCH(\"B\",$AO$21:$AO$48,0)+20)))","v":"-"},{"$f":"IF(COUNTIF($BI$24:$BI$48,\"A\")=0,\"-\",INDIRECT(CONCATENATE(\"AP\",MATCH(\"A\",$BI$21:$BI$48,0)+20)))","v":"-"},{"$f":"IF(COUNTIF($BI$24:$BI$48,\"B\")=0,\"-\",INDIRECT(CONCATENATE(\"AP\",MATCH(\"B\",$BI$21:$BI$48,0)+20)))","v":"-"},"Event Cancelled","No Competitors","Opening Height Not Cleared",null,35]
[32,null,null,null,null,null,null,null,null,null,null,null,null,null,null,null,null,null,null,null,null,null,null,null,null,null,null,null,null,null,null,null,null,null,null,null,null,null,null,null,null,null,null,null,null,null,null,null,null,null,null,null,null,null,null,null,null,null,null,null,null,null,null,"F5","U17M","Hammer",null,{"$f":"IF(COUNTIF($U$52:$U$77,\"A\")=0,\"-\",INDIRECT(CONCATENATE(\"B\",MATCH(\"A\",$U$49:$U$77,0)+48)))","v":"Niall Hunt"},{"$f":"IF(COUNTIF($U$52:$U$77,\"B\")=0,\"-\",INDIRECT(CONCATENATE(\"B\",MATCH(\"B\",$U$49:$U$77,0)+48)))","v":"James Smith"},{"$f":"IF(COUNTIF($AO$52:$AO$77,\"A\")=0,\"-\",INDIRECT(CONCATENATE(\"V\",MATCH(\"A\",$AO$49:$AO$77,0)+48)))","v":"Dominic Sykes"},{"$f":"IF(COUNTIF($AO$52:$AO$77,\"B\")=0,\"-\",INDIRECT(CONCATENATE(\"V\",MATCH(\"B\",$AO$49:$AO$77,0)+48)))","v":"-"},{"$f":"IF(COUNTIF($BI$52:$BI$77,\"A\")=0,\"-\",INDIRECT(CONCATENATE(\"AP\",MATCH(\"A\",$BI$49:$BI$77,0)+48)))","v":"-"},{"$f":"IF(COUNTIF($BI$52:$BI$77,\"B\")=0,\"-\",INDIRECT(CONCATENATE(\"AP\",MATCH(\"B\",$BI$49:$BI$77,0)+48)))","v":"-"},"Event Cancelled","No Competitors","Opening Height Not Cleared",null,36]
[33,null,null,null,null,null,null,null,null,null,null,null,null,null,null,null,null,null,null,null,null,null,null,null,null,null,null,null,null,null,null,null,null,null,null,null,null,null,null,null,null,null,null,null,null,null,null,null,null,null,null,null,null,null,null,null,null,null,null,null,null,null,null,"F8","U15B","Shot",null,{"$f":"IF(COUNTIF($R$24:$R$48,\"A\")=0,\"-\",INDIRECT(CONCATENATE(\"B\",MATCH(\"A\",$R$21:$R$48,0)+20)))","v":"Daniel Salt"},{"$f":"IF(COUNTIF($R$24:$R$48,\"B\")=0,\"-\",INDIRECT(CONCATENATE(\"B\",MATCH(\"B\",$R$21:$R$48,0)+20)))","v":"-"},{"$f":"IF(COUNTIF($AL$24:$AL$48,\"A\")=0,\"-\",INDIRECT(CONCATENATE(\"V\",MATCH(\"A\",$AL$21:$AL$48,0)+20)))","v":"Daniel Flemming"},{"$f":"IF(COUNTIF($AL$24:$AL$48,\"B\")=0,\"-\",INDIRECT(CONCATENATE(\"V\",MATCH(\"B\",$AL$21:$AL$48,0)+20)))","v":"Daniel Skinner"},{"$f":"IF(COUNTIF($BF$24:$BF$48,\"A\")=0,\"-\",INDIRECT(CONCATENATE(\"AP\",MATCH(\"A\",$BF$21:$BF$48,0)+20)))","v":"Jack Jones"},{"$f":"IF(COUNTIF($BF$24:$BF$48,\"B\")=0,\"-\",INDIRECT(CONCATENATE(\"AP\",MATCH(\"B\",$BF$21:$BF$48,0)+20)))","v":"OscarBryce"},"Event Cancelled","No Competitors","Opening Height Not Cleared",null,37]
[34,null,null,null,null,null,null,null,null,null,null,null,null,null,null,null,null,null,null,null,null,null,null,null,null,null,null,null,null,null,null,null,null,null,null,null,null,null,null,null,null,null,null,null,null,null,null,null,null,null,null,null,null,null,null,null,null,null,null,null,null,null,null,"F10","U15B","Javelin",null,{"$f":"IF(COUNTIF($T$24:$T$48,\"A\")=0,\"-\",INDIRECT(CONCATENATE(\"B\",MATCH(\"A\",$T$21:$T$48,0)+20)))","v":"Jack Lamb"},{"$f":"IF(COUNTIF($T$24:$T$48,\"B\")=0,\"-\",INDIRECT(CONCATENATE(\"B\",MATCH(\"B\",$T$21:$T$48,0)+20)))","v":"Toby Leverette"},{"$f":"IF(COUNTIF($AN$24:$AN$48,\"A\")=0,\"-\",INDIRECT(CONCATENATE(\"V\",MATCH(\"A\",$AN$21:$AN$48,0)+20)))","v":"Declan Dickinson"},{"$f":"IF(COUNTIF($AN$24:$AN$48,\"B\")=0,\"-\",INDIRECT(CONCATENATE(\"V\",MATCH(\"B\",$AN$21:$AN$48,0)+20)))","v":"Bradley Kent"},{"$f":"IF(COUNTIF($BH$24:$BH$48,\"A\")=0,\"-\",INDIRECT(CONCATENATE(\"AP\",MATCH(\"A\",$BH$21:$BH$48,0)+20)))","v":"Bob Walker"},{"$f":"IF(COUNTIF($BH$24:$BH$48,\"B\")=0,\"-\",INDIRECT(CONCATENATE(\"AP\",MATCH(\"B\",$BH$21:$BH$48,0)+20)))","v":"Aiden Johnson"},"Event Cancelled","No Competitors","Opening Height Not Cleared",null,38]
[35,null,null,null,null,null,null,null,null,null,null,null,null,null,null,null,null,null,null,null,null,null,null,null,null,null,null,null,null,null,null,null,null,null,null,null,null,null,null,null,null,null,null,null,null,null,null,null,null,null,null,null,null,null,null,null,null,null,null,null,null,null,null,"F11","U17M","Javelin",null,{"$f":"IF(COUNTIF($T$52:$T$77,\"A\")=0,\"-\",INDIRECT(CONCATENATE(\"B\",MATCH(\"A\",$T$49:$T$77,0)+48)))","v":"Aidon Sahni"},{"$f":"IF(COUNTIF($T$52:$T$77,\"B\")=0,\"-\",INDIRECT(CONCATENATE(\"B\",MATCH(\"B\",$T$49:$T$77,0)+48)))","v":"-"},{"$f":"IF(COUNTIF($AN$52:$AN$77,\"A\")=0,\"-\",INDIRECT(CONCATENATE(\"V\",MATCH(\"A\",$AN$49:$AN$77,0)+48)))","v":"Kyle Nicholson"},{"$f":"IF(COUNTIF($AN$52:$AN$77,\"B\")=0,\"-\",INDIRECT(CONCATENATE(\"V\",MATCH(\"B\",$AN$49:$AN$77,0)+48)))","v":"Joshua Asbrey"},{"$f":"IF(COUNTIF($BH$52:$BH$77,\"A\")=0,\"-\",INDIRECT(CONCATENATE(\"AP\",MATCH(\"A\",$BH$49:$BH$77,0)+48)))","v":"-"},{"$f":"IF(COUNTIF($BH$52:$BH$77,\"B\")=0,\"-\",INDIRECT(CONCATENATE(\"AP\",MATCH(\"B\",$BH$49:$BH$77,0)+48)))","v":"-"},"Event Cancelled","No Competitors","Opening Height Not Cleared",null,39]
[36,null,null,null,null,null,null,null,null,null,null,null,null,null,null,null,null,null,null,null,null,null,null,null,null,null,null,null,null,null,null,null,null,null,null,null,null,null,null,null,null,null,null,null,null,null,null,null,null,null,null,null,null,null,null,null,null,null,null,null,null,null,null,"F12","U13B","High Jump",null,{"$f":"IF(COUNTIF($P$4:$P$20,\"A\")=0,\"-\",INDIRECT(CONCATENATE(\"B\",MATCH(\"A\",$P$1:$P$20,0))))","v":"-"},{"$f":"IF(COUNTIF($P$4:$P$20,\"B\")=0,\"-\",INDIRECT(CONCATENATE(\"B\",MATCH(\"B\",$P$1:$P$20,0))))","v":"-"},{"$f":"IF(COUNTIF($AJ$4:$AJ$20,\"A\")=0,\"-\",INDIRECT(CONCATENATE(\"V\",MATCH(\"A\",$AJ$1:$AJ$20,0))))","v":"-"},{"$f":"IF(COUNTIF($AJ$4:$AJ$20,\"B\")=0,\"-\",INDIRECT(CONCATENATE(\"V\",MATCH(\"B\",$AJ$1:$AJ$20,0))))","v":"Luke Cherrie"},{"$f":"IF(COUNTIF($BD$4:$BD$20,\"A\")=0,\"-\",INDIRECT(CONCATENATE(\"AP\",MATCH(\"A\",$BD$1:$BD$20,0))))","v":"-"},{"$f":"IF(COUNTIF($BD$4:$BD$20,\"B\")=0,\"-\",INDIRECT(CONCATENATE(\"AP\",MATCH(\"B\",$BD$1:$BD$20,0))))","v":"-"},"Event Cancelled","No Competitors","Opening Height Not Cleared",null,40]
[37,null,null,null,null,null,null,null,null,null,null,null,null,null,null,null,null,null,null,null,null,null,null,null,null,null,null,null,null,null,null,null,null,null,null,null,null,null,null,null,null,null,null,null,null,null,null,null,null,null,null,null,null,null,null,null,null,null,null,null,null,null,null,"F14","U15B","Pole Vault",null,{"$f":"IF(COUNTIF($Q$24:$Q$48,\"A\")=0,\"-\",INDIRECT(CONCATENATE(\"B\",MATCH(\"A\",$Q$21:$Q$48,0)+20)))","v":"Alistair Mclunty"},{"$f":"IF(COUNTIF($Q$24:$Q$48,\"B\")=0,\"-\",INDIRECT(CONCATENATE(\"B\",MATCH(\"B\",$Q$21:$Q$48,0)+20)))","v":"-"},{"$f":"IF(COUNTIF($AK$24:$AK$48,\"A\")=0,\"-\",INDIRECT(CONCATENATE(\"V\",MATCH(\"A\",$AK$21:$AK$48,0)+20)))","v":"Daniel Flemming"},{"$f":"IF(COUNTIF($AK$24:$AK$48,\"B\")=0,\"-\",INDIRECT(CONCATENATE(\"V\",MATCH(\"B\",$AK$21:$AK$48,0)+20)))","v":"Bradley Kent"},{"$f":"IF(COUNTIF($BE$24:$BE$48,\"A\")=0,\"-\",INDIRECT(CONCATENATE(\"AP\",MATCH(\"A\",$BE$21:$BE$48,0)+20)))","v":"Bob Walker"},{"$f":"IF(COUNTIF($BE$24:$BE$48,\"B\")=0,\"-\",INDIRECT(CONCATENATE(\"AP\",MATCH(\"B\",$BE$21:$BE$48,0)+20)))","v":"-"},"Event Cancelled","No Competitors","Opening Height Not Cleared",null,41]
[38,null,null,null,null,null,null,null,null,null,null,null,null,null,null,null,null,null,null,null,null,null,null,null,null,null,null,null,null,null,null,null,null,null,null,null,null,null,null,null,null,null,null,null,null,null,null,null,null,null,null,null,null,null,null,null,null,null,null,null,null,null,null,"F15","U17M","Pole Vault",null,{"$f":"IF(COUNTIF($Q$52:$Q$77,\"A\")=0,\"-\",INDIRECT(CONCATENATE(\"B\",MATCH(\"A\",$Q$49:$Q$77,0)+48)))","v":"-"},{"$f":"IF(COUNTIF($Q$52:$Q$77,\"B\")=0,\"-\",INDIRECT(CONCATENATE(\"B\",MATCH(\"B\",$Q$49:$Q$77,0)+48)))","v":"-"},{"$f":"IF(COUNTIF($AK$52:$AK$77,\"A\")=0,\"-\",INDIRECT(CONCATENATE(\"V\",MATCH(\"A\",$AK$49:$AK$77,0)+48)))","v":"-"},{"$f":"IF(COUNTIF($AK$52:$AK$77,\"B\")=0,\"-\",INDIRECT(CONCATENATE(\"V\",MATCH(\"B\",$AK$49:$AK$77,0)+48)))","v":"-"},{"$f":"IF(COUNTIF($BE$52:$BE$77,\"A\")=0,\"-\",INDIRECT(CONCATENATE(\"AP\",MATCH(\"A\",$BE$49:$BE$77,0)+48)))","v":"-"},{"$f":"IF(COUNTIF($BE$52:$BE$77,\"B\")=0,\"-\",INDIRECT(CONCATENATE(\"AP\",MATCH(\"B\",$BE$49:$BE$77,0)+48)))","v":"-"},"Event Cancelled","No Competitors","Opening Height Not Cleared",null,42]
[39,null,null,null,null,null,null,null,null,null,null,null,null,null,null,null,null,null,null,null,null,null,null,null,null,null,null,null,null,null,null,null,null,null,null,null,null,null,null,null,null,null,null,null,null,null,null,null,null,null,null,null,null,null,null,null,null,null,null,null,null,null,null,"F19","U17M","Long Jump",null,{"$f":"IF(COUNTIF($N$52:$N$77,\"A\")=0,\"-\",INDIRECT(CONCATENATE(\"B\",MATCH(\"A\",$N$49:$N$77,0)+48)))","v":"Ryan Sutherland"},{"$f":"IF(COUNTIF($N$52:$N$77,\"B\")=0,\"-\",INDIRECT(CONCATENATE(\"B\",MATCH(\"B\",$N$49:$N$77,0)+48)))","v":"Adam Milner"},{"$f":"IF(COUNTIF($AH$52:$AH$77,\"A\")=0,\"-\",INDIRECT(CONCATENATE(\"V\",MATCH(\"A\",$AH$49:$AH$77,0)+48)))","v":"Josh Holden"},{"$f":"IF(COUNTIF($AH$52:$AH$77,\"B\")=0,\"-\",INDIRECT(CONCATENATE(\"V\",MATCH(\"B\",$AH$49:$AH$77,0)+48)))","v":"Jack Harper"},{"$f":"IF(COUNTIF($BB$52:$BB$77,\"A\")=0,\"-\",INDIRECT(CONCATENATE(\"AP\",MATCH(\"A\",$BB$49:$BB$77,0)+48)))","v":"-"},{"$f":"IF(COUNTIF($BB$52:$BB$77,\"B\")=0,\"-\",INDIRECT(CONCATENATE(\"AP\",MATCH(\"B\",$BB$49:$BB$77,0)+48)))","v":"-"},"Event Cancelled","No Competitors","Opening Height Not Cleared",null,43]
[40,null,null,null,null,null,null,null,null,null,null,null,null,null,null,null,null,null,null,null,null,null,null,null,null,null,null,null,null,null,null,null,null,null,null,null,null,null,null,null,null,null,null,null,null,null,null,null,null,null,null,null,null,null,null,null,null,null,null,null,null,null,null,"F22","U13B","Shot",null,{"$f":"IF(COUNTIF($R$4:$R$20,\"A\")=0,\"-\",INDIRECT(CONCATENATE(\"B\",MATCH(\"A\",$R$1:$R$20,0))))","v":"James Mckell"},{"$f":"IF(COUNTIF($R$4:$R$20,\"B\")=0,\"-\",INDIRECT(CONCATENATE(\"B\",MATCH(\"B\",$R$1:$R$20,0))))","v":"Bradley Gabbitas"},{"$f":"IF(COUNTIF($AL$4:$AL$20,\"A\")=0,\"-\",INDIRECT(CONCATENATE(\"V\",MATCH(\"A\",$AL$1:$AL$20,0))))","v":"Oliver Jackson"},{"$f":"IF(COUNTIF($AL$4:$AL$20,\"B\")=0,\"-\",INDIRECT(CONCATENATE(\"V\",MATCH(\"B\",$AL$1:$AL$20,0))))","v":"Maxwell Sheehan"},{"$f":"IF(COUNTIF($BF$4:$BF$20,\"A\")=0,\"-\",INDIRECT(CONCATENATE(\"AP\",MATCH(\"A\",$BF$1:$BF$20,0))))","v":"Jake Steade"},{"$f":"IF(COUNTIF($BF$4:$BF$20,\"B\")=0,\"-\",INDIRECT(CONCATENATE(\"AP\",MATCH(\"B\",$BF$1:$BF$20,0))))","v":"Jacob Worthington"},"Event Cancelled","No Competitors","Opening Height Not Cleared",null,44]
[41,null,null,null,null,null,null,null,null,null,null,null,null,null,null,null,null,null,null,null,null,null,null,null,null,null,null,null,null,null,null,null,null,null,null,null,null,null,null,null,null,null,null,null,null,null,null,null,null,null,null,null,null,null,null,null,null,null,null,null,null,null,null,"F25","U15B","Long Jump",null,{"$f":"IF(COUNTIF($N$24:$N$48,\"A\")=0,\"-\",INDIRECT(CONCATENATE(\"B\",MATCH(\"A\",$N$21:$N$48,0)+20)))","v":"Chris Li"},{"$f":"IF(COUNTIF($N$24:$N$48,\"B\")=0,\"-\",INDIRECT(CONCATENATE(\"B\",MATCH(\"B\",$N$21:$N$48,0)+20)))","v":"-"},{"$f":"IF(COUNTIF($AH$24:$AH$48,\"A\")=0,\"-\",INDIRECT(CONCATENATE(\"V\",MATCH(\"A\",$AH$21:$AH$48,0)+20)))","v":"Oliver Fluck"},{"$f":"IF(COUNTIF($AH$24:$AH$48,\"B\")=0,\"-\",INDIRECT(CONCATENATE(\"V\",MATCH(\"B\",$AH$21:$AH$48,0)+20)))","v":"Frazer McDowall"},{"$f":"IF(COUNTIF($BB$24:$BB$48,\"A\")=0,\"-\",INDIRECT(CONCATENATE(\"AP\",MATCH(\"A\",$BB$21:$BB$48,0)+20)))","v":"Thomas Hughes"},{"$f":"IF(COUNTIF($BB$24:$BB$48,\"B\")=0,\"-\",INDIRECT(CONCATENATE(\"AP\",MATCH(\"B\",$BB$21:$BB$48,0)+20)))","v":"James Lee"},"Event Cancelled","No Competitors","Opening Height Not Cleared",null,45]
[42,null,null,null,null,null,null,null,null,null,null,null,null,null,null,null,null,null,null,null,null,null,null,null,null,null,null,null,null,null,null,null,null,null,null,null,null,null,null,null,null,null,null,null,null,null,null,null,null,null,null,null,null,null,null,null,null,null,null,null,null,null,null,"F26","U15B","Discus",null,{"$f":"IF(COUNTIF($S$24:$S$48,\"A\")=0,\"-\",INDIRECT(CONCATENATE(\"B\",MATCH(\"A\",$S$21:$S$48,0)+20)))","v":"Daniel Salt"},{"$f":"IF(COUNTIF($S$24:$S$48,\"B\")=0,\"-\",INDIRECT(CONCATENATE(\"B\",MATCH(\"B\",$S$21:$S$48,0)+20)))","v":"Toby Leverette"},{"$f":"IF(COUNTIF($AM$24:$AM$48,\"A\")=0,\"-\",INDIRECT(CONCATENATE(\"V\",MATCH(\"A\",$AM$21:$AM$48,0)+20)))","v":"Daniel Flemming"},{"$f":"IF(COUNTIF($AM$24:$AM$48,\"B\")=0,\"-\",INDIRECT(CONCATENATE(\"V\",MATCH(\"B\",$AM$21:$AM$48,0)+20)))","v":"Michael Harper"},{"$f":"IF(COUNTIF($BG$24:$BG$48,\"A\")=0,\"-\",INDIRECT(CONCATENATE(\"AP\",MATCH(\"A\",$BG$21:$BG$48,0)+20)))","v":"OscarBryce"},{"$f":"IF(COUNTIF($BG$24:$BG$48,\"B\")=0,\"-\",INDIRECT(CONCATENATE(\"AP\",MATCH(\"B\",$BG$21:$BG$48,0)+20)))","v":"Sam Draycott"},"Event Cancelled","No Competitors","Opening Height Not Cleared",null,46]
[null,null,null,null,null,null,null,null,null,null,null,null,null,null,null,null,null,null,null,null,null,null,null,null,null,null,null,null,null,null,null,null,null,null,null,null,null,null,null,null,null,null,null,null,null,null,null,null,null,null,null,null,null,null,null,null,null,null,null,null,null,null,null,"F27","U17M","Discus",null,{"$f":"IF(COUNTIF($S$52:$S$77,\"A\")=0,\"-\",INDIRECT(CONCATENATE(\"B\",MATCH(\"A\",$S$49:$S$77,0)+48)))","v":"Niall Hunt"},{"$f":"IF(COUNTIF($S$52:$S$77,\"B\")=0,\"-\",INDIRECT(CONCATENATE(\"B\",MATCH(\"B\",$S$49:$S$77,0)+48)))","v":"James Smith"},{"$f":"IF(COUNTIF($AM$52:$AM$77,\"A\")=0,\"-\",INDIRECT(CONCATENATE(\"V\",MATCH(\"A\",$AM$49:$AM$77,0)+48)))","v":"Dominic Sykes"},{"$f":"IF(COUNTIF($AM$52:$AM$77,\"B\")=0,\"-\",INDIRECT(CONCATENATE(\"V\",MATCH(\"B\",$AM$49:$AM$77,0)+48)))","v":"Josh Holden"},{"$f":"IF(COUNTIF($BG$52:$BG$77,\"A\")=0,\"-\",INDIRECT(CONCATENATE(\"AP\",MATCH(\"A\",$BG$49:$BG$77,0)+48)))","v":"Anthony Tierney"},{"$f":"IF(COUNTIF($BG$52:$BG$77,\"B\")=0,\"-\",INDIRECT(CONCATENATE(\"AP\",MATCH(\"B\",$BG$49:$BG$77,0)+48)))","v":"-"},"Event Cancelled","No Competitors","Opening Height Not Cleared",null,47]
[null,null,null,null,null,null,null,null,null,null,null,null,null,null,null,null,null,null,null,null,null,null,null,null,null,null,null,null,null,null,null,null,null,null,null,null,null,null,null,null,null,null,null,null,null,null,null,null,null,null,null,null,null,null,null,null,null,null,null,null,null,null,null,"F30","U17M","Shot",null,{"$f":"IF(COUNTIF($R$52:$R$77,\"A\")=0,\"-\",INDIRECT(CONCATENATE(\"B\",MATCH(\"A\",$R$49:$R$77,0)+48)))","v":"Niall Hunt"},{"$f":"IF(COUNTIF($R$52:$R$77,\"B\")=0,\"-\",INDIRECT(CONCATENATE(\"B\",MATCH(\"B\",$R$49:$R$77,0)+48)))","v":"James Smith"},{"$f":"IF(COUNTIF($AL$52:$AL$77,\"A\")=0,\"-\",INDIRECT(CONCATENATE(\"V\",MATCH(\"A\",$AL$49:$AL$77,0)+48)))","v":"Dominic Sykes"},{"$f":"IF(COUNTIF($AL$52:$AL$77,\"B\")=0,\"-\",INDIRECT(CONCATENATE(\"V\",MATCH(\"B\",$AL$49:$AL$77,0)+48)))","v":"Sam Shuttleworth"},{"$f":"IF(COUNTIF($BF$52:$BF$77,\"A\")=0,\"-\",INDIRECT(CONCATENATE(\"AP\",MATCH(\"A\",$BF$49:$BF$77,0)+48)))","v":"-"},{"$f":"IF(COUNTIF($BF$52:$BF$77,\"B\")=0,\"-\",INDIRECT(CONCATENATE(\"AP\",MATCH(\"B\",$BF$49:$BF$77,0)+48)))","v":"-"},"Event Cancelled","No Competitors","Opening Height Not Cleared",null,48]
[null,{"$f":"CONCATENATE(Handbook!$AA$1,\" Athletes\")","v":"U17M Athletes"},null,null,null,null,null,null,null,null,null,null,null,null,null,null,null,null,null,null,null,{"$f":"B51","v":"U17M Athletes"},null,null,null,null,null,null,null,null,null,null,null,null,null,null,null,null,null,null,null,{"$f":"B51","v":"U17M Athletes"},null,null,null,null,null,null,null,null,null,null,null,null,null,null,null,null,null,null,null,null,null,"F31","U17M","Triple Jump",null,{"$f":"IF(COUNTIF($O$52:$O$77,\"A\")=0,\"-\",INDIRECT(CONCATENATE(\"B\",MATCH(\"A\",$O$49:$O$77,0)+48)))","v":"Aidon Sahni"},{"$f":"IF(COUNTIF($O$52:$O$77,\"B\")=0,\"-\",INDIRECT(CONCATENATE(\"B\",MATCH(\"B\",$O$49:$O$77,0)+48)))","v":"-"},{"$f":"IF(COUNTIF($AI$52:$AI$77,\"A\")=0,\"-\",INDIRECT(CONCATENATE(\"V\",MATCH(\"A\",$AI$49:$AI$77,0)+48)))","v":"Joshua Asbrey"},{"$f":"IF(COUNTIF($AI$52:$AI$77,\"B\")=0,\"-\",INDIRECT(CONCATENATE(\"V\",MATCH(\"B\",$AI$49:$AI$77,0)+48)))","v":"Joe Wilkinson"},{"$f":"IF(COUNTIF($BC$52:$BC$77,\"A\")=0,\"-\",INDIRECT(CONCATENATE(\"AP\",MATCH(\"A\",$BC$49:$BC$77,0)+48)))","v":"-"},{"$f":"IF(COUNTIF($BC$52:$BC$77,\"B\")=0,\"-\",INDIRECT(CONCATENATE(\"AP\",MATCH(\"B\",$BC$49:$BC$77,0)+48)))","v":"-"},"Event Cancelled","No Competitors","Opening Height Not Cleared",null,49]
[43,"Aidon Sahni",null,"B",null,null,null,null,null,null,null,null,null,null,"A",null,null,null,null,"A",null,"Harry Baxter",null,null,null,null,null,"B",null,null,null,null,null,null,null,null,null,null,null,null,null,"Anthony Tierney",null,null,null,null,null,"A",null,"B",null,4,null,null,null,null,null,null,"A"]
[44,"Niall Hunt",null,null,null,null,null,null,null,null,null,1,null,null,null,null,null,"A","A",null,"A","Haran Dunderdale",null,null,null,null,null,null,null,null,"A",null,null,null,null,null,null,null,null,null,null,"Dipo Ola",null,null,"A",null,null,"B",null,null,null,1,null,null,null,"A"]
[45,"Adam Milner","A","A",null,null,null,null,null,null,null,2,null,"B",null,null,null,null,null,null,null,"Dylan Love ",null,"A",null,"A",null,null,null,null,null,null,2,null,null,null,null,null,null,null,null,"Josh Dyball",null,"A",null,null,null,null,null,"A",null,3]
[46,"James Smith",null,null,null,null,null,null,null,null,null,3,null,null,null,null,null,"B","B",null,"B","Joshua Asbrey",null,null,null,null,null,null,"A",null,null,null,null,null,"A",null,null,null,null,"B",null,"Tom Bains",null,null,null,null,null,null,"A",null,null,2]
[47,"Ryan Sutherland",null,null,null,null,null,null,null,null,null,null,null,"A",null,null,null,null,null,null,null,"Joe Wilkinson",null,null,null,"B",null,null,null,null,null,null,3,null,"B",null,null,null,null,null,null,"Matt Davies",null,null,null,null,null,null,"B"]
[48,"Ben Aitkin-Porter",null,null,null,null,null,"B",null,"B",null,4,null,null,null,null,null,null,null,null,null,"Sam Shuttleworth",null,null,null,null,null,null,null,"A",null,3,null,null,null,null,null,"B"]
[49,null,null,null,null,null,null,null,null,null,null,null,null,null,null,null,null,null,null,null,null,"Kyle Nicholson",null,null,null,null,null,null,"B",null,"B",null,4,null,null,null,null,null,null,"A"]
[50,null,null,null,null,null,null,null,null,null,null,null,null,null,null,null,null,null,null,null,null,"Richard Brine",null,"B",null,null,null,null,null,null,null,null,1]
[51,null,null,null,null,null,null,null,null,null,null,null,null,null,null,null,null,null,null,null,null,"Sam Chapman",null,null,"A",null,null,"A",null,null,null,1,null,null,null,"B"]
[52,null,null,null,null,null,null,null,null,null,null,null,null,null,null,null,null,null,null,null,null,"Dominic Sykes",null,null,null,null,null,null,null,null,null,null,null,null,null,null,null,"A","A",null,"A"]
[53,null,null,null,null,null,null,null,null,null,null,null,null,null,null,null,null,null,null,null,null,"Josh Holden",null,null,null,null,null,null,null,null,null,2,null,"A",null,"A",null,null,"B"]
[54,null,null,null,null,null,null,null,null,null,null,null,null,null,null,null,null,null,null,null,null,"Jack Harper",null,null,"B",null,null,null,null,"B",null,4,null,"B"]
[55]
[56]
[57]
[58]
[59]
[60]
[61]
[62]
[63]
[64]
[65]
[66]
[67]
[68]
[69]

{"sheet":"Girls (Match 2)","index":10,"n_rows":78,"n_cols":78,"rows_kept":78,"cut":false,"hidden":false,"merged":[[1,67,1,68],[1,69,1,70],[1,71,1,72],[0,2,0,6],[0,7,0,11],[0,22,0,26],[0,27,0,31],[0,42,0,46],[0,47,0,51]]}
[null,"TRACK","FIELD",null,null,null,null,"RELAY",null,null,null,null,null,null,null,null,null,null,null,null,null,"TRACK","FIELD",null,null,null,null,"RELAY",null,null,null,null,null,null,null,null,null,null,null,null,null,"TRACK","FIELD",null,null,null,null,"RELAY"]
[null,{"$f":"MatchDay!I11","v":"2DASH"},"Sprint H","800m","75m/100m","3000m","300mH","150/200m","1500m","300m","1500m S/C","4x100m R","4x300m R","Long J","Triple J","High J","Pole V","Shot","Discus","Javelin","Hammer",{"$f":"MatchDay!I13","v":"Lincoln Wellington"},"Sprint H","800m","75m/100m","3000m","300mH","150/200m","1500m","300m","1500m S/C","4x100m R","4x300m R","Long J","Triple J","High J","Pole V","Shot","Discus","Javelin","Hammer",{"$f":"MatchDay!I15","v":"Hallamshire Harr"},"Sprint H","800m","75m/100m","3000m","300mH","150/200m","1500m","300m","1500m S/C","4x100m R","4x300m R","Long J","Triple J","High J","Pole V","Shot","Discus","Javelin","Hammer",null,null,"Event No","Age G",null,null,{"$f":"B2","v":"2DASH"},null,{"$f":"V2","v":"Lincoln Wellington"},null,{"$f":"AP2","v":"Hallamshire Harr"}]
[null,{"$f":"CONCATENATE(Handbook!$V$1,\" Athletes\")","v":"U13G Athletes"},null,null,null,null,null,null,null,null,null,null,null,null,null,null,null,null,null,null,null,{"$f":"B3","v":"U13G Athletes"},null,null,null,null,null,null,null,null,null,null,null,null,null,null,null,null,null,null,null,{"$f":"B3","v":"U13G Athletes"},null,null,null,null,null,null,null,null,null,null,null,null,null,null,null,null,null,null,null,null,"A",null,null,null,null,{"$f":"MatchDay!H11","v":1},{"$f":"MatchDay!H38","v":11},{"$f":"MatchDay!H13","v":2},{"$f":"MatchDay!H40","v":22},{"$f":"MatchDay!H15","v":3},{"$f":"MatchDay!H42","v":33},101,102,103,null,"Row"]
[1,"Libby Beach","A",null,null,null,null,null,"A",null,null,1,null,null,null,null,null,null,null,null,null,"Holly Horton",null,null,null,null,null,"B",null,null,null,1,null,null,null,null,null,"B",null,null,null,"Lydia Brown",null,null,"A",null,null,"B",null,null,null,null,null,null,null,null,null,null,null,null,null,null,"B","T1",{"$f":"VLOOKUP($BL4,eventno,2,FALSE)","v":"U13G"},{"$f":"VLOOKUP($BL4,eventno,3,FALSE)","v":"70m H"},null,{"$f":"IF(COUNTIF($C$4:$C$20,\"A\")=0,\"-\",INDIRECT(CONCATENATE(\"B\",MATCH(\"A\",$C$1:$C$20,0))))","v":"Libby Beach"},{"$f":"IF(COUNTIF($C$4:$C$20,\"B\")=0,\"-\",INDIRECT(CONCATENATE(\"B\",MATCH(\"B\",$C$1:$C$20,0))))","v":"Jessica Wragg"},{"$f":"IF(COUNTIF($W$4:$W$20,\"A\")=0,\"-\",INDIRECT(CONCATENATE(\"V\",MATCH(\"A\",$W$1:$W$20,0))))","v":"Rhiannon Martin"},{"$f":"IF(COUNTIF($W$4:$W$20,\"B\")=0,\"-\",INDIRECT(CONCATENATE(\"V\",MATCH(\"B\",$W$1:$W$20,0))))","v":"Megan Brockie"},{"$f":"IF(COUNTIF($AQ$4:$AQ$20,\"A\")=0,\"-\",INDIRECT(CONCATENATE(\"AP\",MATCH(\"A\",$AQ$1:$AQ$20,0))))","v":"Lilly Fletcher"},{"$f":"IF(COUNTIF($AQ$4:$AQ$20,\"B\")=0,\"-\",INDIRECT(CONCATENATE(\"AP\",MATCH(\"B\",$AQ$1:$AQ$20,0))))","v":"-"},"Event Cancelled","No Competitors","Opening Height Not Cleared",null,2]
[2,"Anna Manfred",null,"A",null,null,null,null,null,null,null,null,null,null,null,"B",null,null,null,null,null,"Georgina Campion",null,null,"A",null,null,"A",null,null,null,4,null,null,null,null,null,null,null,null,null,"Caitlin Hawley",null,null,"B",null,null,null,null,null,null,4,null,null,null,null,null,null,null,null,null,null,null,"T3",{"$f":"VLOOKUP(BL5,eventno,2,FALSE)","v":"U15G"},"75m H",null,{"$f":"IF(COUNTIF($C$24:$C$48,\"A\")=0,\"-\",INDIRECT(CONCATENATE(\"B\",MATCH(\"A\",$C$21:$C$48,0)+20)))","v":"-"},{"$f":"IF(COUNTIF($C$24:$C$48,\"B\")=0,\"-\",INDIRECT(CONCATENATE(\"B\",MATCH(\"B\",$C$21:$C$48,0)+20)))","v":"-"},{"$f":"IF(COUNTIF($W$24:$W$48,\"A\")=0,\"-\",INDIRECT(CONCATENATE(\"V\",MATCH(\"A\",$W$21:$W$48,0)+20)))","v":"Allison Mouzon"},{"$f":"IF(COUNTIF($W$24:$W$48,\"B\")=0,\"-\",INDIRECT(CONCATENATE(\"V\",MATCH(\"B\",$W$21:$W$48,0)+20)))","v":"Lauren Ward"},{"$f":"IF(COUNTIF($AQ$24:$AQ$48,\"A\")=0,\"-\",INDIRECT(CONCATENATE(\"AP\",MATCH(\"A\",$AQ$21:$AQ$48,0)+20)))","v":"Charlotte Mather"},{"$f":"IF(COUNTIF($AQ$24:$AQ$48,\"B\")=0,\"-\",INDIRECT(CONCATENATE(\"AP\",MATCH(\"B\",$AQ$21:$AQ$48,0)+20)))","v":"Kate DeSouza"},"Event Cancelled","No Competitors","Opening Height Not Cleared",null,3]
[3,"Maria Masserella",null,null,null,null,null,null,null,null,null,null,null,null,null,null,null,"B",null,null,null,"Laura Wilkinson",null,"A",null,null,null,null,null,null,null,null,null,"A",null,null,null,"A",null,null,null,"Gabby Craft",null,null,null,null,null,"A",null,null,null,2,null,"A",null,null,null,null,null,null,null,null,1,"T4","U17W","80m H",null,{"$f":"IF(COUNTIF($C$52:$C$77,\"A\")=0,\"-\",INDIRECT(CONCATENATE(\"B\",MATCH(\"A\",$C$49:$C$77,0)+48)))","v":"Hannah Short"},{"$f":"IF(COUNTIF($C$52:$C$77,\"B\")=0,\"-\",INDIRECT(CONCATENATE(\"B\",MATCH(\"B\",$C$49:$C$77,0)+48)))","v":"-"},{"$f":"IF(COUNTIF($W$52:$W$77,\"A\")=0,\"-\",INDIRECT(CONCATENATE(\"V\",MATCH(\"A\",$W$49:$W$77,0)+48)))","v":"Katie McMunn"},{"$f":"IF(COUNTIF($W$52:$W$77,\"B\")=0,\"-\",INDIRECT(CONCATENATE(\"V\",MATCH(\"B\",$W$49:$W$77,0)+48)))","v":"-"},{"$f":"IF(COUNTIF($AQ$52:$AQ$77,\"A\")=0,\"-\",INDIRECT(CONCATENATE(\"AP\",MATCH(\"A\",$AQ$49:$AQ$77,0)+48)))","v":"-"},{"$f":"IF(COUNTIF($AQ$52:$AQ$77,\"B\")=0,\"-\",INDIRECT(CONCATENATE(\"AP\",MATCH(\"B\",$AQ$49:$AQ$77,0)+48)))","v":"-"},"Event Cancelled","No Competitors","Opening Height Not Cleared",null,4]
[4,"Morgan Swales",null,null,"B",null,null,null,null,null,null,4,null,null,null,null,null,null,null,null,null,"Rhiannon Martin","A",null,null,null,null,null,"A",null,null,2,null,null,null,"A",null,null,null,null,null,"Lilly Fletcher","A","A",null,null,null,null,null,null,null,null,null,null,null,null,null,null,null,null,null,null,2,"T7","U17W","800m",null,{"$f":"IF(COUNTIF($D$52:$D$77,\"A\")=0,\"-\",INDIRECT(CONCATENATE(\"B\",MATCH(\"A\",$D$49:$D$77,0)+48)))","v":"-"},{"$f":"IF(COUNTIF($D$52:$D$77,\"B\")=0,\"-\",INDIRECT(CONCATENATE(\"B\",MATCH(\"B\",$D$49:$D$77,0)+48)))","v":"-"},{"$f":"IF(COUNTIF($X$52:$X$77,\"A\")=0,\"-\",INDIRECT(CONCATENATE(\"V\",MATCH(\"A\",$X$49:$X$77,0)+48)))","v":"-"},{"$f":"IF(COUNTIF($X$52:$X$77,\"B\")=0,\"-\",INDIRECT(CONCATENATE(\"V\",MATCH(\"B\",$X$49:$X$77,0)+48)))","v":"-"},{"$f":"IF(COUNTIF($AR$52:$AR$77,\"A\")=0,\"-\",INDIRECT(CONCATENATE(\"AP\",MATCH(\"A\",$AR$49:$AR$77,0)+48)))","v":"Hannah Fletcher"},{"$f":"IF(COUNTIF($AR$52:$AR$77,\"B\")=0,\"-\",INDIRECT(CONCATENATE(\"AP\",MATCH(\"B\",$AR$49:$AR$77,0)+48)))","v":"Claire Wilsher"},"Event Cancelled","No Competitors","Opening Height Not Cleared",null,5]
[5,"Jessica Wragg","B",null,null,null,null,null,null,null,null,null,null,"A",null,null,null,null,null,null,null,"Megan Brockie","B",null,"B",null,null,null,null,null,null,3,null,null,null,"B",null,null,null,null,null,"Caitlin Tevendale",null,"B",null,null,null,null,null,null,null,null,null,null,null,null,null,"B",null,null,null,null,3,"T8","U15G","800m",null,{"$f":"IF(COUNTIF($D$24:$D$48,\"A\")=0,\"-\",INDIRECT(CONCATENATE(\"B\",MATCH(\"A\",$D$21:$D$48,0)+20)))","v":"Catriona Mckell"},{"$f":"IF(COUNTIF($D$24:$D$48,\"B\")=0,\"-\",INDIRECT(CONCATENATE(\"B\",MATCH(\"B\",$D$21:$D$48,0)+20)))","v":"-"},{"$f":"IF(COUNTIF($X$24:$X$48,\"A\")=0,\"-\",INDIRECT(CONCATENATE(\"V\",MATCH(\"A\",$X$21:$X$48,0)+20)))","v":"Lucy Read"},{"$f":"IF(COUNTIF($X$24:$X$48,\"B\")=0,\"-\",INDIRECT(CONCATENATE(\"V\",MATCH(\"B\",$X$21:$X$48,0)+20)))","v":"-"},{"$f":"IF(COUNTIF($AR$24:$AR$48,\"A\")=0,\"-\",INDIRECT(CONCATENATE(\"AP\",MATCH(\"A\",$AR$21:$AR$48,0)+20)))","v":"Charlotte Slack"},{"$f":"IF(COUNTIF($AR$24:$AR$48,\"B\")=0,\"-\",INDIRECT(CONCATENATE(\"AP\",MATCH(\"B\",$AR$21:$AR$48,0)+20)))","v":"Georgia Hird"},"Event Cancelled","No Competitors","Opening Height Not Cleared",null,6]
[6,"Talitha Thompson",null,"B",null,null,null,null,null,null,null,null,null,null,null,"A",null,null,null,null,null,"Clea Butcher",null,"B",null,null,null,null,null,null,null,null,null,"B",null,null,null,null,null,null,null,"Imani Wilson",null,null,null,null,null,null,"A",null,null,3,null,null,null,null,null,null,null,null,null,null,4,"T9","U13G","800m",null,{"$f":"IF(COUNTIF($D$4:$D$20,\"A\")=0,\"-\",INDIRECT(CONCATENATE(\"B\",MATCH(\"A\",$D$1:$D$20,0))))","v":"Anna Manfred"},{"$f":"IF(COUNTIF($D$4:$D$20,\"B\")=0,\"-\",INDIRECT(CONCATENATE(\"B\",MATCH(\"B\",$D$1:$D$20,0))))","v":"Talitha Thompson"},{"$f":"IF(COUNTIF($X$4:$X$20,\"A\")=0,\"-\",INDIRECT(CONCATENATE(\"V\",MATCH(\"A\",$X$1:$X$20,0))))","v":"Laura Wilkinson"},{"$f":"IF(COUNTIF($X$4:$X$20,\"B\")=0,\"-\",INDIRECT(CONCATENATE(\"V\",MATCH(\"B\",$X$1:$X$20,0))))","v":"Clea Butcher"},{"$f":"IF(COUNTIF($AR$4:$AR$20,\"A\")=0,\"-\",INDIRECT(CONCATENATE(\"AP\",MATCH(\"A\",$AR$1:$AR$20,0))))","v":"Lilly Fletcher"},{"$f":"IF(COUNTIF($AR$4:$AR$20,\"B\")=0,\"-\",INDIRECT(CONCATENATE(\"AP\",MATCH(\"B\",$AR$1:$AR$20,0))))","v":"Caitlin Tevendale"},"Event Cancelled","No Competitors","Opening Height Not Cleared",null,7]
[7,"Hope Leverette",null,null,null,null,null,"B",null,null,null,3,null,"B",null,null,null,null,null,null,null,"Libby Ball",null,null,null,null,null,null,"B",null,null,null,null,null,null,null,null,null,null,null,null,"Mary McCarthy",null,null,null,null,null,null,"B",null,null,null,null,null,null,null,null,"A",null,null,null,null,null,"T13","U13G","75m",null,{"$f":"IF(COUNTIF($E$4:$E$20,\"A\")=0,\"-\",INDIRECT(CONCATENATE(\"B\",MATCH(\"A\",$E$1:$E$20,0))))","v":"Dayna Downs"},{"$f":"IF(COUNTIF($E$4:$E$20,\"B\")=0,\"-\",INDIRECT(CONCATENATE(\"B\",MATCH(\"B\",$E$1:$E$20,0))))","v":"Morgan Swales"},{"$f":"IF(COUNTIF($Y$4:$Y$20,\"A\")=0,\"-\",INDIRECT(CONCATENATE(\"V\",MATCH(\"A\",$Y$1:$Y$20,0))))","v":"Georgina Campion"},{"$f":"IF(COUNTIF($Y$4:$Y$20,\"B\")=0,\"-\",INDIRECT(CONCATENATE(\"V\",MATCH(\"B\",$Y$1:$Y$20,0))))","v":"Megan Brockie"},{"$f":"IF(COUNTIF($AS$4:$AS$20,\"A\")=0,\"-\",INDIRECT(CONCATENATE(\"AP\",MATCH(\"A\",$AS$1:$AS$20,0))))","v":"Lydia Brown"},{"$f":"IF(COUNTIF($AS$4:$AS$20,\"B\")=0,\"-\",INDIRECT(CONCATENATE(\"AP\",MATCH(\"B\",$AS$1:$AS$20,0))))","v":"Caitlin Hawley"},"Event Cancelled","No Competitors","Opening Height Not Cleared",null,8]
[8,"Dayna Downs",null,null,"A",null,null,"A",null,null,null,2,null,null,null,null,null,null,null,null,null,null,null,null,null,null,null,null,null,null,null,null,null,null,null,null,null,null,null,null,null,"Hannah Bellamy",null,null,null,null,null,null,null,null,null,1,null,"B",null,null,null,null,null,null,null,null,null,"T14","U17W","100m",null,{"$f":"IF(COUNTIF($E$52:$E$77,\"A\")=0,\"-\",INDIRECT(CONCATENATE(\"B\",MATCH(\"A\",$E$49:$E$77,0)+48)))","v":"-"},{"$f":"IF(COUNTIF($E$52:$E$77,\"B\")=0,\"-\",INDIRECT(CONCATENATE(\"B\",MATCH(\"B\",$E$49:$E$77,0)+48)))","v":"-"},{"$f":"IF(COUNTIF($Y$52:$Y$77,\"A\")=0,\"-\",INDIRECT(CONCATENATE(\"V\",MATCH(\"A\",$Y$49:$Y$77,0)+48)))","v":"-"},{"$f":"IF(COUNTIF($Y$52:$Y$77,\"B\")=0,\"-\",INDIRECT(CONCATENATE(\"V\",MATCH(\"B\",$Y$49:$Y$77,0)+48)))","v":"-"},{"$f":"IF(COUNTIF($AS$52:$AS$77,\"A\")=0,\"-\",INDIRECT(CONCATENATE(\"AP\",MATCH(\"A\",$AS$49:$AS$77,0)+48)))","v":"Nicole Norton"},{"$f":"IF(COUNTIF($AS$52:$AS$77,\"B\")=0,\"-\",INDIRECT(CONCATENATE(\"AP\",MATCH(\"B\",$AS$49:$AS$77,0)+48)))","v":"Rebecca Taylor"},"Event Cancelled","No Competitors","Opening Height Not Cleared",null,9]
[9,"Amy Jackson",null,null,null,null,null,null,"B",null,null,null,null,null,null,null,null,null,null,null,null,null,null,null,null,null,null,null,null,null,null,null,null,null,null,null,null,null,null,null,null,null,null,null,null,null,null,null,null,null,null,null,null,null,null,null,null,null,null,null,null,null,null,"T15","U15G","100m",null,{"$f":"IF(COUNTIF($E$24:$E$48,\"A\")=0,\"-\",INDIRECT(CONCATENATE(\"B\",MATCH(\"A\",$E$21:$E$48,0)+20)))","v":"Eleanor Rawson"},{"$f":"IF(COUNTIF($E$24:$E$48,\"B\")=0,\"-\",INDIRECT(CONCATENATE(\"B\",MATCH(\"B\",$E$21:$E$48,0)+20)))","v":"Emily Miles"},{"$f":"IF(COUNTIF($Y$24:$Y$48,\"A\")=0,\"-\",INDIRECT(CONCATENATE(\"V\",MATCH(\"A\",$Y$21:$Y$48,0)+20)))","v":"Georgie Edwards"},{"$f":"IF(COUNTIF($Y$24:$Y$48,\"B\")=0,\"-\",INDIRECT(CONCATENATE(\"V\",MATCH(\"B\",$Y$21:$Y$48,0)+20)))","v":"Alex Jackson"},{"$f":"IF(COUNTIF($AS$24:$AS$48,\"A\")=0,\"-\",INDIRECT(CONCATENATE(\"AP\",MATCH(\"A\",$AS$21:$AS$48,0)+20)))","v":"Francesca Shaw"},{"$f":"IF(COUNTIF($AS$24:$AS$48,\"B\")=0,\"-\",INDIRECT(CONCATENATE(\"AP\",MATCH(\"B\",$AS$21:$AS$48,0)+20)))","v":"Elaine Williams"},"Event Cancelled","No Competitors","Opening Height Not Cleared",null,10]
[10,null,null,null,null,null,null,null,null,null,null,null,null,null,null,null,null,null,null,null,null,null,null,null,null,null,null,null,null,null,null,null,null,null,null,null,null,null,null,null,null,null,null,null,null,null,null,null,null,null,null,null,null,null,null,null,null,null,null,null,null,null,null,"T20","U17W","3000m",null,{"$f":"IF(COUNTIF($F$52:$F$77,\"A\")=0,\"-\",INDIRECT(CONCATENATE(\"B\",MATCH(\"A\",$F$49:$F$77,0)+48)))","v":"-"},{"$f":"IF(COUNTIF($F$52:$F$77,\"B\")=0,\"-\",INDIRECT(CONCATENATE(\"B\",MATCH(\"B\",$F$49:$F$77,0)+48)))","v":"-"},{"$f":"IF(COUNTIF($Z$52:$Z$77,\"A\")=0,\"-\",INDIRECT(CONCATENATE(\"V\",MATCH(\"A\",$Z$49:$Z$77,0)+48)))","v":"-"},{"$f":"IF(COUNTIF($Z$52:$Z$77,\"B\")=0,\"-\",INDIRECT(CONCATENATE(\"V\",MATCH(\"B\",$Z$49:$Z$77,0)+48)))","v":"-"},{"$f":"IF(COUNTIF($AT$52:$AT$77,\"A\")=0,\"-\",INDIRECT(CONCATENATE(\"AP\",MATCH(\"A\",$AT$49:$AT$77,0)+48)))","v":"-"},{"$f":"IF(COUNTIF($AT$52:$AT$77,\"B\")=0,\"-\",INDIRECT(CONCATENATE(\"AP\",MATCH(\"B\",$AT$49:$AT$77,0)+48)))","v":"-"},"Event Cancelled","No Competitors","Opening Height Not Cleared",null,11]
[11,null,null,null,null,null,null,null,null,null,null,null,null,null,null,null,null,null,null,null,null,null,null,null,null,null,null,null,null,null,null,null,null,null,null,null,null,null,null,null,null,null,null,null,null,null,null,null,null,null,null,null,null,null,null,null,null,null,null,null,null,null,null,"T21","U17W","300m H",null,{"$f":"IF(COUNTIF($G$52:$G$77,\"A\")=0,\"-\",INDIRECT(CONCATENATE(\"B\",MATCH(\"A\",$G$49:$G$77,0)+48)))","v":"-"},{"$f":"IF(COUNTIF($G$52:$G$77,\"B\")=0,\"-\",INDIRECT(CONCATENATE(\"B\",MATCH(\"B\",$G$49:$G$77,0)+48)))","v":"-"},{"$f":"IF(COUNTIF($AA$52:$AA$77,\"A\")=0,\"-\",INDIRECT(CONCATENATE(\"V\",MATCH(\"A\",$AA$49:$AA$77,0)+48)))","v":"Sydney Cherrie"},{"$f":"IF(COUNTIF($AA$52:$AA$77,\"B\")=0,\"-\",INDIRECT(CONCATENATE(\"V\",MATCH(\"B\",$AA$49:$AA$77,0)+48)))","v":"-"},{"$f":"IF(COUNTIF($AU$52:$AU$77,\"A\")=0,\"-\",INDIRECT(CONCATENATE(\"AP\",MATCH(\"A\",$AU$49:$AU$77,0)+48)))","v":"-"},{"$f":"IF(COUNTIF($AU$52:$AU$77,\"B\")=0,\"-\",INDIRECT(CONCATENATE(\"AP\",MATCH(\"B\",$AU$49:$AU$77,0)+48)))","v":"-"},"Event Cancelled","No Competitors","Opening Height Not Cleared",null,12]
[12,null,null,null,null,null,null,null,null,null,null,null,null,null,null,null,null,null,null,null,null,null,null,null,null,null,null,null,null,null,null,null,null,null,null,null,null,null,null,null,null,null,null,null,null,null,null,null,null,null,null,null,null,null,null,null,null,null,null,null,null,null,null,"T23","U13G","150m",null,{"$f":"IF(COUNTIF($H$4:$H$20,\"A\")=0,\"-\",INDIRECT(CONCATENATE(\"B\",MATCH(\"A\",$H$1:$H$20,0))))","v":"Dayna Downs"},{"$f":"IF(COUNTIF($H$4:$H$20,\"B\")=0,\"-\",INDIRECT(CONCATENATE(\"B\",MATCH(\"B\",$H$1:$H$20,0))))","v":"Hope Leverette"},{"$f":"IF(COUNTIF($AB$4:$AB$20,\"A\")=0,\"-\",INDIRECT(CONCATENATE(\"V\",MATCH(\"A\",$AB$1:$AB$20,0))))","v":"Georgina Campion"},{"$f":"IF(COUNTIF($AB$4:$AB$20,\"B\")=0,\"-\",INDIRECT(CONCATENATE(\"V\",MATCH(\"B\",$AB$1:$AB$20,0))))","v":"Holly Horton"},{"$f":"IF(COUNTIF($AV$4:$AV$20,\"A\")=0,\"-\",INDIRECT(CONCATENATE(\"AP\",MATCH(\"A\",$AV$1:$AV$20,0))))","v":"Gabby Craft"},{"$f":"IF(COUNTIF($AV$4:$AV$20,\"B\")=0,\"-\",INDIRECT(CONCATENATE(\"AP\",MATCH(\"B\",$AV$1:$AV$20,0))))","v":"Lydia Brown"},"Event Cancelled","No Competitors","Opening Height Not Cleared",null,13]
[13,null,null,null,null,null,null,null,null,null,null,null,null,null,null,null,null,null,null,null,null,null,null,null,null,null,null,null,null,null,null,null,null,null,null,null,null,null,null,null,null,null,null,null,null,null,null,null,null,null,null,null,null,null,null,null,null,null,null,null,null,null,null,"T25","U15G","200m",null,{"$f":"IF(COUNTIF($H$24:$H$48,\"A\")=0,\"-\",INDIRECT(CONCATENATE(\"B\",MATCH(\"A\",$H$21:$H$48,0)+20)))","v":"Eleanor Rawson"},{"$f":"IF(COUNTIF($H$24:$H$48,\"B\")=0,\"-\",INDIRECT(CONCATENATE(\"B\",MATCH(\"B\",$H$21:$H$48,0)+20)))","v":"Emily Miles"},{"$f":"IF(COUNTIF($AB$24:$AB$48,\"A\")=0,\"-\",INDIRECT(CONCATENATE(\"V\",MATCH(\"A\",$AB$21:$AB$48,0)+20)))","v":"Georgie Edwards"},{"$f":"IF(COUNTIF($AB$24:$AB$48,\"B\")=0,\"-\",INDIRECT(CONCATENATE(\"V\",MATCH(\"B\",$AB$21:$AB$48,0)+20)))","v":"Alex Jackson"},{"$f":"IF(COUNTIF($AV$24:$AV$48,\"A\")=0,\"-\",INDIRECT(CONCATENATE(\"AP\",MATCH(\"A\",$AV$21:$AV$48,0)+20)))","v":"Charlotte Slack"},{"$f":"IF(COUNTIF($AV$24:$AV$48,\"B\")=0,\"-\",INDIRECT(CONCATENATE(\"AP\",MATCH(\"B\",$AV$21:$AV$48,0)+20)))","v":"Francesca Shaw"},"Event Cancelled","No Competitors","Opening Height Not Cleared",null,14]
[14,null,null,null,null,null,null,null,null,null,null,null,null,null,null,null,null,null,null,null,null,null,null,null,null,null,null,null,null,null,null,null,null,null,null,null,null,null,null,null,null,null,null,null,null,null,null,null,null,null,null,null,null,null,null,null,null,null,null,null,null,null,null,"T27","U17W","200m",null,{"$f":"IF(COUNTIF($H$52:$H$77,\"A\")=0,\"-\",INDIRECT(CONCATENATE(\"B\",MATCH(\"A\",$H$49:$H$77,0)+48)))","v":"-"},{"$f":"IF(COUNTIF($H$52:$H$77,\"B\")=0,\"-\",INDIRECT(CONCATENATE(\"B\",MATCH(\"B\",$H$49:$H$77,0)+48)))","v":"-"},{"$f":"IF(COUNTIF($AB$52:$AB$77,\"A\")=0,\"-\",INDIRECT(CONCATENATE(\"V\",MATCH(\"A\",$AB$49:$AB$77,0)+48)))","v":"Lucy Helas"},{"$f":"IF(COUNTIF($AB$52:$AB$77,\"B\")=0,\"-\",INDIRECT(CONCATENATE(\"V\",MATCH(\"B\",$AB$49:$AB$77,0)+48)))","v":"Sydney Cherrie"},{"$f":"IF(COUNTIF($AV$52:$AV$77,\"A\")=0,\"-\",INDIRECT(CONCATENATE(\"AP\",MATCH(\"A\",$AV$49:$AV$77,0)+48)))","v":"Nicole Norton"},{"$f":"IF(COUNTIF($AV$52:$AV$77,\"B\")=0,\"-\",INDIRECT(CONCATENATE(\"AP\",MATCH(\"B\",$AV$49:$AV$77,0)+48)))","v":"Claire Wilsher"},"Event Cancelled","No Competitors","Opening Height Not Cleared",null,15]
[15,null,null,null,null,null,null,null,null,null,null,null,null,null,null,null,null,null,null,null,null,null,null,null,null,null,null,null,null,null,null,null,null,null,null,null,null,null,null,null,null,null,null,null,null,null,null,null,null,null,null,null,null,null,null,null,null,null,null,null,null,null,null,"T29","U13G","1200m",null,{"$f":"IF(COUNTIF($I$4:$I$20,\"A\")=0,\"-\",INDIRECT(CONCATENATE(\"B\",MATCH(\"A\",$I$1:$I$20,0))))","v":"Libby Beach"},{"$f":"IF(COUNTIF($I$4:$I$20,\"B\")=0,\"-\",INDIRECT(CONCATENATE(\"B\",MATCH(\"B\",$I$1:$I$20,0))))","v":"Amy Jackson"},{"$f":"IF(COUNTIF($AC$4:$AC$20,\"A\")=0,\"-\",INDIRECT(CONCATENATE(\"V\",MATCH(\"A\",$AC$1:$AC$20,0))))","v":"Rhiannon Martin"},{"$f":"IF(COUNTIF($AC$4:$AC$20,\"B\")=0,\"-\",INDIRECT(CONCATENATE(\"V\",MATCH(\"B\",$AC$1:$AC$20,0))))","v":"Libby Ball"},{"$f":"IF(COUNTIF($AW$4:$AW$20,\"A\")=0,\"-\",INDIRECT(CONCATENATE(\"AP\",MATCH(\"A\",$AW$1:$AW$20,0))))","v":"Imani Wilson"},{"$f":"IF(COUNTIF($AW$4:$AW$20,\"B\")=0,\"-\",INDIRECT(CONCATENATE(\"AP\",MATCH(\"B\",$AW$1:$AW$20,0))))","v":"Mary McCarthy"},"Event Cancelled","No Competitors","Opening Height Not Cleared",null,16]
[16,null,null,null,null,null,null,null,null,null,null,null,null,null,null,null,null,null,null,null,null,null,null,null,null,null,null,null,null,null,null,null,null,null,null,null,null,null,null,null,null,null,null,null,null,null,null,null,null,null,null,null,null,null,null,null,null,null,null,null,null,null,null,"T31","U15G","1500m",null,{"$f":"IF(COUNTIF($I$24:$I$48,\"A\")=0,\"-\",INDIRECT(CONCATENATE(\"B\",MATCH(\"A\",$I$21:$I$48,0)+20)))","v":"-"},{"$f":"IF(COUNTIF($I$24:$I$48,\"B\")=0,\"-\",INDIRECT(CONCATENATE(\"B\",MATCH(\"B\",$I$21:$I$48,0)+20)))","v":"-"},{"$f":"IF(COUNTIF($AC$24:$AC$48,\"A\")=0,\"-\",INDIRECT(CONCATENATE(\"V\",MATCH(\"A\",$AC$21:$AC$48,0)+20)))","v":"Abbie Donnelly"},{"$f":"IF(COUNTIF($AC$24:$AC$48,\"B\")=0,\"-\",INDIRECT(CONCATENATE(\"V\",MATCH(\"B\",$AC$21:$AC$48,0)+20)))","v":"Rebekah Ward"},{"$f":"IF(COUNTIF($AW$24:$AW$48,\"A\")=0,\"-\",INDIRECT(CONCATENATE(\"AP\",MATCH(\"A\",$AW$21:$AW$48,0)+20)))","v":"Lexie Wilson"},{"$f":"IF(COUNTIF($AW$24:$AW$48,\"B\")=0,\"-\",INDIRECT(CONCATENATE(\"AP\",MATCH(\"B\",$AW$21:$AW$48,0)+20)))","v":"Flora McNeil"},"Event Cancelled","No Competitors","Opening Height Not Cleared",null,17]
[17,null,null,null,null,null,null,null,null,null,null,null,null,null,null,null,null,null,null,null,null,null,null,null,null,null,null,null,null,null,null,null,null,null,null,null,null,null,null,null,null,null,null,null,null,null,null,null,null,null,null,null,null,null,null,null,null,null,null,null,null,null,null,"T33","U17W","1500m",null,{"$f":"IF(COUNTIF($I$52:$I$77,\"A\")=0,\"-\",INDIRECT(CONCATENATE(\"B\",MATCH(\"A\",$I$49:$I$77,0)+48)))","v":"-"},{"$f":"IF(COUNTIF($I$52:$I$77,\"B\")=0,\"-\",INDIRECT(CONCATENATE(\"B\",MATCH(\"B\",$I$49:$I$77,0)+48)))","v":"-"},{"$f":"IF(COUNTIF($AC$52:$AC$77,\"A\")=0,\"-\",INDIRECT(CONCATENATE(\"V\",MATCH(\"A\",$AC$49:$AC$77,0)+48)))","v":"-"},{"$f":"IF(COUNTIF($AC$52:$AC$77,\"B\")=0,\"-\",INDIRECT(CONCATENATE(\"V\",MATCH(\"B\",$AC$49:$AC$77,0)+48)))","v":"-"},{"$f":"IF(COUNTIF($AW$52:$AW$77,\"A\")=0,\"-\",INDIRECT(CONCATENATE(\"AP\",MATCH(\"A\",$AW$49:$AW$77,0)+48)))","v":"Fiona Bell"},{"$f":"IF(COUNTIF($AW$52:$AW$77,\"B\")=0,\"-\",INDIRECT(CONCATENATE(\"AP\",MATCH(\"B\",$AW$49:$AW$77,0)+48)))","v":"-"},"Event Cancelled","No Competitors","Opening Height Not Cleared",null,18]
[null,null,null,null,null,null,null,null,null,null,null,null,null,null,null,null,null,null,null,null,null,null,null,null,null,null,null,null,null,null,null,null,null,null,null,null,null,null,null,null,null,null,null,null,null,null,null,null,null,null,null,null,null,null,null,null,null,null,null,null,null,null,null,null,{"$error":"#N/A"},{"$error":"#N/A"},null,{"$f":"IF(COUNTIF($J$24:$J$48,\"A\")=0,\"-\",INDIRECT(CONCATENATE(\"B\",MATCH(\"A\",$J$21:$J$48,0)+20)))","v":"-"},{"$f":"IF(COUNTIF($J$24:$J$48,\"B\")=0,\"-\",INDIRECT(CONCATENATE(\"B\",MATCH(\"B\",$J$21:$J$48,0)+20)))","v":"-"},{"$f":"IF(COUNTIF($AD$24:$AD$48,\"A\")=0,\"-\",INDIRECT(CONCATENATE(\"V\",MATCH(\"A\",$AD$21:$AD$48,0)+20)))","v":"-"},{"$f":"IF(COUNTIF($AD$24:$AD$48,\"B\")=0,\"-\",INDIRECT(CONCATENATE(\"V\",MATCH(\"B\",$AD$21:$AD$48,0)+20)))","v":"-"},{"$f":"IF(COUNTIF($AX$24:$AX$48,\"A\")=0,\"-\",INDIRECT(CONCATENATE(\"AP\",MATCH(\"A\",$AX$21:$AX$48,0)+20)))","v":"-"},{"$f":"IF(COUNTIF($AX$24:$AX$48,\"B\")=0,\"-\",INDIRECT(CONCATENATE(\"AP\",MATCH(\"B\",$AX$21:$AX$48,0)+20)))","v":"-"},"Event Cancelled","No Competitors","Opening Height Not Cleared",null,19]
[null,null,null,null,null,null,null,null,null,null,null,null,null,null,null,null,null,null,null,null,null,null,null,null,null,null,null,null,null,null,null,null,null,null,null,null,null,null,null,null,null,null,null,null,null,null,null,null,null,null,null,null,null,null,null,null,null,null,null,null,null,null,null,"T35","U17W","300m",null,{"$f":"IF(COUNTIF($J$52:$J$77,\"A\")=0,\"-\",INDIRECT(CONCATENATE(\"B\",MATCH(\"A\",$J$49:$J$77,0)+48)))","v":"-"},{"$f":"IF(COUNTIF($J$52:$J$77,\"B\")=0,\"-\",INDIRECT(CONCATENATE(\"B\",MATCH(\"B\",$J$49:$J$77,0)+48)))","v":"-"},{"$f":"IF(COUNTIF($AD$52:$AD$77,\"A\")=0,\"-\",INDIRECT(CONCATENATE(\"V\",MATCH(\"A\",$AD$49:$AD$77,0)+48)))","v":"Lucy Helas"},{"$f":"IF(COUNTIF($AD$52:$AD$77,\"B\")=0,\"-\",INDIRECT(CONCATENATE(\"V\",MATCH(\"B\",$AD$49:$AD$77,0)+48)))","v":"Rhiannon Philps"},{"$f":"IF(COUNTIF($AX$52:$AX$77,\"A\")=0,\"-\",INDIRECT(CONCATENATE(\"AP\",MATCH(\"A\",$AX$49:$AX$77,0)+48)))","v":"Rebecca Taylor"},{"$f":"IF(COUNTIF($AX$52:$AX$77,\"B\")=0,\"-\",INDIRECT(CONCATENATE(\"AP\",MATCH(\"B\",$AX$49:$AX$77,0)+48)))","v":"Hannah Fletcher"},"Event Cancelled","No Competitors","Opening Height Not Cleared",null,20]
[null,{"$f":"CONCATENATE(Handbook!$W$1,\" Athletes\")","v":"U15G Athletes"},null,null,null,null,null,null,null,null,null,null,null,null,null,null,null,null,null,null,null,{"$f":"B23","v":"U15G Athletes"},null,null,null,null,null,null,null,null,null,null,null,null,null,null,null,null,null,null,null,{"$f":"B23","v":"U15G Athletes"},null,null,null,null,null,null,null,null,null,null,null,null,null,null,null,null,null,null,null,null,null,"T38","U17W","4 x 100m Relay",null,{"$f":"IF(COUNTIF($L$52:$L$77,\"1\")=0,\"-\",INDIRECT(CONCATENATE(\"B\",MATCH(1,$L$49:$L$77,0)+48)))","v":"-"},{"$f":"IF(COUNTIF($L$52:$L$77,\"2\")=0,\"-\",INDIRECT(CONCATENATE(\"B\",MATCH(2,$L$49:$L$77,0)+48)))","v":"-"},{"$f":"IF(COUNTIF($AF$52:$AF$77,\"1\")=0,\"-\",INDIRECT(CONCATENATE(\"V\",MATCH(1,$AF$49:$AF$77,0)+48)))","v":"Rhiannon Philps"},{"$f":"IF(COUNTIF($AF$52:$AF$77,\"2\")=0,\"-\",INDIRECT(CONCATENATE(\"V\",MATCH(2,$AF$49:$AF$77,0)+48)))","v":"Katie McMunn"},{"$f":"IF(COUNTIF($AZ$52:$AZ$77,\"1\")=0,\"-\",INDIRECT(CONCATENATE(\"AP\",MATCH(1,$AZ$49:$AZ$77,0)+48)))","v":"Claire Wilsher"},{"$f":"IF(COUNTIF($AZ$52:$AZ$77,\"2\")=0,\"-\",INDIRECT(CONCATENATE(\"AP\",MATCH(2,$AZ$49:$AZ$77,0)+48)))","v":"Hannah Fletcher"},"Event Cancelled","No Competitors","Opening Height Not Cleared",null,21]
[18,"Emily Miles",null,null,"B",null,null,"B",null,null,null,1,null,"A",null,null,null,null,null,null,null,"Allison Mouzon","A",null,null,null,null,null,null,null,null,4,null,null,null,"A",null,null,null,"B",null,"Francesca Shaw",null,null,"A",null,null,"B",null,null,null,2,null,null,null,null,null,null,null,null,null,null,null,null,null,null,null,{"$f":"IF(COUNTIF($L$52:$L$77,\"3\")=0,\"-\",INDIRECT(CONCATENATE(\"B\",MATCH(3,$L$49:$L$77,0)+48)))","v":"-"},{"$f":"IF(COUNTIF($L$52:$L$77,\"4\")=0,\"-\",INDIRECT(CONCATENATE(\"B\",MATCH(4,$L$49:$L$77,0)+48)))","v":"-"},{"$f":"IF(COUNTIF($AF$52:$AF$77,\"3\")=0,\"-\",INDIRECT(CONCATENATE(\"V\",MATCH(3,$AF$49:$AF$77,0)+48)))","v":"Sydney Cherrie"},{"$f":"IF(COUNTIF($AF$52:$AF$77,\"4\")=0,\"-\",INDIRECT(CONCATENATE(\"V\",MATCH(4,$AF$49:$AF$77,0)+48)))","v":"Lucy Helas"},{"$f":"IF(COUNTIF($AZ$52:$AZ$77,\"3\")=0,\"-\",INDIRECT(CONCATENATE(\"AP\",MATCH(3,$AZ$49:$AZ$77,0)+48)))","v":"Nicole Norton"},{"$f":"IF(COUNTIF($AZ$52:$AZ$77,\"4\")=0,\"-\",INDIRECT(CONCATENATE(\"AP\",MATCH(4,$AZ$49:$AZ$77,0)+48)))","v":"Fiona Bell"},"Event Cancelled","No Competitors","Opening Height Not Cleared",null,22]
[19,"Catriona Mckell",null,"A",null,null,null,null,null,null,null,2,null,"B",null,null,null,"B",null,null,null,"Lauren Ward","B",null,null,null,null,null,null,null,null,1,null,"A",null,null,null,"B",null,null,null,"Charlotte Slack",null,"A",null,null,null,"A",null,null,null,4,null,null,null,null,null,null,null,null,null,null,null,"T40",{"$f":"VLOOKUP(BL25,eventno,2,FALSE)","v":"U15G"},{"$f":"VLOOKUP($BL25,eventno,3,FALSE)","v":"4 x 100m Relay"},null,{"$f":"IF(COUNTIF($L$24:$L$48,\"1\")=0,\"-\",INDIRECT(CONCATENATE(\"B\",MATCH(1,$L$21:$L$48,0)+20)))","v":"Emily Miles"},{"$f":"IF(COUNTIF($L$24:$L$48,\"2\")=0,\"-\",INDIRECT(CONCATENATE(\"B\",MATCH(2,$L$21:$L$48,0)+20)))","v":"Catriona Mckell"},{"$f":"IF(COUNTIF($AF$24:$AF$48,\"1\")=0,\"-\",INDIRECT(CONCATENATE(\"V\",MATCH(1,$AF$21:$AF$48,0)+20)))","v":"Lauren Ward"},{"$f":"IF(COUNTIF($AF$24:$AF$48,\"2\")=0,\"-\",INDIRECT(CONCATENATE(\"V\",MATCH(2,$AF$21:$AF$48,0)+20)))","v":"Alex Jackson"},{"$f":"IF(COUNTIF($AZ$24:$AZ$48,\"1\")=0,\"-\",INDIRECT(CONCATENATE(\"AP\",MATCH(1,$AZ$21:$AZ$48,0)+20)))","v":"Elaine Williams"},{"$f":"IF(COUNTIF($AZ$24:$AZ$48,\"2\")=0,\"-\",INDIRECT(CONCATENATE(\"AP\",MATCH(2,$AZ$21:$AZ$48,0)+20)))","v":"Francesca Shaw"},"Event Cancelled","No Competitors","Opening Height Not Cleared",null,23]
[20,"Emma Clarkson",null,null,null,null,null,null,null,null,null,3,null,null,null,null,null,"A","A","A",null,"Georgie Edwards",null,null,"A",null,null,"A",null,null,null,3,null,null,null,null,null,null,null,null,null,"Georgia Hird",null,"B",null,null,null,null,null,null,null,null,null,null,null,null,null,null,null,null,null,null,null,null,null,null,null,{"$f":"IF(COUNTIF($L$24:$L$48,\"3\")=0,\"-\",INDIRECT(CONCATENATE(\"B\",MATCH(3,$L$21:$L$48,0)+20)))","v":"Emma Clarkson"},{"$f":"IF(COUNTIF($L$24:$L$48,\"4\")=0,\"-\",INDIRECT(CONCATENATE(\"B\",MATCH(4,$L$21:$L$48,0)+20)))","v":"Eleanor Rawson"},{"$f":"IF(COUNTIF($AF$24:$AF$48,\"3\")=0,\"-\",INDIRECT(CONCATENATE(\"V\",MATCH(3,$AF$21:$AF$48,0)+20)))","v":"Georgie Edwards"},{"$f":"IF(COUNTIF($AF$24:$AF$48,\"4\")=0,\"-\",INDIRECT(CONCATENATE(\"V\",MATCH(4,$AF$21:$AF$48,0)+20)))","v":"Allison Mouzon"},{"$f":"IF(COUNTIF($AZ$24:$AZ$48,\"3\")=0,\"-\",INDIRECT(CONCATENATE(\"AP\",MATCH(3,$AZ$21:$AZ$48,0)+20)))","v":"Charlotte Mather"},{"$f":"IF(COUNTIF($AZ$24:$AZ$48,\"4\")=0,\"-\",INDIRECT(CONCATENATE(\"AP\",MATCH(4,$AZ$21:$AZ$48,0)+20)))","v":"Charlotte Slack"},"Event Cancelled","No Competitors","Opening Height Not Cleared",null,24]
[21,"Eleanor Rawson",null,null,"A",null,null,"A",null,null,null,4,null,null,null,null,null,null,null,"B",null,"Alex Jackson",null,null,"B",null,null,"B",null,null,null,2,null,"B",null,null,null,null,null,null,null,"Lexie Wilson",null,null,null,null,null,null,"A",null,null,null,null,null,null,null,null,null,"B",null,null,null,null,"T42",{"$f":"VLOOKUP(BL27,eventno,2,FALSE)","v":"U13G"},{"$f":"VLOOKUP($BL27,eventno,3,FALSE)","v":"4 x 100m Relay"},null,{"$f":"IF(COUNTIF($L$4:$L$20,\"1\")=0,\"-\",INDIRECT(CONCATENATE(\"B\",MATCH(1,$L$1:$L$20,0))))","v":"Libby Beach"},{"$f":"IF(COUNTIF($L$4:$L$20,\"2\")=0,\"-\",INDIRECT(CONCATENATE(\"B\",MATCH(2,$L$1:$L$20,0))))","v":"Dayna Downs"},{"$f":"IF(COUNTIF($AF$4:$AF$20,\"1\")=0,\"-\",INDIRECT(CONCATENATE(\"V\",MATCH(1,$AF$1:$AF$20,0))))","v":"Holly Horton"},{"$f":"IF(COUNTIF($AF$4:$AF$20,\"2\")=0,\"-\",INDIRECT(CONCATENATE(\"V\",MATCH(2,$AF$1:$AF$20,0))))","v":"Rhiannon Martin"},{"$f":"IF(COUNTIF($AZ$4:$AZ$20,\"1\")=0,\"-\",INDIRECT(CONCATENATE(\"AP\",MATCH(1,$AZ$1:$AZ$20,0))))","v":"Hannah Bellamy"},{"$f":"IF(COUNTIF($AZ$4:$AZ$20,\"2\")=0,\"-\",INDIRECT(CONCATENATE(\"AP\",MATCH(2,$AZ$1:$AZ$20,0))))","v":"Gabby Craft"},"Event Cancelled","No Competitors","Opening Height Not Cleared",null,25]
[22,null,null,null,null,null,null,null,null,null,null,null,null,null,null,null,null,null,null,null,null,"India Freeman",null,null,null,null,null,null,null,null,null,null,null,null,null,null,null,"A","A","A",null,"Flora McNeil",null,null,null,null,null,null,"B",null,null,null,null,null,null,null,null,null,null,null,null,null,null,null,null,null,null,{"$f":"IF(COUNTIF($L$4:$L$20,\"3\")=0,\"-\",INDIRECT(CONCATENATE(\"B\",MATCH(3,$L$1:$L$20,0))))","v":"Hope Leverette"},{"$f":"IF(COUNTIF($L$4:$L$20,\"4\")=0,\"-\",INDIRECT(CONCATENATE(\"B\",MATCH(4,$L$1:$L$20,0))))","v":"Morgan Swales"},{"$f":"IF(COUNTIF($AF$4:$AF$20,\"3\")=0,\"-\",INDIRECT(CONCATENATE(\"V\",MATCH(3,$AF$1:$AF$20,0))))","v":"Megan Brockie"},{"$f":"IF(COUNTIF($AF$4:$AF$20,\"4\")=0,\"-\",INDIRECT(CONCATENATE(\"V\",MATCH(4,$AF$1:$AF$20,0))))","v":"Georgina Campion"},{"$f":"IF(COUNTIF($AZ$4:$AZ$20,\"3\")=0,\"-\",INDIRECT(CONCATENATE(\"AP\",MATCH(3,$AZ$1:$AZ$20,0))))","v":"Imani Wilson"},{"$f":"IF(COUNTIF($AZ$4:$AZ$20,\"4\")=0,\"-\",INDIRECT(CONCATENATE(\"AP\",MATCH(4,$AZ$1:$AZ$20,0))))","v":"Caitlin Hawley"},"Event Cancelled","No Competitors","Opening Height Not Cleared",null,26]
[23,null,null,null,null,null,null,null,null,null,null,null,null,null,null,null,null,null,null,null,null,"Abbie Donnelly",null,null,null,null,null,null,"A",null,null,null,null,null,null,null,null,null,"B",null,null,"Charlotte Mather","A",null,null,null,null,null,null,null,null,3,null,null,null,null,null,null,"A","A",null,null,null,null,{"$f":"VLOOKUP(BL29,eventno,2,FALSE)","v":{"$error":"#N/A"}},{"$f":"VLOOKUP($BL29,eventno,3,FALSE)","v":{"$error":"#N/A"}},null,{"$f":"IF(COUNTIF($K$52:$K$77,\"A\")=0,\"-\",INDIRECT(CONCATENATE(\"B\",MATCH(\"A\",$K$49:$K$77,0)+48)))","v":"-"},{"$f":"IF(COUNTIF($K$52:$K$77,\"B\")=0,\"-\",INDIRECT(CONCATENATE(\"B\",MATCH(\"B\",$K$49:$K$77,0)+48)))","v":"-"},{"$f":"IF(COUNTIF($AE$52:$AE$77,\"A\")=0,\"-\",INDIRECT(CONCATENATE(\"V\",MATCH(\"A\",$AE$49:$AE$77,0)+48)))","v":"-"},{"$f":"IF(COUNTIF($AE$52:$AE$77,\"B\")=0,\"-\",INDIRECT(CONCATENATE(\"V\",MATCH(\"B\",$AE$49:$AE$77,0)+48)))","v":"-"},{"$f":"IF(COUNTIF($AY$52:$AY$77,\"A\")=0,\"-\",INDIRECT(CONCATENATE(\"AP\",MATCH(\"A\",$AY$49:$AY$77,0)+48)))","v":"-"},{"$f":"IF(COUNTIF($AY$52:$AY$77,\"B\")=0,\"-\",INDIRECT(CONCATENATE(\"AP\",MATCH(\"B\",$AY$49:$AY$77,0)+48)))","v":"-"},"Event Cancelled","No Competitors","Opening Height Not Cleared",null,27]
[24,null,null,null,null,null,null,null,null,null,null,null,null,null,null,null,null,null,null,null,null,"Rebekah Ward",null,null,null,null,null,null,"B",null,null,null,null,null,null,null,null,null,null,null,null,"Elaine Williams",null,null,"B",null,null,null,null,null,null,1,null,"A",null,null,null,"A",null,null,null,null,null,null,{"$f":"VLOOKUP(BL30,eventno,2,FALSE)","v":{"$error":"#N/A"}},{"$f":"VLOOKUP($BL30,eventno,3,FALSE)","v":{"$error":"#N/A"}},null,{"$f":"IF(COUNTIF($M$24:$M$48,\"1\")=0,\"-\",INDIRECT(CONCATENATE(\"B\",MATCH(1,$M$21:$M$48,0)+20)))","v":"-"},{"$f":"IF(COUNTIF($M$24:$M$48,\"2\")=0,\"-\",INDIRECT(CONCATENATE(\"B\",MATCH(2,$M$21:$M$48,0)+20)))","v":"-"},{"$f":"IF(COUNTIF($AG$24:$AG$48,\"1\")=0,\"-\",INDIRECT(CONCATENATE(\"V\",MATCH(1,$AG$21:$AG$48,0)+20)))","v":"-"},{"$f":"IF(COUNTIF($AG$24:$AG$48,\"2\")=0,\"-\",INDIRECT(CONCATENATE(\"V\",MATCH(2,$AG$21:$AG$48,0)+20)))","v":"-"},{"$f":"IF(COUNTIF($BA$24:$BA$48,\"1\")=0,\"-\",INDIRECT(CONCATENATE(\"AP\",MATCH(1,$BA$21:$BA$48,0)+20)))","v":"-"},{"$f":"IF(COUNTIF($BA$24:$BA$48,\"2\")=0,\"-\",INDIRECT(CONCATENATE(\"AP\",MATCH(2,$BA$21:$BA$48,0)+20)))","v":"-"},"Event Cancelled","No Competitors","Opening Height Not Cleared",null,28]
[25,null,null,null,null,null,null,null,null,null,null,null,null,null,null,null,null,null,null,null,null,"Lucy Read",null,"A",null,null,null,null,null,null,null,null,null,null,null,null,null,null,null,null,null,"Evelyn Williams",null,null,null,null,null,null,null,null,null,null,null,"B",null,null,null,"B",null,null,null,null,null,null,null,null,null,{"$f":"IF(COUNTIF($M$24:$M$48,\"3\")=0,\"-\",INDIRECT(CONCATENATE(\"B\",MATCH(3,$M$21:$M$48,0)+20)))","v":"-"},{"$f":"IF(COUNTIF($M$24:$M$48,\"4\")=0,\"-\",INDIRECT(CONCATENATE(\"B\",MATCH(4,$M$21:$M$48,0)+20)))","v":"-"},{"$f":"IF(COUNTIF($AG$24:$AG$48,\"3\")=0,\"-\",INDIRECT(CONCATENATE(\"V\",MATCH(3,$AG$21:$AG$48,0)+20)))","v":"-"},{"$f":"IF(COUNTIF($AG$24:$AG$48,\"4\")=0,\"-\",INDIRECT(CONCATENATE(\"V\",MATCH(4,$AG$21:$AG$48,0)+20)))","v":"-"},{"$f":"IF(COUNTIF($BA$24:$BA$48,\"3\")=0,\"-\",INDIRECT(CONCATENATE(\"AP\",MATCH(3,$BA$21:$BA$48,0)+20)))","v":"-"},{"$f":"IF(COUNTIF($BA$24:$BA$48,\"4\")=0,\"-\",INDIRECT(CONCATENATE(\"AP\",MATCH(4,$BA$21:$BA$48,0)+20)))","v":"-"},"Event Cancelled","No Competitors","Opening Height Not Cleared",null,29]
[26,null,null,null,null,null,null,null,null,null,null,null,null,null,null,null,null,null,null,null,null,null,null,null,null,null,null,null,null,null,null,null,null,null,null,null,null,null,null,null,null,"Emily Malmgren",null,null,null,null,null,null,null,null,null,null,null,null,null,"A",null,null,null,"B",null,null,null,"T44",{"$f":"VLOOKUP(BL32,eventno,2,FALSE)","v":"U17W"},{"$f":"VLOOKUP($BL32,eventno,3,FALSE)","v":"4 x 300m Relay"},null,{"$f":"IF(COUNTIF($M$52:$M$77,\"1\")=0,\"-\",INDIRECT(CONCATENATE(\"B\",MATCH(1,$M$49:$M$77,0)+48)))","v":"-"},{"$f":"IF(COUNTIF($M$52:$M$77,\"2\")=0,\"-\",INDIRECT(CONCATENATE(\"B\",MATCH(2,$M$49:$M$77,0)+48)))","v":"-"},{"$f":"IF(COUNTIF($AG$52:$AG$77,\"1\")=0,\"-\",INDIRECT(CONCATENATE(\"V\",MATCH(1,$AG$49:$AG$77,0)+48)))","v":"-"},{"$f":"IF(COUNTIF($AG$52:$AG$77,\"2\")=0,\"-\",INDIRECT(CONCATENATE(\"V\",MATCH(2,$AG$49:$AG$77,0)+48)))","v":"-"},{"$f":"IF(COUNTIF($BA$52:$BA$77,\"1\")=0,\"-\",INDIRECT(CONCATENATE(\"AP\",MATCH(1,$BA$49:$BA$77,0)+48)))","v":"-"},{"$f":"IF(COUNTIF($BA$52:$BA$77,\"2\")=0,\"-\",INDIRECT(CONCATENATE(\"AP\",MATCH(2,$BA$49:$BA$77,0)+48)))","v":"-"},"Event Cancelled","No Competitors","Opening Height Not Cleared",null,30]
[27,null,null,null,null,null,null,null,null,null,null,null,null,null,null,null,null,null,null,null,null,null,null,null,null,null,null,null,null,null,null,null,null,null,null,null,null,null,null,null,null,"Kate DeSouza","B",null,null,null,null,null,null,null,null,null,null,null,null,"B",null,null,null,null,null,null,null,null,null,null,null,{"$f":"IF(COUNTIF($M$52:$M$77,\"3\")=0,\"-\",INDIRECT(CONCATENATE(\"B\",MATCH(3,$M$49:$M$77,0)+48)))","v":"-"},{"$f":"IF(COUNTIF($M$52:$M$77,\"4\")=0,\"-\",INDIRECT(CONCATENATE(\"B\",MATCH(4,$M$49:$M$77,0)+48)))","v":"-"},{"$f":"IF(COUNTIF($AG$52:$AG$77,\"3\")=0,\"-\",INDIRECT(CONCATENATE(\"V\",MATCH(3,$AG$49:$AG$77,0)+48)))","v":"-"},{"$f":"IF(COUNTIF($AG$52:$AG$77,\"4\")=0,\"-\",INDIRECT(CONCATENATE(\"V\",MATCH(4,$AG$49:$AG$77,0)+48)))","v":"-"},{"$f":"IF(COUNTIF($BA$52:$BA$77,\"3\")=0,\"-\",INDIRECT(CONCATENATE(\"AP\",MATCH(3,$BA$49:$BA$77,0)+48)))","v":"-"},{"$f":"IF(COUNTIF($BA$52:$BA$77,\"4\")=0,\"-\",INDIRECT(CONCATENATE(\"AP\",MATCH(4,$BA$49:$BA$77,0)+48)))","v":"-"},"Event Cancelled","No Competitors","Opening Height Not Cleared",null,31]
[28,null,null,null,null,null,null,null,null,null,null,null,null,null,null,null,null,null,null,null,null,null,null,null,null,null,null,null,null,null,null,null,null,null,null,null,null,null,null,null,null,null,null,null,null,null,null,null,null,null,null,null,null,null,null,null,null,null,null,null,null,null,null,"F9",{"$f":"VLOOKUP(BL34,eventno,2,FALSE)","v":"U13G"},{"$f":"VLOOKUP($BL34,eventno,3,FALSE)","v":"Long Jump"},null,{"$f":"IF(COUNTIF($N$4:$N$20,\"A\")=0,\"-\",INDIRECT(CONCATENATE(\"B\",MATCH(\"A\",$N$1:$N$20,0))))","v":"Jessica Wragg"},{"$f":"IF(COUNTIF($N$4:$N$20,\"B\")=0,\"-\",INDIRECT(CONCATENATE(\"B\",MATCH(\"B\",$N$1:$N$20,0))))","v":"Hope Leverette"},{"$f":"IF(COUNTIF($AH$4:$AH$20,\"A\")=0,\"-\",INDIRECT(CONCATENATE(\"V\",MATCH(\"A\",$AH$1:$AH$20,0))))","v":"Laura Wilkinson"},{"$f":"IF(COUNTIF($AH$4:$AH$20,\"B\")=0,\"-\",INDIRECT(CONCATENATE(\"V\",MATCH(\"B\",$AH$1:$AH$20,0))))","v":"Clea Butcher"},{"$f":"IF(COUNTIF($BB$4:$BB$20,\"A\")=0,\"-\",INDIRECT(CONCATENATE(\"AP\",MATCH(\"A\",$BB$1:$BB$20,0))))","v":"Gabby Craft"},{"$f":"IF(COUNTIF($BB$4:$BB$20,\"B\")=0,\"-\",INDIRECT(CONCATENATE(\"AP\",MATCH(\"B\",$BB$1:$BB$20,0))))","v":"Hannah Bellamy"},"Event Cancelled","No Competitors","Opening Height Not Cleared",null,32]
[29,null,null,null,null,null,null,null,null,null,null,null,null,null,null,null,null,null,null,null,null,null,null,null,null,null,null,null,null,null,null,null,null,null,null,null,null,null,null,null,null,null,null,null,null,null,null,null,null,null,null,null,null,null,null,null,null,null,null,null,null,null,null,"F29","U17W","High Jump",null,{"$f":"IF(COUNTIF($P$52:$P$77,\"A\")=0,\"-\",INDIRECT(CONCATENATE(\"B\",MATCH(\"A\",$P$49:$P$77,0)+48)))","v":"-"},{"$f":"IF(COUNTIF($P$52:$P$77,\"B\")=0,\"-\",INDIRECT(CONCATENATE(\"B\",MATCH(\"B\",$P$49:$P$77,0)+48)))","v":"-"},{"$f":"IF(COUNTIF($AJ$52:$AJ$77,\"A\")=0,\"-\",INDIRECT(CONCATENATE(\"V\",MATCH(\"A\",$AJ$49:$AJ$77,0)+48)))","v":"Katie McMunn"},{"$f":"IF(COUNTIF($AJ$52:$AJ$77,\"B\")=0,\"-\",INDIRECT(CONCATENATE(\"V\",MATCH(\"B\",$AJ$49:$AJ$77,0)+48)))","v":"-"},{"$f":"IF(COUNTIF($BD$52:$BD$77,\"A\")=0,\"-\",INDIRECT(CONCATENATE(\"AP\",MATCH(\"A\",$BD$49:$BD$77,0)+48)))","v":"-"},{"$f":"IF(COUNTIF($BD$52:$BD$77,\"B\")=0,\"-\",INDIRECT(CONCATENATE(\"AP\",MATCH(\"B\",$BD$49:$BD$77,0)+48)))","v":"-"},"Event Cancelled","No Competitors","Opening Height Not Cleared",null,33]
[30,null,null,null,null,null,null,null,null,null,null,null,null,null,null,null,null,null,null,null,null,null,null,null,null,null,null,null,null,null,null,null,null,null,null,null,null,null,null,null,null,null,null,null,null,null,null,null,null,null,null,null,null,null,null,null,null,null,null,null,null,null,null,"F28","U15G","High Jump",null,{"$f":"IF(COUNTIF($P$24:$P$48,\"A\")=0,\"-\",INDIRECT(CONCATENATE(\"B\",MATCH(\"A\",$P$21:$P$48,0)+20)))","v":"-"},{"$f":"IF(COUNTIF($P$24:$P$48,\"B\")=0,\"-\",INDIRECT(CONCATENATE(\"B\",MATCH(\"B\",$P$21:$P$48,0)+20)))","v":"-"},{"$f":"IF(COUNTIF($AJ$24:$AJ$48,\"A\")=0,\"-\",INDIRECT(CONCATENATE(\"V\",MATCH(\"A\",$AJ$21:$AJ$48,0)+20)))","v":"Allison Mouzon"},{"$f":"IF(COUNTIF($AJ$24:$AJ$48,\"B\")=0,\"-\",INDIRECT(CONCATENATE(\"V\",MATCH(\"B\",$AJ$21:$AJ$48,0)+20)))","v":"-"},{"$f":"IF(COUNTIF($BD$24:$BD$48,\"A\")=0,\"-\",INDIRECT(CONCATENATE(\"AP\",MATCH(\"A\",$BD$21:$BD$48,0)+20)))","v":"Emily Malmgren"},{"$f":"IF(COUNTIF($BD$24:$BD$48,\"B\")=0,\"-\",INDIRECT(CONCATENATE(\"AP\",MATCH(\"B\",$BD$21:$BD$48,0)+20)))","v":"Kate DeSouza"},"Event Cancelled","No Competitors","Opening Height Not Cleared",null,34]
[31,null,null,null,null,null,null,null,null,null,null,null,null,null,null,null,null,null,null,null,null,null,null,null,null,null,null,null,null,null,null,null,null,null,null,null,null,null,null,null,null,null,null,null,null,null,null,null,null,null,null,null,null,null,null,null,null,null,null,null,null,null,null,null,{"$error":"#N/A"},{"$error":"#N/A"},null,{"$f":"IF(COUNTIF($U$24:$U$48,\"A\")=0,\"-\",INDIRECT(CONCATENATE(\"B\",MATCH(\"A\",$U$21:$U$48,0)+20)))","v":"-"},{"$f":"IF(COUNTIF($U$24:$U$48,\"B\")=0,\"-\",INDIRECT(CONCATENATE(\"B\",MATCH(\"B\",$U$21:$U$48,0)+20)))","v":"-"},{"$f":"IF(COUNTIF($AO$24:$AO$48,\"A\")=0,\"-\",INDIRECT(CONCATENATE(\"V\",MATCH(\"A\",$AO$21:$AO$48,0)+20)))","v":"-"},{"$f":"IF(COUNTIF($AO$24:$AO$48,\"B\")=0,\"-\",INDIRECT(CONCATENATE(\"V\",MATCH(\"B\",$AO$21:$AO$48,0)+20)))","v":"-"},{"$f":"IF(COUNTIF($BI$24:$BI$48,\"A\")=0,\"-\",INDIRECT(CONCATENATE(\"AP\",MATCH(\"A\",$BI$21:$BI$48,0)+20)))","v":"-"},{"$f":"IF(COUNTIF($BI$24:$BI$48,\"B\")=0,\"-\",INDIRECT(CONCATENATE(\"AP\",MATCH(\"B\",$BI$21:$BI$48,0)+20)))","v":"-"},"Event Cancelled","No Competitors","Opening Height Not Cleared",null,35]
[32,null,null,null,null,null,null,null,null,null,null,null,null,null,null,null,null,null,null,null,null,null,null,null,null,null,null,null,null,null,null,null,null,null,null,null,null,null,null,null,null,null,null,null,null,null,null,null,null,null,null,null,null,null,null,null,null,null,null,null,null,null,null,"F6","U17W","Hammer",null,{"$f":"IF(COUNTIF($U$52:$U$77,\"A\")=0,\"-\",INDIRECT(CONCATENATE(\"B\",MATCH(\"A\",$U$49:$U$77,0)+48)))","v":"-"},{"$f":"IF(COUNTIF($U$52:$U$77,\"B\")=0,\"-\",INDIRECT(CONCATENATE(\"B\",MATCH(\"B\",$U$49:$U$77,0)+48)))","v":"-"},{"$f":"IF(COUNTIF($AO$52:$AO$77,\"A\")=0,\"-\",INDIRECT(CONCATENATE(\"V\",MATCH(\"A\",$AO$49:$AO$77,0)+48)))","v":"Elsie Dawes"},{"$f":"IF(COUNTIF($AO$52:$AO$77,\"B\")=0,\"-\",INDIRECT(CONCATENATE(\"V\",MATCH(\"B\",$AO$49:$AO$77,0)+48)))","v":"-"},{"$f":"IF(COUNTIF($BI$52:$BI$77,\"A\")=0,\"-\",INDIRECT(CONCATENATE(\"AP\",MATCH(\"A\",$BI$49:$BI$77,0)+48)))","v":"-"},{"$f":"IF(COUNTIF($BI$52:$BI$77,\"B\")=0,\"-\",INDIRECT(CONCATENATE(\"AP\",MATCH(\"B\",$BI$49:$BI$77,0)+48)))","v":"-"},"Event Cancelled","No Competitors","Opening Height Not Cleared",null,36]
[33,null,null,null,null,null,null,null,null,null,null,null,null,null,null,null,null,null,null,null,null,null,null,null,null,null,null,null,null,null,null,null,null,null,null,null,null,null,null,null,null,null,null,null,null,null,null,null,null,null,null,null,null,null,null,null,null,null,null,null,null,null,null,"F24","U15G","Shot",null,{"$f":"IF(COUNTIF($R$24:$R$48,\"A\")=0,\"-\",INDIRECT(CONCATENATE(\"B\",MATCH(\"A\",$R$21:$R$48,0)+20)))","v":"Emma Clarkson"},{"$f":"IF(COUNTIF($R$24:$R$48,\"B\")=0,\"-\",INDIRECT(CONCATENATE(\"B\",MATCH(\"B\",$R$21:$R$48,0)+20)))","v":"Catriona Mckell"},{"$f":"IF(COUNTIF($AL$24:$AL$48,\"A\")=0,\"-\",INDIRECT(CONCATENATE(\"V\",MATCH(\"A\",$AL$21:$AL$48,0)+20)))","v":"India Freeman"},{"$f":"IF(COUNTIF($AL$24:$AL$48,\"B\")=0,\"-\",INDIRECT(CONCATENATE(\"V\",MATCH(\"B\",$AL$21:$AL$48,0)+20)))","v":"Lauren Ward"},{"$f":"IF(COUNTIF($BF$24:$BF$48,\"A\")=0,\"-\",INDIRECT(CONCATENATE(\"AP\",MATCH(\"A\",$BF$21:$BF$48,0)+20)))","v":"Elaine Williams"},{"$f":"IF(COUNTIF($BF$24:$BF$48,\"B\")=0,\"-\",INDIRECT(CONCATENATE(\"AP\",MATCH(\"B\",$BF$21:$BF$48,0)+20)))","v":"Evelyn Williams"},"Event Cancelled","No Competitors","Opening Height Not Cleared",null,37]
[34,null,null,null,null,null,null,null,null,null,null,null,null,null,null,null,null,null,null,null,null,null,null,null,null,null,null,null,null,null,null,null,null,null,null,null,null,null,null,null,null,null,null,null,null,null,null,null,null,null,null,null,null,null,null,null,null,null,null,null,null,null,null,"F33","U15G","Javelin",null,{"$f":"IF(COUNTIF($T$24:$T$48,\"A\")=0,\"-\",INDIRECT(CONCATENATE(\"B\",MATCH(\"A\",$T$21:$T$48,0)+20)))","v":"Emma Clarkson"},{"$f":"IF(COUNTIF($T$24:$T$48,\"B\")=0,\"-\",INDIRECT(CONCATENATE(\"B\",MATCH(\"B\",$T$21:$T$48,0)+20)))","v":"Eleanor Rawson"},{"$f":"IF(COUNTIF($AN$24:$AN$48,\"A\")=0,\"-\",INDIRECT(CONCATENATE(\"V\",MATCH(\"A\",$AN$21:$AN$48,0)+20)))","v":"India Freeman"},{"$f":"IF(COUNTIF($AN$24:$AN$48,\"B\")=0,\"-\",INDIRECT(CONCATENATE(\"V\",MATCH(\"B\",$AN$21:$AN$48,0)+20)))","v":"Allison Mouzon"},{"$f":"IF(COUNTIF($BH$24:$BH$48,\"A\")=0,\"-\",INDIRECT(CONCATENATE(\"AP\",MATCH(\"A\",$BH$21:$BH$48,0)+20)))","v":"Charlotte Mather"},{"$f":"IF(COUNTIF($BH$24:$BH$48,\"B\")=0,\"-\",INDIRECT(CONCATENATE(\"AP\",MATCH(\"B\",$BH$21:$BH$48,0)+20)))","v":"Emily Malmgren"},"Event Cancelled","No Competitors","Opening Height Not Cleared",null,38]
[35,null,null,null,null,null,null,null,null,null,null,null,null,null,null,null,null,null,null,null,null,null,null,null,null,null,null,null,null,null,null,null,null,null,null,null,null,null,null,null,null,null,null,null,null,null,null,null,null,null,null,null,null,null,null,null,null,null,null,null,null,null,null,"F34","U17W","Javelin",null,{"$f":"IF(COUNTIF($T$52:$T$77,\"A\")=0,\"-\",INDIRECT(CONCATENATE(\"B\",MATCH(\"A\",$T$49:$T$77,0)+48)))","v":"Hannah Short"},{"$f":"IF(COUNTIF($T$52:$T$77,\"B\")=0,\"-\",INDIRECT(CONCATENATE(\"B\",MATCH(\"B\",$T$49:$T$77,0)+48)))","v":"-"},{"$f":"IF(COUNTIF($AN$52:$AN$77,\"A\")=0,\"-\",INDIRECT(CONCATENATE(\"V\",MATCH(\"A\",$AN$49:$AN$77,0)+48)))","v":"Elsie Dawes"},{"$f":"IF(COUNTIF($AN$52:$AN$77,\"B\")=0,\"-\",INDIRECT(CONCATENATE(\"V\",MATCH(\"B\",$AN$49:$AN$77,0)+48)))","v":"-"},{"$f":"IF(COUNTIF($BH$52:$BH$77,\"A\")=0,\"-\",INDIRECT(CONCATENATE(\"AP\",MATCH(\"A\",$BH$49:$BH$77,0)+48)))","v":"Emily Fox"},{"$f":"IF(COUNTIF($BH$52:$BH$77,\"B\")=0,\"-\",INDIRECT(CONCATENATE(\"AP\",MATCH(\"B\",$BH$49:$BH$77,0)+48)))","v":"Fiona Bell"},"Event Cancelled","No Competitors","Opening Height Not Cleared",null,39]
[36,null,null,null,null,null,null,null,null,null,null,null,null,null,null,null,null,null,null,null,null,null,null,null,null,null,null,null,null,null,null,null,null,null,null,null,null,null,null,null,null,null,null,null,null,null,null,null,null,null,null,null,null,null,null,null,null,null,null,null,null,null,null,"F13","U13G","High Jump",null,{"$f":"IF(COUNTIF($P$4:$P$20,\"A\")=0,\"-\",INDIRECT(CONCATENATE(\"B\",MATCH(\"A\",$P$1:$P$20,0))))","v":"Talitha Thompson"},{"$f":"IF(COUNTIF($P$4:$P$20,\"B\")=0,\"-\",INDIRECT(CONCATENATE(\"B\",MATCH(\"B\",$P$1:$P$20,0))))","v":"Anna Manfred"},{"$f":"IF(COUNTIF($AJ$4:$AJ$20,\"A\")=0,\"-\",INDIRECT(CONCATENATE(\"V\",MATCH(\"A\",$AJ$1:$AJ$20,0))))","v":"Rhiannon Martin"},{"$f":"IF(COUNTIF($AJ$4:$AJ$20,\"B\")=0,\"-\",INDIRECT(CONCATENATE(\"V\",MATCH(\"B\",$AJ$1:$AJ$20,0))))","v":"Megan Brockie"},{"$f":"IF(COUNTIF($BD$4:$BD$20,\"A\")=0,\"-\",INDIRECT(CONCATENATE(\"AP\",MATCH(\"A\",$BD$1:$BD$20,0))))","v":"-"},{"$f":"IF(COUNTIF($BD$4:$BD$20,\"B\")=0,\"-\",INDIRECT(CONCATENATE(\"AP\",MATCH(\"B\",$BD$1:$BD$20,0))))","v":"-"},"Event Cancelled","No Competitors","Opening Height Not Cleared",null,40]
[37,null,null,null,null,null,null,null,null,null,null,null,null,null,null,null,null,null,null,null,null,null,null,null,null,null,null,null,null,null,null,null,null,null,null,null,null,null,null,null,null,null,null,null,null,null,null,null,null,null,null,null,null,null,null,null,null,null,null,null,null,null,null,"F16","U15G","Pole Vault",null,{"$f":"IF(COUNTIF($Q$24:$Q$48,\"A\")=0,\"-\",INDIRECT(CONCATENATE(\"B\",MATCH(\"A\",$Q$21:$Q$48,0)+20)))","v":"-"},{"$f":"IF(COUNTIF($Q$24:$Q$48,\"B\")=0,\"-\",INDIRECT(CONCATENATE(\"B\",MATCH(\"B\",$Q$21:$Q$48,0)+20)))","v":"-"},{"$f":"IF(COUNTIF($AK$24:$AK$48,\"A\")=0,\"-\",INDIRECT(CONCATENATE(\"V\",MATCH(\"A\",$AK$21:$AK$48,0)+20)))","v":"-"},{"$f":"IF(COUNTIF($AK$24:$AK$48,\"B\")=0,\"-\",INDIRECT(CONCATENATE(\"V\",MATCH(\"B\",$AK$21:$AK$48,0)+20)))","v":"-"},{"$f":"IF(COUNTIF($BE$24:$BE$48,\"A\")=0,\"-\",INDIRECT(CONCATENATE(\"AP\",MATCH(\"A\",$BE$21:$BE$48,0)+20)))","v":"-"},{"$f":"IF(COUNTIF($BE$24:$BE$48,\"B\")=0,\"-\",INDIRECT(CONCATENATE(\"AP\",MATCH(\"B\",$BE$21:$BE$48,0)+20)))","v":"-"},"Event Cancelled","No Competitors","Opening Height Not Cleared",null,41]
[38,null,null,null,null,null,null,null,null,null,null,null,null,null,null,null,null,null,null,null,null,null,null,null,null,null,null,null,null,null,null,null,null,null,null,null,null,null,null,null,null,null,null,null,null,null,null,null,null,null,null,null,null,null,null,null,null,null,null,null,null,null,null,"F17","U17W","Pole Vault",null,{"$f":"IF(COUNTIF($Q$52:$Q$77,\"A\")=0,\"-\",INDIRECT(CONCATENATE(\"B\",MATCH(\"A\",$Q$49:$Q$77,0)+48)))","v":"-"},{"$f":"IF(COUNTIF($Q$52:$Q$77,\"B\")=0,\"-\",INDIRECT(CONCATENATE(\"B\",MATCH(\"B\",$Q$49:$Q$77,0)+48)))","v":"-"},{"$f":"IF(COUNTIF($AK$52:$AK$77,\"A\")=0,\"-\",INDIRECT(CONCATENATE(\"V\",MATCH(\"A\",$AK$49:$AK$77,0)+48)))","v":"-"},{"$f":"IF(COUNTIF($AK$52:$AK$77,\"B\")=0,\"-\",INDIRECT(CONCATENATE(\"V\",MATCH(\"B\",$AK$49:$AK$77,0)+48)))","v":"-"},{"$f":"IF(COUNTIF($BE$52:$BE$77,\"A\")=0,\"-\",INDIRECT(CONCATENATE(\"AP\",MATCH(\"A\",$BE$49:$BE$77,0)+48)))","v":"-"},{"$f":"IF(COUNTIF($BE$52:$BE$77,\"B\")=0,\"-\",INDIRECT(CONCATENATE(\"AP\",MATCH(\"B\",$BE$49:$BE$77,0)+48)))","v":"-"},"Event Cancelled","No Competitors","Opening Height Not Cleared",null,42]
[39,null,null,null,null,null,null,null,null,null,null,null,null,null,null,null,null,null,null,null,null,null,null,null,null,null,null,null,null,null,null,null,null,null,null,null,null,null,null,null,null,null,null,null,null,null,null,null,null,null,null,null,null,null,null,null,null,null,null,null,null,null,null,"F7","U17W","Long Jump",null,{"$f":"IF(COUNTIF($N$52:$N$77,\"A\")=0,\"-\",INDIRECT(CONCATENATE(\"B\",MATCH(\"A\",$N$49:$N$77,0)+48)))","v":"-"},{"$f":"IF(COUNTIF($N$52:$N$77,\"B\")=0,\"-\",INDIRECT(CONCATENATE(\"B\",MATCH(\"B\",$N$49:$N$77,0)+48)))","v":"-"},{"$f":"IF(COUNTIF($AH$52:$AH$77,\"A\")=0,\"-\",INDIRECT(CONCATENATE(\"V\",MATCH(\"A\",$AH$49:$AH$77,0)+48)))","v":"Sydney Cherrie"},{"$f":"IF(COUNTIF($AH$52:$AH$77,\"B\")=0,\"-\",INDIRECT(CONCATENATE(\"V\",MATCH(\"B\",$AH$49:$AH$77,0)+48)))","v":"-"},{"$f":"IF(COUNTIF($BB$52:$BB$77,\"A\")=0,\"-\",INDIRECT(CONCATENATE(\"AP\",MATCH(\"A\",$BB$49:$BB$77,0)+48)))","v":"-"},{"$f":"IF(COUNTIF($BB$52:$BB$77,\"B\")=0,\"-\",INDIRECT(CONCATENATE(\"AP\",MATCH(\"B\",$BB$49:$BB$77,0)+48)))","v":"-"},"Event Cancelled","No Competitors","Opening Height Not Cleared",null,43]
[40,null,null,null,null,null,null,null,null,null,null,null,null,null,null,null,null,null,null,null,null,null,null,null,null,null,null,null,null,null,null,null,null,null,null,null,null,null,null,null,null,null,null,null,null,null,null,null,null,null,null,null,null,null,null,null,null,null,null,null,null,null,null,"F35","U13G","Shot",null,{"$f":"IF(COUNTIF($R$4:$R$20,\"A\")=0,\"-\",INDIRECT(CONCATENATE(\"B\",MATCH(\"A\",$R$1:$R$20,0))))","v":"-"},{"$f":"IF(COUNTIF($R$4:$R$20,\"B\")=0,\"-\",INDIRECT(CONCATENATE(\"B\",MATCH(\"B\",$R$1:$R$20,0))))","v":"Maria Masserella"},{"$f":"IF(COUNTIF($AL$4:$AL$20,\"A\")=0,\"-\",INDIRECT(CONCATENATE(\"V\",MATCH(\"A\",$AL$1:$AL$20,0))))","v":"Laura Wilkinson"},{"$f":"IF(COUNTIF($AL$4:$AL$20,\"B\")=0,\"-\",INDIRECT(CONCATENATE(\"V\",MATCH(\"B\",$AL$1:$AL$20,0))))","v":"Holly Horton"},{"$f":"IF(COUNTIF($BF$4:$BF$20,\"A\")=0,\"-\",INDIRECT(CONCATENATE(\"AP\",MATCH(\"A\",$BF$1:$BF$20,0))))","v":"Mary McCarthy"},{"$f":"IF(COUNTIF($BF$4:$BF$20,\"B\")=0,\"-\",INDIRECT(CONCATENATE(\"AP\",MATCH(\"B\",$BF$1:$BF$20,0))))","v":"Caitlin Tevendale"},"Event Cancelled","No Competitors","Opening Height Not Cleared",null,44]
[41,null,null,null,null,null,null,null,null,null,null,null,null,null,null,null,null,null,null,null,null,null,null,null,null,null,null,null,null,null,null,null,null,null,null,null,null,null,null,null,null,null,null,null,null,null,null,null,null,null,null,null,null,null,null,null,null,null,null,null,null,null,null,"F23","U15G","Long Jump",null,{"$f":"IF(COUNTIF($N$24:$N$48,\"A\")=0,\"-\",INDIRECT(CONCATENATE(\"B\",MATCH(\"A\",$N$21:$N$48,0)+20)))","v":"Emily Miles"},{"$f":"IF(COUNTIF($N$24:$N$48,\"B\")=0,\"-\",INDIRECT(CONCATENATE(\"B\",MATCH(\"B\",$N$21:$N$48,0)+20)))","v":"Catriona Mckell"},{"$f":"IF(COUNTIF($AH$24:$AH$48,\"A\")=0,\"-\",INDIRECT(CONCATENATE(\"V\",MATCH(\"A\",$AH$21:$AH$48,0)+20)))","v":"Lauren Ward"},{"$f":"IF(COUNTIF($AH$24:$AH$48,\"B\")=0,\"-\",INDIRECT(CONCATENATE(\"V\",MATCH(\"B\",$AH$21:$AH$48,0)+20)))","v":"Alex Jackson"},{"$f":"IF(COUNTIF($BB$24:$BB$48,\"A\")=0,\"-\",INDIRECT(CONCATENATE(\"AP\",MATCH(\"A\",$BB$21:$BB$48,0)+20)))","v":"Elaine Williams"},{"$f":"IF(COUNTIF($BB$24:$BB$48,\"B\")=0,\"-\",INDIRECT(CONCATENATE(\"AP\",MATCH(\"B\",$BB$21:$BB$48,0)+20)))","v":"Evelyn Williams"},"Event Cancelled","No Competitors","Opening Height Not Cleared",null,45]
[42,null,null,null,null,null,null,null,null,null,null,null,null,null,null,null,null,null,null,null,null,null,null,null,null,null,null,null,null,null,null,null,null,null,null,null,null,null,null,null,null,null,null,null,null,null,null,null,null,null,null,null,null,null,null,null,null,null,null,null,null,null,null,"F20","U15G","Discus",null,{"$f":"IF(COUNTIF($S$24:$S$48,\"A\")=0,\"-\",INDIRECT(CONCATENATE(\"B\",MATCH(\"A\",$S$21:$S$48,0)+20)))","v":"Emma Clarkson"},{"$f":"IF(COUNTIF($S$24:$S$48,\"B\")=0,\"-\",INDIRECT(CONCATENATE(\"B\",MATCH(\"B\",$S$21:$S$48,0)+20)))","v":"-"},{"$f":"IF(COUNTIF($AM$24:$AM$48,\"A\")=0,\"-\",INDIRECT(CONCATENATE(\"V\",MATCH(\"A\",$AM$21:$AM$48,0)+20)))","v":"India Freeman"},{"$f":"IF(COUNTIF($AM$24:$AM$48,\"B\")=0,\"-\",INDIRECT(CONCATENATE(\"V\",MATCH(\"B\",$AM$21:$AM$48,0)+20)))","v":"Abbie Donnelly"},{"$f":"IF(COUNTIF($BG$24:$BG$48,\"A\")=0,\"-\",INDIRECT(CONCATENATE(\"AP\",MATCH(\"A\",$BG$21:$BG$48,0)+20)))","v":"Charlotte Mather"},{"$f":"IF(COUNTIF($BG$24:$BG$48,\"B\")=0,\"-\",INDIRECT(CONCATENATE(\"AP\",MATCH(\"B\",$BG$21:$BG$48,0)+20)))","v":"Lexie Wilson"},"Event Cancelled","No Competitors","Opening Height Not Cleared",null,46]
[null,null,null,null,null,null,null,null,null,null,null,null,null,null,null,null,null,null,null,null,null,null,null,null,null,null,null,null,null,null,null,null,null,null,null,null,null,null,null,null,null,null,null,null,null,null,null,null,null,null,null,null,null,null,null,null,null,null,null,null,null,null,null,"F21","U17W","Discus",null,{"$f":"IF(COUNTIF($S$52:$S$77,\"A\")=0,\"-\",INDIRECT(CONCATENATE(\"B\",MATCH(\"A\",$S$49:$S$77,0)+48)))","v":"-"},{"$f":"IF(COUNTIF($S$52:$S$77,\"B\")=0,\"-\",INDIRECT(CONCATENATE(\"B\",MATCH(\"B\",$S$49:$S$77,0)+48)))","v":"-"},{"$f":"IF(COUNTIF($AM$52:$AM$77,\"A\")=0,\"-\",INDIRECT(CONCATENATE(\"V\",MATCH(\"A\",$AM$49:$AM$77,0)+48)))","v":"Elsie Dawes"},{"$f":"IF(COUNTIF($AM$52:$AM$77,\"B\")=0,\"-\",INDIRECT(CONCATENATE(\"V\",MATCH(\"B\",$AM$49:$AM$77,0)+48)))","v":"Rhiannon Philps"},{"$f":"IF(COUNTIF($BG$52:$BG$77,\"A\")=0,\"-\",INDIRECT(CONCATENATE(\"AP\",MATCH(\"A\",$BG$49:$BG$77,0)+48)))","v":"Emily Fox"},{"$f":"IF(COUNTIF($BG$52:$BG$77,\"B\")=0,\"-\",INDIRECT(CONCATENATE(\"AP\",MATCH(\"B\",$BG$49:$BG$77,0)+48)))","v":"Fiona Bell"},"Event Cancelled","No Competitors","Opening Height Not Cleared",null,47]
[null,null,null,null,null,null,null,null,null,null,null,null,null,null,null,null,null,null,null,null,null,null,null,null,null,null,null,null,null,null,null,null,null,null,null,null,null,null,null,null,null,null,null,null,null,null,null,null,null,null,null,null,null,null,null,null,null,null,null,null,null,null,null,"F18","U17W","Shot",null,{"$f":"IF(COUNTIF($R$52:$R$77,\"A\")=0,\"-\",INDIRECT(CONCATENATE(\"B\",MATCH(\"A\",$R$49:$R$77,0)+48)))","v":"Hannah Short"},{"$f":"IF(COUNTIF($R$52:$R$77,\"B\")=0,\"-\",INDIRECT(CONCATENATE(\"B\",MATCH(\"B\",$R$49:$R$77,0)+48)))","v":"-"},{"$f":"IF(COUNTIF($AL$52:$AL$77,\"A\")=0,\"-\",INDIRECT(CONCATENATE(\"V\",MATCH(\"A\",$AL$49:$AL$77,0)+48)))","v":"Katie McMunn"},{"$f":"IF(COUNTIF($AL$52:$AL$77,\"B\")=0,\"-\",INDIRECT(CONCATENATE(\"V\",MATCH(\"B\",$AL$49:$AL$77,0)+48)))","v":"-"},{"$f":"IF(COUNTIF($BF$52:$BF$77,\"A\")=0,\"-\",INDIRECT(CONCATENATE(\"AP\",MATCH(\"A\",$BF$49:$BF$77,0)+48)))","v":"Claire Wilsher"},{"$f":"IF(COUNTIF($BF$52:$BF$77,\"B\")=0,\"-\",INDIRECT(CONCATENATE(\"AP\",MATCH(\"B\",$BF$49:$BF$77,0)+48)))","v":"Nicole Norton"},"Event Cancelled","No Competitors","Opening Height Not Cleared",null,48]
[null,{"$f":"CONCATENATE(Handbook!$X$1,\" Athletes\")","v":"U17W Athletes"},null,null,null,null,null,null,null,null,null,null,null,null,null,null,null,null,null,null,null,{"$f":"B51","v":"U17W Athletes"},null,null,null,null,null,null,null,null,null,null,null,null,null,null,null,null,null,null,null,{"$f":"B51","v":"U17W Athletes"},null,null,null,null,null,null,null,null,null,null,null,null,null,null,null,null,null,null,null,null,null,"F32","U17W","Triple Jump",null,{"$f":"IF(COUNTIF($O$52:$O$77,\"A\")=0,\"-\",INDIRECT(CONCATENATE(\"B\",MATCH(\"A\",$O$49:$O$77,0)+48)))","v":"-"},{"$f":"IF(COUNTIF($O$52:$O$77,\"B\")=0,\"-\",INDIRECT(CONCATENATE(\"B\",MATCH(\"B\",$O$49:$O$77,0)+48)))","v":"-"},{"$f":"IF(COUNTIF($AI$52:$AI$77,\"A\")=0,\"-\",INDIRECT(CONCATENATE(\"V\",MATCH(\"A\",$AI$49:$AI$77,0)+48)))","v":"Rhiannon Philps"},{"$f":"IF(COUNTIF($AI$52:$AI$77,\"B\")=0,\"-\",INDIRECT(CONCATENATE(\"V\",MATCH(\"B\",$AI$49:$AI$77,0)+48)))","v":"-"},{"$f":"IF(COUNTIF($BC$52:$BC$77,\"A\")=0,\"-\",INDIRECT(CONCATENATE(\"AP\",MATCH(\"A\",$BC$49:$BC$77,0)+48)))","v":"-"},{"$f":"IF(COUNTIF($BC$52:$BC$77,\"B\")=0,\"-\",INDIRECT(CONCATENATE(\"AP\",MATCH(\"B\",$BC$49:$BC$77,0)+48)))","v":"-"},"Event Cancelled","No Competitors","Opening Height Not Cleared",null,49]
[43,"Hannah Short","A",null,null,null,null,null,null,null,null,null,null,null,null,null,null,"A",null,"A",null,"Lucy Helas",null,null,null,null,null,"A",null,"A",null,4,null,null,null,null,null,null,null,null,null,"Nicole Norton",null,null,"A",null,null,"A",null,null,null,3,null,null,null,null,null,"B",null,null,null,null,null,null,null,null,null,null,null,null,null,null,null,null,null,null,null,50]
[44,null,null,null,null,null,null,null,null,null,null,null,null,null,null,null,null,null,null,null,null,"Katie McMunn","A",null,null,null,null,null,null,null,null,2,null,null,null,"A",null,"A",null,null,null,"Rebecca Taylor",null,null,"B",null,null,null,null,"A",null,null,null,null,null,null,null,null,null,null,null,null,null,null,null,null,null,null,null,null,null,null,null,null,null,null,null,51]
[45,null,null,null,null,null,null,null,null,null,null,null,null,null,null,null,null,null,null,null,null,"Sydney Cherrie",null,null,null,null,"A","B",null,null,null,3,null,"A",null,null,null,null,null,null,null,"Hannah Fletcher",null,"A",null,null,null,null,null,"B",null,2]
[46,null,null,null,null,null,null,null,null,null,null,null,null,null,null,null,null,null,null,null,null,"Rhiannon Philps",null,null,null,null,null,null,null,"B",null,1,null,null,"A",null,null,null,"B",null,null,"Claire Wilsher",null,"B",null,null,null,"B",null,null,null,1,null,null,null,null,null,"A"]
[47,null,null,null,null,null,null,null,null,null,null,null,null,null,null,null,null,null,null,null,null,"Elsie Dawes",null,null,null,null,null,null,null,null,null,null,null,null,null,null,null,null,"A","A","A","Fiona Bell",null,null,null,null,null,null,"A",null,null,4,null,null,null,null,null,null,"B","B"]
[48,null,null,null,null,null,null,null,null,null,null,null,null,null,null,null,null,null,null,null,null,null,null,null,null,null,null,null,null,null,null,null,null,null,null,null,null,null,null,null,null,"Emily Fox",null,null,null,null,null,null,null,null,null,null,null,null,null,null,null,null,"A","A"]
[49]
[50]
[51]
[52]
[53]
[54]
[55]
[56]
[57]
[58]
[59]
[60]
[61]
[62]
[63]
[64]
[65]
[66]
[67]
[68]
[69]

{"sheet":"Handbook","index":11,"n_rows":86,"n_cols":84,"rows_kept":86,"cut":false,"hidden":false,"merged":[[0,67,0,70],[0,71,0,74],[0,75,0,78],[0,28,0,34],[0,36,0,42],[0,55,0,58],[0,59,0,62],[0,63,0,66]]}
["Event No","Age Group","Event","Age Group/Event","M/F","Wind","Record","Grade 1","Grade 2","Grade 3","Grade 4","Time","Duty","St. Heights",null,"Event No",null,null,null,null,"Events/Age Groups","U13G","U15G","U17W","U13B","U15B","U17M",null,"Row",null,null,null,null,null,null,null,"Column",null,null,null,null,null,null,null,{"$f":"$U1","v":"Events/Age Groups"},{"$f":"V$1","v":"U13G"},"U15G","U17W","U13B","U15B","U17M",null,"Records",null,{"$f":"$U1","v":"Events/Age Groups"},{"$f":"V$1","v":"U13G"},null,null,null,{"$f":"W$1","v":"U15G"},null,null,null,{"$f":"X$1","v":"U17W"},null,null,null,{"$f":"Y$1","v":"U13B"},null,null,null,{"$f":"Z$1","v":"U15B"},null,null,null,{"$f":"AA$1","v":"U17M"},null,null,null,null,"Grade 1","Grade 2","Grade 3","Grade 4"]
["T1",{"$f":"IF(OR($A2=0,$A2=\"\",$AQ2=0,$AQ2=\"\"),\"\",INDEX(agegroups,$AQ2))","v":"U13G"},{"$f":"IF(OR($A2=0,$A2=\"\",$AQ2=0,$AQ2=\"\"),\"\",INDEX(events,$AI2))","v":"70m H"},{"$f":"CONCATENATE(B2,\" \",C2)","v":"U13G 70m H"},{"$f":"IF(OR(B2=0,B2=\"\"),\"\",IF(OR(MID(B2,4,1)=\"G\",MID(B2,4,1)=\"W\"),\"F\",IF(OR(MID(B2,4,1)=\"B\",MID(B2,4,1)=\"M\"),\"M\",\"\")))","v":"F"},"W",{"$f":"IF(OR($A2=0,$A2=\"\",$AI2=\"\",$AQ2=\"\"),\"\",INDIRECT($BA2))","v":11.1},{"$f":"IF(OR($A2=0,$A2=\"\",$AI2=\"\",$AQ2=\"\"),\"\",INDIRECT($CC2))","v":12.2},{"$f":"IF(OR($A2=0,$A2=\"\",$AI2=\"\",$AQ2=\"\"),\"\",INDIRECT($CD2))","v":12.5},{"$f":"IF(OR($A2=0,$A2=\"\",$AI2=\"\",$AQ2=\"\"),\"\",INDIRECT($CE2))","v":12.8},{"$f":"IF(OR($A2=0,$A2=\"\",$AI2=\"\",$AQ2=\"\"),\"\",INDIRECT($CF2))","v":13.4},"11:30:00",null,null,null,{"$f":"A2","v":"T1"},null,null,null,null,"70m H","T1",null,null,null,null,null,null,{"$f":"IF(ISERROR(MATCH($A2,V$2:V$29,0)=TRUE),\"\",MATCH($A2,V$2:V$29,0))","v":1},"","","","","",{"$f":"SUM(AC2:AH2)","v":1},null,{"$f":"IF(ISERROR(MATCH($A2,V$1:V$29,0)=TRUE),\"\",1)","v":1},{"$f":"IF(ISERROR(MATCH($A2,W$1:W$29,0)=TRUE),\"\",2)","v":""},{"$f":"IF(ISERROR(MATCH($A2,X$1:X$29,0)=TRUE),\"\",3)","v":""},{"$f":"IF(ISERROR(MATCH($A2,Y$1:Y$29,0)=TRUE),\"\",4)","v":""},{"$f":"IF(ISERROR(MATCH($A2,Z$1:Z$29,0)=TRUE),\"\",5)","v":""},{"$f":"IF(ISERROR(MATCH($A2,AA$1:AA$29,0)=TRUE),\"\",6)","v":""},{"$f":"SUM(AK2:AP2)","v":1},null,{"$f":"$U2","v":"70m H"},11.1,null,null,null,null,null,null,{"$f":"IF(OR($AQ2=\"\",$AQ2=0,$A2=\"\"),\"\",CONCATENATE(VLOOKUP($AQ2,col_table,3,FALSE),$AI2+1))","v":"AT2"},null,{"$f":"$U2","v":"70m H"},12.2,12.5,12.8,13.4,null,null,null,null,null,null,null,null,null,null,null,null,null,null,null,null,null,null,null,null,null,{"$f":"IF(OR($AQ2=\"\",$AQ2=0,$A2=\"\"),\"\",CONCATENATE(VLOOKUP($AQ2,col_table,4,FALSE),$AI2+1))","v":"BD2"},{"$f":"IF(OR($AQ2=\"\",$AQ2=0,$A2=\"\"),\"\",CONCATENATE(VLOOKUP($AQ2,col_table,5,FALSE),$AI2+1))","v":"BE2"},{"$f":"IF(OR($AQ2=\"\",$AQ2=0,$A2=\"\"),\"\",CONCATENATE(VLOOKUP($AQ2,col_table,6,FALSE),$AI2+1))","v":"BF2"},{"$f":"IF(OR($AQ2=\"\",$AQ2=0,$A2=\"\"),\"\",CONCATENATE(VLOOKUP($AQ2,col_table,7,FALSE),$AI2+1))","v":"BG2"}]
["T2",{"$f":"IF(OR(A3=0,A3=\"\",AQ3=0,AQ3=\"\"),\"\",INDEX(agegroups,AQ3))","v":"U13B"},"75m H",{"$f":"CONCATENATE(B3,\" \",C3)","v":"U13B 75m H"},{"$f":"IF(OR(B3=0,B3=\"\"),\"\",IF(OR(MID(B3,4,1)=\"G\",MID(B3,4,1)=\"W\"),\"F\",IF(OR(MID(B3,4,1)=\"B\",MID(B3,4,1)=\"M\"),\"M\",\"\")))","v":"M"},"W",{"$f":"IF(OR($A3=0,$A3=\"\",$AI3=\"\",$AQ3=\"\"),\"\",INDIRECT($BA3))","v":11.9},{"$f":"IF(OR($A3=0,$A3=\"\",$AI3=\"\",$AQ3=\"\"),\"\",INDIRECT($CC3))","v":13},{"$f":"IF(OR($A3=0,$A3=\"\",$AI3=\"\",$AQ3=\"\"),\"\",INDIRECT($CD3))","v":13.4},{"$f":"IF(OR($A3=0,$A3=\"\",$AI3=\"\",$AQ3=\"\"),\"\",INDIRECT($CE3))","v":14},{"$f":"IF(OR($A3=0,$A3=\"\",$AI3=\"\",$AQ3=\"\"),\"\",INDIRECT($CF3))","v":15.2},"11:30:00",null,null,null,{"$f":"A3","v":"T2"},null,null,null,null,"75m H",null,"T3",null,"T2",null,null,null,{"$f":"IF(ISERROR(MATCH($A3,V$2:V$29,0)=TRUE),\"\",MATCH($A3,V$2:V$29,0))","v":""},{"$f":"IF(ISERROR(MATCH($A3,W$2:W$29,0)=TRUE),\"\",MATCH($A3,W$2:W$29,0))","v":""},{"$f":"IF(ISERROR(MATCH($A3,X$2:X$29,0)=TRUE),\"\",MATCH($A3,X$2:X$29,0))","v":""},{"$f":"IF(ISERROR(MATCH($A3,Y$2:Y$29,0)=TRUE),\"\",MATCH($A3,Y$2:Y$29,0))","v":2},{"$f":"IF(ISERROR(MATCH($A3,Z$2:Z$29,0)=TRUE),\"\",MATCH($A3,Z$2:Z$29,0))","v":""},{"$f":"IF(ISERROR(MATCH($A3,AA$2:AA$29,0)=TRUE),\"\",MATCH($A3,AA$2:AA$29,0))","v":""},{"$f":"SUM(AC3:AH3)","v":2},null,{"$f":"IF(ISERROR(MATCH($A3,V$1:V$29,0)=TRUE),\"\",1)","v":""},{"$f":"IF(ISERROR(MATCH($A3,W$1:W$29,0)=TRUE),\"\",2)","v":""},{"$f":"IF(ISERROR(MATCH($A3,X$1:X$29,0)=TRUE),\"\",3)","v":""},{"$f":"IF(ISERROR(MATCH($A3,Y$1:Y$29,0)=TRUE),\"\",4)","v":4},{"$f":"IF(ISERROR(MATCH($A3,Z$1:Z$29,0)=TRUE),\"\",5)","v":""},{"$f":"IF(ISERROR(MATCH($A3,AA$1:AA$29,0)=TRUE),\"\",6)","v":""},{"$f":"SUM(AK3:AP3)","v":4},null,"75m H",null,11.1,null,11.9,null,null,null,"AW3",null,"75m H",null,null,null,null,12,12.3,12.7,13.3,null,null,null,null,13,13.4,14,15.2,null,null,null,null,null,null,null,null,null,"BP3","BQ3","BR3","BS3"]
["T3","U15G","75m H","U15G 75m H","F","W",11.1,12,12.3,12.7,13.3,"11:30:00",null,null,null,"T3",null,null,null,null,"80m H",null,null,"T4",null,"T5",null,null,"",2,"","","","",2,null,"",2,"","","","",2,null,"80m H",null,null,11.2,null,10.9,null,null,"AU3",null,"80m H",null,null,null,null,null,null,null,null,12,12.2,12.7,13.2,null,null,null,null,11.9,12.2,12.7,13.4,null,null,null,null,null,"BH3","BI3","BJ3","BK3"]
["T4","U17W","80m H","U17W 80m H","F","W",11.2,12,12.2,12.7,13.2,"11:30:00",null,null,null,"T4",null,null,null,null,"100m H",null,null,null,null,null,"T6",null,"","",3,"","","",3,null,"","",3,"","","",3,null,"100m H",null,null,null,null,null,12.8,null,"AV4",null,"100m H",null,null,null,null,null,null,null,null,null,null,null,null,null,null,null,null,null,null,null,null,13.7,14,14.6,15.4,null,"BL4","BM4","BN4","BO4"]
["T5","U15B","80m H","U15B 80m H","M","W",10.9,11.9,12.2,12.7,13.4,"11:30:00",null,null,null,"T5",null,null,null,null,"800m","T9","T8","T7","T10","T11","T12",null,"","","","",3,"",3,null,"","","","",5,"",5,null,"800m","00:02:19.900","00:02:12.200","00:02:10","00:02:06.500","00:01:57.700","00:01:53.300",null,"AX4",null,"800m","00:02:29.500","00:02:31.500","00:02:35.500","00:02:41","00:02:19.500","00:02:23","00:02:26.500","00:02:31","00:02:14.800","00:02:17.500","00:02:20.800","00:02:25.900","00:02:22","00:02:24.500","00:02:28.500","00:02:34.500","00:02:06.500","00:02:10","00:02:13.500","00:02:18.500","00:01:57","00:01:59.500","00:02:02","00:02:06.500",null,"BT4","BU4","BV4","BW4"]
["T6","U17M","100m H","U17M 100m H","M","W",12.8,13.7,14,14.6,15.4,"11:30:00",null,null,null,"T6",null,null,null,null,"75m","T13",null,null,null,null,null,null,"","","","","",4,4,null,"","","","","",6,6,null,"75m",9.5,null,null,null,null,null,null,"AY5",null,"75m",10.4,10.6,10.9,11.3,null,null,null,null,null,null,null,null,null,null,null,null,null,null,null,null,null,null,null,null,null,"BX5","BY5","BZ5","CA5"]
["T7","U17W","800m","U17W 800m","F",null,"00:02:10","00:02:14.800","00:02:17.500","00:02:20.800","00:02:25.900","12:20:00",null,null,null,"T7",null,null,null,null,"100m",null,"T15","T14","T18","T17","T16",null,"","",5,"","","",5,null,"","",3,"","","",3,null,"100m",null,11.9,11.7,11.71,10.9,10.5,null,"AV6",null,"100m",null,null,null,null,12.8,12.9,13.1,13.5,12.4,12.6,12.8,13.1,12.9,13.1,13.4,13.9,11.7,11.9,12.1,12.5,11.2,11.4,11.5,11.8,null,"BL6","BM6","BN6","BO6"]
["T8","U15G","800m","U15G 800m","F",null,"00:02:12.200","00:02:19.500","00:02:23","00:02:26.500","00:02:31","12:20:00",null,null,null,"T8",null,null,null,null,"3000m",null,null,"T20",null,null,"T19",null,"",5,"","","","",5,null,"",2,"","","","",2,null,"3000m",null,null,"00:09:40.400",null,null,"00:08:30.200",null,"AU6",null,"3000m",null,null,null,null,null,null,null,null,"00:10:08.500","00:10:31","00:10:50.500","00:11:27.500",null,null,null,null,null,null,null,null,"00:08:49.500","00:09:01","00:09:15.500","00:09:38.500",null,"BH6","BI6","BJ6","BK6"]
["T9","U13G","800m","U13G 800m","F",null,"00:02:19.900","00:02:29.500","00:02:31.500","00:02:35.500","00:02:41","12:20:00",null,null,null,"T9",null,null,null,null,"300m H",null,null,"T21",null,null,null,null,5,"","","","","",5,null,1,"","","","","",1,null,"300m H",null,null,43.76,null,null,null,null,"AT6",null,"300m H",null,null,null,null,null,null,null,null,45.5,46.7,47.9,50,null,null,null,null,null,null,null,null,null,null,null,null,null,"BD6","BE6","BF6","BG6"]
["T10","U13B","800m","U13B 800m","M",null,"00:02:06.500","00:02:22","00:02:24.500","00:02:28.500","00:02:34.500","12:20:00",null,null,null,"T10",null,null,null,null,"400m H",null,null,null,null,null,"T22",null,"","","",5,"","",5,null,"","","",4,"","",4,null,"400m H",null,null,null,null,null,53.6,null,"AW6",null,"400m H",null,null,null,null,null,null,null,null,null,null,null,null,null,null,null,null,null,null,null,null,56.5,58.5,60.5,62.5,null,"BP6","BQ6","BR6","BS6"]
["T11","U15B","800m","U15B 800m","M",null,"00:01:57.700","00:02:06.500","00:02:10","00:02:13.500","00:02:18.500","12:20:00",null,null,null,"T11",null,null,null,null,"150m","T23",null,null,null,null,null,null,"","","","",5,"",5,null,"","","","",5,"",5,null,"150m",18.8,null,null,null,null,null,null,"AX6",null,"150m",20.6,21,21.5,22.4,null,null,null,null,null,null,null,null,null,null,null,null,null,null,null,null,null,null,null,null,null,"BT6","BU6","BV6","BW6"]
["T12","U17M","800m","U17M 800m","M",null,"00:01:53.300","00:01:57","00:01:59.500","00:02:02","00:02:06.500","12:20:00",null,null,null,"T12",null,null,null,null,"200m",null,"T25","T27","T24","T26","T28",null,"","","","","",5,5,null,"","","","","",6,6,null,"200m",null,24.18,24.1,23.7,22.3,21.33,null,"AY6",null,"200m",null,null,null,null,26.3,26.7,27.2,28,25.4,25.8,26.3,27.1,26.7,27.6,28,29,24,24.4,24.9,25.6,22.8,23.1,23.5,24.1,null,"BX6","BY6","BZ6","CA6"]
["T13","U13G","75m","U13G 75m","F","W",9.5,10.4,10.6,10.9,11.3,"13:00:00",null,null,null,"T13",null,null,null,null,"1200m","T29",null,null,null,null,null,null,6,"","","","","",6,null,1,"","","","","",1,null,"1200m","00:03:41.800",null,null,null,null,null,null,"AT7",null,"1200m","00:03:57","00:04:01","00:04:07","00:04:15",null,null,null,null,null,null,null,null,null,null,null,null,null,null,null,null,null,null,null,null,null,"BD7","BE7","BF7","BG7"]
["T14","U17W","100m","U17W 100m","F","W",11.7,12.4,12.6,12.8,13.1,"13:00:00",null,null,null,"T14",null,null,null,null,"1500m",null,"T31","T33","T30","T32","T34",null,"","",7,"","","",7,null,"","",3,"","","",3,null,"1500m",null,"00:04:36.360","00:04:30.900","00:04:23.700","00:04:03.700","00:03:55.660",null,"AV8",null,"1500m",null,null,null,null,"00:04:50.500","00:04:57.500","00:05:05.500","00:05:17","00:04:41","00:04:47","00:04:53.800","00:05:04.800","00:04:50.500","00:04:56.500","00:05:03.500","00:05:16","00:04:23","00:04:28","00:04:35.500","00:04:46.500","00:04:06","00:04:11","00:04:17","00:04:26.500",null,"BL8","BM8","BN8","BO8"]
["T15","U15G","100m","U15G 100m","F","W",11.9,12.8,12.9,13.1,13.5,"13:00:00",null,null,null,"T15",null,null,null,null,"300m",null,null,"T35",null,null,null,null,"",7,"","","","",7,null,"",2,"","","","",2,null,"300m",null,null,38.299999999999997,null,null,null,null,"AU8",null,"300m",null,null,null,null,null,null,null,null,41.4,42.2,43,44.4,null,null,null,null,null,null,null,null,null,null,null,null,null,"BH8","BI8","BJ8","BK8"]
["T16","U17M","100m","U17M 100m","M","W",10.5,11.2,11.4,11.5,11.8,"13:00:00",null,null,null,"T16",null,null,null,null,"400m",null,null,null,null,"T36","T37",null,"","","","","",7,7,null,"","","","","",6,6,null,"400m",null,null,null,null,50.1,48.2,null,"AY8",null,"400m",null,null,null,null,null,null,null,null,null,null,null,null,null,null,null,null,54.7,55.7,57,59,51,51.8,52.9,54.4,null,"BX8","BY8","BZ8","CA8"]
["T17","U15B","100m","U15B 100m","M","W",10.9,11.7,11.9,12.1,12.5,"13:00:00",null,null,null,"T17",null,null,null,null,"4 x 100m Relay","T42","T40","T38","T43","T41","T39",null,"","","","",7,"",7,null,"","","","",5,"",5,null,"4 x 100m Relay",52.1,49.13,47.97,49.9,44.8,41.92,null,"AX8",null,"4 x 100m Relay",null,null,null,null,null,null,null,null,null,null,null,null,null,null,null,null,null,null,null,null,null,null,null,null,null,"BT8","BU8","BV8","BW8"]
["T18","U13B","100m","U13B 100m","M","W",11.71,12.9,13.1,13.4,13.9,"13:00:00",null,null,null,"T18",null,null,null,null,"4 x 300m Relay",null,null,"T44",null,null,null,null,"","","",7,"","",7,null,"","","",4,"","",4,null,"4 x 300m Relay",null,null,"00:02:43.100",null,null,null,null,"AW8",null,"4 x 300m Relay",null,null,null,null,null,null,null,null,null,null,null,null,null,null,null,null,null,null,null,null,null,null,null,null,null,"BP8","BQ8","BR8","BS8"]
["T19","U17M","3000m","U17M 3000m","M",null,"00:08:30.200","00:08:49.500","00:09:01","00:09:15.500","00:09:38.500","13:40:00",null,null,null,"T19",null,null,null,null,"1500m S/Chase",null,null,null,null,null,"T45",null,"","","","","",8,8,null,"","","","","",6,6,null,"1500m S/Chase",null,null,null,null,null,"00:04:14.400",null,"AY9",null,"1500m S/Chase",null,null,null,null,null,null,null,null,null,null,null,null,null,null,null,null,null,null,null,null,"00:04:31","00:04:37","00:04:47","00:05:02",null,"BX9","BY9","BZ9","CA9"]
["T20","U17W","3000m","U17W 3000m","F",null,"00:09:40.400","00:10:08.500","00:10:31","00:10:50.500","00:11:27.500","13:40:00",null,null,null,"T20",null,null,null,null,"4 x 400m Relay",null,null,null,null,"T46","T47",null,"","",8,"","","",8,null,"","",3,"","","",3,null,"4 x 400m Relay",null,null,null,null,"00:03:34.700","00:03:22.690",null,"AV9",null,"4 x 400m Relay",null,null,null,null,null,null,null,null,null,null,null,null,null,null,null,null,null,null,null,null,null,null,null,null,null,"BL9","BM9","BN9","BO9"]
["T21","U17W","300m H","U17W 300m H","F",null,43.76,45.5,46.7,47.9,50,"14:00:00",null,null,null,"T21",null,null,null,null,"Long Jump","F9","F23","F7","F1","F25","F19",null,"","",9,"","","",9,null,"","",3,"","","",3,null,"Long Jump",5.35,6.07,6.15,5.76,6.72,7.45,null,"AV10",null,"Long Jump",4.45,4.3499999999999996,4.2,3.95,5,4.8499999999999996,4.7,4.45,5.35,5.2,5.05,4.75,4.7,4.5999999999999996,4.5,4.1500000000000004,5.7,5.55,5.32,5,null,null,null,null,null,"BL10","BM10","BN10","BO10"]
["T22","U17M","400m H","U17M 400m H","M",null,53.6,56.5,58.5,60.5,62.5,"14:10:00",null,null,null,"T22",null,null,null,null,"Triple Jump",null,null,"F32",null,null,"F31",null,"","","","","",10,10,null,"","","","","",6,6,null,"Triple Jump",null,null,11.84,null,null,15.58,null,"AY11",null,"Triple Jump",null,null,null,null,null,null,null,null,10.9,10.6,10.1,9.4,null,null,null,null,null,null,null,null,null,null,null,null,null,"BX11","BY11","BZ11","CA11"]
["T23","U13G","150m","U13G 150m","F","W",18.8,20.6,21,21.5,22.4,"14:25:00",null,null,null,"T23",null,null,null,null,"High Jump","F13","F28","F29","F12","F3","F2",null,11,"","","","","",11,null,1,"","","","","",1,null,"High Jump",1.62,1.76,1.78,1.65,1.97,2.1,null,"AT12",null,"High Jump",1.4,1.35,1.3,1.25,1.55,1.5,1.45,1.4,1.65,1.61,1.55,1.48,1.45,1.4,1.35,1.3,1.7,1.66,1.6,1.55,1.85,1.82,1.75,1.7,null,"BD12","BE12","BF12","BG12"]
["T24","U13B","200m","U13B 200m","M","W",23.7,26.7,27.6,28,29,"14:25:00",null,null,null,"T24",null,null,null,null,"Pole Vault",null,"F16","F17",null,"F14","F15",null,"","","",12,"","",12,null,"","","",4,"","",4,null,"Pole Vault",null,3.3,4.03,null,4.2,5.2,null,"AW13",null,"Pole Vault",null,null,null,null,2.9,2.8,2.5,2.2000000000000002,3.4,3.2,2.9,2.5,null,null,null,null,3.2,3,2.8,2.4,4,3.65,3.5,3,null,"BP13","BQ13","BR13","BS13"]
["T25","U15G","200m","U15G 200m","F","W",24.18,26.3,26.7,27.2,28,"14:25:00",null,null,null,"T25",null,null,null,null,"Shot","F35","F24","F18","F22","F8","F30",null,"",12,"","","","",12,null,"",2,"","","","",2,null,"Shot",12.31,13.75,13.57,14.47,18.5,20.350000000000001,null,"AU13",null,"Shot",8.35,7.85,7.35,6.55,9.85,9.15,8.6,7.85,9.9499999999999993,9.35,8.6999999999999993,7.8,9.5500000000000007,8.9499999999999993,8.1,7.1,12.35,11.75,10.95,10.15,13.35,12.65,11.85,10.7,null,"BH13","BI13","BJ13","BK13"]
["T26","U15B","200m","U15B 200m","M","W",22.3,24,24.4,24.9,25.6,"14:25:00",null,null,null,"T26",null,null,null,null,"Discus",null,"F20","F21",null,"F26","F27",null,"","","","",12,"",12,null,"","","","",5,"",5,null,"Discus",null,39.47,45.48,null,53.93,58.24,null,"AX13",null,"Discus",null,null,null,null,27.3,25.05,22.3,19.649999999999999,33.25,31.5,27.9,23.25,null,null,null,null,34.5,32.15,28.9,25.55,40.950000000000003,37.1,32.700000000000003,28.1,null,"BT13","BU13","BV13","BW13"]
["T27","U17W","200m","U17W 200m","F","W",24.1,25.4,25.8,26.3,27.1,"14:25:00",null,null,null,"T27",null,null,null,null,"Javelin",null,"F33","F34",null,"F10","F11",null,"","",12,"","","",12,null,"","",3,"","","",3,null,"Javelin",null,42.31,44.36,null,57.67,70.22,null,"AV13",null,"Javelin",null,null,null,null,28.8,26.35,23.85,20.399999999999999,38.299999999999997,34,29.6,24.9,null,null,null,null,42.55,39.9,37,32.65,50.55,47,43.3,38.1,null,"BL13","BM13","BN13","BO13"]
["T28","U17M","200m","U17M 200m","M","W",21.33,22.8,23.1,23.5,24.1,"14:25:00",null,null,null,"T28",null,null,null,null,"Hammer",null,null,"F6",null,"F4","F5",null,"","","","","",12,12,null,"","","","","",6,6,null,"Hammer",null,null,52.37,null,69.040000000000006,74.8,null,"AY13",null,"Hammer",null,null,null,null,null,null,null,null,40.700000000000003,36.85,31.6,22.6,null,null,null,null,46.2,41.1,34.200000000000003,27.8,58,48.6,39.25,29.3,null,"BX13","BY13","BZ13","CA13"]
["T29","U13G","1200m","U13G 1200m","F",null,"00:03:41.800","00:03:57","00:04:01","00:04:07","00:04:15","15:10:00",null,null,null,"T29",null,null,null,null,null,null,null,null,null,null,null,null,13,"","","","","",13,null,1,"","","","","",1,null,null,null,null,null,null,null,null,null,"AT14",null,null,null,null,null,null,null,null,null,null,null,null,null,null,null,null,null,null,null,null,null,null,null,null,null,null,null,"BD14","BE14","BF14","BG14"]
["T30","U13B","1500m","U13B 1500m","M",null,"00:04:23.700","00:04:50.500","00:04:56.500","00:05:03.500","00:05:16","15:10:00",null,null,null,"T30",null,null,null,null,null,null,null,null,null,null,null,null,"","","",14,"","",14,null,"","","",4,"","",4,null,null,null,null,null,null,null,null,null,"AW15",null,null,null,null,null,null,null,null,null,null,null,null,null,null,null,null,null,null,null,null,null,null,null,null,null,null,null,"BP15","BQ15","BR15","BS15"]
["T31","U15G","1500m","U15G 1500m","F",null,"00:04:36.360","00:04:50.500","00:04:57.500","00:05:05.500","00:05:17","15:10:00",null,null,null,"T31",null,null,null,null,null,null,null,null,null,null,null,null,"",14,"","","","",14,null,"",2,"","","","",2,null,"Column Tables","Event","Records","G1","G2","G3","G4",null,"AU15",null,null,null,null,null,null,null,null,null,null,null,null,null,null,null,null,null,null,null,null,null,null,null,null,null,null,null,"BH15","BI15","BJ15","BK15"]
["T32","U15B","1500m","U15B 1500m","M",null,"00:04:03.700","00:04:23","00:04:28","00:04:35.500","00:04:46.500","15:10:00",null,null,null,"T32",null,null,null,null,null,null,null,null,null,null,null,null,"","","","",14,"",14,null,"","","","",5,"",5,null,1,"V","AT","BD","BE","BF","BG",null,"AX15",null,null,null,null,null,null,null,null,null,null,null,null,null,null,null,null,null,null,null,null,null,null,null,null,null,null,null,"BT15","BU15","BV15","BW15"]
["T33","U17W",{"$f":"IF(OR($A34=0,$A34=\"\",$AQ34=0,$AQ34=\"\"),\"\",INDEX(events,$AI34))","v":"1500m"},"U17W 1500m","F",null,"00:04:30.900","00:04:41","00:04:47","00:04:53.800","00:05:04.800","15:10:00",null,null,null,"T33",null,null,null,null,null,null,null,null,null,null,null,null,"","",14,"","","",14,null,"","",3,"","","",3,null,2,"W","AU","BH","BI","BJ","BK",null,{"$f":"IF(OR($AQ34=\"\",$AQ34=0,$A34=\"\"),\"\",CONCATENATE(VLOOKUP($AQ34,col_table,3,FALSE),$AI34+1))","v":"AV15"},null,null,null,null,null,null,null,null,null,null,null,null,null,null,null,null,null,null,null,null,null,null,null,null,null,null,null,{"$f":"IF(OR($AQ34=\"\",$AQ34=0,$A34=\"\"),\"\",CONCATENATE(VLOOKUP($AQ34,col_table,4,FALSE),$AI34+1))","v":"BL15"},{"$f":"IF(OR($AQ34=\"\",$AQ34=0,$A34=\"\"),\"\",CONCATENATE(VLOOKUP($AQ34,col_table,5,FALSE),$AI34+1))","v":"BM15"},{"$f":"IF(OR($AQ34=\"\",$AQ34=0,$A34=\"\"),\"\",CONCATENATE(VLOOKUP($AQ34,col_table,6,FALSE),$AI34+1))","v":"BN15"},{"$f":"IF(OR($AQ34=\"\",$AQ34=0,$A34=\"\"),\"\",CONCATENATE(VLOOKUP($AQ34,col_table,7,FALSE),$AI34+1))","v":"BO15"}]
["T34",{"$f":"IF(OR(A35=0,A35=\"\",AQ35=0,AQ35=\"\"),\"\",INDEX(agegroups,AQ35))","v":"U17M"},"1500m","U17M 1500m","M",null,"00:03:55.660","00:04:06","00:04:11","00:04:17","00:04:26.500","15:10:00",null,null,null,"T34",null,null,null,null,null,null,null,null,null,null,null,null,"","","","","",14,14,null,"","","","","",6,6,null,3,"X","AV","BL","BM","BN","BO",null,"AY15",null,null,null,null,null,null,null,null,null,null,null,null,null,null,null,null,null,null,null,null,null,null,null,null,null,null,null,"BX15","BY15","BZ15","CA15"]
["T35","U17W","300m","U17W 300m","F",null,38.299999999999997,41.4,42.2,43,44.4,"15:55:00",null,null,null,"T35",null,null,null,null,null,null,null,null,null,null,null,null,"","",15,"","","",15,null,"","",3,"","","",3,null,4,"Y","AW","BP","BQ","BR","BS",null,"AV16",null,null,null,null,null,null,null,null,null,null,null,null,null,null,null,null,null,null,null,null,null,null,null,null,null,null,null,"BL16","BM16","BN16","BO16"]
["T36","U15B","400m","U15B 400m","M",null,50.1,54.7,55.7,57,59,"15:55:00",null,null,null,"T36",null,null,null,null,null,null,null,null,null,null,null,null,"","","","",16,"",16,null,"","","","",5,"",5,null,5,"Z","AX","BT","BU","BV","BW",null,"AX17",null,null,null,null,null,null,null,null,null,null,null,null,null,null,null,null,null,null,null,null,null,null,null,null,null,null,null,"BT17","BU17","BV17","BW17"]
["T37","U17M","400m","U17M 400m","M",null,48.2,51,51.8,52.9,54.4,"15:55:00",null,null,null,"T37",null,null,null,null,null,null,null,null,null,null,null,null,"","","","","",16,16,null,"","","","","",6,6,null,6,"AA","AY","BX","BY","BZ","CA",null,"AY17",null,null,null,null,null,null,null,null,null,null,null,null,null,null,null,null,null,null,null,null,null,null,null,null,null,null,null,"BX17","BY17","BZ17","CA17"]
["T38","U17W","4 x 100m Relay","U17W 4 x 100m Relay","F",null,47.97,0,0,0,0,"16:25:00",null,null,null,"T38",null,null,null,null,null,null,null,null,null,null,null,null,"","",17,"","","",17,null,"","",3,"","","",3,null,null,null,null,null,null,null,null,null,"AV18",null,null,null,null,null,null,null,null,null,null,null,null,null,null,null,null,null,null,null,null,null,null,null,null,null,null,null,"BL18","BM18","BN18","BO18"]
["T39","U17M","4 x 100m Relay","U17M 4 x 100m Relay","M",null,41.92,0,0,0,0,"16:25:00",null,null,null,"T39",null,null,null,null,null,null,null,null,null,null,null,null,"","","","","",17,17,null,"","","","","",6,6,null,null,null,null,null,null,null,null,null,"AY18",null,null,null,null,null,null,null,null,null,null,null,null,null,null,null,null,null,null,null,null,null,null,null,null,null,null,null,"BX18","BY18","BZ18","CA18"]
["T40","U15G","4 x 100m Relay","U15G 4 x 100m Relay","F",null,49.13,0,0,0,0,"16:25:00",null,null,null,"T40",null,null,null,null,null,null,null,null,null,null,null,null,"",17,"","","","",17,null,"",2,"","","","",2,null,null,null,null,null,null,null,null,null,"AU18",null,null,null,null,null,null,null,null,null,null,null,null,null,null,null,null,null,null,null,null,null,null,null,null,null,null,null,"BH18","BI18","BJ18","BK18"]
["T41","U15B","4 x 100m Relay","U15B 4 x 100m Relay","M",null,44.8,0,0,0,0,"16:25:00",null,null,null,"T41",null,null,null,null,null,null,null,null,null,null,null,null,"","","","",17,"",17,null,"","","","",5,"",5,null,null,null,null,null,null,null,null,null,"AX18",null,null,null,null,null,null,null,null,null,null,null,null,null,null,null,null,null,null,null,null,null,null,null,null,null,null,null,"BT18","BU18","BV18","BW18"]
["T42","U13G","4 x 100m Relay","U13G 4 x 100m Relay","F",null,52.1,0,0,0,0,"16:25:00",null,null,null,"T42",null,null,null,null,null,null,null,null,null,null,null,null,17,"","","","","",17,null,1,"","","","","",1,null,null,null,null,null,null,null,null,null,"AT18",null,null,null,null,null,null,null,null,null,null,null,null,null,null,null,null,null,null,null,null,null,null,null,null,null,null,null,"BD18","BE18","BF18","BG18"]
["T43","U13B","4 x 100m Relay","U13B 4 x 100m Relay","M",null,49.9,0,0,0,0,"16:25:00",null,null,null,"T43",null,null,null,null,null,null,null,null,null,null,null,null,"","","",17,"","",17,null,"","","",4,"","",4,null,null,null,null,null,null,null,null,null,"AW18",null,null,null,null,null,null,null,null,null,null,null,null,null,null,null,null,null,null,null,null,null,null,null,null,null,null,null,"BP18","BQ18","BR18","BS18"]
["T44","U17W","4 x 300m Relay","U17W 4 x 300m Relay","F",null,"00:02:43.100",0,0,0,0,"16:25:00",null,null,null,"T44",null,null,null,null,null,null,null,null,null,null,null,null,"","",18,"","","",18,null,"","",3,"","","",3,null,null,null,null,null,null,null,null,null,"AV19",null,null,null,null,null,null,null,null,null,null,null,null,null,null,null,null,null,null,null,null,null,null,null,null,null,null,null,"BL19","BM19","BN19","BO19"]
["T45","U17M","1500m S/Chase","U17M 1500m S/Chase","M",null,"00:04:14.400","00:04:31","00:04:37","00:04:47","00:05:02","17:00:00",null,null,null,"T45",null,null,null,null,null,null,null,null,null,null,null,null,"","","","","",19,19,null,"","","","","",6,6,null,null,null,null,null,null,null,null,null,"AY20",null,null,null,null,null,null,null,null,null,null,null,null,null,null,null,null,null,null,null,null,null,null,null,null,null,null,null,"BX20","BY20","BZ20","CA20"]
["T46","U15B","4 x 400m Relay","U15B 4 x 400m Relay","M",null,"00:03:34.700",0,0,0,0,"17:15:00",null,null,null,"T46",null,null,null,null,null,null,null,null,null,null,null,null,"","","","",20,"",20,null,"","","","",5,"",5,null,null,null,null,null,null,null,null,null,"AX21",null,null,null,null,null,null,null,null,null,null,null,null,null,null,null,null,null,null,null,null,null,null,null,null,null,null,null,"BT21","BU21","BV21","BW21"]
["T47","U17M","4 x 400m Relay","U17M 4 x 400m Relay","M",null,"00:03:22.690",0,0,0,0,"17:15:00",null,null,null,"T47",null,null,null,null,null,null,null,null,null,null,null,null,"","","","","",20,20,null,"","","","","",6,6,null,null,null,null,null,null,null,null,null,"AY21",null,null,null,null,null,null,null,null,null,null,null,null,null,null,null,null,null,null,null,null,null,null,null,null,null,null,null,"BX21","BY21","BZ21","CA21"]
[null,"",""," ","",null,"","","","","",null,null,null,null,0,null,null,null,null,null,null,null,null,null,null,null,null,"","","","","","",0,null,"","","","","","",0,null,null,null,null,null,null,null,null,null,"",null,null,null,null,null,null,null,null,null,null,null,null,null,null,null,null,null,null,null,null,null,null,null,null,null,null,null,"","","",""]
["F1","U13B","Long Jump","U13B Long Jump","M",null,5.76,4.7,4.5999999999999996,4.5,4.1500000000000004,"11:30:00",2,null,null,"F1",null,null,null,null,null,null,null,null,null,null,null,null,"","","",21,"","",21,null,"","","",4,"","",4,null,null,null,null,null,null,null,null,null,"AW22",null,null,null,null,null,null,null,null,null,null,null,null,null,null,null,null,null,null,null,null,null,null,null,null,null,null,null,"BP22","BQ22","BR22","BS22"]
["F2","U17M","High Jump","U17M High Jump","M",null,2.1,1.85,1.82,1.75,1.7,"11:30:00",3,1.35,null,"F2",null,null,null,null,null,null,null,null,null,null,null,null,"","","","","",23,23,null,"","","","","",6,6,null,null,null,null,null,null,null,null,null,"AY24",null,null,null,null,null,null,null,null,null,null,null,null,null,null,null,null,null,null,null,null,null,null,null,null,null,null,null,"BX24","BY24","BZ24","CA24"]
["F3","U15B","High Jump","U15B High Jump","M",null,1.97,1.7,1.66,1.6,1.55,"11:30:00",3,1.25,null,"F3",null,null,null,null,null,null,null,null,null,null,null,null,"","","","",23,"",23,null,"","","","",5,"",5,null,null,null,null,null,null,null,null,null,"AX24",null,null,null,null,null,null,null,null,null,null,null,null,null,null,null,null,null,null,null,null,null,null,null,null,null,null,null,"BT24","BU24","BV24","BW24"]
["F4","U15B","Hammer","U15B Hammer","M",null,69.040000000000006,46.2,41.1,34.200000000000003,27.8,"11:30:00",1,null,null,"F4",null,null,null,null,null,null,null,null,null,null,null,null,"","","","",28,"",28,null,"","","","",5,"",5,null,null,null,null,null,null,null,null,null,"AX29",null,null,null,null,null,null,null,null,null,null,null,null,null,null,null,null,null,null,null,null,null,null,null,null,null,null,null,"BT29","BU29","BV29","BW29"]
["F5","U17M","Hammer","U17M Hammer","M",null,74.8,58,48.6,39.25,29.3,"11:30:00",1,null,null,"F5",null,null,null,null,null,null,null,null,null,null,null,null,"","","","","",28,28,null,"","","","","",6,6,null,null,null,null,null,null,null,null,null,"AY29",null,null,null,null,null,null,null,null,null,null,null,null,null,null,null,null,null,null,null,null,null,null,null,null,null,null,null,"BX29","BY29","BZ29","CA29"]
["F6","U17W","Hammer","U17W Hammer","F",null,52.37,40.700000000000003,36.85,31.6,22.6,"11:30:00",1,null,null,"F6",null,null,null,null,null,null,null,null,null,null,null,null,"","",28,"","","",28,null,"","",3,"","","",3,null,null,null,null,null,null,null,null,null,"AV29",null,null,null,null,null,null,null,null,null,null,null,null,null,null,null,null,null,null,null,null,null,null,null,null,null,null,null,"BL29","BM29","BN29","BO29"]
["F7","U17W","Long Jump","U17W Long Jump","F",null,6.15,5.35,5.2,5.05,4.75,"12:15:00",4,null,null,"F7",null,null,null,null,null,null,null,null,null,null,null,null,"","",21,"","","",21,null,"","",3,"","","",3,null,null,null,null,null,null,null,null,null,"AV22",null,null,null,null,null,null,null,null,null,null,null,null,null,null,null,null,null,null,null,null,null,null,null,null,null,null,null,"BL22","BM22","BN22","BO22"]
["F8","U15B","Shot","U15B Shot","M",null,18.5,12.35,11.75,10.95,10.15,"12:30:00",5,null,null,"F8",null,null,null,null,null,null,null,null,null,null,null,null,"","","","",25,"",25,null,"","","","",5,"",5,null,null,null,null,null,null,null,null,null,"AX26",null,null,null,null,null,null,null,null,null,null,null,null,null,null,null,null,null,null,null,null,null,null,null,null,null,null,null,"BT26","BU26","BV26","BW26"]
["F9","U13G","Long Jump","U13G Long Jump","F",null,5.35,4.45,4.3499999999999996,4.2,3.95,"13:00:00",6,null,null,"F9",null,null,null,null,null,null,null,null,null,null,null,null,21,"","","","","",21,null,1,"","","","","",1,null,null,null,null,null,null,null,null,null,"AT22",null,null,null,null,null,null,null,null,null,null,null,null,null,null,null,null,null,null,null,null,null,null,null,null,null,null,null,"BD22","BE22","BF22","BG22"]
["F10","U15B","Javelin","U15B Javelin","M",null,57.67,42.55,39.9,37,32.65,"13:00:00",2,null,null,"F10",null,null,null,null,null,null,null,null,null,null,null,null,"","","","",27,"",27,null,"","","","",5,"",5,null,null,null,null,null,null,null,null,null,"AX28",null,null,null,null,null,null,null,null,null,null,null,null,null,null,null,null,null,null,null,null,null,null,null,null,null,null,null,"BT28","BU28","BV28","BW28"]
["F11","U17M","Javelin","U17M Javelin","M",null,70.22,50.55,47,43.3,38.1,"13:00:00",2,null,null,"F11",null,null,null,null,null,null,null,null,null,null,null,null,"","","","","",27,27,null,"","","","","",6,6,null,null,null,null,null,null,null,null,null,"AY28",null,null,null,null,null,null,null,null,null,null,null,null,null,null,null,null,null,null,null,null,null,null,null,null,null,null,null,"BX28","BY28","BZ28","CA28"]
["F12","U13B","High Jump","U13B High Jump","M",null,1.65,1.45,1.4,1.35,1.3,"13:30:00",1,1.05,null,"F12",null,null,null,null,null,null,null,null,null,null,null,null,"","","",23,"","",23,null,"","","",4,"","",4,null,null,null,null,null,null,null,null,null,"AW24",null,null,null,null,null,null,null,null,null,null,null,null,null,null,null,null,null,null,null,null,null,null,null,null,null,null,null,"BP24","BQ24","BR24","BS24"]
["F13","U13G","High Jump","U13G High Jump","F",null,1.62,1.4,1.35,1.3,1.25,"13:30:00",1,1.05,null,"F13",null,null,null,null,null,null,null,null,null,null,null,null,23,"","","","","",23,null,1,"","","","","",1,null,null,null,null,null,null,null,null,null,"AT24",null,null,null,null,null,null,null,null,null,null,null,null,null,null,null,null,null,null,null,null,null,null,null,null,null,null,null,"BD24","BE24","BF24","BG24"]
["F14","U15B","Pole Vault","U15B Pole Vault","M",null,4.2,3.2,3,2.8,2.4,"13:30:00",4,1.7,null,"F14",null,null,null,null,null,null,null,null,null,null,null,null,"","","","",24,"",24,null,"","","","",5,"",5,null,null,null,null,null,null,null,null,null,"AX25",null,null,null,null,null,null,null,null,null,null,null,null,null,null,null,null,null,null,null,null,null,null,null,null,null,null,null,"BT25","BU25","BV25","BW25"]
["F15","U17M","Pole Vault","U17M Pole Vault","M",null,5.2,4,3.65,3.5,3,"13:30:00",4,2,null,"F15",null,null,null,null,null,null,null,null,null,null,null,null,"","","","","",24,24,null,"","","","","",6,6,null,null,null,null,null,null,null,null,null,"AY25",null,null,null,null,null,null,null,null,null,null,null,null,null,null,null,null,null,null,null,null,null,null,null,null,null,null,null,"BX25","BY25","BZ25","CA25"]
["F16","U15G","Pole Vault","U15G Pole Vault","F",null,3.3,2.9,2.8,2.5,2.2000000000000002,"13:30:00",4,1.7,null,"F16",null,null,null,null,null,null,null,null,null,null,null,null,"",24,"","","","",24,null,"",2,"","","","",2,null,null,null,null,null,null,null,null,null,"AU25",null,null,null,null,null,null,null,null,null,null,null,null,null,null,null,null,null,null,null,null,null,null,null,null,null,null,null,"BH25","BI25","BJ25","BK25"]
["F17","U17W",{"$f":"IF(OR($A66=0,$A66=\"\",$AQ66=0,$AQ66=\"\"),\"\",INDEX(events,$AI66))","v":"Pole Vault"},"U17W Pole Vault","F",null,4.03,3.4,3.2,2.9,2.5,"13:30:00",4,1.7,null,"F17",null,null,null,null,null,null,null,null,null,null,null,null,"","",24,"","","",24,null,"","",3,"","","",3,null,null,null,null,null,null,null,null,null,{"$f":"IF(OR($AQ66=\"\",$AQ66=0,$A66=\"\"),\"\",CONCATENATE(VLOOKUP($AQ66,col_table,3,FALSE),$AI66+1))","v":"AV25"},null,null,null,null,null,null,null,null,null,null,null,null,null,null,null,null,null,null,null,null,null,null,null,null,null,null,null,{"$f":"IF(OR($AQ66=\"\",$AQ66=0,$A66=\"\"),\"\",CONCATENATE(VLOOKUP($AQ66,col_table,4,FALSE),$AI66+1))","v":"BL25"},{"$f":"IF(OR($AQ66=\"\",$AQ66=0,$A66=\"\"),\"\",CONCATENATE(VLOOKUP($AQ66,col_table,5,FALSE),$AI66+1))","v":"BM25"},{"$f":"IF(OR($AQ66=\"\",$AQ66=0,$A66=\"\"),\"\",CONCATENATE(VLOOKUP($AQ66,col_table,6,FALSE),$AI66+1))","v":"BN25"},{"$f":"IF(OR($AQ66=\"\",$AQ66=0,$A66=\"\"),\"\",CONCATENATE(VLOOKUP($AQ66,col_table,7,FALSE),$AI66+1))","v":"BO25"}]
["F18",{"$f":"IF(OR(A67=0,A67=\"\",AQ67=0,AQ67=\"\"),\"\",INDEX(agegroups,AQ67))","v":"U17W"},"Shot",{"$f":"CONCATENATE(B67,\" \",C67)","v":"U17W Shot"},{"$f":"IF(OR(B67=0,B67=\"\"),\"\",IF(OR(MID(B67,4,1)=\"G\",MID(B67,4,1)=\"W\"),\"F\",IF(OR(MID(B67,4,1)=\"B\",MID(B67,4,1)=\"M\"),\"M\",\"\")))","v":"F"},null,{"$f":"IF(OR($A67=0,$A67=\"\",$AI67=\"\",$AQ67=\"\"),\"\",INDIRECT($BA67))","v":13.57},{"$f":"IF(OR($A67=0,$A67=\"\",$AI67=\"\",$AQ67=\"\"),\"\",INDIRECT($CC67))","v":9.9499999999999993},{"$f":"IF(OR($A67=0,$A67=\"\",$AI67=\"\",$AQ67=\"\"),\"\",INDIRECT($CD67))","v":9.35},{"$f":"IF(OR($A67=0,$A67=\"\",$AI67=\"\",$AQ67=\"\"),\"\",INDIRECT($CE67))","v":8.6999999999999993},{"$f":"IF(OR($A67=0,$A67=\"\",$AI67=\"\",$AQ67=\"\"),\"\",INDIRECT($CF67))","v":7.8},"13:45:00",3,null,null,{"$f":"A67","v":"F18"},null,null,null,null,null,null,null,null,null,null,null,null,{"$f":"IF(ISERROR(MATCH($A67,V$2:V$29,0)=TRUE),\"\",MATCH($A67,V$2:V$29,0))","v":""},{"$f":"IF(ISERROR(MATCH($A67,W$2:W$29,0)=TRUE),\"\",MATCH($A67,W$2:W$29,0))","v":""},{"$f":"IF(ISERROR(MATCH($A67,X$2:X$29,0)=TRUE),\"\",MATCH($A67,X$2:X$29,0))","v":25},{"$f":"IF(ISERROR(MATCH($A67,Y$2:Y$29,0)=TRUE),\"\",MATCH($A67,Y$2:Y$29,0))","v":""},{"$f":"IF(ISERROR(MATCH($A67,Z$2:Z$29,0)=TRUE),\"\",MATCH($A67,Z$2:Z$29,0))","v":""},{"$f":"IF(ISERROR(MATCH($A67,AA$2:AA$29,0)=TRUE),\"\",MATCH($A67,AA$2:AA$29,0))","v":""},{"$f":"SUM(AC67:AH67)","v":25},null,{"$f":"IF(ISERROR(MATCH($A67,V$1:V$29,0)=TRUE),\"\",1)","v":""},{"$f":"IF(ISERROR(MATCH($A67,W$1:W$29,0)=TRUE),\"\",2)","v":""},{"$f":"IF(ISERROR(MATCH($A67,X$1:X$29,0)=TRUE),\"\",3)","v":3},{"$f":"IF(ISERROR(MATCH($A67,Y$1:Y$29,0)=TRUE),\"\",4)","v":""},{"$f":"IF(ISERROR(MATCH($A67,Z$1:Z$29,0)=TRUE),\"\",5)","v":""},{"$f":"IF(ISERROR(MATCH($A67,AA$1:AA$29,0)=TRUE),\"\",6)","v":""},{"$f":"SUM(AK67:AP67)","v":3},null,null,null,null,null,null,null,null,null,"AV26",null,null,null,null,null,null,null,null,null,null,null,null,null,null,null,null,null,null,null,null,null,null,null,null,null,null,null,"BL26","BM26","BN26","BO26"]
["F19","U17M","Long Jump","U17M Long Jump","M",null,7.45,0,0,0,0,"13:45:00",5,null,null,"F19",null,null,null,null,null,null,null,null,null,null,null,null,"","","","","",21,21,null,"","","","","",6,6,null,null,null,null,null,null,null,null,null,"AY22",null,null,null,null,null,null,null,null,null,null,null,null,null,null,null,null,null,null,null,null,null,null,null,null,null,null,null,"BX22","BY22","BZ22","CA22"]
["F20","U15G","Discus","U15G Discus","F",null,39.47,27.3,25.05,22.3,19.649999999999999,"14:15:00",6,null,null,"F20",null,null,null,null,null,null,null,null,null,null,null,null,"",26,"","","","",26,null,"",2,"","","","",2,null,null,null,null,null,null,null,null,null,"AU27",null,null,null,null,null,null,null,null,null,null,null,null,null,null,null,null,null,null,null,null,null,null,null,null,null,null,null,"BH27","BI27","BJ27","BK27"]
["F21","U17W","Discus","U17W Discus","F",null,45.48,33.25,31.5,27.9,23.25,"14:15:00",6,null,null,"F21",null,null,null,null,null,null,null,null,null,null,null,null,"","",26,"","","",26,null,"","",3,"","","",3,null,null,null,null,null,null,null,null,null,"AV27",null,null,null,null,null,null,null,null,null,null,null,null,null,null,null,null,null,null,null,null,null,null,null,null,null,null,null,"BL27","BM27","BN27","BO27"]
["F22","U13B","Shot","U13B Shot","M",null,14.47,9.5500000000000007,8.9499999999999993,8.1,7.1,"14:30:00",3,null,null,"F22",null,null,null,null,null,null,null,null,null,null,null,null,"","","",25,"","",25,null,"","","",4,"","",4,null,null,null,null,null,null,null,null,null,"AW26",null,null,null,null,null,null,null,null,null,null,null,null,null,null,null,null,null,null,null,null,null,null,null,null,null,null,null,"BP26","BQ26","BR26","BS26"]
["F23","U15G","Long Jump","U15G Long Jump","F",null,6.07,5,4.8499999999999996,4.7,4.45,"14:30:00",5,null,null,"F23",null,null,null,null,null,null,null,null,null,null,null,null,"",21,"","","","",21,null,"",2,"","","","",2,null,null,null,null,null,null,null,null,null,"AU22",null,null,null,null,null,null,null,null,null,null,null,null,null,null,null,null,null,null,null,null,null,null,null,null,null,null,null,"BH22","BI22","BJ22","BK22"]
["F24","U15G","Shot","U15G Shot","F",null,13.75,9.85,9.15,8.6,7.85,"15:15:00",4,null,null,"F24",null,null,null,null,null,null,null,null,null,null,null,null,"",25,"","","","",25,null,"",2,"","","","",2,null,null,null,null,null,null,null,null,null,"AU26",null,null,null,null,null,null,null,null,null,null,null,null,null,null,null,null,null,null,null,null,null,null,null,null,null,null,null,"BH26","BI26","BJ26","BK26"]
["F25","U15B","Long Jump","U15B Long Jump","M",null,6.72,5.7,5.55,5.32,5,"15:15:00",1,null,null,"F25",null,null,null,null,null,null,null,null,null,null,null,null,"","","","",21,"",21,null,"","","","",5,"",5,null,null,null,null,null,null,null,null,null,"AX22",null,null,null,null,null,null,null,null,null,null,null,null,null,null,null,null,null,null,null,null,null,null,null,null,null,null,null,"BT22","BU22","BV22","BW22"]
["F26","U15B","Discus","U15B Discus","M",null,53.93,34.5,32.15,28.9,25.55,"15:25:00",3,null,null,"F26",null,null,null,null,null,null,null,null,null,null,null,null,"","","","",26,"",26,null,"","","","",5,"",5,null,null,null,null,null,null,null,null,null,"AX27",null,null,null,null,null,null,null,null,null,null,null,null,null,null,null,null,null,null,null,null,null,null,null,null,null,null,null,"BT27","BU27","BV27","BW27"]
["F27","U17M","Discus","U17M Discus","M",null,58.24,40.950000000000003,37.1,32.700000000000003,28.1,"15:25:00",3,null,null,"F27",null,null,null,null,null,null,null,null,null,null,null,null,"","","","","",26,26,null,"","","","","",6,6,null,null,null,null,null,null,null,null,null,"AY27",null,null,null,null,null,null,null,null,null,null,null,null,null,null,null,null,null,null,null,null,null,null,null,null,null,null,null,"BX27","BY27","BZ27","CA27"]
["F28","U15G","High Jump","U15G High Jump","F",null,1.76,1.55,1.5,1.45,1.4,"15:30:00",2,1.1499999999999999,null,"F28",null,null,null,null,null,null,null,null,null,null,null,null,"",23,"","","","",23,null,"",2,"","","","",2,null,null,null,null,null,null,null,null,null,"AU24",null,null,null,null,null,null,null,null,null,null,null,null,null,null,null,null,null,null,null,null,null,null,null,null,null,null,null,"BH24","BI24","BJ24","BK24"]
["F29","U17W","High Jump","U17W High Jump","F",null,1.78,1.65,1.61,1.55,1.48,"15:30:00",2,1.25,null,"F29",null,null,null,null,null,null,null,null,null,null,null,null,"","",23,"","","",23,null,"","",3,"","","",3,null,null,null,null,null,null,null,null,null,"AV24",null,null,null,null,null,null,null,null,null,null,null,null,null,null,null,null,null,null,null,null,null,null,null,null,null,null,null,"BL24","BM24","BN24","BO24"]
["F30","U17M","Shot","U17M Shot","M",null,20.350000000000001,13.35,12.65,11.85,10.7,"16:00:00",6,null,null,"F30",null,null,null,null,null,null,null,null,null,null,null,null,"","","","","",25,25,null,"","","","","",6,6,null,null,null,null,null,null,null,null,null,"AY26",null,null,null,null,null,null,null,null,null,null,null,null,null,null,null,null,null,null,null,null,null,null,null,null,null,null,null,"BX26","BY26","BZ26","CA26"]
["F31","U17M","Triple Jump","U17M Triple Jump","M",null,15.58,0,0,0,0,"16:30:00",4,null,null,"F31",null,null,null,null,null,null,null,null,null,null,null,null,"","","","","",22,22,null,"","","","","",6,6,null,null,null,null,null,null,null,null,null,"AY23",null,null,null,null,null,null,null,null,null,null,null,null,null,null,null,null,null,null,null,null,null,null,null,null,null,null,null,"BX23","BY23","BZ23","CA23"]
["F32","U17W","Triple Jump","U17W Triple Jump","F",null,11.84,10.9,10.6,10.1,9.4,"16:30:00",4,null,null,"F32",null,null,null,null,null,null,null,null,null,null,null,null,"","",22,"","","",22,null,"","",3,"","","",3,null,null,null,null,null,null,null,null,null,"AV23",null,null,null,null,null,null,null,null,null,null,null,null,null,null,null,null,null,null,null,null,null,null,null,null,null,null,null,"BL23","BM23","BN23","BO23"]
["F33","U15G","Javelin","U15G Javelin","F",null,42.31,28.8,26.35,23.85,20.399999999999999,"16:35:00",1,null,null,"F33",null,null,null,null,null,null,null,null,null,null,null,null,"",27,"","","","",27,null,"",2,"","","","",2,null,null,null,null,null,null,null,null,null,"AU28",null,null,null,null,null,null,null,null,null,null,null,null,null,null,null,null,null,null,null,null,null,null,null,null,null,null,null,"BH28","BI28","BJ28","BK28"]
["F34","U17W","Javelin","U17W Javelin","F",null,44.36,38.299999999999997,34,29.6,24.9,"16:35:00",1,null,null,"F34",null,null,null,null,null,null,null,null,null,null,null,null,"","",27,"","","",27,null,"","",3,"","","",3,null,null,null,null,null,null,null,null,null,"AV28",null,null,null,null,null,null,null,null,null,null,null,null,null,null,null,null,null,null,null,null,null,null,null,null,null,null,null,"BL28","BM28","BN28","BO28"]
["F35","U13G","Shot","U13G Shot","F",null,12.31,8.35,7.85,7.35,6.55,"16:45:00",5,null,null,"F35",null,null,null,null,null,null,null,null,null,null,null,null,25,"","","","","",25,null,1,"","","","","",1,null,null,null,null,null,null,null,null,null,"AT26",null,null,null,null,null,null,null,null,null,null,null,null,null,null,null,null,null,null,null,null,null,null,null,null,null,null,null,"BD26","BE26","BF26","BG26"]
[null,null,null,null,null,null,null,null,null,null,null,null,null,null,null,null,null,null,null,null,null,null,null,null,null,null,null,null,"","","","","","",null,null,"","","","","",""]
[null,null,null,null,null,null,null,null,null,null,null,null,null,null,null,null,null,null,null,null,null,null,null,null,null,null,null,null,"","","","","","",null,null,"","","","","",""]

{"sheet":"Distance","index":12,"n_rows":808,"n_cols":29,"rows_kept":808,"cut":false,"hidden":false,"merged":[[805,22,805,28],[804,8,804,9],[804,12,804,15],[804,16,804,19],[804,20,804,21],[805,8,805,9],[805,12,805,15],[805,16,805,19],[805,20,805,21],[806,8,806,9],[806,12,806,15],[806,16,806,19],[806,20,806,21],[807,8,807,9],[807,12,807,15],[807,16,807,19],[807,20,807,21],[798,22,798,28],[799,8,799,9],[799,12,799,15],[799,16,799,19],[799,20,799,21],[800,8,800,9],[800,12,800,15],[800,16,800,19],[800,20,800,21],[803,8,803,9],[803,12,803,15],[803,16,803,19],[803,20,803,21],[798,4,798,9],[798,10,798,21],[801,8,801,9],[801,12,801,15],[801,16,801,19],[801,20,801,21],[802,8,802,9],[802,12,802,15],[802,16,802,19],[802,20,802,21],[793,21,793,22],[793,23,793,24],[794,8,794,9],[794,10,794,11],[794,12,794,13],[794,14,794,15],[794,17,794,18],[794,19,794,20],[794,21,794,22],[794,23,794,24],[793,8,793,9],[793,10,793,11],[793,12,793,13],[793,14,793,15],[793,17,793,18],[793,19,793,20],[795,21,795,22],[795,23,795,24],[796,8,796,9],[796,10,796,11],[796,12,796,13],[796,14,796,15],[796,17,796,18],[796,19,796,20],[796,21,796,22],[796,23,796,24],[795,8,795,9],[795,10,795,11],[795,12,795,13],[795,14,795,15],[795,17,795,18],[795,19,795,20],[789,21,789,22],[789,23,789,24],[790,8,790,9],[790,10,790,11],[790,12,790,13],[790,14,790,15],[790,17,790,18],[790,19,790,20],[790,21,790,22],[790,23,790,24],[789,8,789,9],[789,10,789,11],[789,12,789,13],[789,14,789,15],[789,17,789,18],[789,19,789,20],[791,21,791,22],[791,23,791,24],[792,8,792,9],[792,10,792,11],[792,12,792,13],[792,14,792,15],[792,17,792,18],[792,19,792,20],[792,21,792,22],[792,23,792,24],[791,8,791,9],[791,10,791,11],[791,12,791,13],[791,14,791,15],[791,17,791,18],[791,19,791,20],[785,21,785,22],[785,23,785,24],[786,8,786,9],[786,10,786,11],[786,12,786,13],[786,14,786,15],[786,17,786,18],[786,19,786,20],[786,21,786,22],[786,23,786,24],[785,8,785,9],[785,10,785,11],[785,12,785,13],[785,14,785,15],[785,17,785,18],[785,19,785,20],[787,21,787,22],[787,23,787,24],[788,8,788,9],[788,10,788,11],[788,12,788,13],[788,14,788,15],[788,17,788,18],[788,19,788,20],[788,21,788,22],[788,23,788,24],[787,8,787,9],[787,10,787,11],[787,12,787,13],[787,14,787,15],[787,17,787,18],[787,19,787,20],[781,21,781,22],[781,23,781,24],[782,8,782,9],[782,10,782,11],[782,12,782,13],[782,14,782,15],[782,17,782,18],[782,19,782,20],[782,21,782,22],[782,23,782,24],[781,8,781,9],[781,10,781,11],[781,12,781,13],[781,14,781,15],[781,17,781,18],[781,19,781,20],[783,23,783,24],[784,8,784,9],[784,10,784,11],[784,12,784,13],[784,14,784,15],[784,17,784,18],[784,19,784,20],[784,21,784,22],[784,23,784,24],[779,19,779,20],[779,21,779,22],[779,23,779,24],[783,8,783,9],[783,10,783,11],[783,12,783,13],[783,14,783,15],[783,17,783,18],[783,19,783,20],[783,21,783,22],[779,8,779,9],[779,10,779,11],[779,12,779,13],[779,14,779,15],[779,16,780,16],[779,17,779,18],[779,25,780,25],[779,26,779,28],[780,8,780,9],[780,10,780,11],[780,12,780,13],[780,14,780,15],[780,17,780,18],[780,19,780,20],[780,21,780,22],[780,23,780,24],[776,4,776,28],[777,11,777,16],[777,17,777,18],[778,13,778,14],[778,15,778,16],[778,17,778,18],[778,4,778,5],[778,6,778,7],[778,8,778,10],[778,11,778,12],[778,19,778,28],[774,8,774,9],[774,12,774,15],[774,16,774,19],[774,20,774,21],[775,8,775,9],[771,12,771,15],[771,16,771,19],[771,20,771,21],[777,4,777,5],[777,6,777,7],[777,8,777,10],[777,19,777,28],[775,12,775,15],[775,16,775,19],[775,20,775,21],[773,22,773,28],[769,8,769,9],[769,12,769,15],[769,16,769,19],[769,20,769,21],[770,8,770,9],[770,12,770,15],[770,16,770,19],[770,20,770,21],[771,8,771,9],[772,8,772,9],[772,12,772,15],[772,16,772,19],[772,20,772,21],[773,8,773,9],[773,12,773,15],[773,16,773,19],[773,20,773,21],[763,21,763,22],[763,23,763,24],[764,8,764,9],[764,10,764,11],[764,12,764,13],[764,14,764,15],[764,17,764,18],[764,19,764,20],[764,21,764,22],[764,23,764,24],[768,8,768,9],[768,12,768,15],[768,16,768,19],[768,20,768,21],[763,8,763,9],[763,10,763,11],[763,12,763,13],[763,14,763,15],[763,17,763,18],[763,19,763,20],[766,4,766,9],[766,10,766,21],[766,22,766,28],[767,8,767,9],[767,12,767,15],[767,16,767,19],[767,20,767,21],[759,21,759,22],[759,23,759,24],[760,8,760,9],[760,10,760,11],[760,12,760,13],[760,14,760,15],[760,17,760,18],[760,19,760,20],[760,21,760,22],[760,23,760,24],[759,8,759,9],[759,10,759,11],[759,12,759,13],[759,14,759,15],[759,17,759,18],[759,19,759,20],[761,21,761,22],[761,23,761,24],[762,8,762,9],[762,10,762,11],[762,12,762,13],[762,14,762,15],[762,17,762,18],[762,19,762,20],[762,21,762,22],[762,23,762,24],[761,8,761,9],[761,10,761,11],[761,12,761,13],[761,14,761,15],[761,17,761,18],[761,19,761,20],[755,21,755,22],[755,23,755,24],[756,8,756,9],[756,10,756,11],[756,12,756,13],[756,14,756,15],[756,17,756,18],[756,19,756,20],[756,21,756,22],[756,23,756,24],[755,8,755,9],[755,10,755,11],[755,12,755,13],[755,14,755,15],[755,17,755,18],[755,19,755,20],[757,21,757,22],[757,23,757,24],[758,8,758,9],[758,10,758,11],[758,12,758,13],[758,14,758,15],[758,17,758,18],[758,19,758,20],[758,21,758,22],[758,23,758,24],[757,8,757,9],[757,10,757,11],[757,12,757,13],[757,14,757,15],[757,17,757,18],[757,19,757,20],[751,21,751,22],[751,23,751,24],[752,8,752,9],[752,10,752,11],[752,12,752,13],[752,14,752,15],[752,17,752,18],[752,19,752,20],[752,21,752,22],[752,23,752,24],[751,8,751,9],[751,10,751,11],[751,12,751,13],[751,14,751,15],[751,17,751,18],[751,19,751,20],[753,23,753,24],[754,8,754,9],[754,10,754,11],[754,12,754,13],[754,14,754,15],[754,17,754,18],[754,19,754,20],[754,21,754,22],[754,23,754,24],[750,21,750,22],[750,23,750,24],[747,25,748,25],[753,8,753,9],[753,10,753,11],[753,12,753,13],[753,14,753,15],[753,17,753,18],[753,19,753,20],[753,21,753,22],[750,8,750,9],[750,10,750,11],[750,12,750,13],[750,14,750,15],[750,17,750,18],[750,19,750,20],[747,21,747,22],[747,23,747,24],[749,8,749,9],[749,10,749,11],[749,12,749,13],[749,14,749,15],[749,17,749,18],[749,19,749,20],[749,21,749,22],[749,23,749,24],[747,10,747,11],[747,12,747,13],[747,14,747,15],[747,16,748,16],[747,17,747,18],[747,19,747,20],[747,26,747,28],[748,8,748,9],[748,10,748,11],[748,12,748,13],[748,14,748,15],[748,17,748,18],[748,19,748,20],[748,21,748,22],[748,23,748,24],[747,8,747,9],[744,4,744,28],[745,11,745,16],[745,17,745,18],[746,13,746,14],[746,15,746,16],[746,17,746,18],[746,4,746,5],[746,6,746,7],[746,8,746,10],[746,11,746,12],[746,19,746,28],[742,8,742,9],[742,12,742,15],[742,16,742,19],[742,20,742,21],[743,8,743,9],[739,12,739,15],[739,16,739,19],[739,20,739,21],[745,4,745,5],[745,6,745,7],[745,8,745,10],[745,19,745,28],[743,12,743,15],[743,16,743,19],[743,20,743,21],[741,22,741,28],[737,8,737,9],[737,12,737,15],[737,16,737,19],[737,20,737,21],[738,8,738,9],[738,12,738,15],[738,16,738,19],[738,20,738,21],[739,8,739,9],[740,8,740,9],[740,12,740,15],[740,16,740,19],[740,20,740,21],[741,8,741,9],[741,12,741,15],[741,16,741,19],[741,20,741,21],[731,21,731,22],[731,23,731,24],[732,8,732,9],[732,10,732,11],[732,12,732,13],[732,14,732,15],[732,17,732,18],[732,19,732,20],[732,21,732,22],[732,23,732,24],[736,8,736,9],[736,12,736,15],[736,16,736,19],[736,20,736,21],[731,8,731,9],[731,10,731,11],[731,12,731,13],[731,14,731,15],[731,17,731,18],[731,19,731,20],[734,4,734,9],[734,10,734,21],[734,22,734,28],[735,8,735,9],[735,12,735,15],[735,16,735,19],[735,20,735,21],[727,21,727,22],[727,23,727,24],[728,8,728,9],[728,10,728,11],[728,12,728,13],[728,14,728,15],[728,17,728,18],[728,19,728,20],[728,21,728,22],[728,23,728,24],[727,8,727,9],[727,10,727,11],[727,12,727,13],[727,14,727,15],[727,17,727,18],[727,19,727,20],[729,21,729,22],[729,23,729,24],[730,8,730,9],[730,10,730,11],[730,12,730,13],[730,14,730,15],[730,17,730,18],[730,19,730,20],[730,21,730,22],[730,23,730,24],[729,8,729,9],[729,10,729,11],[729,12,729,13],[729,14,729,15],[729,17,729,18],[729,19,729,20],[723,21,723,22],[723,23,723,24],[724,8,724,9],[724,10,724,11],[724,12,724,13],[724,14,724,15],[724,17,724,18],[724,19,724,20],[724,21,724,22],[724,23,724,24],[723,8,723,9],[723,10,723,11],[723,12,723,13],[723,14,723,15],[723,17,723,18],[723,19,723,20],[725,21,725,22],[725,23,725,24],[726,8,726,9],[726,10,726,11],[726,12,726,13],[726,14,726,15],[726,17,726,18],[726,19,726,20],[726,21,726,22],[726,23,726,24],[725,8,725,9],[725,10,725,11],[725,12,725,13],[725,14,725,15],[725,17,725,18],[725,19,725,20],[719,21,719,22],[719,23,719,24],[720,8,720,9],[720,10,720,11],[720,12,720,13],[720,14,720,15],[720,17,720,18],[720,19,720,20],[720,21,720,22],[720,23,720,24],[719,8,719,9],[719,10,719,11],[719,12,719,13],[719,14,719,15],[719,17,719,18],[719,19,719,20],[721,23,721,24],[722,8,722,9],[722,10,722,11],[722,12,722,13],[722,14,722,15],[722,17,722,18],[722,19,722,20],[722,21,722,22],[722,23,722,24],[718,21,718,22],[718,23,718,24],[715,25,716,25],[721,8,721,9],[721,10,721,11],[721,12,721,13],[721,14,721,15],[721,17,721,18],[721,19,721,20],[721,21,721,22],[718,8,718,9],[718,10,718,11],[718,12,718,13],[718,14,718,15],[718,17,718,18],[718,19,718,20],[715,21,715,22],[715,23,715,24],[717,8,717,9],[717,10,717,11],[717,12,717,13],[717,14,717,15],[717,17,717,18],[717,19,717,20],[717,21,717,22],[717,23,717,24],[715,10,715,11],[715,12,715,13],[715,14,715,15],[715,16,716,16],[715,17,715,18],[715,19,715,20],[715,26,715,28],[716,8,716,9],[716,10,716,11],[716,12,716,13],[716,14,716,15],[716,17,716,18],[716,19,716,20],[716,21,716,22],[716,23,716,24],[715,8,715,9],[712,4,712,28],[713,11,713,16],[713,17,713,18],[714,13,714,14],[714,15,714,16],[714,17,714,18],[714,4,714,5],[714,6,714,7],[714,8,714,10],[714,11,714,12],[714,19,714,28],[710,8,710,9],[710,12,710,15],[710,16,710,19],[710,20,710,21],[711,8,711,9],[707,12,707,15],[707,16,707,19],[707,20,707,21],[713,4,713,5],[713,6,713,7],[713,8,713,10],[713,19,713,28],[711,12,711,15],[711,16,711,19],[711,20,711,21],[709,22,709,28],[705,8,705,9],[705,12,705,15],[705,16,705,19],[705,20,705,21],[706,8,706,9],[706,12,706,15],[706,16,706,19],[706,20,706,21],[707,8,707,9],[708,8,708,9],[708,12,708,15],[708,16,708,19],[708,20,708,21],[709,8,709,9],[709,12,709,15],[709,16,709,19],[709,20,709,21],[699,21,699,22],[699,23,699,24],[700,8,700,9],[700,10,700,11],[700,12,700,13],[700,14,700,15],[700,17,700,18],[700,19,700,20],[700,21,700,22],[700,23,700,24],[704,8,704,9],[704,12,704,15],[704,16,704,19],[704,20,704,21],[699,8,699,9],[699,10,699,11],[699,12,699,13],[699,14,699,15],[699,17,699,18],[699,19,699,20],[702,4,702,9],[702,10,702,21],[702,22,702,28],[703,8,703,9],[703,12,703,15],[703,16,703,19],[703,20,703,21],[695,21,695,22],[695,23,695,24],[696,8,696,9],[696,10,696,11],[696,12,696,13],[696,14,696,15],[696,17,696,18],[696,19,696,20],[696,21,696,22],[696,23,696,24],[695,8,695,9],[695,10,695,11],[695,12,695,13],[695,14,695,15],[695,17,695,18],[695,19,695,20],[697,21,697,22],[697,23,697,24],[698,8,698,9],[698,10,698,11],[698,12,698,13],[698,14,698,15],[698,17,698,18],[698,19,698,20],[698,21,698,22],[698,23,698,24],[697,8,697,9],[697,10,697,11],[697,12,697,13],[697,14,697,15],[697,17,697,18],[697,19,697,20],[691,21,691,22],[691,23,691,24],[692,8,692,9],[692,10,692,11],[692,12,692,13],[692,14,692,15],[692,17,692,18],[692,19,692,20],[692,21,692,22],[692,23,692,24],[691,8,691,9],[691,10,691,11],[691,12,691,13],[691,14,691,15],[691,17,691,18],[691,19,691,20],[693,21,693,22],[693,23,693,24],[694,8,694,9],[694,10,694,11],[694,12,694,13],[694,14,694,15],[694,17,694,18],[694,19,694,20],[694,21,694,22],[694,23,694,24],[693,8,693,9],[693,10,693,11],[693,12,693,13],[693,14,693,15],[693,17,693,18],[693,19,693,20],[687,21,687,22],[687,23,687,24],[688,8,688,9],[688,10,688,11],[688,12,688,13],[688,14,688,15],[688,17,688,18],[688,19,688,20],[688,21,688,22],[688,23,688,24],[687,8,687,9],[687,10,687,11],[687,12,687,13],[687,14,687,15],[687,17,687,18],[687,19,687,20],[689,23,689,24],[690,8,690,9],[690,10,690,11],[690,12,690,13],[690,14,690,15],[690,17,690,18],[690,19,690,20],[690,21,690,22],[690,23,690,24],[686,21,686,22],[686,23,686,24],[683,25,684,25],[689,8,689,9],[689,10,689,11],[689,12,689,13],[689,14,689,15],[689,17,689,18],[689,19,689,20],[689,21,689,22],[686,8,686,9],[686,10,686,11],[686,12,686,13],[686,14,686,15],[686,17,686,18],[686,19,686,20],[683,21,683,22],[683,23,683,24],[685,8,685,9],[685,10,685,11],[685,12,685,13],[685,14,685,15],[685,17,685,18],[685,19,685,20],[685,21,685,22],[685,23,685,24],[683,10,683,11],[683,12,683,13],[683,14,683,15],[683,16,684,16],[683,17,683,18],[683,19,683,20],[683,26,683,28],[684,8,684,9],[684,10,684,11],[684,12,684,13],[684,14,684,15],[684,17,684,18],[684,19,684,20],[684,21,684,22],[684,23,684,24],[683,8,683,9],[680,4,680,28],[681,11,681,16],[681,17,681,18],[682,13,682,14],[682,15,682,16],[682,17,682,18],[682,4,682,5],[682,6,682,7],[682,8,682,10],[682,11,682,12],[682,19,682,28],[678,8,678,9],[678,12,678,15],[678,16,678,19],[678,20,678,21],[679,8,679,9],[675,12,675,15],[675,16,675,19],[675,20,675,21],[681,4,681,5],[681,6,681,7],[681,8,681,10],[681,19,681,28],[679,12,679,15],[679,16,679,19],[679,20,679,21],[677,22,677,28],[673,8,673,9],[673,12,673,15],[673,16,673,19],[673,20,673,21],[674,8,674,9],[674,12,674,15],[674,16,674,19],[674,20,674,21],[675,8,675,9],[676,8,676,9],[676,12,676,15],[676,16,676,19],[676,20,676,21],[677,8,677,9],[677,12,677,15],[677,16,677,19],[677,20,677,21],[667,21,667,22],[667,23,667,24],[668,8,668,9],[668,10,668,11],[668,12,668,13],[668,14,668,15],[668,17,668,18],[668,19,668,20],[668,21,668,22],[668,23,668,24],[672,8,672,9],[672,12,672,15],[672,16,672,19],[672,20,672,21],[667,8,667,9],[667,10,667,11],[667,12,667,13],[667,14,667,15],[667,17,667,18],[667,19,667,20],[670,4,670,9],[670,10,670,21],[670,22,670,28],[671,8,671,9],[671,12,671,15],[671,16,671,19],[671,20,671,21],[663,21,663,22],[663,23,663,24],[664,8,664,9],[664,10,664,11],[664,12,664,13],[664,14,664,15],[664,17,664,18],[664,19,664,20],[664,21,664,22],[664,23,664,24],[663,8,663,9],[663,10,663,11],[663,12,663,13],[663,14,663,15],[663,17,663,18],[663,19,663,20],[665,21,665,22],[665,23,665,24],[666,8,666,9],[666,10,666,11],[666,12,666,13],[666,14,666,15],[666,17,666,18],[666,19,666,20],[666,21,666,22],[666,23,666,24],[665,8,665,9],[665,10,665,11],[665,12,665,13],[665,14,665,15],[665,17,665,18],[665,19,665,20],[659,21,659,22],[659,23,659,24],[660,8,660,9],[660,10,660,11],[660,12,660,13],[660,14,660,15],[660,17,660,18],[660,19,660,20],[660,21,660,22],[660,23,660,24],[659,8,659,9],[659,10,659,11],[659,12,659,13],[659,14,659,15],[659,17,659,18],[659,19,659,20],[661,21,661,22],[661,23,661,24],[662,8,662,9],[662,10,662,11],[662,12,662,13],[662,14,662,15],[662,17,662,18],[662,19,662,20],[662,21,662,22],[662,23,662,24],[661,8,661,9],[661,10,661,11],[661,12,661,13],[661,14,661,15],[661,17,661,18],[661,19,661,20],[655,21,655,22],[655,23,655,24],[656,8,656,9],[656,10,656,11],[656,12,656,13],[656,14,656,15],[656,17,656,18],[656,19,656,20],[656,21,656,22],[656,23,656,24],[655,8,655,9],[655,10,655,11],[655,12,655,13],[655,14,655,15],[655,17,655,18],[655,19,655,20],[657,23,657,24],[658,8,658,9],[658,10,658,11],[658,12,658,13],[658,14,658,15],[658,17,658,18],[658,19,658,20],[658,21,658,22],[658,23,658,24],[654,21,654,22],[654,23,654,24],[651,25,652,25],[657,8,657,9],[657,10,657,11],[657,12,657,13],[657,14,657,15],[657,17,657,18],[657,19,657,20],[657,21,657,22],[654,8,654,9],[654,10,654,11],[654,12,654,13],[654,14,654,15],[654,17,654,18],[654,19,654,20],[651,21,651,22],[651,23,651,24],[653,8,653,9],[653,10,653,11],[653,12,653,13],[653,14,653,15],[653,17,653,18],[653,19,653,20],[653,21,653,22],[653,23,653,24],[651,10,651,11],[651,12,651,13],[651,14,651,15],[651,16,652,16],[651,17,651,18],[651,19,651,20],[651,26,651,28],[652,8,652,9],[652,10,652,11],[652,12,652,13],[652,14,652,15],[652,17,652,18],[652,19,652,20],[652,21,652,22],[652,23,652,24],[651,8,651,9],[648,4,648,28],[649,11,649,16],[649,17,649,18],[650,13,650,14],[650,15,650,16]],"merged_total":5050,"flags":["merged_cut"]}
[null,null,null,null,null,null,null,null,"U13B","U15B","U17M",null,"U13G","U15G","U17W",null,"ALL",null,null,"Match 1",null,null,"Match 2"]
[null,null,null,null,null,null,null,"Long Jump",null,null,null,null,null,null,null,null,null,null,null,"Track",null,null,"Track"]
[null,null,null,null,null,null,null,"Triple Jump",null,null,null,null,null,null,null,null,null,null,null,"Field",null,null,"Field"]
[null,null,null,null,null,null,null,"Shot",null,null,null,null,null,null,null,null,null,null,null,"Relay",null,null,"Relay"]
[null,null,null,null,null,null,null,"Discus"]
[null,null,null,null,null,null,null,"Javelin"]
[null,null,null,null,null,null,null,"Hammer"]
[]
["F1",null,null,null,"UK ATHLETICS: DISTANCE CARD"]
[{"$f":"VLOOKUP(A9,eventno,5,FALSE)","v":"M"},null,null,null,"MEETING ",null,{"$f":"CONCATENATE(MatchDay!$C$3,\"/\",MatchDay!$I$3)","v":"Northern Premier East/Northern 1 SE"},null,"VENUE ",null,null,{"$f":"MatchDay!$C$7","v":"Thornes Park Stadium, Wakefield"},null,null,null,null,null,"DATE ",null,{"$f":"MatchDay!$C$5","v":"Sunday 8th May 2011"}]
[{"$f":"IF(A10=\"M\",VLOOKUP(A9,males,15,FALSE),VLOOKUP(A9,females,15,FALSE))","v":32},null,null,null,"EVENT",null,{"$f":"CONCATENATE(A9,\" \",VLOOKUP(A9,eventno,4,FALSE))","v":"F1 U13B Long Jump"},null,"TIME",null,null,{"$f":"VLOOKUP(A9,eventno,12,FALSE)","v":"11:30:00"},null,"Record",null,{"$f":"VLOOKUP(A9,eventno,7,FALSE)","v":5.76},null,"Duty",null,{"$f":"VLOOKUP(VLOOKUP(A9,eventno,13,FALSE),teamorder,3,FALSE)","v":"City of York"}]
[null,null,null,null,"Order","No","NAME","CLUB","1st Trial",null,"2nd Trial",null,"3rd Trial",null,"Best of 3",null,"Position after\n3 Trials","4th Trial",null,"5th Trial",null,"6th Trial",null,"Best of All",null,"Final\nPositionn","A or B"]
[{"$f":"VLOOKUP(A9,eventno,6,FALSE)","v":0},null,null,null,null,null,null,null,"Metres",null,"Metres",null,"Metres",null,"Metres",null,null,"Metres",null,"Metres",null,"Metres",null,"Metres",null,null,null,"A","B"]
[1,{"$f":"IF(OR(A14=0,A14=\"\"),\"\",VLOOKUP(A14,teamorder,2,FALSE))","v":9},{"$f":"Q14","v":0},null,1,{"$f":"IF(B14=0,\"\",B14)","v":9},{"$f":"IF(OR(F14=0,F14=\"\"),\"\",IF(A10=\"F\",HLOOKUP(F14,females,A11,FALSE),IF(A10=\"M\",HLOOKUP(F14,males,A11,FALSE),\"\")))","v":"Harry England"},{"$f":"IF(OR(F14=0,F14=\"\"),\"\",VLOOKUP(F14,match_teams,4,FALSE))","v":"Wake"},0,null,0,null,0,null,{"$f":"IF(AND(T(I14)<>\"\",T(K14)<>\"\",T(M14)<>\"\"),0,LARGE(I14:N14,1))","v":0},null,{"$f":"IF(OR(O14=\"\",O14=0),0,RANK(O14,$O$14:$P$21,0))","v":0},0,null,0,null,0,null,{"$f":"IF(AND(T(R14)<>\"\",T(T14)<>\"\",T(V14)<>\"\"),0,IF(O14>LARGE(R14:W14,1),O14,LARGE(R14:W14,1)))","v":0},null,{"$f":"IF(OR(X14=\"\",X14=0),0,RANK(X14,$X$14:$Y$29,0))","v":0},{"$f":"IF(X14=P11,\"LR=\",IF(X14>P11,\"LR\",\"\"))","v":""}]
[2,{"$f":"IF(OR(A15=0,A15=\"\"),\"\",VLOOKUP(A15,teamorder,2,FALSE))","v":8},{"$f":"Q15","v":0},null,2,8,{"$f":"IF(OR(F15=0,F15=\"\"),\"\",IF(A10=\"F\",HLOOKUP(F15,females,A11,FALSE),IF(A10=\"M\",HLOOKUP(F15,males,A11,FALSE),\"\")))","v":"Matt Hobson"},"York",0,null,0,null,0,null,{"$f":"IF(AND(T(I15)<>\"\",T(K15)<>\"\",T(M15)<>\"\"),0,LARGE(I15:N15,1))","v":0},null,0,0,null,0,null,0,null,{"$f":"IF(AND(T(R15)<>\"\",T(T15)<>\"\",T(V15)<>\"\"),0,IF(O15>LARGE(R15:W15,1),O15,LARGE(R15:W15,1)))","v":0},null,0,{"$f":"IF(X15=P11,\"LR=\",IF(X15>P11,\"LR\",\"\"))","v":""}]
[3,{"$f":"IF(OR(A16=0,A16=\"\"),\"\",VLOOKUP(A16,teamorder,2,FALSE))","v":7},0,null,3,7,{"$f":"IF(OR(F16=0,F16=\"\"),\"\",IF(A10=\"F\",HLOOKUP(F16,females,A11,FALSE),IF(A10=\"M\",HLOOKUP(F16,males,A11,FALSE),\"\")))","v":"Lewis Renton"},"Leeds C",0,null,0,null,0,null,0,null,0,0,null,0,null,0,null,0,null,0,{"$f":"IF(X16=P11,\"LR=\",IF(X16>P11,\"LR\",\"\"))","v":""}]
[null,{"$f":"IF(T(B14)=\"\",B14*11,CONCATENATE(B14,B14))","v":99},0,null,4,99,{"$f":"IF(OR(F17=0,F17=\"\"),\"\",IF(A10=\"F\",HLOOKUP(F17,females,A11,FALSE),IF(A10=\"M\",HLOOKUP(F17,males,A11,FALSE),\"\")))","v":"Barnaby Drew"},"Wake",0,null,0,null,0,null,0,null,0,0,null,0,null,0,null,0,null,0,{"$f":"IF(X17=P11,\"LR=\",IF(X17>P11,\"LR\",\"\"))","v":""}]
[null,{"$f":"IF(T(B15)=\"\",B15*11,CONCATENATE(B15,B15))","v":88},0,null,5,88,{"$f":"IF(OR(F18=0,F18=\"\"),\"\",IF(A10=\"F\",HLOOKUP(F18,females,A11,FALSE),IF(A10=\"M\",HLOOKUP(F18,males,A11,FALSE),\"\")))","v":"-"},"York",0,null,0,null,0,null,0,null,0,0,null,0,null,0,null,0,null,0,{"$f":"IF(X18=P11,\"LR=\",IF(X18>P11,\"LR\",\"\"))","v":""}]
[null,{"$f":"IF(T(B16)=\"\",B16*11,CONCATENATE(B16,B16))","v":77},0,null,6,77,{"$f":"IF(OR(F19=0,F19=\"\"),\"\",IF(A10=\"F\",HLOOKUP(F19,females,A11,FALSE),IF(A10=\"M\",HLOOKUP(F19,males,A11,FALSE),\"\")))","v":"Khalil Abdelaziz"},"Leeds C",0,null,0,null,0,null,0,null,0,0,null,0,null,0,null,0,null,0,{"$f":"IF(X19=P11,\"LR=\",IF(X19>P11,\"LR\",\"\"))","v":""}]
[null,null,0,null,7,"",{"$f":"IF(OR(F20=0,F20=\"\"),\"\",IF(A10=\"F\",HLOOKUP(F20,females,A11,FALSE),IF(A10=\"M\",HLOOKUP(F20,males,A11,FALSE),\"\")))","v":""},"",0,null,0,null,0,null,0,null,0,0,null,0,null,0,null,0,null,0,{"$f":"IF(X20=P11,\"LR=\",IF(X20>P11,\"LR\",\"\"))","v":""}]
[null,null,0,null,8,"",{"$f":"IF(OR(F21=0,F21=\"\"),\"\",IF(A10=\"F\",HLOOKUP(F21,females,A11,FALSE),IF(A10=\"M\",HLOOKUP(F21,males,A11,FALSE),\"\")))","v":""},"",0,null,0,null,0,null,0,null,0,0,null,0,null,0,null,0,null,0,{"$f":"IF(X21=P11,\"LR=\",IF(X21>P11,\"LR\",\"\"))","v":""}]
[{"$f":"A14+3","v":4},{"$f":"IF(OR(A22=0,A22=\"\"),\"\",VLOOKUP(A22,teamorder2,2,FALSE))","v":1},null,{"$f":"Q22","v":0},1,1,{"$f":"IF(OR(F22=0,F22=\"\"),\"\",IF(A10=\"F\",HLOOKUP(F22,females2,A11,FALSE),IF(A10=\"M\",HLOOKUP(F22,males2,A11,FALSE),\"\")))","v":"James Castle"},{"$f":"IF(OR(F22=0,F22=\"\"),\"\",VLOOKUP(F22,match_teams2,4,FALSE))","v":"DASH"},0,null,0,null,0,null,0,null,{"$f":"IF(OR(O22=\"\",O22=0),0,RANK(O22,$O$22:$P$29,0))","v":0},0,null,0,null,0,null,0,null,0,{"$f":"IF(X22=P11,\"LR=\",IF(X22>P11,\"LR\",\"\"))","v":""}]
[{"$f":"A15+3","v":5},{"$f":"IF(OR(A23=0,A23=\"\"),\"\",VLOOKUP(A23,teamorder2,2,FALSE))","v":2},null,{"$f":"Q23","v":0},2,2,{"$f":"IF(OR(F23=0,F23=\"\"),\"\",IF(A10=\"F\",HLOOKUP(F23,females2,A11,FALSE),IF(A10=\"M\",HLOOKUP(F23,males2,A11,FALSE),\"\")))","v":"Jack McMunn"},"Linc W",0,null,0,null,0,null,0,null,0,0,null,0,null,0,null,0,null,0,{"$f":"IF(X23=P11,\"LR=\",IF(X23>P11,\"LR\",\"\"))","v":""}]
[{"$f":"A16+3","v":6},{"$f":"IF(OR(A24=0,A24=\"\"),\"\",VLOOKUP(A24,teamorder2,2,FALSE))","v":3},null,0,3,3,{"$f":"IF(OR(F24=0,F24=\"\"),\"\",IF(A10=\"F\",HLOOKUP(F24,females2,A11,FALSE),IF(A10=\"M\",HLOOKUP(F24,males2,A11,FALSE),\"\")))","v":"-"},"Hallam",0,null,0,null,0,null,0,null,0,0,null,0,null,0,null,0,null,0,{"$f":"IF(X24=P11,\"LR=\",IF(X24>P11,\"LR\",\"\"))","v":""}]
[null,{"$f":"IF(T(B22)=\"\",B22*11,CONCATENATE(B22,B22))","v":11},null,0,4,11,{"$f":"IF(OR(F25=0,F25=\"\"),\"\",IF(A10=\"F\",HLOOKUP(F25,females2,A11,FALSE),IF(A10=\"M\",HLOOKUP(F25,males2,A11,FALSE),\"\")))","v":"-"},"DASH",0,null,0,null,0,null,0,null,0,0,null,0,null,0,null,0,null,0,{"$f":"IF(X25=P11,\"LR=\",IF(X25>P11,\"LR\",\"\"))","v":""}]
[null,{"$f":"IF(T(B23)=\"\",B23*11,CONCATENATE(B23,B23))","v":22},null,0,5,22,{"$f":"IF(OR(F26=0,F26=\"\"),\"\",IF(A10=\"F\",HLOOKUP(F26,females2,A11,FALSE),IF(A10=\"M\",HLOOKUP(F26,males2,A11,FALSE),\"\")))","v":"Oliver Jackson"},"Linc W",0,null,0,null,0,null,0,null,0,0,null,0,null,0,null,0,null,0,{"$f":"IF(X26=P11,\"LR=\",IF(X26>P11,\"LR\",\"\"))","v":""}]
[null,{"$f":"IF(T(B24)=\"\",B24*11,CONCATENATE(B24,B24))","v":33},null,0,6,33,{"$f":"IF(OR(F27=0,F27=\"\"),\"\",IF(A10=\"F\",HLOOKUP(F27,females2,A11,FALSE),IF(A10=\"M\",HLOOKUP(F27,males2,A11,FALSE),\"\")))","v":"-"},"Hallam",0,null,0,null,0,null,0,null,0,0,null,0,null,0,null,0,null,0,{"$f":"IF(X27=P11,\"LR=\",IF(X27>P11,\"LR\",\"\"))","v":""}]
[null,0,null,0,7,"",{"$f":"IF(OR(F28=0,F28=\"\"),\"\",IF(A10=\"F\",HLOOKUP(F28,females2,A11,FALSE),IF(A10=\"M\",HLOOKUP(F28,males2,A11,FALSE),\"\")))","v":""},"",0,null,0,null,0,null,0,null,0,0,null,0,null,0,null,0,null,0,{"$f":"IF(X28=P11,\"LR=\",IF(X28>P11,\"LR\",\"\"))","v":""}]
[null,0,null,0,8,"",{"$f":"IF(OR(F29=0,F29=\"\"),\"\",IF(A10=\"F\",HLOOKUP(F29,females2,A11,FALSE),IF(A10=\"M\",HLOOKUP(F29,males2,A11,FALSE),\"\")))","v":""},"",0,null,0,null,0,null,0,null,0,0,null,0,null,0,null,0,null,0,{"$f":"IF(X29=P11,\"LR=\",IF(X29>P11,\"LR\",\"\"))","v":""}]
[]
[null,null,null,null,"MATCH 1 RESULT",null,null,null,null,null,"MATCH 2 RESULT",null,null,null,null,null,null,null,null,null,null,null,"JUDGES' SIGNATURES"]
[null,null,null,null,null,"No.","NAME","CLUB","DISTANCE",null,null,"No.","NAME",null,null,null,"CLUB",null,null,null,"DISTANCE"]
[null,null,1,null,1,{"$f":"IF(ISERROR(VLOOKUP(C33,$C$14:$Y$21,4,FALSE))=TRUE,0,IF(VLOOKUP(C33,$C$14:$Y$21,22,FALSE)=0,0,IF(VLOOKUP(C33,$C$14:$Y$21,22,FALSE)=99,99,IF(VLOOKUP(C33,$C$14:$Y$21,22,FALSE)=98,98,IF(VLOOKUP(C33,$C$14:$Y$21,22,FALSE)=96,96,IF(VLOOKUP(C33,$C$14:$Y$21,22,FALSE)=95,95,VLOOKUP(C33,$C$14:$Y$21,4,FALSE)))))))","v":0},{"$f":"IF(ISERROR(VLOOKUP(C33,$C$14:$Y$21,4,FALSE))=TRUE,0,VLOOKUP(C33,$C$14:$Y$21,5,FALSE))","v":0},{"$f":"IF(ISERROR(VLOOKUP(C33,$C$14:$Y$21,4,FALSE))=TRUE,0,VLOOKUP(C33,$C$14:$Y$21,6,FALSE))","v":0},{"$f":"IF(ISERROR(VLOOKUP(C33,$C$14:$Y$21,4,FALSE))=TRUE,0,IF(VLOOKUP(C33,$C$14:$Y$21,22,FALSE)=0,\"\",IF(VLOOKUP(C33,$C$14:$Y$21,22,FALSE)>95.99,\"\",VLOOKUP(C33,$C$14:$Y$21,22,FALSE))))","v":0},null,1,{"$f":"IF(ISERROR(VLOOKUP(C33,$D$22:$Y$29,4,FALSE))=TRUE,0,IF(VLOOKUP(C33,D$22:Y$29,21,FALSE)=0,\"\",VLOOKUP(C33,D$22:Y$29,3,FALSE)))","v":0},{"$f":"IF(ISERROR(VLOOKUP(C33,$D$22:$Y$29,4,FALSE))=TRUE,0,VLOOKUP(C33,D$22:Y$29,4,FALSE))","v":0},null,null,null,{"$f":"IF(ISERROR(VLOOKUP(C33,$D$22:$Y$29,4,FALSE))=TRUE,0,VLOOKUP(C33,$D$22:$Y$29,5,FALSE))","v":0},null,null,null,{"$f":"IF(ISERROR(VLOOKUP(C33,$D$22:$Y$29,3,FALSE))=TRUE,0,IF(VLOOKUP(C33,$D$22:$Y$29,21,FALSE)=0,\"\",VLOOKUP(C33,$D$22:$Y$29,21,FALSE)))","v":0}]
[null,null,2,null,2,{"$f":"IF(ISERROR(VLOOKUP(C34,$C$14:$Y$21,4,FALSE))=TRUE,0,IF(VLOOKUP(C34,$C$14:$Y$21,22,FALSE)=0,\"\",IF(VLOOKUP(C34,$C$14:$Y$21,22,FALSE)=99,99,IF(VLOOKUP(C34,$C$14:$Y$21,22,FALSE)=98,98,IF(VLOOKUP(C34,$C$14:$Y$21,22,FALSE)=96,96,VLOOKUP(C34,$C$14:$Y$21,4,FALSE))))))","v":0},0,0,0,null,2,0,0,null,null,null,0,null,null,null,0]
[null,null,3,null,3,0,0,0,0,null,3,0,0,null,null,null,0,null,null,null,0]
[null,null,4,null,4,0,0,0,0,null,4,0,0,null,null,null,0,null,null,null,0]
[null,null,5,null,5,0,0,0,0,null,5,0,0,null,null,null,0,null,null,null,0]
[null,null,6,null,6,0,0,0,0,null,6,0,0,null,null,null,0,null,null,null,0,null,"REFEREE'S SIGNATURE"]
[null,null,7,null,7,0,0,0,0,null,7,0,0,null,null,null,0,null,null,null,0]
[null,null,8,null,8,0,0,0,0,null,8,0,0,null,null,null,0,null,null,null,0]
["F4",null,null,null,"UK ATHLETICS: DISTANCE CARD"]
[{"$f":"VLOOKUP(A41,eventno,5,FALSE)","v":"M"},null,null,null,"MEETING ",null,{"$f":"CONCATENATE(MatchDay!$C$3,\"/\",MatchDay!$I$3)","v":"Northern Premier East/Northern 1 SE"},null,"VENUE ",null,null,{"$f":"MatchDay!$C$7","v":"Thornes Park Stadium, Wakefield"},null,null,null,null,null,"DATE ",null,{"$f":"MatchDay!$C$5","v":"Sunday 8th May 2011"}]
[{"$f":"IF(A42=\"M\",VLOOKUP(A41,males,15,FALSE),VLOOKUP(A41,females,15,FALSE))","v":35},null,null,null,"EVENT",null,{"$f":"CONCATENATE(A41,\" \",VLOOKUP(A41,eventno,4,FALSE))","v":"F4 U15B Hammer"},null,"TIME",null,null,{"$f":"VLOOKUP(A41,eventno,12,FALSE)","v":"11:30:00"},null,"Record",null,{"$f":"VLOOKUP(A41,eventno,7,FALSE)","v":69.040000000000006},null,"Duty",null,{"$f":"VLOOKUP(VLOOKUP(A41,eventno,13,FALSE),teamorder,3,FALSE)","v":"Wakefield"}]
[null,null,null,null,"Order","No","NAME","CLUB","1st Trial",null,"2nd Trial",null,"3rd Trial",null,"Best of 3",null,"Position after\n3 Trials","4th Trial",null,"5th Trial",null,"6th Trial",null,"Best of All",null,"Final\nPositionn","A or B"]
[{"$f":"VLOOKUP(A41,eventno,6,FALSE)","v":0},null,null,null,null,null,null,null,"Metres",null,"Metres",null,"Metres",null,"Metres",null,null,"Metres",null,"Metres",null,"Metres",null,"Metres",null,null,null,"A","B"]
[3,{"$f":"IF(OR(A46=0,A46=\"\"),\"\",VLOOKUP(A46,teamorder,2,FALSE))","v":7},{"$f":"Q46","v":0},null,1,{"$f":"IF(B46=0,\"\",B46)","v":7},{"$f":"IF(OR(F46=0,F46=\"\"),\"\",IF(A42=\"F\",HLOOKUP(F46,females,A43,FALSE),IF(A42=\"M\",HLOOKUP(F46,males,A43,FALSE),\"\")))","v":"George Armstrong"},{"$f":"IF(OR(F46=0,F46=\"\"),\"\",VLOOKUP(F46,match_teams,4,FALSE))","v":"Leeds C"},0,null,0,null,0,null,{"$f":"IF(AND(T(I46)<>\"\",T(K46)<>\"\",T(M46)<>\"\"),0,LARGE(I46:N46,1))","v":0},null,{"$f":"IF(OR(O46=\"\",O46=0),0,RANK(O46,$O$14:$P$21,0))","v":0},0,null,0,null,0,null,{"$f":"IF(AND(T(R46)<>\"\",T(T46)<>\"\",T(V46)<>\"\"),0,IF(O46>LARGE(R46:W46,1),O46,LARGE(R46:W46,1)))","v":0},null,{"$f":"IF(OR(X46=\"\",X46=0),0,RANK(X46,$X$14:$Y$29,0))","v":0},{"$f":"IF(X46=P43,\"LR=\",IF(X46>P43,\"LR\",\"\"))","v":""}]
[1,{"$f":"IF(OR(A47=0,A47=\"\"),\"\",VLOOKUP(A47,teamorder,2,FALSE))","v":9},{"$f":"Q47","v":0},null,2,9,{"$f":"IF(OR(F47=0,F47=\"\"),\"\",IF(A42=\"F\",HLOOKUP(F47,females,A43,FALSE),IF(A42=\"M\",HLOOKUP(F47,males,A43,FALSE),\"\")))","v":"Andrew Jones"},"Wake",0,null,0,null,0,null,{"$f":"IF(AND(T(I47)<>\"\",T(K47)<>\"\",T(M47)<>\"\"),0,LARGE(I47:N47,1))","v":0},null,0,0,null,0,null,0,null,{"$f":"IF(AND(T(R47)<>\"\",T(T47)<>\"\",T(V47)<>\"\"),0,IF(O47>LARGE(R47:W47,1),O47,LARGE(R47:W47,1)))","v":0},null,0,{"$f":"IF(X47=P43,\"LR=\",IF(X47>P43,\"LR\",\"\"))","v":""}]
[2,{"$f":"IF(OR(A48=0,A48=\"\"),\"\",VLOOKUP(A48,teamorder,2,FALSE))","v":8},0,null,3,8,{"$f":"IF(OR(F48=0,F48=\"\"),\"\",IF(A42=\"F\",HLOOKUP(F48,females,A43,FALSE),IF(A42=\"M\",HLOOKUP(F48,males,A43,FALSE),\"\")))","v":"Jonny Swain"},"York",0,null,0,null,0,null,0,null,0,0,null,0,null,0,null,0,null,0,{"$f":"IF(X48=P43,\"LR=\",IF(X48>P43,\"LR\",\"\"))","v":""}]
[null,{"$f":"IF(T(B46)=\"\",B46*11,CONCATENATE(B46,B46))","v":77},0,null,4,77,{"$f":"IF(OR(F49=0,F49=\"\"),\"\",IF(A42=\"F\",HLOOKUP(F49,females,A43,FALSE),IF(A42=\"M\",HLOOKUP(F49,males,A43,FALSE),\"\")))","v":"Harris Hameed"},"Leeds C",0,null,0,null,0,null,0,null,0,0,null,0,null,0,null,0,null,0,{"$f":"IF(X49=P43,\"LR=\",IF(X49>P43,\"LR\",\"\"))","v":""}]
[null,{"$f":"IF(T(B47)=\"\",B47*11,CONCATENATE(B47,B47))","v":99},0,null,5,99,{"$f":"IF(OR(F50=0,F50=\"\"),\"\",IF(A42=\"F\",HLOOKUP(F50,females,A43,FALSE),IF(A42=\"M\",HLOOKUP(F50,males,A43,FALSE),\"\")))","v":"William Ingram"},"Wake",0,null,0,null,0,null,0,null,0,0,null,0,null,0,null,0,null,0,{"$f":"IF(X50=P43,\"LR=\",IF(X50>P43,\"LR\",\"\"))","v":""}]
[null,{"$f":"IF(T(B48)=\"\",B48*11,CONCATENATE(B48,B48))","v":88},0,null,6,88,{"$f":"IF(OR(F51=0,F51=\"\"),\"\",IF(A42=\"F\",HLOOKUP(F51,females,A43,FALSE),IF(A42=\"M\",HLOOKUP(F51,males,A43,FALSE),\"\")))","v":"Ben Lewis"},"York",0,null,0,null,0,null,0,null,0,0,null,0,null,0,null,0,null,0,{"$f":"IF(X51=P43,\"LR=\",IF(X51>P43,\"LR\",\"\"))","v":""}]
[null,null,0,null,7,"",{"$f":"IF(OR(F52=0,F52=\"\"),\"\",IF(A42=\"F\",HLOOKUP(F52,females,A43,FALSE),IF(A42=\"M\",HLOOKUP(F52,males,A43,FALSE),\"\")))","v":""},"",0,null,0,null,0,null,0,null,0,0,null,0,null,0,null,0,null,0,{"$f":"IF(X52=P43,\"LR=\",IF(X52>P43,\"LR\",\"\"))","v":""}]
[null,null,0,null,8,"",{"$f":"IF(OR(F53=0,F53=\"\"),\"\",IF(A42=\"F\",HLOOKUP(F53,females,A43,FALSE),IF(A42=\"M\",HLOOKUP(F53,males,A43,FALSE),\"\")))","v":""},"",0,null,0,null,0,null,0,null,0,0,null,0,null,0,null,0,null,0,{"$f":"IF(X53=P43,\"LR=\",IF(X53>P43,\"LR\",\"\"))","v":""}]
[{"$f":"A46+3","v":6},{"$f":"IF(OR(A54=0,A54=\"\"),\"\",VLOOKUP(A54,teamorder2,2,FALSE))","v":3},null,{"$f":"Q54","v":0},1,3,{"$f":"IF(OR(F54=0,F54=\"\"),\"\",IF(A42=\"F\",HLOOKUP(F54,females2,A43,FALSE),IF(A42=\"M\",HLOOKUP(F54,males2,A43,FALSE),\"\")))","v":"-"},{"$f":"IF(OR(F54=0,F54=\"\"),\"\",VLOOKUP(F54,match_teams2,4,FALSE))","v":"Hallam"},0,null,0,null,0,null,0,null,{"$f":"IF(OR(O54=\"\",O54=0),0,RANK(O54,$O$22:$P$29,0))","v":0},0,null,0,null,0,null,0,null,0,{"$f":"IF(X54=P43,\"LR=\",IF(X54>P43,\"LR\",\"\"))","v":""}]
[{"$f":"A47+3","v":4},{"$f":"IF(OR(A55=0,A55=\"\"),\"\",VLOOKUP(A55,teamorder2,2,FALSE))","v":1},null,{"$f":"Q55","v":0},2,1,{"$f":"IF(OR(F55=0,F55=\"\"),\"\",IF(A42=\"F\",HLOOKUP(F55,females2,A43,FALSE),IF(A42=\"M\",HLOOKUP(F55,males2,A43,FALSE),\"\")))","v":"Daniel Salt"},"DASH",0,null,0,null,0,null,0,null,0,0,null,0,null,0,null,0,null,0,{"$f":"IF(X55=P43,\"LR=\",IF(X55>P43,\"LR\",\"\"))","v":""}]
[{"$f":"A48+3","v":5},{"$f":"IF(OR(A56=0,A56=\"\"),\"\",VLOOKUP(A56,teamorder2,2,FALSE))","v":2},null,0,3,2,{"$f":"IF(OR(F56=0,F56=\"\"),\"\",IF(A42=\"F\",HLOOKUP(F56,females2,A43,FALSE),IF(A42=\"M\",HLOOKUP(F56,males2,A43,FALSE),\"\")))","v":"-"},"Linc W",0,null,0,null,0,null,0,null,0,0,null,0,null,0,null,0,null,0,{"$f":"IF(X56=P43,\"LR=\",IF(X56>P43,\"LR\",\"\"))","v":""}]
[null,{"$f":"IF(T(B54)=\"\",B54*11,CONCATENATE(B54,B54))","v":33},null,0,4,33,{"$f":"IF(OR(F57=0,F57=\"\"),\"\",IF(A42=\"F\",HLOOKUP(F57,females2,A43,FALSE),IF(A42=\"M\",HLOOKUP(F57,males2,A43,FALSE),\"\")))","v":"-"},"Hallam",0,null,0,null,0,null,0,null,0,0,null,0,null,0,null,0,null,0,{"$f":"IF(X57=P43,\"LR=\",IF(X57>P43,\"LR\",\"\"))","v":""}]
[null,{"$f":"IF(T(B55)=\"\",B55*11,CONCATENATE(B55,B55))","v":11},null,0,5,11,{"$f":"IF(OR(F58=0,F58=\"\"),\"\",IF(A42=\"F\",HLOOKUP(F58,females2,A43,FALSE),IF(A42=\"M\",HLOOKUP(F58,males2,A43,FALSE),\"\")))","v":"-"},"DASH",0,null,0,null,0,null,0,null,0,0,null,0,null,0,null,0,null,0,{"$f":"IF(X58=P43,\"LR=\",IF(X58>P43,\"LR\",\"\"))","v":""}]
[null,{"$f":"IF(T(B56)=\"\",B56*11,CONCATENATE(B56,B56))","v":22},null,0,6,22,{"$f":"IF(OR(F59=0,F59=\"\"),\"\",IF(A42=\"F\",HLOOKUP(F59,females2,A43,FALSE),IF(A42=\"M\",HLOOKUP(F59,males2,A43,FALSE),\"\")))","v":"-"},"Linc W",0,null,0,null,0,null,0,null,0,0,null,0,null,0,null,0,null,0,{"$f":"IF(X59=P43,\"LR=\",IF(X59>P43,\"LR\",\"\"))","v":""}]
[null,0,null,0,7,"",{"$f":"IF(OR(F60=0,F60=\"\"),\"\",IF(A42=\"F\",HLOOKUP(F60,females2,A43,FALSE),IF(A42=\"M\",HLOOKUP(F60,males2,A43,FALSE),\"\")))","v":""},"",0,null,0,null,0,null,0,null,0,0,null,0,null,0,null,0,null,0,{"$f":"IF(X60=P43,\"LR=\",IF(X60>P43,\"LR\",\"\"))","v":""}]
[null,0,null,0,8,"",{"$f":"IF(OR(F61=0,F61=\"\"),\"\",IF(A42=\"F\",HLOOKUP(F61,females2,A43,FALSE),IF(A42=\"M\",HLOOKUP(F61,males2,A43,FALSE),\"\")))","v":""},"",0,null,0,null,0,null,0,null,0,0,null,0,null,0,null,0,null,0,{"$f":"IF(X61=P43,\"LR=\",IF(X61>P43,\"LR\",\"\"))","v":""}]
[]
[null,null,null,null,"MATCH 1 RESULT",null,null,null,null,null,"MATCH 2 RESULT",null,null,null,null,null,null,null,null,null,null,null,"JUDGES' SIGNATURES"]
[null,null,null,null,null,"No.","NAME","CLUB","DISTANCE",null,null,"No.","NAME",null,null,null,"CLUB",null,null,null,"DISTANCE"]
[null,null,1,null,1,{"$f":"IF(ISERROR(VLOOKUP(C65,$C$14:$Y$21,4,FALSE))=TRUE,0,IF(VLOOKUP(C65,$C$14:$Y$21,22,FALSE)=0,0,IF(VLOOKUP(C65,$C$14:$Y$21,22,FALSE)=99,99,IF(VLOOKUP(C65,$C$14:$Y$21,22,FALSE)=98,98,IF(VLOOKUP(C65,$C$14:$Y$21,22,FALSE)=96,96,IF(VLOOKUP(C65,$C$14:$Y$21,22,FALSE)=95,95,VLOOKUP(C65,$C$14:$Y$21,4,FALSE)))))))","v":0},{"$f":"IF(ISERROR(VLOOKUP(C65,$C$14:$Y$21,4,FALSE))=TRUE,0,VLOOKUP(C65,$C$14:$Y$21,5,FALSE))","v":0},{"$f":"IF(ISERROR(VLOOKUP(C65,$C$14:$Y$21,4,FALSE))=TRUE,0,VLOOKUP(C65,$C$14:$Y$21,6,FALSE))","v":0},{"$f":"IF(ISERROR(VLOOKUP(C65,$C$14:$Y$21,4,FALSE))=TRUE,0,IF(VLOOKUP(C65,$C$14:$Y$21,22,FALSE)=0,\"\",IF(VLOOKUP(C65,$C$14:$Y$21,22,FALSE)>95.99,\"\",VLOOKUP(C65,$C$14:$Y$21,22,FALSE))))","v":0},null,1,{"$f":"IF(ISERROR(VLOOKUP(C65,$D$22:$Y$29,4,FALSE))=TRUE,0,IF(VLOOKUP(C65,D$22:Y$29,21,FALSE)=0,\"\",VLOOKUP(C65,D$22:Y$29,3,FALSE)))","v":0},{"$f":"IF(ISERROR(VLOOKUP(C65,$D$22:$Y$29,4,FALSE))=TRUE,0,VLOOKUP(C65,D$22:Y$29,4,FALSE))","v":0},null,null,null,{"$f":"IF(ISERROR(VLOOKUP(C65,$D$22:$Y$29,4,FALSE))=TRUE,0,VLOOKUP(C65,$D$22:$Y$29,5,FALSE))","v":0},null,null,null,{"$f":"IF(ISERROR(VLOOKUP(C65,$D$22:$Y$29,3,FALSE))=TRUE,0,IF(VLOOKUP(C65,$D$22:$Y$29,21,FALSE)=0,\"\",VLOOKUP(C65,$D$22:$Y$29,21,FALSE)))","v":0}]
[null,null,2,null,2,{"$f":"IF(ISERROR(VLOOKUP(C66,$C$14:$Y$21,4,FALSE))=TRUE,0,IF(VLOOKUP(C66,$C$14:$Y$21,22,FALSE)=0,\"\",IF(VLOOKUP(C66,$C$14:$Y$21,22,FALSE)=99,99,IF(VLOOKUP(C66,$C$14:$Y$21,22,FALSE)=98,98,IF(VLOOKUP(C66,$C$14:$Y$21,22,FALSE)=96,96,VLOOKUP(C66,$C$14:$Y$21,4,FALSE))))))","v":0},0,0,0,null,2,0,0,null,null,null,0,null,null,null,0]
[null,null,3,null,3,0,0,0,0,null,3,0,0,null,null,null,0,null,null,null,0]
[null,null,4,null,4,0,0,0,0,null,4,0,0,null,null,null,0,null,null,null,0]
[null,null,5,null,5,0,0,0,0,null,5,0,0,null,null,null,0,null,null,null,0]
[null,null,6,null,6,0,0,0,0,null,6,0,0,null,null,null,0,null,null,null,0,null,"REFEREE'S SIGNATURE"]
[null,null,7,null,7,0,0,0,0,null,7,0,0,null,null,null,0,null,null,null,0]
[null,null,8,null,8,0,0,0,0,null,8,0,0,null,null,null,0,null,null,null,0]
["F5",null,null,null,"UK ATHLETICS: DISTANCE CARD"]
[{"$f":"VLOOKUP(A73,eventno,5,FALSE)","v":"M"},null,null,null,"MEETING ",null,{"$f":"CONCATENATE(MatchDay!$C$3,\"/\",MatchDay!$I$3)","v":"Northern Premier East/Northern 1 SE"},null,"VENUE ",null,null,{"$f":"MatchDay!$C$7","v":"Thornes Park Stadium, Wakefield"},null,null,null,null,null,"DATE ",null,{"$f":"MatchDay!$C$5","v":"Sunday 8th May 2011"}]
[{"$f":"IF(A74=\"M\",VLOOKUP(A73,males,15,FALSE),VLOOKUP(A73,females,15,FALSE))","v":36},null,null,null,"EVENT",null,{"$f":"CONCATENATE(A73,\" \",VLOOKUP(A73,eventno,4,FALSE))","v":"F5 U17M Hammer"},null,"TIME",null,null,{"$f":"VLOOKUP(A73,eventno,12,FALSE)","v":"11:30:00"},null,"Record",null,{"$f":"VLOOKUP(A73,eventno,7,FALSE)","v":74.8},null,"Duty",null,{"$f":"VLOOKUP(VLOOKUP(A73,eventno,13,FALSE),teamorder,3,FALSE)","v":"Wakefield"}]
[null,null,null,null,"Order","No","NAME","CLUB","1st Trial",null,"2nd Trial",null,"3rd Trial",null,"Best of 3",null,"Position after\n3 Trials","4th Trial",null,"5th Trial",null,"6th Trial",null,"Best of All",null,"Final\nPositionn","A or B"]
[{"$f":"VLOOKUP(A73,eventno,6,FALSE)","v":0},null,null,null,null,null,null,null,"Metres",null,"Metres",null,"Metres",null,"Metres",null,null,"Metres",null,"Metres",null,"Metres",null,"Metres",null,null,null,"A","B"]
[2,{"$f":"IF(OR(A78=0,A78=\"\"),\"\",VLOOKUP(A78,teamorder,2,FALSE))","v":8},{"$f":"Q78","v":0},null,1,{"$f":"IF(B78=0,\"\",B78)","v":8},{"$f":"IF(OR(F78=0,F78=\"\"),\"\",IF(A74=\"F\",HLOOKUP(F78,females,A75,FALSE),IF(A74=\"M\",HLOOKUP(F78,males,A75,FALSE),\"\")))","v":"-"},{"$f":"IF(OR(F78=0,F78=\"\"),\"\",VLOOKUP(F78,match_teams,4,FALSE))","v":"York"},0,null,0,null,0,null,{"$f":"IF(AND(T(I78)<>\"\",T(K78)<>\"\",T(M78)<>\"\"),0,LARGE(I78:N78,1))","v":0},null,{"$f":"IF(OR(O78=\"\",O78=0),0,RANK(O78,$O$14:$P$21,0))","v":0},0,null,0,null,0,null,{"$f":"IF(AND(T(R78)<>\"\",T(T78)<>\"\",T(V78)<>\"\"),0,IF(O78>LARGE(R78:W78,1),O78,LARGE(R78:W78,1)))","v":0},null,{"$f":"IF(OR(X78=\"\",X78=0),0,RANK(X78,$X$14:$Y$29,0))","v":0},{"$f":"IF(X78=P75,\"LR=\",IF(X78>P75,\"LR\",\"\"))","v":""}]
[3,{"$f":"IF(OR(A79=0,A79=\"\"),\"\",VLOOKUP(A79,teamorder,2,FALSE))","v":7},{"$f":"Q79","v":0},null,2,7,{"$f":"IF(OR(F79=0,F79=\"\"),\"\",IF(A74=\"F\",HLOOKUP(F79,females,A75,FALSE),IF(A74=\"M\",HLOOKUP(F79,males,A75,FALSE),\"\")))","v":"Max Ansell-Wood"},"Leeds C",0,null,0,null,0,null,{"$f":"IF(AND(T(I79)<>\"\",T(K79)<>\"\",T(M79)<>\"\"),0,LARGE(I79:N79,1))","v":0},null,0,0,null,0,null,0,null,{"$f":"IF(AND(T(R79)<>\"\",T(T79)<>\"\",T(V79)<>\"\"),0,IF(O79>LARGE(R79:W79,1),O79,LARGE(R79:W79,1)))","v":0},null,0,{"$f":"IF(X79=P75,\"LR=\",IF(X79>P75,\"LR\",\"\"))","v":""}]
[1,{"$f":"IF(OR(A80=0,A80=\"\"),\"\",VLOOKUP(A80,teamorder,2,FALSE))","v":9},0,null,3,9,{"$f":"IF(OR(F80=0,F80=\"\"),\"\",IF(A74=\"F\",HLOOKUP(F80,females,A75,FALSE),IF(A74=\"M\",HLOOKUP(F80,males,A75,FALSE),\"\")))","v":"Kieran Thackray"},"Wake",0,null,0,null,0,null,0,null,0,0,null,0,null,0,null,0,null,0,{"$f":"IF(X80=P75,\"LR=\",IF(X80>P75,\"LR\",\"\"))","v":""}]
[null,{"$f":"IF(T(B78)=\"\",B78*11,CONCATENATE(B78,B78))","v":88},0,null,4,88,{"$f":"IF(OR(F81=0,F81=\"\"),\"\",IF(A74=\"F\",HLOOKUP(F81,females,A75,FALSE),IF(A74=\"M\",HLOOKUP(F81,males,A75,FALSE),\"\")))","v":"-"},"York",0,null,0,null,0,null,0,null,0,0,null,0,null,0,null,0,null,0,{"$f":"IF(X81=P75,\"LR=\",IF(X81>P75,\"LR\",\"\"))","v":""}]
[null,{"$f":"IF(T(B79)=\"\",B79*11,CONCATENATE(B79,B79))","v":77},0,null,5,77,{"$f":"IF(OR(F82=0,F82=\"\"),\"\",IF(A74=\"F\",HLOOKUP(F82,females,A75,FALSE),IF(A74=\"M\",HLOOKUP(F82,males,A75,FALSE),\"\")))","v":"Lamar Lewis"},"Leeds C",0,null,0,null,0,null,0,null,0,0,null,0,null,0,null,0,null,0,{"$f":"IF(X82=P75,\"LR=\",IF(X82>P75,\"LR\",\"\"))","v":""}]
[null,{"$f":"IF(T(B80)=\"\",B80*11,CONCATENATE(B80,B80))","v":99},0,null,6,99,{"$f":"IF(OR(F83=0,F83=\"\"),\"\",IF(A74=\"F\",HLOOKUP(F83,females,A75,FALSE),IF(A74=\"M\",HLOOKUP(F83,males,A75,FALSE),\"\")))","v":"Michael Jones"},"Wake",0,null,0,null,0,null,0,null,0,0,null,0,null,0,null,0,null,0,{"$f":"IF(X83=P75,\"LR=\",IF(X83>P75,\"LR\",\"\"))","v":""}]
[null,null,0,null,7,"",{"$f":"IF(OR(F84=0,F84=\"\"),\"\",IF(A74=\"F\",HLOOKUP(F84,females,A75,FALSE),IF(A74=\"M\",HLOOKUP(F84,males,A75,FALSE),\"\")))","v":""},"",0,null,0,null,0,null,0,null,0,0,null,0,null,0,null,0,null,0,{"$f":"IF(X84=P75,\"LR=\",IF(X84>P75,\"LR\",\"\"))","v":""}]
[null,null,0,null,8,"",{"$f":"IF(OR(F85=0,F85=\"\"),\"\",IF(A74=\"F\",HLOOKUP(F85,females,A75,FALSE),IF(A74=\"M\",HLOOKUP(F85,males,A75,FALSE),\"\")))","v":""},"",0,null,0,null,0,null,0,null,0,0,null,0,null,0,null,0,null,0,{"$f":"IF(X85=P75,\"LR=\",IF(X85>P75,\"LR\",\"\"))","v":""}]
[{"$f":"A78+3","v":5},{"$f":"IF(OR(A86=0,A86=\"\"),\"\",VLOOKUP(A86,teamorder2,2,FALSE))","v":2},null,{"$f":"Q86","v":0},1,2,{"$f":"IF(OR(F86=0,F86=\"\"),\"\",IF(A74=\"F\",HLOOKUP(F86,females2,A75,FALSE),IF(A74=\"M\",HLOOKUP(F86,males2,A75,FALSE),\"\")))","v":"Dominic Sykes"},{"$f":"IF(OR(F86=0,F86=\"\"),\"\",VLOOKUP(F86,match_teams2,4,FALSE))","v":"Linc W"},0,null,0,null,0,null,0,null,{"$f":"IF(OR(O86=\"\",O86=0),0,RANK(O86,$O$22:$P$29,0))","v":0},0,null,0,null,0,null,0,null,0,{"$f":"IF(X86=P75,\"LR=\",IF(X86>P75,\"LR\",\"\"))","v":""}]
[{"$f":"A79+3","v":6},{"$f":"IF(OR(A87=0,A87=\"\"),\"\",VLOOKUP(A87,teamorder2,2,FALSE))","v":3},null,{"$f":"Q87","v":0},2,3,{"$f":"IF(OR(F87=0,F87=\"\"),\"\",IF(A74=\"F\",HLOOKUP(F87,females2,A75,FALSE),IF(A74=\"M\",HLOOKUP(F87,males2,A75,FALSE),\"\")))","v":"-"},"Hallam",0,null,0,null,0,null,0,null,0,0,null,0,null,0,null,0,null,0,{"$f":"IF(X87=P75,\"LR=\",IF(X87>P75,\"LR\",\"\"))","v":""}]
[{"$f":"A80+3","v":4},{"$f":"IF(OR(A88=0,A88=\"\"),\"\",VLOOKUP(A88,teamorder2,2,FALSE))","v":1},null,0,3,1,{"$f":"IF(OR(F88=0,F88=\"\"),\"\",IF(A74=\"F\",HLOOKUP(F88,females2,A75,FALSE),IF(A74=\"M\",HLOOKUP(F88,males2,A75,FALSE),\"\")))","v":"Niall Hunt"},"DASH",0,null,0,null,0,null,0,null,0,0,null,0,null,0,null,0,null,0,{"$f":"IF(X88=P75,\"LR=\",IF(X88>P75,\"LR\",\"\"))","v":""}]
[null,{"$f":"IF(T(B86)=\"\",B86*11,CONCATENATE(B86,B86))","v":22},null,0,4,22,{"$f":"IF(OR(F89=0,F89=\"\"),\"\",IF(A74=\"F\",HLOOKUP(F89,females2,A75,FALSE),IF(A74=\"M\",HLOOKUP(F89,males2,A75,FALSE),\"\")))","v":"-"},"Linc W",0,null,0,null,0,null,0,null,0,0,null,0,null,0,null,0,null,0,{"$f":"IF(X89=P75,\"LR=\",IF(X89>P75,\"LR\",\"\"))","v":""}]
[null,{"$f":"IF(T(B87)=\"\",B87*11,CONCATENATE(B87,B87))","v":33},null,0,5,33,{"$f":"IF(OR(F90=0,F90=\"\"),\"\",IF(A74=\"F\",HLOOKUP(F90,females2,A75,FALSE),IF(A74=\"M\",HLOOKUP(F90,males2,A75,FALSE),\"\")))","v":"-"},"Hallam",0,null,0,null,0,null,0,null,0,0,null,0,null,0,null,0,null,0,{"$f":"IF(X90=P75,\"LR=\",IF(X90>P75,\"LR\",\"\"))","v":""}]
[null,{"$f":"IF(T(B88)=\"\",B88*11,CONCATENATE(B88,B88))","v":11},null,0,6,11,{"$f":"IF(OR(F91=0,F91=\"\"),\"\",IF(A74=\"F\",HLOOKUP(F91,females2,A75,FALSE),IF(A74=\"M\",HLOOKUP(F91,males2,A75,FALSE),\"\")))","v":"James Smith"},"DASH",0,null,0,null,0,null,0,null,0,0,null,0,null,0,null,0,null,0,{"$f":"IF(X91=P75,\"LR=\",IF(X91>P75,\"LR\",\"\"))","v":""}]
[null,0,null,0,7,"",{"$f":"IF(OR(F92=0,F92=\"\"),\"\",IF(A74=\"F\",HLOOKUP(F92,females2,A75,FALSE),IF(A74=\"M\",HLOOKUP(F92,males2,A75,FALSE),\"\")))","v":""},"",0,null,0,null,0,null,0,null,0,0,null,0,null,0,null,0,null,0,{"$f":"IF(X92=P75,\"LR=\",IF(X92>P75,\"LR\",\"\"))","v":""}]
[null,0,null,0,8,"",{"$f":"IF(OR(F93=0,F93=\"\"),\"\",IF(A74=\"F\",HLOOKUP(F93,females2,A75,FALSE),IF(A74=\"M\",HLOOKUP(F93,males2,A75,FALSE),\"\")))","v":""},"",0,null,0,null,0,null,0,null,0,0,null,0,null,0,null,0,null,0,{"$f":"IF(X93=P75,\"LR=\",IF(X93>P75,\"LR\",\"\"))","v":""}]
[]
[null,null,null,null,"MATCH 1 RESULT",null,null,null,null,null,"MATCH 2 RESULT",null,null,null,null,null,null,null,null,null,null,null,"JUDGES' SIGNATURES"]
[null,null,null,null,null,"No.","NAME","CLUB","DISTANCE",null,null,"No.","NAME",null,null,null,"CLUB",null,null,null,"DISTANCE"]
[null,null,1,null,1,{"$f":"IF(ISERROR(VLOOKUP(C97,$C$14:$Y$21,4,FALSE))=TRUE,0,IF(VLOOKUP(C97,$C$14:$Y$21,22,FALSE)=0,0,IF(VLOOKUP(C97,$C$14:$Y$21,22,FALSE)=99,99,IF(VLOOKUP(C97,$C$14:$Y$21,22,FALSE)=98,98,IF(VLOOKUP(C97,$C$14:$Y$21,22,FALSE)=96,96,IF(VLOOKUP(C97,$C$14:$Y$21,22,FALSE)=95,95,VLOOKUP(C97,$C$14:$Y$21,4,FALSE)))))))","v":0},{"$f":"IF(ISERROR(VLOOKUP(C97,$C$14:$Y$21,4,FALSE))=TRUE,0,VLOOKUP(C97,$C$14:$Y$21,5,FALSE))","v":0},{"$f":"IF(ISERROR(VLOOKUP(C97,$C$14:$Y$21,4,FALSE))=TRUE,0,VLOOKUP(C97,$C$14:$Y$21,6,FALSE))","v":0},{"$f":"IF(ISERROR(VLOOKUP(C97,$C$14:$Y$21,4,FALSE))=TRUE,0,IF(VLOOKUP(C97,$C$14:$Y$21,22,FALSE)=0,\"\",IF(VLOOKUP(C97,$C$14:$Y$21,22,FALSE)>95.99,\"\",VLOOKUP(C97,$C$14:$Y$21,22,FALSE))))","v":0},null,1,{"$f":"IF(ISERROR(VLOOKUP(C97,$D$22:$Y$29,4,FALSE))=TRUE,0,IF(VLOOKUP(C97,D$22:Y$29,21,FALSE)=0,\"\",VLOOKUP(C97,D$22:Y$29,3,FALSE)))","v":0},{"$f":"IF(ISERROR(VLOOKUP(C97,$D$22:$Y$29,4,FALSE))=TRUE,0,VLOOKUP(C97,D$22:Y$29,4,FALSE))","v":0},null,null,null,{"$f":"IF(ISERROR(VLOOKUP(C97,$D$22:$Y$29,4,FALSE))=TRUE,0,VLOOKUP(C97,$D$22:$Y$29,5,FALSE))","v":0},null,null,null,{"$f":"IF(ISERROR(VLOOKUP(C97,$D$22:$Y$29,3,FALSE))=TRUE,0,IF(VLOOKUP(C97,$D$22:$Y$29,21,FALSE)=0,\"\",VLOOKUP(C97,$D$22:$Y$29,21,FALSE)))","v":0}]
[null,null,2,null,2,{"$f":"IF(ISERROR(VLOOKUP(C98,$C$14:$Y$21,4,FALSE))=TRUE,0,IF(VLOOKUP(C98,$C$14:$Y$21,22,FALSE)=0,\"\",IF(VLOOKUP(C98,$C$14:$Y$21,22,FALSE)=99,99,IF(VLOOKUP(C98,$C$14:$Y$21,22,FALSE)=98,98,IF(VLOOKUP(C98,$C$14:$Y$21,22,FALSE)=96,96,VLOOKUP(C98,$C$14:$Y$21,4,FALSE))))))","v":0},0,0,0,null,2,0,0,null,null,null,0,null,null,null,0]
[null,null,3,null,3,0,0,0,0,null,3,0,0,null,null,null,0,null,null,null,0]
[null,null,4,null,4,0,0,0,0,null,4,0,0,null,null,null,0,null,null,null,0]
[null,null,5,null,5,0,0,0,0,null,5,0,0,null,null,null,0,null,null,null,0]
[null,null,6,null,6,0,0,0,0,null,6,0,0,null,null,null,0,null,null,null,0,null,"REFEREE'S SIGNATURE"]
[null,null,7,null,7,0,0,0,0,null,7,0,0,null,null,null,0,null,null,null,0]
[null,null,8,null,8,0,0,0,0,null,8,0,0,null,null,null,0,null,null,null,0]
["F6",null,null,null,"UK ATHLETICS: DISTANCE CARD"]
[{"$f":"VLOOKUP(A105,eventno,5,FALSE)","v":"F"},null,null,null,"MEETING ",null,{"$f":"CONCATENATE(MatchDay!$C$3,\"/\",MatchDay!$I$3)","v":"Northern Premier East/Northern 1 SE"},null,"VENUE ",null,null,{"$f":"MatchDay!$C$7","v":"Thornes Park Stadium, Wakefield"},null,null,null,null,null,"DATE ",null,{"$f":"MatchDay!$C$5","v":"Sunday 8th May 2011"}]
[{"$f":"IF(A106=\"M\",VLOOKUP(A105,males,15,FALSE),VLOOKUP(A105,females,15,FALSE))","v":36},null,null,null,"EVENT",null,{"$f":"CONCATENATE(A105,\" \",VLOOKUP(A105,eventno,4,FALSE))","v":"F6 U17W Hammer"},null,"TIME",null,null,{"$f":"VLOOKUP(A105,eventno,12,FALSE)","v":"11:30:00"},null,"Record",null,{"$f":"VLOOKUP(A105,eventno,7,FALSE)","v":52.37},null,"Duty",null,{"$f":"VLOOKUP(VLOOKUP(A105,eventno,13,FALSE),teamorder,3,FALSE)","v":"Wakefield"}]
[null,null,null,null,"Order","No","NAME","CLUB","1st Trial",null,"2nd Trial",null,"3rd Trial",null,"Best of 3",null,"Position after\n3 Trials","4th Trial",null,"5th Trial",null,"6th Trial",null,"Best of All",null,"Final\nPositionn","A or B"]
[{"$f":"VLOOKUP(A105,eventno,6,FALSE)","v":0},null,null,null,null,null,null,null,"Metres",null,"Metres",null,"Metres",null,"Metres",null,null,"Metres",null,"Metres",null,"Metres",null,"Metres",null,null,null,"A","B"]
[1,{"$f":"IF(OR(A110=0,A110=\"\"),\"\",VLOOKUP(A110,teamorder,2,FALSE))","v":9},{"$f":"Q110","v":0},null,1,{"$f":"IF(B110=0,\"\",B110)","v":9},{"$f":"IF(OR(F110=0,F110=\"\"),\"\",IF(A106=\"F\",HLOOKUP(F110,females,A107,FALSE),IF(A106=\"M\",HLOOKUP(F110,males,A107,FALSE),\"\")))","v":"Hannah Yates"},{"$f":"IF(OR(F110=0,F110=\"\"),\"\",VLOOKUP(F110,match_teams,4,FALSE))","v":"Wake"},0,null,0,null,0,null,{"$f":"IF(AND(T(I110)<>\"\",T(K110)<>\"\",T(M110)<>\"\"),0,LARGE(I110:N110,1))","v":0},null,{"$f":"IF(OR(O110=\"\",O110=0),0,RANK(O110,$O$14:$P$21,0))","v":0},0,null,0,null,0,null,{"$f":"IF(AND(T(R110)<>\"\",T(T110)<>\"\",T(V110)<>\"\"),0,IF(O110>LARGE(R110:W110,1),O110,LARGE(R110:W110,1)))","v":0},null,{"$f":"IF(OR(X110=\"\",X110=0),0,RANK(X110,$X$14:$Y$29,0))","v":0},{"$f":"IF(X110=P107,\"LR=\",IF(X110>P107,\"LR\",\"\"))","v":""}]
[2,{"$f":"IF(OR(A111=0,A111=\"\"),\"\",VLOOKUP(A111,teamorder,2,FALSE))","v":8},{"$f":"Q111","v":0},null,2,8,{"$f":"IF(OR(F111=0,F111=\"\"),\"\",IF(A106=\"F\",HLOOKUP(F111,females,A107,FALSE),IF(A106=\"M\",HLOOKUP(F111,males,A107,FALSE),\"\")))","v":"-"},"York",0,null,0,null,0,null,{"$f":"IF(AND(T(I111)<>\"\",T(K111)<>\"\",T(M111)<>\"\"),0,LARGE(I111:N111,1))","v":0},null,0,0,null,0,null,0,null,{"$f":"IF(AND(T(R111)<>\"\",T(T111)<>\"\",T(V111)<>\"\"),0,IF(O111>LARGE(R111:W111,1),O111,LARGE(R111:W111,1)))","v":0},null,0,{"$f":"IF(X111=P107,\"LR=\",IF(X111>P107,\"LR\",\"\"))","v":""}]
[3,{"$f":"IF(OR(A112=0,A112=\"\"),\"\",VLOOKUP(A112,teamorder,2,FALSE))","v":7},0,null,3,7,{"$f":"IF(OR(F112=0,F112=\"\"),\"\",IF(A106=\"F\",HLOOKUP(F112,females,A107,FALSE),IF(A106=\"M\",HLOOKUP(F112,males,A107,FALSE),\"\")))","v":"-"},"Leeds C",0,null,0,null,0,null,0,null,0,0,null,0,null,0,null,0,null,0,{"$f":"IF(X112=P107,\"LR=\",IF(X112>P107,\"LR\",\"\"))","v":""}]
[null,{"$f":"IF(T(B110)=\"\",B110*11,CONCATENATE(B110,B110))","v":99},0,null,4,99,{"$f":"IF(OR(F113=0,F113=\"\"),\"\",IF(A106=\"F\",HLOOKUP(F113,females,A107,FALSE),IF(A106=\"M\",HLOOKUP(F113,males,A107,FALSE),\"\")))","v":"Samantha Lancaster"},"Wake",0,null,0,null,0,null,0,null,0,0,null,0,null,0,null,0,null,0,{"$f":"IF(X113=P107,\"LR=\",IF(X113>P107,\"LR\",\"\"))","v":""}]
[null,{"$f":"IF(T(B111)=\"\",B111*11,CONCATENATE(B111,B111))","v":88},0,null,5,88,{"$f":"IF(OR(F114=0,F114=\"\"),\"\",IF(A106=\"F\",HLOOKUP(F114,females,A107,FALSE),IF(A106=\"M\",HLOOKUP(F114,males,A107,FALSE),\"\")))","v":"-"},"York",0,null,0,null,0,null,0,null,0,0,null,0,null,0,null,0,null,0,{"$f":"IF(X114=P107,\"LR=\",IF(X114>P107,\"LR\",\"\"))","v":""}]
[null,{"$f":"IF(T(B112)=\"\",B112*11,CONCATENATE(B112,B112))","v":77},0,null,6,77,{"$f":"IF(OR(F115=0,F115=\"\"),\"\",IF(A106=\"F\",HLOOKUP(F115,females,A107,FALSE),IF(A106=\"M\",HLOOKUP(F115,males,A107,FALSE),\"\")))","v":"-"},"Leeds C",0,null,0,null,0,null,0,null,0,0,null,0,null,0,null,0,null,0,{"$f":"IF(X115=P107,\"LR=\",IF(X115>P107,\"LR\",\"\"))","v":""}]
[null,null,0,null,7,"",{"$f":"IF(OR(F116=0,F116=\"\"),\"\",IF(A106=\"F\",HLOOKUP(F116,females,A107,FALSE),IF(A106=\"M\",HLOOKUP(F116,males,A107,FALSE),\"\")))","v":""},"",0,null,0,null,0,null,0,null,0,0,null,0,null,0,null,0,null,0,{"$f":"IF(X116=P107,\"LR=\",IF(X116>P107,\"LR\",\"\"))","v":""}]
[null,null,0,null,8,"",{"$f":"IF(OR(F117=0,F117=\"\"),\"\",IF(A106=\"F\",HLOOKUP(F117,females,A107,FALSE),IF(A106=\"M\",HLOOKUP(F117,males,A107,FALSE),\"\")))","v":""},"",0,null,0,null,0,null,0,null,0,0,null,0,null,0,null,0,null,0,{"$f":"IF(X117=P107,\"LR=\",IF(X117>P107,\"LR\",\"\"))","v":""}]
[{"$f":"A110+3","v":4},{"$f":"IF(OR(A118=0,A118=\"\"),\"\",VLOOKUP(A118,teamorder2,2,FALSE))","v":1},null,{"$f":"Q118","v":0},1,1,{"$f":"IF(OR(F118=0,F118=\"\"),\"\",IF(A106=\"F\",HLOOKUP(F118,females2,A107,FALSE),IF(A106=\"M\",HLOOKUP(F118,males2,A107,FALSE),\"\")))","v":"-"},{"$f":"IF(OR(F118=0,F118=\"\"),\"\",VLOOKUP(F118,match_teams2,4,FALSE))","v":"DASH"},0,null,0,null,0,null,0,null,{"$f":"IF(OR(O118=\"\",O118=0),0,RANK(O118,$O$22:$P$29,0))","v":0},0,null,0,null,0,null,0,null,0,{"$f":"IF(X118=P107,\"LR=\",IF(X118>P107,\"LR\",\"\"))","v":""}]
[{"$f":"A111+3","v":5},{"$f":"IF(OR(A119=0,A119=\"\"),\"\",VLOOKUP(A119,teamorder2,2,FALSE))","v":2},null,{"$f":"Q119","v":0},2,2,{"$f":"IF(OR(F119=0,F119=\"\"),\"\",IF(A106=\"F\",HLOOKUP(F119,females2,A107,FALSE),IF(A106=\"M\",HLOOKUP(F119,males2,A107,FALSE),\"\")))","v":"Elsie Dawes"},"Linc W",0,null,0,null,0,null,0,null,0,0,null,0,null,0,null,0,null,0,{"$f":"IF(X119=P107,\"LR=\",IF(X119>P107,\"LR\",\"\"))","v":""}]
[{"$f":"A112+3","v":6},{"$f":"IF(OR(A120=0,A120=\"\"),\"\",VLOOKUP(A120,teamorder2,2,FALSE))","v":3},null,0,3,3,{"$f":"IF(OR(F120=0,F120=\"\"),\"\",IF(A106=\"F\",HLOOKUP(F120,females2,A107,FALSE),IF(A106=\"M\",HLOOKUP(F120,males2,A107,FALSE),\"\")))","v":"-"},"Hallam",0,null,0,null,0,null,0,null,0,0,null,0,null,0,null,0,null,0,{"$f":"IF(X120=P107,\"LR=\",IF(X120>P107,\"LR\",\"\"))","v":""}]
[null,{"$f":"IF(T(B118)=\"\",B118*11,CONCATENATE(B118,B118))","v":11},null,0,4,11,{"$f":"IF(OR(F121=0,F121=\"\"),\"\",IF(A106=\"F\",HLOOKUP(F121,females2,A107,FALSE),IF(A106=\"M\",HLOOKUP(F121,males2,A107,FALSE),\"\")))","v":"-"},"DASH",0,null,0,null,0,null,0,null,0,0,null,0,null,0,null,0,null,0,{"$f":"IF(X121=P107,\"LR=\",IF(X121>P107,\"LR\",\"\"))","v":""}]
[null,{"$f":"IF(T(B119)=\"\",B119*11,CONCATENATE(B119,B119))","v":22},null,0,5,22,{"$f":"IF(OR(F122=0,F122=\"\"),\"\",IF(A106=\"F\",HLOOKUP(F122,females2,A107,FALSE),IF(A106=\"M\",HLOOKUP(F122,males2,A107,FALSE),\"\")))","v":"-"},"Linc W",0,null,0,null,0,null,0,null,0,0,null,0,null,0,null,0,null,0,{"$f":"IF(X122=P107,\"LR=\",IF(X122>P107,\"LR\",\"\"))","v":""}]
[null,{"$f":"IF(T(B120)=\"\",B120*11,CONCATENATE(B120,B120))","v":33},null,0,6,33,{"$f":"IF(OR(F123=0,F123=\"\"),\"\",IF(A106=\"F\",HLOOKUP(F123,females2,A107,FALSE),IF(A106=\"M\",HLOOKUP(F123,males2,A107,FALSE),\"\")))","v":"-"},"Hallam",0,null,0,null,0,null,0,null,0,0,null,0,null,0,null,0,null,0,{"$f":"IF(X123=P107,\"LR=\",IF(X123>P107,\"LR\",\"\"))","v":""}]
[null,0,null,0,7,"",{"$f":"IF(OR(F124=0,F124=\"\"),\"\",IF(A106=\"F\",HLOOKUP(F124,females2,A107,FALSE),IF(A106=\"M\",HLOOKUP(F124,males2,A107,FALSE),\"\")))","v":""},"",0,null,0,null,0,null,0,null,0,0,null,0,null,0,null,0,null,0,{"$f":"IF(X124=P107,\"LR=\",IF(X124>P107,\"LR\",\"\"))","v":""}]
[null,0,null,0,8,"",{"$f":"IF(OR(F125=0,F125=\"\"),\"\",IF(A106=\"F\",HLOOKUP(F125,females2,A107,FALSE),IF(A106=\"M\",HLOOKUP(F125,males2,A107,FALSE),\"\")))","v":""},"",0,null,0,null,0,null,0,null,0,0,null,0,null,0,null,0,null,0,{"$f":"IF(X125=P107,\"LR=\",IF(X125>P107,\"LR\",\"\"))","v":""}]
[]
[null,null,null,null,"MATCH 1 RESULT",null,null,null,null,null,"MATCH 2 RESULT",null,null,null,null,null,null,null,null,null,null,null,"JUDGES' SIGNATURES"]
[null,null,null,null,null,"No.","NAME","CLUB","DISTANCE",null,null,"No.","NAME",null,null,null,"CLUB",null,null,null,"DISTANCE"]
[null,null,1,null,1,{"$f":"IF(ISERROR(VLOOKUP(C129,$C$14:$Y$21,4,FALSE))=TRUE,0,IF(VLOOKUP(C129,$C$14:$Y$21,22,FALSE)=0,0,IF(VLOOKUP(C129,$C$14:$Y$21,22,FALSE)=99,99,IF(VLOOKUP(C129,$C$14:$Y$21,22,FALSE)=98,98,IF(VLOOKUP(C129,$C$14:$Y$21,22,FALSE)=96,96,IF(VLOOKUP(C129,$C$14:$Y$21,22,FALSE)=95,95,VLOOKUP(C129,$C$14:$Y$21,4,FALSE)))))))","v":0},{"$f":"IF(ISERROR(VLOOKUP(C129,$C$14:$Y$21,4,FALSE))=TRUE,0,VLOOKUP(C129,$C$14:$Y$21,5,FALSE))","v":0},{"$f":"IF(ISERROR(VLOOKUP(C129,$C$14:$Y$21,4,FALSE))=TRUE,0,VLOOKUP(C129,$C$14:$Y$21,6,FALSE))","v":0},{"$f":"IF(ISERROR(VLOOKUP(C129,$C$14:$Y$21,4,FALSE))=TRUE,0,IF(VLOOKUP(C129,$C$14:$Y$21,22,FALSE)=0,\"\",IF(VLOOKUP(C129,$C$14:$Y$21,22,FALSE)>95.99,\"\",VLOOKUP(C129,$C$14:$Y$21,22,FALSE))))","v":0},null,1,{"$f":"IF(ISERROR(VLOOKUP(C129,$D$22:$Y$29,4,FALSE))=TRUE,0,IF(VLOOKUP(C129,D$22:Y$29,21,FALSE)=0,\"\",VLOOKUP(C129,D$22:Y$29,3,FALSE)))","v":0},{"$f":"IF(ISERROR(VLOOKUP(C129,$D$22:$Y$29,4,FALSE))=TRUE,0,VLOOKUP(C129,D$22:Y$29,4,FALSE))","v":0},null,null,null,{"$f":"IF(ISERROR(VLOOKUP(C129,$D$22:$Y$29,4,FALSE))=TRUE,0,VLOOKUP(C129,$D$22:$Y$29,5,FALSE))","v":0},null,null,null,{"$f":"IF(ISERROR(VLOOKUP(C129,$D$22:$Y$29,3,FALSE))=TRUE,0,IF(VLOOKUP(C129,$D$22:$Y$29,21,FALSE)=0,\"\",VLOOKUP(C129,$D$22:$Y$29,21,FALSE)))","v":0}]
[null,null,2,null,2,{"$f":"IF(ISERROR(VLOOKUP(C130,$C$14:$Y$21,4,FALSE))=TRUE,0,IF(VLOOKUP(C130,$C$14:$Y$21,22,FALSE)=0,\"\",IF(VLOOKUP(C130,$C$14:$Y$21,22,FALSE)=99,99,IF(VLOOKUP(C130,$C$14:$Y$21,22,FALSE)=98,98,IF(VLOOKUP(C130,$C$14:$Y$21,22,FALSE)=96,96,VLOOKUP(C130,$C$14:$Y$21,4,FALSE))))))","v":0},0,0,0,null,2,0,0,null,null,null,0,null,null,null,0]
[null,null,3,null,3,0,0,0,0,null,3,0,0,null,null,null,0,null,null,null,0]
[null,null,4,null,4,0,0,0,0,null,4,0,0,null,null,null,0,null,null,null,0]
[null,null,5,null,5,0,0,0,0,null,5,0,0,null,null,null,0,null,null,null,0]
[null,null,6,null,6,0,0,0,0,null,6,0,0,null,null,null,0,null,null,null,0,null,"REFEREE'S SIGNATURE"]
[null,null,7,null,7,0,0,0,0,null,7,0,0,null,null,null,0,null,null,null,0]
[null,null,8,null,8,0,0,0,0,null,8,0,0,null,null,null,0,null,null,null,0]
["F7",null,null,null,"UK ATHLETICS: DISTANCE CARD"]
[{"$f":"VLOOKUP(A137,eventno,5,FALSE)","v":"F"},null,null,null,"MEETING ",null,{"$f":"CONCATENATE(MatchDay!$C$3,\"/\",MatchDay!$I$3)","v":"Northern Premier East/Northern 1 SE"},null,"VENUE ",null,null,{"$f":"MatchDay!$C$7","v":"Thornes Park Stadium, Wakefield"},null,null,null,null,null,"DATE ",null,{"$f":"MatchDay!$C$5","v":"Sunday 8th May 2011"}]
[{"$f":"IF(A138=\"M\",VLOOKUP(A137,males,15,FALSE),VLOOKUP(A137,females,15,FALSE))","v":43},null,null,null,"EVENT",null,{"$f":"CONCATENATE(A137,\" \",VLOOKUP(A137,eventno,4,FALSE))","v":"F7 U17W Long Jump"},null,"TIME",null,null,{"$f":"VLOOKUP(A137,eventno,12,FALSE)","v":"12:15:00"},null,"Record",null,{"$f":"VLOOKUP(A137,eventno,7,FALSE)","v":6.15},null,"Duty",null,{"$f":"VLOOKUP(VLOOKUP(A137,eventno,13,FALSE),teamorder2,3,FALSE)","v":"2DASH"}]
[null,null,null,null,"Order","No","NAME","CLUB","1st Trial",null,"2nd Trial",null,"3rd Trial",null,"Best of 3",null,"Position after\n3 Trials","4th Trial",null,"5th Trial",null,"6th Trial",null,"Best of All",null,"Final\nPositionn","A or B"]
[{"$f":"VLOOKUP(A137,eventno,6,FALSE)","v":0},null,null,null,null,null,null,null,"Metres",null,"Metres",null,"Metres",null,"Metres",null,null,"Metres",null,"Metres",null,"Metres",null,"Metres",null,null,null,"A","B"]
[1,{"$f":"IF(OR(A142=0,A142=\"\"),\"\",VLOOKUP(A142,teamorder,2,FALSE))","v":9},{"$f":"Q142","v":0},null,1,{"$f":"IF(B142=0,\"\",B142)","v":9},{"$f":"IF(OR(F142=0,F142=\"\"),\"\",IF(A138=\"F\",HLOOKUP(F142,females,A139,FALSE),IF(A138=\"M\",HLOOKUP(F142,males,A139,FALSE),\"\")))","v":"Grace Eyles"},{"$f":"IF(OR(F142=0,F142=\"\"),\"\",VLOOKUP(F142,match_teams,4,FALSE))","v":"Wake"},0,null,0,null,0,null,{"$f":"IF(AND(T(I142)<>\"\",T(K142)<>\"\",T(M142)<>\"\"),0,LARGE(I142:N142,1))","v":0},null,{"$f":"IF(OR(O142=\"\",O142=0),0,RANK(O142,$O$14:$P$21,0))","v":0},0,null,0,null,0,null,{"$f":"IF(AND(T(R142)<>\"\",T(T142)<>\"\",T(V142)<>\"\"),0,IF(O142>LARGE(R142:W142,1),O142,LARGE(R142:W142,1)))","v":0},null,{"$f":"IF(OR(X142=\"\",X142=0),0,RANK(X142,$X$14:$Y$29,0))","v":0},{"$f":"IF(X142=P139,\"LR=\",IF(X142>P139,\"LR\",\"\"))","v":""}]
[2,{"$f":"IF(OR(A143=0,A143=\"\"),\"\",VLOOKUP(A143,teamorder,2,FALSE))","v":8},{"$f":"Q143","v":0},null,2,8,{"$f":"IF(OR(F143=0,F143=\"\"),\"\",IF(A138=\"F\",HLOOKUP(F143,females,A139,FALSE),IF(A138=\"M\",HLOOKUP(F143,males,A139,FALSE),\"\")))","v":"Olivia Swain"},"York",0,null,0,null,0,null,{"$f":"IF(AND(T(I143)<>\"\",T(K143)<>\"\",T(M143)<>\"\"),0,LARGE(I143:N143,1))","v":0},null,0,0,null,0,null,0,null,{"$f":"IF(AND(T(R143)<>\"\",T(T143)<>\"\",T(V143)<>\"\"),0,IF(O143>LARGE(R143:W143,1),O143,LARGE(R143:W143,1)))","v":0},null,0,{"$f":"IF(X143=P139,\"LR=\",IF(X143>P139,\"LR\",\"\"))","v":""}]
[3,{"$f":"IF(OR(A144=0,A144=\"\"),\"\",VLOOKUP(A144,teamorder,2,FALSE))","v":7},0,null,3,7,{"$f":"IF(OR(F144=0,F144=\"\"),\"\",IF(A138=\"F\",HLOOKUP(F144,females,A139,FALSE),IF(A138=\"M\",HLOOKUP(F144,males,A139,FALSE),\"\")))","v":"Amena Abdelaziz"},"Leeds C",0,null,0,null,0,null,0,null,0,0,null,0,null,0,null,0,null,0,{"$f":"IF(X144=P139,\"LR=\",IF(X144>P139,\"LR\",\"\"))","v":""}]
[null,{"$f":"IF(T(B142)=\"\",B142*11,CONCATENATE(B142,B142))","v":99},0,null,4,99,{"$f":"IF(OR(F145=0,F145=\"\"),\"\",IF(A138=\"F\",HLOOKUP(F145,females,A139,FALSE),IF(A138=\"M\",HLOOKUP(F145,males,A139,FALSE),\"\")))","v":"Leanne Barraclough"},"Wake",0,null,0,null,0,null,0,null,0,0,null,0,null,0,null,0,null,0,{"$f":"IF(X145=P139,\"LR=\",IF(X145>P139,\"LR\",\"\"))","v":""}]
[null,{"$f":"IF(T(B143)=\"\",B143*11,CONCATENATE(B143,B143))","v":88},0,null,5,88,{"$f":"IF(OR(F146=0,F146=\"\"),\"\",IF(A138=\"F\",HLOOKUP(F146,females,A139,FALSE),IF(A138=\"M\",HLOOKUP(F146,males,A139,FALSE),\"\")))","v":"Kate Harris"},"York",0,null,0,null,0,null,0,null,0,0,null,0,null,0,null,0,null,0,{"$f":"IF(X146=P139,\"LR=\",IF(X146>P139,\"LR\",\"\"))","v":""}]
[null,{"$f":"IF(T(B144)=\"\",B144*11,CONCATENATE(B144,B144))","v":77},0,null,6,77,{"$f":"IF(OR(F147=0,F147=\"\"),\"\",IF(A138=\"F\",HLOOKUP(F147,females,A139,FALSE),IF(A138=\"M\",HLOOKUP(F147,males,A139,FALSE),\"\")))","v":"Melody Peterson"},"Leeds C",0,null,0,null,0,null,0,null,0,0,null,0,null,0,null,0,null,0,{"$f":"IF(X147=P139,\"LR=\",IF(X147>P139,\"LR\",\"\"))","v":""}]
[null,null,0,null,7,"",{"$f":"IF(OR(F148=0,F148=\"\"),\"\",IF(A138=\"F\",HLOOKUP(F148,females,A139,FALSE),IF(A138=\"M\",HLOOKUP(F148,males,A139,FALSE),\"\")))","v":""},"",0,null,0,null,0,null,0,null,0,0,null,0,null,0,null,0,null,0,{"$f":"IF(X148=P139,\"LR=\",IF(X148>P139,\"LR\",\"\"))","v":""}]
[null,null,0,null,8,"",{"$f":"IF(OR(F149=0,F149=\"\"),\"\",IF(A138=\"F\",HLOOKUP(F149,females,A139,FALSE),IF(A138=\"M\",HLOOKUP(F149,males,A139,FALSE),\"\")))","v":""},"",0,null,0,null,0,null,0,null,0,0,null,0,null,0,null,0,null,0,{"$f":"IF(X149=P139,\"LR=\",IF(X149>P139,\"LR\",\"\"))","v":""}]
[{"$f":"A142+3","v":4},{"$f":"IF(OR(A150=0,A150=\"\"),\"\",VLOOKUP(A150,teamorder2,2,FALSE))","v":1},null,{"$f":"Q150","v":0},1,1,{"$f":"IF(OR(F150=0,F150=\"\"),\"\",IF(A138=\"F\",HLOOKUP(F150,females2,A139,FALSE),IF(A138=\"M\",HLOOKUP(F150,males2,A139,FALSE),\"\")))","v":"-"},{"$f":"IF(OR(F150=0,F150=\"\"),\"\",VLOOKUP(F150,match_teams2,4,FALSE))","v":"DASH"},0,null,0,null,0,null,0,null,{"$f":"IF(OR(O150=\"\",O150=0),0,RANK(O150,$O$22:$P$29,0))","v":0},0,null,0,null,0,null,0,null,0,{"$f":"IF(X150=P139,\"LR=\",IF(X150>P139,\"LR\",\"\"))","v":""}]
[{"$f":"A143+3","v":5},{"$f":"IF(OR(A151=0,A151=\"\"),\"\",VLOOKUP(A151,teamorder2,2,FALSE))","v":2},null,{"$f":"Q151","v":0},2,2,{"$f":"IF(OR(F151=0,F151=\"\"),\"\",IF(A138=\"F\",HLOOKUP(F151,females2,A139,FALSE),IF(A138=\"M\",HLOOKUP(F151,males2,A139,FALSE),\"\")))","v":"Sydney Cherrie"},"Linc W",0,null,0,null,0,null,0,null,0,0,null,0,null,0,null,0,null,0,{"$f":"IF(X151=P139,\"LR=\",IF(X151>P139,\"LR\",\"\"))","v":""}]
[{"$f":"A144+3","v":6},{"$f":"IF(OR(A152=0,A152=\"\"),\"\",VLOOKUP(A152,teamorder2,2,FALSE))","v":3},null,0,3,3,{"$f":"IF(OR(F152=0,F152=\"\"),\"\",IF(A138=\"F\",HLOOKUP(F152,females2,A139,FALSE),IF(A138=\"M\",HLOOKUP(F152,males2,A139,FALSE),\"\")))","v":"-"},"Hallam",0,null,0,null,0,null,0,null,0,0,null,0,null,0,null,0,null,0,{"$f":"IF(X152=P139,\"LR=\",IF(X152>P139,\"LR\",\"\"))","v":""}]
[null,{"$f":"IF(T(B150)=\"\",B150*11,CONCATENATE(B150,B150))","v":11},null,0,4,11,{"$f":"IF(OR(F153=0,F153=\"\"),\"\",IF(A138=\"F\",HLOOKUP(F153,females2,A139,FALSE),IF(A138=\"M\",HLOOKUP(F153,males2,A139,FALSE),\"\")))","v":"-"},"DASH",0,null,0,null,0,null,0,null,0,0,null,0,null,0,null,0,null,0,{"$f":"IF(X153=P139,\"LR=\",IF(X153>P139,\"LR\",\"\"))","v":""}]
[null,{"$f":"IF(T(B151)=\"\",B151*11,CONCATENATE(B151,B151))","v":22},null,0,5,22,{"$f":"IF(OR(F154=0,F154=\"\"),\"\",IF(A138=\"F\",HLOOKUP(F154,females2,A139,FALSE),IF(A138=\"M\",HLOOKUP(F154,males2,A139,FALSE),\"\")))","v":"-"},"Linc W",0,null,0,null,0,null,0,null,0,0,null,0,null,0,null,0,null,0,{"$f":"IF(X154=P139,\"LR=\",IF(X154>P139,\"LR\",\"\"))","v":""}]
[null,{"$f":"IF(T(B152)=\"\",B152*11,CONCATENATE(B152,B152))","v":33},null,0,6,33,{"$f":"IF(OR(F155=0,F155=\"\"),\"\",IF(A138=\"F\",HLOOKUP(F155,females2,A139,FALSE),IF(A138=\"M\",HLOOKUP(F155,males2,A139,FALSE),\"\")))","v":"-"},"Hallam",0,null,0,null,0,null,0,null,0,0,null,0,null,0,null,0,null,0,{"$f":"IF(X155=P139,\"LR=\",IF(X155>P139,\"LR\",\"\"))","v":""}]
[null,0,null,0,7,"",{"$f":"IF(OR(F156=0,F156=\"\"),\"\",IF(A138=\"F\",HLOOKUP(F156,females2,A139,FALSE),IF(A138=\"M\",HLOOKUP(F156,males2,A139,FALSE),\"\")))","v":""},"",0,null,0,null,0,null,0,null,0,0,null,0,null,0,null,0,null,0,{"$f":"IF(X156=P139,\"LR=\",IF(X156>P139,\"LR\",\"\"))","v":""}]
[null,0,null,0,8,"",{"$f":"IF(OR(F157=0,F157=\"\"),\"\",IF(A138=\"F\",HLOOKUP(F157,females2,A139,FALSE),IF(A138=\"M\",HLOOKUP(F157,males2,A139,FALSE),\"\")))","v":""},"",0,null,0,null,0,null,0,null,0,0,null,0,null,0,null,0,null,0,{"$f":"IF(X157=P139,\"LR=\",IF(X157>P139,\"LR\",\"\"))","v":""}]
[]
[null,null,null,null,"MATCH 1 RESULT",null,null,null,null,null,"MATCH 2 RESULT",null,null,null,null,null,null,null,null,null,null,null,"JUDGES' SIGNATURES"]
[null,null,null,null,null,"No.","NAME","CLUB","DISTANCE",null,null,"No.","NAME",null,null,null,"CLUB",null,null,null,"DISTANCE"]
[null,null,1,null,1,{"$f":"IF(ISERROR(VLOOKUP(C161,$C$14:$Y$21,4,FALSE))=TRUE,0,IF(VLOOKUP(C161,$C$14:$Y$21,22,FALSE)=0,0,IF(VLOOKUP(C161,$C$14:$Y$21,22,FALSE)=99,99,IF(VLOOKUP(C161,$C$14:$Y$21,22,FALSE)=98,98,IF(VLOOKUP(C161,$C$14:$Y$21,22,FALSE)=96,96,IF(VLOOKUP(C161,$C$14:$Y$21,22,FALSE)=95,95,VLOOKUP(C161,$C$14:$Y$21,4,FALSE)))))))","v":0},{"$f":"IF(ISERROR(VLOOKUP(C161,$C$14:$Y$21,4,FALSE))=TRUE,0,VLOOKUP(C161,$C$14:$Y$21,5,FALSE))","v":0},{"$f":"IF(ISERROR(VLOOKUP(C161,$C$14:$Y$21,4,FALSE))=TRUE,0,VLOOKUP(C161,$C$14:$Y$21,6,FALSE))","v":0},{"$f":"IF(ISERROR(VLOOKUP(C161,$C$14:$Y$21,4,FALSE))=TRUE,0,IF(VLOOKUP(C161,$C$14:$Y$21,22,FALSE)=0,\"\",IF(VLOOKUP(C161,$C$14:$Y$21,22,FALSE)>95.99,\"\",VLOOKUP(C161,$C$14:$Y$21,22,FALSE))))","v":0},null,1,{"$f":"IF(ISERROR(VLOOKUP(C161,$D$22:$Y$29,4,FALSE))=TRUE,0,IF(VLOOKUP(C161,D$22:Y$29,21,FALSE)=0,\"\",VLOOKUP(C161,D$22:Y$29,3,FALSE)))","v":0},{"$f":"IF(ISERROR(VLOOKUP(C161,$D$22:$Y$29,4,FALSE))=TRUE,0,VLOOKUP(C161,D$22:Y$29,4,FALSE))","v":0},null,null,null,{"$f":"IF(ISERROR(VLOOKUP(C161,$D$22:$Y$29,4,FALSE))=TRUE,0,VLOOKUP(C161,$D$22:$Y$29,5,FALSE))","v":0},null,null,null,{"$f":"IF(ISERROR(VLOOKUP(C161,$D$22:$Y$29,3,FALSE))=TRUE,0,IF(VLOOKUP(C161,$D$22:$Y$29,21,FALSE)=0,\"\",VLOOKUP(C161,$D$22:$Y$29,21,FALSE)))","v":0}]
[null,null,2,null,2,{"$f":"IF(ISERROR(VLOOKUP(C162,$C$14:$Y$21,4,FALSE))=TRUE,0,IF(VLOOKUP(C162,$C$14:$Y$21,22,FALSE)=0,\"\",IF(VLOOKUP(C162,$C$14:$Y$21,22,FALSE)=99,99,IF(VLOOKUP(C162,$C$14:$Y$21,22,FALSE)=98,98,IF(VLOOKUP(C162,$C$14:$Y$21,22,FALSE)=96,96,VLOOKUP(C162,$C$14:$Y$21,4,FALSE))))))","v":0},0,0,0,null,2,0,0,null,null,null,0,null,null,null,0]
[null,null,3,null,3,0,0,0,0,null,3,0,0,null,null,null,0,null,null,null,0]
[null,null,4,null,4,0,0,0,0,null,4,0,0,null,null,null,0,null,null,null,0]
[null,null,5,null,5,0,0,0,0,null,5,0,0,null,null,null,0,null,null,null,0]
[null,null,6,null,6,0,0,0,0,null,6,0,0,null,null,null,0,null,null,null,0,null,"REFEREE'S SIGNATURE"]
[null,null,7,null,7,0,0,0,0,null,7,0,0,null,null,null,0,null,null,null,0]
[null,null,8,null,8,0,0,0,0,null,8,0,0,null,null,null,0,null,null,null,0]
["F8",null,null,null,"UK ATHLETICS: DISTANCE CARD"]
[{"$f":"VLOOKUP(A169,eventno,5,FALSE)","v":"M"},null,null,null,"MEETING ",null,{"$f":"CONCATENATE(MatchDay!$C$3,\"/\",MatchDay!$I$3)","v":"Northern Premier East/Northern 1 SE"},null,"VENUE ",null,null,{"$f":"MatchDay!$C$7","v":"Thornes Park Stadium, Wakefield"},null,null,null,null,null,"DATE ",null,{"$f":"MatchDay!$C$5","v":"Sunday 8th May 2011"}]
[{"$f":"IF(A170=\"M\",VLOOKUP(A169,males,15,FALSE),VLOOKUP(A169,females,15,FALSE))","v":37},null,null,null,"EVENT",null,{"$f":"CONCATENATE(A169,\" \",VLOOKUP(A169,eventno,4,FALSE))","v":"F8 U15B Shot"},null,"TIME",null,null,{"$f":"VLOOKUP(A169,eventno,12,FALSE)","v":"12:30:00"},null,"Record",null,{"$f":"VLOOKUP(A169,eventno,7,FALSE)","v":18.5},null,"Duty",null,{"$f":"VLOOKUP(VLOOKUP(A169,eventno,13,FALSE),teamorder2,3,FALSE)","v":"Lincoln Wellington"}]
[null,null,null,null,"Order","No","NAME","CLUB","1st Trial",null,"2nd Trial",null,"3rd Trial",null,"Best of 3",null,"Position after\n3 Trials","4th Trial",null,"5th Trial",null,"6th Trial",null,"Best of All",null,"Final\nPositionn","A or B"]
[{"$f":"VLOOKUP(A169,eventno,6,FALSE)","v":0},null,null,null,null,null,null,null,"Metres",null,"Metres",null,"Metres",null,"Metres",null,null,"Metres",null,"Metres",null,"Metres",null,"Metres",null,null,null,"A","B"]
[2,{"$f":"IF(OR(A174=0,A174=\"\"),\"\",VLOOKUP(A174,teamorder,2,FALSE))","v":8},{"$f":"Q174","v":0},null,1,{"$f":"IF(B174=0,\"\",B174)","v":8},{"$f":"IF(OR(F174=0,F174=\"\"),\"\",IF(A170=\"F\",HLOOKUP(F174,females,A171,FALSE),IF(A170=\"M\",HLOOKUP(F174,males,A171,FALSE),\"\")))","v":"Jonny Swain"},{"$f":"IF(OR(F174=0,F174=\"\"),\"\",VLOOKUP(F174,match_teams,4,FALSE))","v":"York"},0,null,0,null,0,null,{"$f":"IF(AND(T(I174)<>\"\",T(K174)<>\"\",T(M174)<>\"\"),0,LARGE(I174:N174,1))","v":0},null,{"$f":"IF(OR(O174=\"\",O174=0),0,RANK(O174,$O$14:$P$21,0))","v":0},0,null,0,null,0,null,{"$f":"IF(AND(T(R174)<>\"\",T(T174)<>\"\",T(V174)<>\"\"),0,IF(O174>LARGE(R174:W174,1),O174,LARGE(R174:W174,1)))","v":0},null,{"$f":"IF(OR(X174=\"\",X174=0),0,RANK(X174,$X$14:$Y$29,0))","v":0},{"$f":"IF(X174=P171,\"LR=\",IF(X174>P171,\"LR\",\"\"))","v":""}]
[3,{"$f":"IF(OR(A175=0,A175=\"\"),\"\",VLOOKUP(A175,teamorder,2,FALSE))","v":7},{"$f":"Q175","v":0},null,2,7,{"$f":"IF(OR(F175=0,F175=\"\"),\"\",IF(A170=\"F\",HLOOKUP(F175,females,A171,FALSE),IF(A170=\"M\",HLOOKUP(F175,males,A171,FALSE),\"\")))","v":"Harris Hameed"},"Leeds C",0,null,0,null,0,null,{"$f":"IF(AND(T(I175)<>\"\",T(K175)<>\"\",T(M175)<>\"\"),0,LARGE(I175:N175,1))","v":0},null,0,0,null,0,null,0,null,{"$f":"IF(AND(T(R175)<>\"\",T(T175)<>\"\",T(V175)<>\"\"),0,IF(O175>LARGE(R175:W175,1),O175,LARGE(R175:W175,1)))","v":0},null,0,{"$f":"IF(X175=P171,\"LR=\",IF(X175>P171,\"LR\",\"\"))","v":""}]
[1,{"$f":"IF(OR(A176=0,A176=\"\"),\"\",VLOOKUP(A176,teamorder,2,FALSE))","v":9},0,null,3,9,{"$f":"IF(OR(F176=0,F176=\"\"),\"\",IF(A170=\"F\",HLOOKUP(F176,females,A171,FALSE),IF(A170=\"M\",HLOOKUP(F176,males,A171,FALSE),\"\")))","v":"William Ingram"},"Wake",0,null,0,null,0,null,0,null,0,0,null,0,null,0,null,0,null,0,{"$f":"IF(X176=P171,\"LR=\",IF(X176>P171,\"LR\",\"\"))","v":""}]
[null,{"$f":"IF(T(B174)=\"\",B174*11,CONCATENATE(B174,B174))","v":88},0,null,4,88,{"$f":"IF(OR(F177=0,F177=\"\"),\"\",IF(A170=\"F\",HLOOKUP(F177,females,A171,FALSE),IF(A170=\"M\",HLOOKUP(F177,males,A171,FALSE),\"\")))","v":"Matthew Richardson"},"York",0,null,0,null,0,null,0,null,0,0,null,0,null,0,null,0,null,0,{"$f":"IF(X177=P171,\"LR=\",IF(X177>P171,\"LR\",\"\"))","v":""}]
[null,{"$f":"IF(T(B175)=\"\",B175*11,CONCATENATE(B175,B175))","v":77},0,null,5,77,{"$f":"IF(OR(F178=0,F178=\"\"),\"\",IF(A170=\"F\",HLOOKUP(F178,females,A171,FALSE),IF(A170=\"M\",HLOOKUP(F178,males,A171,FALSE),\"\")))","v":"Thomas Harrison"},"Leeds C",0,null,0,null,0,null,0,null,0,0,null,0,null,0,null,0,null,0,{"$f":"IF(X178=P171,\"LR=\",IF(X178>P171,\"LR\",\"\"))","v":""}]
[null,{"$f":"IF(T(B176)=\"\",B176*11,CONCATENATE(B176,B176))","v":99},0,null,6,99,{"$f":"IF(OR(F179=0,F179=\"\"),\"\",IF(A170=\"F\",HLOOKUP(F179,females,A171,FALSE),IF(A170=\"M\",HLOOKUP(F179,males,A171,FALSE),\"\")))","v":"Adam Lofthouse"},"Wake",0,null,0,null,0,null,0,null,0,0,null,0,null,0,null,0,null,0,{"$f":"IF(X179=P171,\"LR=\",IF(X179>P171,\"LR\",\"\"))","v":""}]
[null,null,0,null,7,"",{"$f":"IF(OR(F180=0,F180=\"\"),\"\",IF(A170=\"F\",HLOOKUP(F180,females,A171,FALSE),IF(A170=\"M\",HLOOKUP(F180,males,A171,FALSE),\"\")))","v":""},"",0,null,0,null,0,null,0,null,0,0,null,0,null,0,null,0,null,0,{"$f":"IF(X180=P171,\"LR=\",IF(X180>P171,\"LR\",\"\"))","v":""}]
[null,null,0,null,8,"",{"$f":"IF(OR(F181=0,F181=\"\"),\"\",IF(A170=\"F\",HLOOKUP(F181,females,A171,FALSE),IF(A170=\"M\",HLOOKUP(F181,males,A171,FALSE),\"\")))","v":""},"",0,null,0,null,0,null,0,null,0,0,null,0,null,0,null,0,null,0,{"$f":"IF(X181=P171,\"LR=\",IF(X181>P171,\"LR\",\"\"))","v":""}]
[{"$f":"A174+3","v":5},{"$f":"IF(OR(A182=0,A182=\"\"),\"\",VLOOKUP(A182,teamorder2,2,FALSE))","v":2},null,{"$f":"Q182","v":0},1,2,{"$f":"IF(OR(F182=0,F182=\"\"),\"\",IF(A170=\"F\",HLOOKUP(F182,females2,A171,FALSE),IF(A170=\"M\",HLOOKUP(F182,males2,A171,FALSE),\"\")))","v":"Daniel Flemming"},{"$f":"IF(OR(F182=0,F182=\"\"),\"\",VLOOKUP(F182,match_teams2,4,FALSE))","v":"Linc W"},0,null,0,null,0,null,0,null,{"$f":"IF(OR(O182=\"\",O182=0),0,RANK(O182,$O$22:$P$29,0))","v":0},0,null,0,null,0,null,0,null,0,{"$f":"IF(X182=P171,\"LR=\",IF(X182>P171,\"LR\",\"\"))","v":""}]
[{"$f":"A175+3","v":6},{"$f":"IF(OR(A183=0,A183=\"\"),\"\",VLOOKUP(A183,teamorder2,2,FALSE))","v":3},null,{"$f":"Q183","v":0},2,3,{"$f":"IF(OR(F183=0,F183=\"\"),\"\",IF(A170=\"F\",HLOOKUP(F183,females2,A171,FALSE),IF(A170=\"M\",HLOOKUP(F183,males2,A171,FALSE),\"\")))","v":"Jack Jones"},"Hallam",0,null,0,null,0,null,0,null,0,0,null,0,null,0,null,0,null,0,{"$f":"IF(X183=P171,\"LR=\",IF(X183>P171,\"LR\",\"\"))","v":""}]
[{"$f":"A176+3","v":4},{"$f":"IF(OR(A184=0,A184=\"\"),\"\",VLOOKUP(A184,teamorder2,2,FALSE))","v":1},null,0,3,1,{"$f":"IF(OR(F184=0,F184=\"\"),\"\",IF(A170=\"F\",HLOOKUP(F184,females2,A171,FALSE),IF(A170=\"M\",HLOOKUP(F184,males2,A171,FALSE),\"\")))","v":"Daniel Salt"},"DASH",0,null,0,null,0,null,0,null,0,0,null,0,null,0,null,0,null,0,{"$f":"IF(X184=P171,\"LR=\",IF(X184>P171,\"LR\",\"\"))","v":""}]
[null,{"$f":"IF(T(B182)=\"\",B182*11,CONCATENATE(B182,B182))","v":22},null,0,4,22,{"$f":"IF(OR(F185=0,F185=\"\"),\"\",IF(A170=\"F\",HLOOKUP(F185,females2,A171,FALSE),IF(A170=\"M\",HLOOKUP(F185,males2,A171,FALSE),\"\")))","v":"Daniel Skinner"},"Linc W",0,null,0,null,0,null,0,null,0,0,null,0,null,0,null,0,null,0,{"$f":"IF(X185=P171,\"LR=\",IF(X185>P171,\"LR\",\"\"))","v":""}]
[null,{"$f":"IF(T(B183)=\"\",B183*11,CONCATENATE(B183,B183))","v":33},null,0,5,33,{"$f":"IF(OR(F186=0,F186=\"\"),\"\",IF(A170=\"F\",HLOOKUP(F186,females2,A171,FALSE),IF(A170=\"M\",HLOOKUP(F186,males2,A171,FALSE),\"\")))","v":"OscarBryce"},"Hallam",0,null,0,null,0,null,0,null,0,0,null,0,null,0,null,0,null,0,{"$f":"IF(X186=P171,\"LR=\",IF(X186>P171,\"LR\",\"\"))","v":""}]
[null,{"$f":"IF(T(B184)=\"\",B184*11,CONCATENATE(B184,B184))","v":11},null,0,6,11,{"$f":"IF(OR(F187=0,F187=\"\"),\"\",IF(A170=\"F\",HLOOKUP(F187,females2,A171,FALSE),IF(A170=\"M\",HLOOKUP(F187,males2,A171,FALSE),\"\")))","v":"-"},"DASH",0,null,0,null,0,null,0,null,0,0,null,0,null,0,null,0,null,0,{"$f":"IF(X187=P171,\"LR=\",IF(X187>P171,\"LR\",\"\"))","v":""}]
[null,0,null,0,7,"",{"$f":"IF(OR(F188=0,F188=\"\"),\"\",IF(A170=\"F\",HLOOKUP(F188,females2,A171,FALSE),IF(A170=\"M\",HLOOKUP(F188,males2,A171,FALSE),\"\")))","v":""},"",0,null,0,null,0,null,0,null,0,0,null,0,null,0,null,0,null,0,{"$f":"IF(X188=P171,\"LR=\",IF(X188>P171,\"LR\",\"\"))","v":""}]
[null,0,null,0,8,"",{"$f":"IF(OR(F189=0,F189=\"\"),\"\",IF(A170=\"F\",HLOOKUP(F189,females2,A171,FALSE),IF(A170=\"M\",HLOOKUP(F189,males2,A171,FALSE),\"\")))","v":""},"",0,null,0,null,0,null,0,null,0,0,null,0,null,0,null,0,null,0,{"$f":"IF(X189=P171,\"LR=\",IF(X189>P171,\"LR\",\"\"))","v":""}]
[]
[null,null,null,null,"MATCH 1 RESULT",null,null,null,null,null,"MATCH 2 RESULT",null,null,null,null,null,null,null,null,null,null,null,"JUDGES' SIGNATURES"]
[null,null,null,null,null,"No.","NAME","CLUB","DISTANCE",null,null,"No.","NAME",null,null,null,"CLUB",null,null,null,"DISTANCE"]
[null,null,1,null,1,{"$f":"IF(ISERROR(VLOOKUP(C193,$C$14:$Y$21,4,FALSE))=TRUE,0,IF(VLOOKUP(C193,$C$14:$Y$21,22,FALSE)=0,0,IF(VLOOKUP(C193,$C$14:$Y$21,22,FALSE)=99,99,IF(VLOOKUP(C193,$C$14:$Y$21,22,FALSE)=98,98,IF(VLOOKUP(C193,$C$14:$Y$21,22,FALSE)=96,96,IF(VLOOKUP(C193,$C$14:$Y$21,22,FALSE)=95,95,VLOOKUP(C193,$C$14:$Y$21,4,FALSE)))))))","v":0},{"$f":"IF(ISERROR(VLOOKUP(C193,$C$14:$Y$21,4,FALSE))=TRUE,0,VLOOKUP(C193,$C$14:$Y$21,5,FALSE))","v":0},{"$f":"IF(ISERROR(VLOOKUP(C193,$C$14:$Y$21,4,FALSE))=TRUE,0,VLOOKUP(C193,$C$14:$Y$21,6,FALSE))","v":0},{"$f":"IF(ISERROR(VLOOKUP(C193,$C$14:$Y$21,4,FALSE))=TRUE,0,IF(VLOOKUP(C193,$C$14:$Y$21,22,FALSE)=0,\"\",IF(VLOOKUP(C193,$C$14:$Y$21,22,FALSE)>95.99,\"\",VLOOKUP(C193,$C$14:$Y$21,22,FALSE))))","v":0},null,1,{"$f":"IF(ISERROR(VLOOKUP(C193,$D$22:$Y$29,4,FALSE))=TRUE,0,IF(VLOOKUP(C193,D$22:Y$29,21,FALSE)=0,\"\",VLOOKUP(C193,D$22:Y$29,3,FALSE)))","v":0},{"$f":"IF(ISERROR(VLOOKUP(C193,$D$22:$Y$29,4,FALSE))=TRUE,0,VLOOKUP(C193,D$22:Y$29,4,FALSE))","v":0},null,null,null,{"$f":"IF(ISERROR(VLOOKUP(C193,$D$22:$Y$29,4,FALSE))=TRUE,0,VLOOKUP(C193,$D$22:$Y$29,5,FALSE))","v":0},null,null,null,{"$f":"IF(ISERROR(VLOOKUP(C193,$D$22:$Y$29,3,FALSE))=TRUE,0,IF(VLOOKUP(C193,$D$22:$Y$29,21,FALSE)=0,\"\",VLOOKUP(C193,$D$22:$Y$29,21,FALSE)))","v":0}]
[null,null,2,null,2,{"$f":"IF(ISERROR(VLOOKUP(C194,$C$14:$Y$21,4,FALSE))=TRUE,0,IF(VLOOKUP(C194,$C$14:$Y$21,22,FALSE)=0,\"\",IF(VLOOKUP(C194,$C$14:$Y$21,22,FALSE)=99,99,IF(VLOOKUP(C194,$C$14:$Y$21,22,FALSE)=98,98,IF(VLOOKUP(C194,$C$14:$Y$21,22,FALSE)=96,96,VLOOKUP(C194,$C$14:$Y$21,4,FALSE))))))","v":0},0,0,0,null,2,0,0,null,null,null,0,null,null,null,0]
[null,null,3,null,3,0,0,0,0,null,3,0,0,null,null,null,0,null,null,null,0]
[null,null,4,null,4,0,0,0,0,null,4,0,0,null,null,null,0,null,null,null,0]
[null,null,5,null,5,0,0,0,0,null,5,0,0,null,null,null,0,null,null,null,0]
[null,null,6,null,6,0,0,0,0,null,6,0,0,null,null,null,0,null,null,null,0,null,"REFEREE'S SIGNATURE"]
[null,null,7,null,7,0,0,0,0,null,7,0,0,null,null,null,0,null,null,null,0]
[null,null,8,null,8,0,0,0,0,null,8,0,0,null,null,null,0,null,null,null,0]
["F9",null,null,null,"UK ATHLETICS: DISTANCE CARD"]
[{"$f":"VLOOKUP(A201,eventno,5,FALSE)","v":"F"},null,null,null,"MEETING ",null,{"$f":"CONCATENATE(MatchDay!$C$3,\"/\",MatchDay!$I$3)","v":"Northern Premier East/Northern 1 SE"},null,"VENUE ",null,null,{"$f":"MatchDay!$C$7","v":"Thornes Park Stadium, Wakefield"},null,null,null,null,null,"DATE ",null,{"$f":"MatchDay!$C$5","v":"Sunday 8th May 2011"}]
[{"$f":"IF(A202=\"M\",VLOOKUP(A201,males,15,FALSE),VLOOKUP(A201,females,15,FALSE))","v":32},null,null,null,"EVENT",null,{"$f":"CONCATENATE(A201,\" \",VLOOKUP(A201,eventno,4,FALSE))","v":"F9 U13G Long Jump"},null,"TIME",null,null,{"$f":"VLOOKUP(A201,eventno,12,FALSE)","v":"13:00:00"},null,"Record",null,{"$f":"VLOOKUP(A201,eventno,7,FALSE)","v":5.35},null,"Duty",null,{"$f":"VLOOKUP(VLOOKUP(A201,eventno,13,FALSE),teamorder2,3,FALSE)","v":"Hallamshire Harr"}]
[null,null,null,null,"Order","No","NAME","CLUB","1st Trial",null,"2nd Trial",null,"3rd Trial",null,"Best of 3",null,"Position after\n3 Trials","4th Trial",null,"5th Trial",null,"6th Trial",null,"Best of All",null,"Final\nPositionn","A or B"]
[{"$f":"VLOOKUP(A201,eventno,6,FALSE)","v":0},null,null,null,null,null,null,null,"Metres",null,"Metres",null,"Metres",null,"Metres",null,null,"Metres",null,"Metres",null,"Metres",null,"Metres",null,null,null,"A","B"]
[3,{"$f":"IF(OR(A206=0,A206=\"\"),\"\",VLOOKUP(A206,teamorder,2,FALSE))","v":7},{"$f":"Q206","v":0},null,1,{"$f":"IF(B206=0,\"\",B206)","v":7},{"$f":"IF(OR(F206=0,F206=\"\"),\"\",IF(A202=\"F\",HLOOKUP(F206,females,A203,FALSE),IF(A202=\"M\",HLOOKUP(F206,males,A203,FALSE),\"\")))","v":"Millie Bradbury"},{"$f":"IF(OR(F206=0,F206=\"\"),\"\",VLOOKUP(F206,match_teams,4,FALSE))","v":"Leeds C"},0,null,0,null,0,null,{"$f":"IF(AND(T(I206)<>\"\",T(K206)<>\"\",T(M206)<>\"\"),0,LARGE(I206:N206,1))","v":0},null,{"$f":"IF(OR(O206=\"\",O206=0),0,RANK(O206,$O$14:$P$21,0))","v":0},0,null,0,null,0,null,{"$f":"IF(AND(T(R206)<>\"\",T(T206)<>\"\",T(V206)<>\"\"),0,IF(O206>LARGE(R206:W206,1),O206,LARGE(R206:W206,1)))","v":0},null,{"$f":"IF(OR(X206=\"\",X206=0),0,RANK(X206,$X$14:$Y$29,0))","v":0},{"$f":"IF(X206=P203,\"LR=\",IF(X206>P203,\"LR\",\"\"))","v":""}]
[1,{"$f":"IF(OR(A207=0,A207=\"\"),\"\",VLOOKUP(A207,teamorder,2,FALSE))","v":9},{"$f":"Q207","v":0},null,2,9,{"$f":"IF(OR(F207=0,F207=\"\"),\"\",IF(A202=\"F\",HLOOKUP(F207,females,A203,FALSE),IF(A202=\"M\",HLOOKUP(F207,males,A203,FALSE),\"\")))","v":"Jessica Matthews"},"Wake",0,null,0,null,0,null,{"$f":"IF(AND(T(I207)<>\"\",T(K207)<>\"\",T(M207)<>\"\"),0,LARGE(I207:N207,1))","v":0},null,0,0,null,0,null,0,null,{"$f":"IF(AND(T(R207)<>\"\",T(T207)<>\"\",T(V207)<>\"\"),0,IF(O207>LARGE(R207:W207,1),O207,LARGE(R207:W207,1)))","v":0},null,0,{"$f":"IF(X207=P203,\"LR=\",IF(X207>P203,\"LR\",\"\"))","v":""}]
[2,{"$f":"IF(OR(A208=0,A208=\"\"),\"\",VLOOKUP(A208,teamorder,2,FALSE))","v":8},0,null,3,8,{"$f":"IF(OR(F208=0,F208=\"\"),\"\",IF(A202=\"F\",HLOOKUP(F208,females,A203,FALSE),IF(A202=\"M\",HLOOKUP(F208,males,A203,FALSE),\"\")))","v":"Lucy Hadaway"},"York",0,null,0,null,0,null,0,null,0,0,null,0,null,0,null,0,null,0,{"$f":"IF(X208=P203,\"LR=\",IF(X208>P203,\"LR\",\"\"))","v":""}]
[null,{"$f":"IF(T(B206)=\"\",B206*11,CONCATENATE(B206,B206))","v":77},0,null,4,77,{"$f":"IF(OR(F209=0,F209=\"\"),\"\",IF(A202=\"F\",HLOOKUP(F209,females,A203,FALSE),IF(A202=\"M\",HLOOKUP(F209,males,A203,FALSE),\"\")))","v":"Megan Sanders"},"Leeds C",0,null,0,null,0,null,0,null,0,0,null,0,null,0,null,0,null,0,{"$f":"IF(X209=P203,\"LR=\",IF(X209>P203,\"LR\",\"\"))","v":""}]
[null,{"$f":"IF(T(B207)=\"\",B207*11,CONCATENATE(B207,B207))","v":99},0,null,5,99,{"$f":"IF(OR(F210=0,F210=\"\"),\"\",IF(A202=\"F\",HLOOKUP(F210,females,A203,FALSE),IF(A202=\"M\",HLOOKUP(F210,males,A203,FALSE),\"\")))","v":"Ella Liefeith"},"Wake",0,null,0,null,0,null,0,null,0,0,null,0,null,0,null,0,null,0,{"$f":"IF(X210=P203,\"LR=\",IF(X210>P203,\"LR\",\"\"))","v":""}]
[null,{"$f":"IF(T(B208)=\"\",B208*11,CONCATENATE(B208,B208))","v":88},0,null,6,88,{"$f":"IF(OR(F211=0,F211=\"\"),\"\",IF(A202=\"F\",HLOOKUP(F211,females,A203,FALSE),IF(A202=\"M\",HLOOKUP(F211,males,A203,FALSE),\"\")))","v":"Charlotte Stamp"},"York",0,null,0,null,0,null,0,null,0,0,null,0,null,0,null,0,null,0,{"$f":"IF(X211=P203,\"LR=\",IF(X211>P203,\"LR\",\"\"))","v":""}]
[null,null,0,null,7,"",{"$f":"IF(OR(F212=0,F212=\"\"),\"\",IF(A202=\"F\",HLOOKUP(F212,females,A203,FALSE),IF(A202=\"M\",HLOOKUP(F212,males,A203,FALSE),\"\")))","v":""},"",0,null,0,null,0,null,0,null,0,0,null,0,null,0,null,0,null,0,{"$f":"IF(X212=P203,\"LR=\",IF(X212>P203,\"LR\",\"\"))","v":""}]
[null,null,0,null,8,"",{"$f":"IF(OR(F213=0,F213=\"\"),\"\",IF(A202=\"F\",HLOOKUP(F213,females,A203,FALSE),IF(A202=\"M\",HLOOKUP(F213,males,A203,FALSE),\"\")))","v":""},"",0,null,0,null,0,null,0,null,0,0,null,0,null,0,null,0,null,0,{"$f":"IF(X213=P203,\"LR=\",IF(X213>P203,\"LR\",\"\"))","v":""}]
[{"$f":"A206+3","v":6},{"$f":"IF(OR(A214=0,A214=\"\"),\"\",VLOOKUP(A214,teamorder2,2,FALSE))","v":3},null,{"$f":"Q214","v":0},1,3,{"$f":"IF(OR(F214=0,F214=\"\"),\"\",IF(A202=\"F\",HLOOKUP(F214,females2,A203,FALSE),IF(A202=\"M\",HLOOKUP(F214,males2,A203,FALSE),\"\")))","v":"Gabby Craft"},{"$f":"IF(OR(F214=0,F214=\"\"),\"\",VLOOKUP(F214,match_teams2,4,FALSE))","v":"Hallam"},0,null,0,null,0,null,0,null,{"$f":"IF(OR(O214=\"\",O214=0),0,RANK(O214,$O$22:$P$29,0))","v":0},0,null,0,null,0,null,0,null,0,{"$f":"IF(X214=P203,\"LR=\",IF(X214>P203,\"LR\",\"\"))","v":""}]
[{"$f":"A207+3","v":4},{"$f":"IF(OR(A215=0,A215=\"\"),\"\",VLOOKUP(A215,teamorder2,2,FALSE))","v":1},null,{"$f":"Q215","v":0},2,1,{"$f":"IF(OR(F215=0,F215=\"\"),\"\",IF(A202=\"F\",HLOOKUP(F215,females2,A203,FALSE),IF(A202=\"M\",HLOOKUP(F215,males2,A203,FALSE),\"\")))","v":"Jessica Wragg"},"DASH",0,null,0,null,0,null,0,null,0,0,null,0,null,0,null,0,null,0,{"$f":"IF(X215=P203,\"LR=\",IF(X215>P203,\"LR\",\"\"))","v":""}]
[{"$f":"A208+3","v":5},{"$f":"IF(OR(A216=0,A216=\"\"),\"\",VLOOKUP(A216,teamorder2,2,FALSE))","v":2},null,0,3,2,{"$f":"IF(OR(F216=0,F216=\"\"),\"\",IF(A202=\"F\",HLOOKUP(F216,females2,A203,FALSE),IF(A202=\"M\",HLOOKUP(F216,males2,A203,FALSE),\"\")))","v":"Laura Wilkinson"},"Linc W",0,null,0,null,0,null,0,null,0,0,null,0,null,0,null,0,null,0,{"$f":"IF(X216=P203,\"LR=\",IF(X216>P203,\"LR\",\"\"))","v":""}]
[null,{"$f":"IF(T(B214)=\"\",B214*11,CONCATENATE(B214,B214))","v":33},null,0,4,33,{"$f":"IF(OR(F217=0,F217=\"\"),\"\",IF(A202=\"F\",HLOOKUP(F217,females2,A203,FALSE),IF(A202=\"M\",HLOOKUP(F217,males2,A203,FALSE),\"\")))","v":"Hannah Bellamy"},"Hallam",0,null,0,null,0,null,0,null,0,0,null,0,null,0,null,0,null,0,{"$f":"IF(X217=P203,\"LR=\",IF(X217>P203,\"LR\",\"\"))","v":""}]
[null,{"$f":"IF(T(B215)=\"\",B215*11,CONCATENATE(B215,B215))","v":11},null,0,5,11,{"$f":"IF(OR(F218=0,F218=\"\"),\"\",IF(A202=\"F\",HLOOKUP(F218,females2,A203,FALSE),IF(A202=\"M\",HLOOKUP(F218,males2,A203,FALSE),\"\")))","v":"Hope Leverette"},"DASH",0,null,0,null,0,null,0,null,0,0,null,0,null,0,null,0,null,0,{"$f":"IF(X218=P203,\"LR=\",IF(X218>P203,\"LR\",\"\"))","v":""}]
[null,{"$f":"IF(T(B216)=\"\",B216*11,CONCATENATE(B216,B216))","v":22},null,0,6,22,{"$f":"IF(OR(F219=0,F219=\"\"),\"\",IF(A202=\"F\",HLOOKUP(F219,females2,A203,FALSE),IF(A202=\"M\",HLOOKUP(F219,males2,A203,FALSE),\"\")))","v":"Clea Butcher"},"Linc W",0,null,0,null,0,null,0,null,0,0,null,0,null,0,null,0,null,0,{"$f":"IF(X219=P203,\"LR=\",IF(X219>P203,\"LR\",\"\"))","v":""}]
[null,0,null,0,7,"",{"$f":"IF(OR(F220=0,F220=\"\"),\"\",IF(A202=\"F\",HLOOKUP(F220,females2,A203,FALSE),IF(A202=\"M\",HLOOKUP(F220,males2,A203,FALSE),\"\")))","v":""},"",0,null,0,null,0,null,0,null,0,0,null,0,null,0,null,0,null,0,{"$f":"IF(X220=P203,\"LR=\",IF(X220>P203,\"LR\",\"\"))","v":""}]
[null,0,null,0,8,"",{"$f":"IF(OR(F221=0,F221=\"\"),\"\",IF(A202=\"F\",HLOOKUP(F221,females2,A203,FALSE),IF(A202=\"M\",HLOOKUP(F221,males2,A203,FALSE),\"\")))","v":""},"",0,null,0,null,0,null,0,null,0,0,null,0,null,0,null,0,null,0,{"$f":"IF(X221=P203,\"LR=\",IF(X221>P203,\"LR\",\"\"))","v":""}]
[]
[null,null,null,null,"MATCH 1 RESULT",null,null,null,null,null,"MATCH 2 RESULT",null,null,null,null,null,null,null,null,null,null,null,"JUDGES' SIGNATURES"]
[null,null,null,null,null,"No.","NAME","CLUB","DISTANCE",null,null,"No.","NAME",null,null,null,"CLUB",null,null,null,"DISTANCE"]
[null,null,1,null,1,{"$f":"IF(ISERROR(VLOOKUP(C225,$C$14:$Y$21,4,FALSE))=TRUE,0,IF(VLOOKUP(C225,$C$14:$Y$21,22,FALSE)=0,0,IF(VLOOKUP(C225,$C$14:$Y$21,22,FALSE)=99,99,IF(VLOOKUP(C225,$C$14:$Y$21,22,FALSE)=98,98,IF(VLOOKUP(C225,$C$14:$Y$21,22,FALSE)=96,96,IF(VLOOKUP(C225,$C$14:$Y$21,22,FALSE)=95,95,VLOOKUP(C225,$C$14:$Y$21,4,FALSE)))))))","v":0},{"$f":"IF(ISERROR(VLOOKUP(C225,$C$14:$Y$21,4,FALSE))=TRUE,0,VLOOKUP(C225,$C$14:$Y$21,5,FALSE))","v":0},{"$f":"IF(ISERROR(VLOOKUP(C225,$C$14:$Y$21,4,FALSE))=TRUE,0,VLOOKUP(C225,$C$14:$Y$21,6,FALSE))","v":0},{"$f":"IF(ISERROR(VLOOKUP(C225,$C$14:$Y$21,4,FALSE))=TRUE,0,IF(VLOOKUP(C225,$C$14:$Y$21,22,FALSE)=0,\"\",IF(VLOOKUP(C225,$C$14:$Y$21,22,FALSE)>95.99,\"\",VLOOKUP(C225,$C$14:$Y$21,22,FALSE))))","v":0},null,1,{"$f":"IF(ISERROR(VLOOKUP(C225,$D$22:$Y$29,4,FALSE))=TRUE,0,IF(VLOOKUP(C225,D$22:Y$29,21,FALSE)=0,\"\",VLOOKUP(C225,D$22:Y$29,3,FALSE)))","v":0},{"$f":"IF(ISERROR(VLOOKUP(C225,$D$22:$Y$29,4,FALSE))=TRUE,0,VLOOKUP(C225,D$22:Y$29,4,FALSE))","v":0},null,null,null,{"$f":"IF(ISERROR(VLOOKUP(C225,$D$22:$Y$29,4,FALSE))=TRUE,0,VLOOKUP(C225,$D$22:$Y$29,5,FALSE))","v":0},null,null,null,{"$f":"IF(ISERROR(VLOOKUP(C225,$D$22:$Y$29,3,FALSE))=TRUE,0,IF(VLOOKUP(C225,$D$22:$Y$29,21,FALSE)=0,\"\",VLOOKUP(C225,$D$22:$Y$29,21,FALSE)))","v":0}]
[null,null,2,null,2,{"$f":"IF(ISERROR(VLOOKUP(C226,$C$14:$Y$21,4,FALSE))=TRUE,0,IF(VLOOKUP(C226,$C$14:$Y$21,22,FALSE)=0,\"\",IF(VLOOKUP(C226,$C$14:$Y$21,22,FALSE)=99,99,IF(VLOOKUP(C226,$C$14:$Y$21,22,FALSE)=98,98,IF(VLOOKUP(C226,$C$14:$Y$21,22,FALSE)=96,96,VLOOKUP(C226,$C$14:$Y$21,4,FALSE))))))","v":0},0,0,0,null,2,0,0,null,null,null,0,null,null,null,0]
[null,null,3,null,3,0,0,0,0,null,3,0,0,null,null,null,0,null,null,null,0]
[null,null,4,null,4,0,0,0,0,null,4,0,0,null,null,null,0,null,null,null,0]
[null,null,5,null,5,0,0,0,0,null,5,0,0,null,null,null,0,null,null,null,0]
[null,null,6,null,6,0,0,0,0,null,6,0,0,null,null,null,0,null,null,null,0,null,"REFEREE'S SIGNATURE"]
[null,null,7,null,7,0,0,0,0,null,7,0,0,null,null,null,0,null,null,null,0]
[null,null,8,null,8,0,0,0,0,null,8,0,0,null,null,null,0,null,null,null,0]
["F10",null,null,null,"UK ATHLETICS: DISTANCE CARD"]
[{"$f":"VLOOKUP(A233,eventno,5,FALSE)","v":"M"},null,null,null,"MEETING ",null,{"$f":"CONCATENATE(MatchDay!$C$3,\"/\",MatchDay!$I$3)","v":"Northern Premier East/Northern 1 SE"},null,"VENUE ",null,null,{"$f":"MatchDay!$C$7","v":"Thornes Park Stadium, Wakefield"},null,null,null,null,null,"DATE ",null,{"$f":"MatchDay!$C$5","v":"Sunday 8th May 2011"}]
[{"$f":"IF(A234=\"M\",VLOOKUP(A233,males,15,FALSE),VLOOKUP(A233,females,15,FALSE))","v":38},null,null,null,"EVENT",null,{"$f":"CONCATENATE(A233,\" \",VLOOKUP(A233,eventno,4,FALSE))","v":"F10 U15B Javelin"},null,"TIME",null,null,{"$f":"VLOOKUP(A233,eventno,12,FALSE)","v":"13:00:00"},null,"Record",null,{"$f":"VLOOKUP(A233,eventno,7,FALSE)","v":57.67},null,"Duty",null,{"$f":"VLOOKUP(VLOOKUP(A233,eventno,13,FALSE),teamorder,3,FALSE)","v":"City of York"}]
[null,null,null,null,"Order","No","NAME","CLUB","1st Trial",null,"2nd Trial",null,"3rd Trial",null,"Best of 3",null,"Position after\n3 Trials","4th Trial",null,"5th Trial",null,"6th Trial",null,"Best of All",null,"Final\nPositionn","A or B"]
[{"$f":"VLOOKUP(A233,eventno,6,FALSE)","v":0},null,null,null,null,null,null,null,"Metres",null,"Metres",null,"Metres",null,"Metres",null,null,"Metres",null,"Metres",null,"Metres",null,"Metres",null,null,null,"A","B"]
[3,{"$f":"IF(OR(A238=0,A238=\"\"),\"\",VLOOKUP(A238,teamorder,2,FALSE))","v":7},{"$f":"Q238","v":0},null,1,{"$f":"IF(B238=0,\"\",B238)","v":7},{"$f":"IF(OR(F238=0,F238=\"\"),\"\",IF(A234=\"F\",HLOOKUP(F238,females,A235,FALSE),IF(A234=\"M\",HLOOKUP(F238,males,A235,FALSE),\"\")))","v":"George Armstrong"},{"$f":"IF(OR(F238=0,F238=\"\"),\"\",VLOOKUP(F238,match_teams,4,FALSE))","v":"Leeds C"},0,null,0,null,0,null,{"$f":"IF(AND(T(I238)<>\"\",T(K238)<>\"\",T(M238)<>\"\"),0,LARGE(I238:N238,1))","v":0},null,{"$f":"IF(OR(O238=\"\",O238=0),0,RANK(O238,$O$14:$P$21,0))","v":0},0,null,0,null,0,null,{"$f":"IF(AND(T(R238)<>\"\",T(T238)<>\"\",T(V238)<>\"\"),0,IF(O238>LARGE(R238:W238,1),O238,LARGE(R238:W238,1)))","v":0},null,{"$f":"IF(OR(X238=\"\",X238=0),0,RANK(X238,$X$14:$Y$29,0))","v":0},{"$f":"IF(X238=P235,\"LR=\",IF(X238>P235,\"LR\",\"\"))","v":""}]
[2,{"$f":"IF(OR(A239=0,A239=\"\"),\"\",VLOOKUP(A239,teamorder,2,FALSE))","v":8},{"$f":"Q239","v":0},null,2,8,{"$f":"IF(OR(F239=0,F239=\"\"),\"\",IF(A234=\"F\",HLOOKUP(F239,females,A235,FALSE),IF(A234=\"M\",HLOOKUP(F239,males,A235,FALSE),\"\")))","v":"Jonny Swain"},"York",0,null,0,null,0,null,{"$f":"IF(AND(T(I239)<>\"\",T(K239)<>\"\",T(M239)<>\"\"),0,LARGE(I239:N239,1))","v":0},null,0,0,null,0,null,0,null,{"$f":"IF(AND(T(R239)<>\"\",T(T239)<>\"\",T(V239)<>\"\"),0,IF(O239>LARGE(R239:W239,1),O239,LARGE(R239:W239,1)))","v":0},null,0,{"$f":"IF(X239=P235,\"LR=\",IF(X239>P235,\"LR\",\"\"))","v":""}]
[1,{"$f":"IF(OR(A240=0,A240=\"\"),\"\",VLOOKUP(A240,teamorder,2,FALSE))","v":9},0,null,3,9,{"$f":"IF(OR(F240=0,F240=\"\"),\"\",IF(A234=\"F\",HLOOKUP(F240,females,A235,FALSE),IF(A234=\"M\",HLOOKUP(F240,males,A235,FALSE),\"\")))","v":"Patrick Thackray"},"Wake",0,null,0,null,0,null,0,null,0,0,null,0,null,0,null,0,null,0,{"$f":"IF(X240=P235,\"LR=\",IF(X240>P235,\"LR\",\"\"))","v":""}]
[null,{"$f":"IF(T(B238)=\"\",B238*11,CONCATENATE(B238,B238))","v":77},0,null,4,77,{"$f":"IF(OR(F241=0,F241=\"\"),\"\",IF(A234=\"F\",HLOOKUP(F241,females,A235,FALSE),IF(A234=\"M\",HLOOKUP(F241,males,A235,FALSE),\"\")))","v":"Kieran Savage"},"Leeds C",0,null,0,null,0,null,0,null,0,0,null,0,null,0,null,0,null,0,{"$f":"IF(X241=P235,\"LR=\",IF(X241>P235,\"LR\",\"\"))","v":""}]
[null,{"$f":"IF(T(B239)=\"\",B239*11,CONCATENATE(B239,B239))","v":88},0,null,5,88,{"$f":"IF(OR(F242=0,F242=\"\"),\"\",IF(A234=\"F\",HLOOKUP(F242,females,A235,FALSE),IF(A234=\"M\",HLOOKUP(F242,males,A235,FALSE),\"\")))","v":"Luke Nichols"},"York",0,null,0,null,0,null,0,null,0,0,null,0,null,0,null,0,null,0,{"$f":"IF(X242=P235,\"LR=\",IF(X242>P235,\"LR\",\"\"))","v":""}]
[null,{"$f":"IF(T(B240)=\"\",B240*11,CONCATENATE(B240,B240))","v":99},0,null,6,99,{"$f":"IF(OR(F243=0,F243=\"\"),\"\",IF(A234=\"F\",HLOOKUP(F243,females,A235,FALSE),IF(A234=\"M\",HLOOKUP(F243,males,A235,FALSE),\"\")))","v":"Sam Convery"},"Wake",0,null,0,null,0,null,0,null,0,0,null,0,null,0,null,0,null,0,{"$f":"IF(X243=P235,\"LR=\",IF(X243>P235,\"LR\",\"\"))","v":""}]
[null,null,0,null,7,"",{"$f":"IF(OR(F244=0,F244=\"\"),\"\",IF(A234=\"F\",HLOOKUP(F244,females,A235,FALSE),IF(A234=\"M\",HLOOKUP(F244,males,A235,FALSE),\"\")))","v":""},"",0,null,0,null,0,null,0,null,0,0,null,0,null,0,null,0,null,0,{"$f":"IF(X244=P235,\"LR=\",IF(X244>P235,\"LR\",\"\"))","v":""}]
[null,null,0,null,8,"",{"$f":"IF(OR(F245=0,F245=\"\"),\"\",IF(A234=\"F\",HLOOKUP(F245,females,A235,FALSE),IF(A234=\"M\",HLOOKUP(F245,males,A235,FALSE),\"\")))","v":""},"",0,null,0,null,0,null,0,null,0,0,null,0,null,0,null,0,null,0,{"$f":"IF(X245=P235,\"LR=\",IF(X245>P235,\"LR\",\"\"))","v":""}]
[{"$f":"A238+3","v":6},{"$f":"IF(OR(A246=0,A246=\"\"),\"\",VLOOKUP(A246,teamorder2,2,FALSE))","v":3},null,{"$f":"Q246","v":0},1,3,{"$f":"IF(OR(F246=0,F246=\"\"),\"\",IF(A234=\"F\",HLOOKUP(F246,females2,A235,FALSE),IF(A234=\"M\",HLOOKUP(F246,males2,A235,FALSE),\"\")))","v":"Bob Walker"},{"$f":"IF(OR(F246=0,F246=\"\"),\"\",VLOOKUP(F246,match_teams2,4,FALSE))","v":"Hallam"},0,null,0,null,0,null,0,null,{"$f":"IF(OR(O246=\"\",O246=0),0,RANK(O246,$O$22:$P$29,0))","v":0},0,null,0,null,0,null,0,null,0,{"$f":"IF(X246=P235,\"LR=\",IF(X246>P235,\"LR\",\"\"))","v":""}]
[{"$f":"A239+3","v":5},{"$f":"IF(OR(A247=0,A247=\"\"),\"\",VLOOKUP(A247,teamorder2,2,FALSE))","v":2},null,{"$f":"Q247","v":0},2,2,{"$f":"IF(OR(F247=0,F247=\"\"),\"\",IF(A234=\"F\",HLOOKUP(F247,females2,A235,FALSE),IF(A234=\"M\",HLOOKUP(F247,males2,A235,FALSE),\"\")))","v":"Declan Dickinson"},"Linc W",0,null,0,null,0,null,0,null,0,0,null,0,null,0,null,0,null,0,{"$f":"IF(X247=P235,\"LR=\",IF(X247>P235,\"LR\",\"\"))","v":""}]
[{"$f":"A240+3","v":4},{"$f":"IF(OR(A248=0,A248=\"\"),\"\",VLOOKUP(A248,teamorder2,2,FALSE))","v":1},null,0,3,1,{"$f":"IF(OR(F248=0,F248=\"\"),\"\",IF(A234=\"F\",HLOOKUP(F248,females2,A235,FALSE),IF(A234=\"M\",HLOOKUP(F248,males2,A235,FALSE),\"\")))","v":"Jack Lamb"},"DASH",0,null,0,null,0,null,0,null,0,0,null,0,null,0,null,0,null,0,{"$f":"IF(X248=P235,\"LR=\",IF(X248>P235,\"LR\",\"\"))","v":""}]
[null,{"$f":"IF(T(B246)=\"\",B246*11,CONCATENATE(B246,B246))","v":33},null,0,4,33,{"$f":"IF(OR(F249=0,F249=\"\"),\"\",IF(A234=\"F\",HLOOKUP(F249,females2,A235,FALSE),IF(A234=\"M\",HLOOKUP(F249,males2,A235,FALSE),\"\")))","v":"Aiden Johnson"},"Hallam",0,null,0,null,0,null,0,null,0,0,null,0,null,0,null,0,null,0,{"$f":"IF(X249=P235,\"LR=\",IF(X249>P235,\"LR\",\"\"))","v":""}]
[null,{"$f":"IF(T(B247)=\"\",B247*11,CONCATENATE(B247,B247))","v":22},null,0,5,22,{"$f":"IF(OR(F250=0,F250=\"\"),\"\",IF(A234=\"F\",HLOOKUP(F250,females2,A235,FALSE),IF(A234=\"M\",HLOOKUP(F250,males2,A235,FALSE),\"\")))","v":"Bradley Kent"},"Linc W",0,null,0,null,0,null,0,null,0,0,null,0,null,0,null,0,null,0,{"$f":"IF(X250=P235,\"LR=\",IF(X250>P235,\"LR\",\"\"))","v":""}]
[null,{"$f":"IF(T(B248)=\"\",B248*11,CONCATENATE(B248,B248))","v":11},null,0,6,11,{"$f":"IF(OR(F251=0,F251=\"\"),\"\",IF(A234=\"F\",HLOOKUP(F251,females2,A235,FALSE),IF(A234=\"M\",HLOOKUP(F251,males2,A235,FALSE),\"\")))","v":"Toby Leverette"},"DASH",0,null,0,null,0,null,0,null,0,0,null,0,null,0,null,0,null,0,{"$f":"IF(X251=P235,\"LR=\",IF(X251>P235,\"LR\",\"\"))","v":""}]
[null,0,null,0,7,"",{"$f":"IF(OR(F252=0,F252=\"\"),\"\",IF(A234=\"F\",HLOOKUP(F252,females2,A235,FALSE),IF(A234=\"M\",HLOOKUP(F252,males2,A235,FALSE),\"\")))","v":""},"",0,null,0,null,0,null,0,null,0,0,null,0,null,0,null,0,null,0,{"$f":"IF(X252=P235,\"LR=\",IF(X252>P235,\"LR\",\"\"))","v":""}]
[null,0,null,0,8,"",{"$f":"IF(OR(F253=0,F253=\"\"),\"\",IF(A234=\"F\",HLOOKUP(F253,females2,A235,FALSE),IF(A234=\"M\",HLOOKUP(F253,males2,A235,FALSE),\"\")))","v":""},"",0,null,0,null,0,null,0,null,0,0,null,0,null,0,null,0,null,0,{"$f":"IF(X253=P235,\"LR=\",IF(X253>P235,\"LR\",\"\"))","v":""}]
[]
[null,null,null,null,"MATCH 1 RESULT",null,null,null,null,null,"MATCH 2 RESULT",null,null,null,null,null,null,null,null,null,null,null,"JUDGES' SIGNATURES"]
[null,null,null,null,null,"No.","NAME","CLUB","DISTANCE",null,null,"No.","NAME",null,null,null,"CLUB",null,null,null,"DISTANCE"]
[null,null,1,null,1,{"$f":"IF(ISERROR(VLOOKUP(C257,$C$14:$Y$21,4,FALSE))=TRUE,0,IF(VLOOKUP(C257,$C$14:$Y$21,22,FALSE)=0,0,IF(VLOOKUP(C257,$C$14:$Y$21,22,FALSE)=99,99,IF(VLOOKUP(C257,$C$14:$Y$21,22,FALSE)=98,98,IF(VLOOKUP(C257,$C$14:$Y$21,22,FALSE)=96,96,IF(VLOOKUP(C257,$C$14:$Y$21,22,FALSE)=95,95,VLOOKUP(C257,$C$14:$Y$21,4,FALSE)))))))","v":0},{"$f":"IF(ISERROR(VLOOKUP(C257,$C$14:$Y$21,4,FALSE))=TRUE,0,VLOOKUP(C257,$C$14:$Y$21,5,FALSE))","v":0},{"$f":"IF(ISERROR(VLOOKUP(C257,$C$14:$Y$21,4,FALSE))=TRUE,0,VLOOKUP(C257,$C$14:$Y$21,6,FALSE))","v":0},{"$f":"IF(ISERROR(VLOOKUP(C257,$C$14:$Y$21,4,FALSE))=TRUE,0,IF(VLOOKUP(C257,$C$14:$Y$21,22,FALSE)=0,\"\",IF(VLOOKUP(C257,$C$14:$Y$21,22,FALSE)>95.99,\"\",VLOOKUP(C257,$C$14:$Y$21,22,FALSE))))","v":0},null,1,{"$f":"IF(ISERROR(VLOOKUP(C257,$D$22:$Y$29,4,FALSE))=TRUE,0,IF(VLOOKUP(C257,D$22:Y$29,21,FALSE)=0,\"\",VLOOKUP(C257,D$22:Y$29,3,FALSE)))","v":0},{"$f":"IF(ISERROR(VLOOKUP(C257,$D$22:$Y$29,4,FALSE))=TRUE,0,VLOOKUP(C257,D$22:Y$29,4,FALSE))","v":0},null,null,null,{"$f":"IF(ISERROR(VLOOKUP(C257,$D$22:$Y$29,4,FALSE))=TRUE,0,VLOOKUP(C257,$D$22:$Y$29,5,FALSE))","v":0},null,null,null,{"$f":"IF(ISERROR(VLOOKUP(C257,$D$22:$Y$29,3,FALSE))=TRUE,0,IF(VLOOKUP(C257,$D$22:$Y$29,21,FALSE)=0,\"\",VLOOKUP(C257,$D$22:$Y$29,21,FALSE)))","v":0}]
[null,null,2,null,2,{"$f":"IF(ISERROR(VLOOKUP(C258,$C$14:$Y$21,4,FALSE))=TRUE,0,IF(VLOOKUP(C258,$C$14:$Y$21,22,FALSE)=0,\"\",IF(VLOOKUP(C258,$C$14:$Y$21,22,FALSE)=99,99,IF(VLOOKUP(C258,$C$14:$Y$21,22,FALSE)=98,98,IF(VLOOKUP(C258,$C$14:$Y$21,22,FALSE)=96,96,VLOOKUP(C258,$C$14:$Y$21,4,FALSE))))))","v":0},0,0,0,null,2,0,0,null,null,null,0,null,null,null,0]
[null,null,3,null,3,0,0,0,0,null,3,0,0,null,null,null,0,null,null,null,0]
[null,null,4,null,4,0,0,0,0,null,4,0,0,null,null,null,0,null,null,null,0]
[null,null,5,null,5,0,0,0,0,null,5,0,0,null,null,null,0,null,null,null,0]
[null,null,6,null,6,0,0,0,0,null,6,0,0,null,null,null,0,null,null,null,0,null,"REFEREE'S SIGNATURE"]
[null,null,7,null,7,0,0,0,0,null,7,0,0,null,null,null,0,null,null,null,0]
[null,null,8,null,8,0,0,0,0,null,8,0,0,null,null,null,0,null,null,null,0]
["F11",null,null,null,"UK ATHLETICS: DISTANCE CARD"]
[{"$f":"VLOOKUP(A265,eventno,5,FALSE)","v":"M"},null,null,null,"MEETING ",null,{"$f":"CONCATENATE(MatchDay!$C$3,\"/\",MatchDay!$I$3)","v":"Northern Premier East/Northern 1 SE"},null,"VENUE ",null,null,{"$f":"MatchDay!$C$7","v":"Thornes Park Stadium, Wakefield"},null,null,null,null,null,"DATE ",null,{"$f":"MatchDay!$C$5","v":"Sunday 8th May 2011"}]
[{"$f":"IF(A266=\"M\",VLOOKUP(A265,males,15,FALSE),VLOOKUP(A265,females,15,FALSE))","v":39},null,null,null,"EVENT",null,{"$f":"CONCATENATE(A265,\" \",VLOOKUP(A265,eventno,4,FALSE))","v":"F11 U17M Javelin"},null,"TIME",null,null,{"$f":"VLOOKUP(A265,eventno,12,FALSE)","v":"13:00:00"},null,"Record",null,{"$f":"VLOOKUP(A265,eventno,7,FALSE)","v":70.22},null,"Duty",null,{"$f":"VLOOKUP(VLOOKUP(A265,eventno,13,FALSE),teamorder,3,FALSE)","v":"City of York"}]
[null,null,null,null,"Order","No","NAME","CLUB","1st Trial",null,"2nd Trial",null,"3rd Trial",null,"Best of 3",null,"Position after\n3 Trials","4th Trial",null,"5th Trial",null,"6th Trial",null,"Best of All",null,"Final\nPositionn","A or B"]
[{"$f":"VLOOKUP(A265,eventno,6,FALSE)","v":0},null,null,null,null,null,null,null,"Metres",null,"Metres",null,"Metres",null,"Metres",null,null,"Metres",null,"Metres",null,"Metres",null,"Metres",null,null,null,"A","B"]
[2,{"$f":"IF(OR(A270=0,A270=\"\"),\"\",VLOOKUP(A270,teamorder,2,FALSE))","v":8},{"$f":"Q270","v":0},null,1,{"$f":"IF(B270=0,\"\",B270)","v":8},{"$f":"IF(OR(F270=0,F270=\"\"),\"\",IF(A266=\"F\",HLOOKUP(F270,females,A267,FALSE),IF(A266=\"M\",HLOOKUP(F270,males,A267,FALSE),\"\")))","v":"-"},{"$f":"IF(OR(F270=0,F270=\"\"),\"\",VLOOKUP(F270,match_teams,4,FALSE))","v":"York"},0,null,0,null,0,null,{"$f":"IF(AND(T(I270)<>\"\",T(K270)<>\"\",T(M270)<>\"\"),0,LARGE(I270:N270,1))","v":0},null,{"$f":"IF(OR(O270=\"\",O270=0),0,RANK(O270,$O$14:$P$21,0))","v":0},0,null,0,null,0,null,{"$f":"IF(AND(T(R270)<>\"\",T(T270)<>\"\",T(V270)<>\"\"),0,IF(O270>LARGE(R270:W270,1),O270,LARGE(R270:W270,1)))","v":0},null,{"$f":"IF(OR(X270=\"\",X270=0),0,RANK(X270,$X$14:$Y$29,0))","v":0},{"$f":"IF(X270=P267,\"LR=\",IF(X270>P267,\"LR\",\"\"))","v":""}]
[3,{"$f":"IF(OR(A271=0,A271=\"\"),\"\",VLOOKUP(A271,teamorder,2,FALSE))","v":7},{"$f":"Q271","v":0},null,2,7,{"$f":"IF(OR(F271=0,F271=\"\"),\"\",IF(A266=\"F\",HLOOKUP(F271,females,A267,FALSE),IF(A266=\"M\",HLOOKUP(F271,males,A267,FALSE),\"\")))","v":"Matthew Campleman"},"Leeds C",0,null,0,null,0,null,{"$f":"IF(AND(T(I271)<>\"\",T(K271)<>\"\",T(M271)<>\"\"),0,LARGE(I271:N271,1))","v":0},null,0,0,null,0,null,0,null,{"$f":"IF(AND(T(R271)<>\"\",T(T271)<>\"\",T(V271)<>\"\"),0,IF(O271>LARGE(R271:W271,1),O271,LARGE(R271:W271,1)))","v":0},null,0,{"$f":"IF(X271=P267,\"LR=\",IF(X271>P267,\"LR\",\"\"))","v":""}]
[1,{"$f":"IF(OR(A272=0,A272=\"\"),\"\",VLOOKUP(A272,teamorder,2,FALSE))","v":9},0,null,3,9,{"$f":"IF(OR(F272=0,F272=\"\"),\"\",IF(A266=\"F\",HLOOKUP(F272,females,A267,FALSE),IF(A266=\"M\",HLOOKUP(F272,males,A267,FALSE),\"\")))","v":"Ethan Plumb"},"Wake",0,null,0,null,0,null,0,null,0,0,null,0,null,0,null,0,null,0,{"$f":"IF(X272=P267,\"LR=\",IF(X272>P267,\"LR\",\"\"))","v":""}]
[null,{"$f":"IF(T(B270)=\"\",B270*11,CONCATENATE(B270,B270))","v":88},0,null,4,88,{"$f":"IF(OR(F273=0,F273=\"\"),\"\",IF(A266=\"F\",HLOOKUP(F273,females,A267,FALSE),IF(A266=\"M\",HLOOKUP(F273,males,A267,FALSE),\"\")))","v":"-"},"York",0,null,0,null,0,null,0,null,0,0,null,0,null,0,null,0,null,0,{"$f":"IF(X273=P267,\"LR=\",IF(X273>P267,\"LR\",\"\"))","v":""}]
[null,{"$f":"IF(T(B271)=\"\",B271*11,CONCATENATE(B271,B271))","v":77},0,null,5,77,{"$f":"IF(OR(F274=0,F274=\"\"),\"\",IF(A266=\"F\",HLOOKUP(F274,females,A267,FALSE),IF(A266=\"M\",HLOOKUP(F274,males,A267,FALSE),\"\")))","v":"Andrew Russell"},"Leeds C",0,null,0,null,0,null,0,null,0,0,null,0,null,0,null,0,null,0,{"$f":"IF(X274=P267,\"LR=\",IF(X274>P267,\"LR\",\"\"))","v":""}]
[null,{"$f":"IF(T(B272)=\"\",B272*11,CONCATENATE(B272,B272))","v":99},0,null,6,99,{"$f":"IF(OR(F275=0,F275=\"\"),\"\",IF(A266=\"F\",HLOOKUP(F275,females,A267,FALSE),IF(A266=\"M\",HLOOKUP(F275,males,A267,FALSE),\"\")))","v":"Andrew Lorkins"},"Wake",0,null,0,null,0,null,0,null,0,0,null,0,null,0,null,0,null,0,{"$f":"IF(X275=P267,\"LR=\",IF(X275>P267,\"LR\",\"\"))","v":""}]
[null,null,0,null,7,"",{"$f":"IF(OR(F276=0,F276=\"\"),\"\",IF(A266=\"F\",HLOOKUP(F276,females,A267,FALSE),IF(A266=\"M\",HLOOKUP(F276,males,A267,FALSE),\"\")))","v":""},"",0,null,0,null,0,null,0,null,0,0,null,0,null,0,null,0,null,0,{"$f":"IF(X276=P267,\"LR=\",IF(X276>P267,\"LR\",\"\"))","v":""}]
[null,null,0,null,8,"",{"$f":"IF(OR(F277=0,F277=\"\"),\"\",IF(A266=\"F\",HLOOKUP(F277,females,A267,FALSE),IF(A266=\"M\",HLOOKUP(F277,males,A267,FALSE),\"\")))","v":""},"",0,null,0,null,0,null,0,null,0,0,null,0,null,0,null,0,null,0,{"$f":"IF(X277=P267,\"LR=\",IF(X277>P267,\"LR\",\"\"))","v":""}]
[{"$f":"A270+3","v":5},{"$f":"IF(OR(A278=0,A278=\"\"),\"\",VLOOKUP(A278,teamorder2,2,FALSE))","v":2},null,{"$f":"Q278","v":0},1,2,{"$f":"IF(OR(F278=0,F278=\"\"),\"\",IF(A266=\"F\",HLOOKUP(F278,females2,A267,FALSE),IF(A266=\"M\",HLOOKUP(F278,males2,A267,FALSE),\"\")))","v":"Kyle Nicholson"},{"$f":"IF(OR(F278=0,F278=\"\"),\"\",VLOOKUP(F278,match_teams2,4,FALSE))","v":"Linc W"},0,null,0,null,0,null,0,null,{"$f":"IF(OR(O278=\"\",O278=0),0,RANK(O278,$O$22:$P$29,0))","v":0},0,null,0,null,0,null,0,null,0,{"$f":"IF(X278=P267,\"LR=\",IF(X278>P267,\"LR\",\"\"))","v":""}]
[{"$f":"A271+3","v":6},{"$f":"IF(OR(A279=0,A279=\"\"),\"\",VLOOKUP(A279,teamorder2,2,FALSE))","v":3},null,{"$f":"Q279","v":0},2,3,{"$f":"IF(OR(F279=0,F279=\"\"),\"\",IF(A266=\"F\",HLOOKUP(F279,females2,A267,FALSE),IF(A266=\"M\",HLOOKUP(F279,males2,A267,FALSE),\"\")))","v":"-"},"Hallam",0,null,0,null,0,null,0,null,0,0,null,0,null,0,null,0,null,0,{"$f":"IF(X279=P267,\"LR=\",IF(X279>P267,\"LR\",\"\"))","v":""}]
[{"$f":"A272+3","v":4},{"$f":"IF(OR(A280=0,A280=\"\"),\"\",VLOOKUP(A280,teamorder2,2,FALSE))","v":1},null,0,3,1,{"$f":"IF(OR(F280=0,F280=\"\"),\"\",IF(A266=\"F\",HLOOKUP(F280,females2,A267,FALSE),IF(A266=\"M\",HLOOKUP(F280,males2,A267,FALSE),\"\")))","v":"Aidon Sahni"},"DASH",0,null,0,null,0,null,0,null,0,0,null,0,null,0,null,0,null,0,{"$f":"IF(X280=P267,\"LR=\",IF(X280>P267,\"LR\",\"\"))","v":""}]
[null,{"$f":"IF(T(B278)=\"\",B278*11,CONCATENATE(B278,B278))","v":22},null,0,4,22,{"$f":"IF(OR(F281=0,F281=\"\"),\"\",IF(A266=\"F\",HLOOKUP(F281,females2,A267,FALSE),IF(A266=\"M\",HLOOKUP(F281,males2,A267,FALSE),\"\")))","v":"Joshua Asbrey"},"Linc W",0,null,0,null,0,null,0,null,0,0,null,0,null,0,null,0,null,0,{"$f":"IF(X281=P267,\"LR=\",IF(X281>P267,\"LR\",\"\"))","v":""}]
[null,{"$f":"IF(T(B279)=\"\",B279*11,CONCATENATE(B279,B279))","v":33},null,0,5,33,{"$f":"IF(OR(F282=0,F282=\"\"),\"\",IF(A266=\"F\",HLOOKUP(F282,females2,A267,FALSE),IF(A266=\"M\",HLOOKUP(F282,males2,A267,FALSE),\"\")))","v":"-"},"Hallam",0,null,0,null,0,null,0,null,0,0,null,0,null,0,null,0,null,0,{"$f":"IF(X282=P267,\"LR=\",IF(X282>P267,\"LR\",\"\"))","v":""}]
[null,{"$f":"IF(T(B280)=\"\",B280*11,CONCATENATE(B280,B280))","v":11},null,0,6,11,{"$f":"IF(OR(F283=0,F283=\"\"),\"\",IF(A266=\"F\",HLOOKUP(F283,females2,A267,FALSE),IF(A266=\"M\",HLOOKUP(F283,males2,A267,FALSE),\"\")))","v":"-"},"DASH",0,null,0,null,0,null,0,null,0,0,null,0,null,0,null,0,null,0,{"$f":"IF(X283=P267,\"LR=\",IF(X283>P267,\"LR\",\"\"))","v":""}]
[null,0,null,0,7,"",{"$f":"IF(OR(F284=0,F284=\"\"),\"\",IF(A266=\"F\",HLOOKUP(F284,females2,A267,FALSE),IF(A266=\"M\",HLOOKUP(F284,males2,A267,FALSE),\"\")))","v":""},"",0,null,0,null,0,null,0,null,0,0,null,0,null,0,null,0,null,0,{"$f":"IF(X284=P267,\"LR=\",IF(X284>P267,\"LR\",\"\"))","v":""}]
[null,0,null,0,8,"",{"$f":"IF(OR(F285=0,F285=\"\"),\"\",IF(A266=\"F\",HLOOKUP(F285,females2,A267,FALSE),IF(A266=\"M\",HLOOKUP(F285,males2,A267,FALSE),\"\")))","v":""},"",0,null,0,null,0,null,0,null,0,0,null,0,null,0,null,0,null,0,{"$f":"IF(X285=P267,\"LR=\",IF(X285>P267,\"LR\",\"\"))","v":""}]
[]
[null,null,null,null,"MATCH 1 RESULT",null,null,null,null,null,"MATCH 2 RESULT",null,null,null,null,null,null,null,null,null,null,null,"JUDGES' SIGNATURES"]
[null,null,null,null,null,"No.","NAME","CLUB","DISTANCE",null,null,"No.","NAME",null,null,null,"CLUB",null,null,null,"DISTANCE"]
[null,null,1,null,1,{"$f":"IF(ISERROR(VLOOKUP(C289,$C$14:$Y$21,4,FALSE))=TRUE,0,IF(VLOOKUP(C289,$C$14:$Y$21,22,FALSE)=0,0,IF(VLOOKUP(C289,$C$14:$Y$21,22,FALSE)=99,99,IF(VLOOKUP(C289,$C$14:$Y$21,22,FALSE)=98,98,IF(VLOOKUP(C289,$C$14:$Y$21,22,FALSE)=96,96,IF(VLOOKUP(C289,$C$14:$Y$21,22,FALSE)=95,95,VLOOKUP(C289,$C$14:$Y$21,4,FALSE)))))))","v":0},{"$f":"IF(ISERROR(VLOOKUP(C289,$C$14:$Y$21,4,FALSE))=TRUE,0,VLOOKUP(C289,$C$14:$Y$21,5,FALSE))","v":0},{"$f":"IF(ISERROR(VLOOKUP(C289,$C$14:$Y$21,4,FALSE))=TRUE,0,VLOOKUP(C289,$C$14:$Y$21,6,FALSE))","v":0},{"$f":"IF(ISERROR(VLOOKUP(C289,$C$14:$Y$21,4,FALSE))=TRUE,0,IF(VLOOKUP(C289,$C$14:$Y$21,22,FALSE)=0,\"\",IF(VLOOKUP(C289,$C$14:$Y$21,22,FALSE)>95.99,\"\",VLOOKUP(C289,$C$14:$Y$21,22,FALSE))))","v":0},null,1,{"$f":"IF(ISERROR(VLOOKUP(C289,$D$22:$Y$29,4,FALSE))=TRUE,0,IF(VLOOKUP(C289,D$22:Y$29,21,FALSE)=0,\"\",VLOOKUP(C289,D$22:Y$29,3,FALSE)))","v":0},{"$f":"IF(ISERROR(VLOOKUP(C289,$D$22:$Y$29,4,FALSE))=TRUE,0,VLOOKUP(C289,D$22:Y$29,4,FALSE))","v":0},null,null,null,{"$f":"IF(ISERROR(VLOOKUP(C289,$D$22:$Y$29,4,FALSE))=TRUE,0,VLOOKUP(C289,$D$22:$Y$29,5,FALSE))","v":0},null,null,null,{"$f":"IF(ISERROR(VLOOKUP(C289,$D$22:$Y$29,3,FALSE))=TRUE,0,IF(VLOOKUP(C289,$D$22:$Y$29,21,FALSE)=0,\"\",VLOOKUP(C289,$D$22:$Y$29,21,FALSE)))","v":0}]
[null,null,2,null,2,{"$f":"IF(ISERROR(VLOOKUP(C290,$C$14:$Y$21,4,FALSE))=TRUE,0,IF(VLOOKUP(C290,$C$14:$Y$21,22,FALSE)=0,\"\",IF(VLOOKUP(C290,$C$14:$Y$21,22,FALSE)=99,99,IF(VLOOKUP(C290,$C$14:$Y$21,22,FALSE)=98,98,IF(VLOOKUP(C290,$C$14:$Y$21,22,FALSE)=96,96,VLOOKUP(C290,$C$14:$Y$21,4,FALSE))))))","v":0},0,0,0,null,2,0,0,null,null,null,0,null,null,null,0]
[null,null,3,null,3,0,0,0,0,null,3,0,0,null,null,null,0,null,null,null,0]
[null,null,4,null,4,0,0,0,0,null,4,0,0,null,null,null,0,null,null,null,0]
[null,null,5,null,5,0,0,0,0,null,5,0,0,null,null,null,0,null,null,null,0]
[null,null,6,null,6,0,0,0,0,null,6,0,0,null,null,null,0,null,null,null,0,null,"REFEREE'S SIGNATURE"]
[null,null,7,null,7,0,0,0,0,null,7,0,0,null,null,null,0,null,null,null,0]
[null,null,8,null,8,0,0,0,0,null,8,0,0,null,null,null,0,null,null,null,0]
["F18",null,null,null,"UK ATHLETICS: DISTANCE CARD"]
[{"$f":"VLOOKUP(A297,eventno,5,FALSE)","v":"F"},null,null,null,"MEETING ",null,{"$f":"CONCATENATE(MatchDay!$C$3,\"/\",MatchDay!$I$3)","v":"Northern Premier East/Northern 1 SE"},null,"VENUE ",null,null,{"$f":"MatchDay!$C$7","v":"Thornes Park Stadium, Wakefield"},null,null,null,null,null,"DATE ",null,{"$f":"MatchDay!$C$5","v":"Sunday 8th May 2011"}]
[{"$f":"IF(A298=\"M\",VLOOKUP(A297,males,15,FALSE),VLOOKUP(A297,females,15,FALSE))","v":48},null,null,null,"EVENT",null,{"$f":"CONCATENATE(A297,\" \",VLOOKUP(A297,eventno,4,FALSE))","v":"F18 U17W Shot"},null,"TIME",null,null,{"$f":"VLOOKUP(A297,eventno,12,FALSE)","v":"13:45:00"},null,"Record",null,{"$f":"VLOOKUP(A297,eventno,7,FALSE)","v":13.57},null,"Duty",null,{"$f":"VLOOKUP(VLOOKUP(A297,eventno,13,FALSE),teamorder,3,FALSE)","v":"Leeds City"}]
[null,null,null,null,"Order","No","NAME","CLUB","1st Trial",null,"2nd Trial",null,"3rd Trial",null,"Best of 3",null,"Position after\n3 Trials","4th Trial",null,"5th Trial",null,"6th Trial",null,"Best of All",null,"Final\nPositionn","A or B"]
[{"$f":"VLOOKUP(A297,eventno,6,FALSE)","v":0},null,null,null,null,null,null,null,"Metres",null,"Metres",null,"Metres",null,"Metres",null,null,"Metres",null,"Metres",null,"Metres",null,"Metres",null,null,null,"A","B"]
[1,{"$f":"IF(OR(A302=0,A302=\"\"),\"\",VLOOKUP(A302,teamorder,2,FALSE))","v":9},{"$f":"Q302","v":0},null,1,{"$f":"IF(B302=0,\"\",B302)","v":9},{"$f":"IF(OR(F302=0,F302=\"\"),\"\",IF(A298=\"F\",HLOOKUP(F302,females,A299,FALSE),IF(A298=\"M\",HLOOKUP(F302,males,A299,FALSE),\"\")))","v":"Hannah Yates"},{"$f":"IF(OR(F302=0,F302=\"\"),\"\",VLOOKUP(F302,match_teams,4,FALSE))","v":"Wake"},0,null,0,null,0,null,{"$f":"IF(AND(T(I302)<>\"\",T(K302)<>\"\",T(M302)<>\"\"),0,LARGE(I302:N302,1))","v":0},null,{"$f":"IF(OR(O302=\"\",O302=0),0,RANK(O302,$O$14:$P$21,0))","v":0},0,null,0,null,0,null,{"$f":"IF(AND(T(R302)<>\"\",T(T302)<>\"\",T(V302)<>\"\"),0,IF(O302>LARGE(R302:W302,1),O302,LARGE(R302:W302,1)))","v":0},null,{"$f":"IF(OR(X302=\"\",X302=0),0,RANK(X302,$X$14:$Y$29,0))","v":0},{"$f":"IF(X302=P299,\"LR=\",IF(X302>P299,\"LR\",\"\"))","v":""}]
[3,{"$f":"IF(OR(A303=0,A303=\"\"),\"\",VLOOKUP(A303,teamorder,2,FALSE))","v":7},{"$f":"Q303","v":0},null,2,7,{"$f":"IF(OR(F303=0,F303=\"\"),\"\",IF(A298=\"F\",HLOOKUP(F303,females,A299,FALSE),IF(A298=\"M\",HLOOKUP(F303,males,A299,FALSE),\"\")))","v":"Hannah Ukandu"},"Leeds C",0,null,0,null,0,null,{"$f":"IF(AND(T(I303)<>\"\",T(K303)<>\"\",T(M303)<>\"\"),0,LARGE(I303:N303,1))","v":0},null,0,0,null,0,null,0,null,{"$f":"IF(AND(T(R303)<>\"\",T(T303)<>\"\",T(V303)<>\"\"),0,IF(O303>LARGE(R303:W303,1),O303,LARGE(R303:W303,1)))","v":0},null,0,{"$f":"IF(X303=P299,\"LR=\",IF(X303>P299,\"LR\",\"\"))","v":""}]
[2,{"$f":"IF(OR(A304=0,A304=\"\"),\"\",VLOOKUP(A304,teamorder,2,FALSE))","v":8},0,null,3,8,{"$f":"IF(OR(F304=0,F304=\"\"),\"\",IF(A298=\"F\",HLOOKUP(F304,females,A299,FALSE),IF(A298=\"M\",HLOOKUP(F304,males,A299,FALSE),\"\")))","v":"Becky Tunnicliffe"},"York",0,null,0,null,0,null,0,null,0,0,null,0,null,0,null,0,null,0,{"$f":"IF(X304=P299,\"LR=\",IF(X304>P299,\"LR\",\"\"))","v":""}]
[null,{"$f":"IF(T(B302)=\"\",B302*11,CONCATENATE(B302,B302))","v":99},0,null,4,99,{"$f":"IF(OR(F305=0,F305=\"\"),\"\",IF(A298=\"F\",HLOOKUP(F305,females,A299,FALSE),IF(A298=\"M\",HLOOKUP(F305,males,A299,FALSE),\"\")))","v":"Samantha Lancaster"},"Wake",0,null,0,null,0,null,0,null,0,0,null,0,null,0,null,0,null,0,{"$f":"IF(X305=P299,\"LR=\",IF(X305>P299,\"LR\",\"\"))","v":""}]
[null,{"$f":"IF(T(B303)=\"\",B303*11,CONCATENATE(B303,B303))","v":77},0,null,5,77,{"$f":"IF(OR(F306=0,F306=\"\"),\"\",IF(A298=\"F\",HLOOKUP(F306,females,A299,FALSE),IF(A298=\"M\",HLOOKUP(F306,males,A299,FALSE),\"\")))","v":"Grace Coburn"},"Leeds C",0,null,0,null,0,null,0,null,0,0,null,0,null,0,null,0,null,0,{"$f":"IF(X306=P299,\"LR=\",IF(X306>P299,\"LR\",\"\"))","v":""}]
[null,{"$f":"IF(T(B304)=\"\",B304*11,CONCATENATE(B304,B304))","v":88},0,null,6,88,{"$f":"IF(OR(F307=0,F307=\"\"),\"\",IF(A298=\"F\",HLOOKUP(F307,females,A299,FALSE),IF(A298=\"M\",HLOOKUP(F307,males,A299,FALSE),\"\")))","v":"Emily Haigh"},"York",0,null,0,null,0,null,0,null,0,0,null,0,null,0,null,0,null,0,{"$f":"IF(X307=P299,\"LR=\",IF(X307>P299,\"LR\",\"\"))","v":""}]
[null,null,0,null,7,"",{"$f":"IF(OR(F308=0,F308=\"\"),\"\",IF(A298=\"F\",HLOOKUP(F308,females,A299,FALSE),IF(A298=\"M\",HLOOKUP(F308,males,A299,FALSE),\"\")))","v":""},"",0,null,0,null,0,null,0,null,0,0,null,0,null,0,null,0,null,0,{"$f":"IF(X308=P299,\"LR=\",IF(X308>P299,\"LR\",\"\"))","v":""}]
[null,null,0,null,8,"",{"$f":"IF(OR(F309=0,F309=\"\"),\"\",IF(A298=\"F\",HLOOKUP(F309,females,A299,FALSE),IF(A298=\"M\",HLOOKUP(F309,males,A299,FALSE),\"\")))","v":""},"",0,null,0,null,0,null,0,null,0,0,null,0,null,0,null,0,null,0,{"$f":"IF(X309=P299,\"LR=\",IF(X309>P299,\"LR\",\"\"))","v":""}]
[{"$f":"A302+3","v":4},{"$f":"IF(OR(A310=0,A310=\"\"),\"\",VLOOKUP(A310,teamorder2,2,FALSE))","v":1},null,{"$f":"Q310","v":0},1,1,{"$f":"IF(OR(F310=0,F310=\"\"),\"\",IF(A298=\"F\",HLOOKUP(F310,females2,A299,FALSE),IF(A298=\"M\",HLOOKUP(F310,males2,A299,FALSE),\"\")))","v":"Hannah Short"},{"$f":"IF(OR(F310=0,F310=\"\"),\"\",VLOOKUP(F310,match_teams2,4,FALSE))","v":"DASH"},0,null,0,null,0,null,0,null,{"$f":"IF(OR(O310=\"\",O310=0),0,RANK(O310,$O$22:$P$29,0))","v":0},0,null,0,null,0,null,0,null,0,{"$f":"IF(X310=P299,\"LR=\",IF(X310>P299,\"LR\",\"\"))","v":""}]
[{"$f":"A303+3","v":6},{"$f":"IF(OR(A311=0,A311=\"\"),\"\",VLOOKUP(A311,teamorder2,2,FALSE))","v":3},null,{"$f":"Q311","v":0},2,3,{"$f":"IF(OR(F311=0,F311=\"\"),\"\",IF(A298=\"F\",HLOOKUP(F311,females2,A299,FALSE),IF(A298=\"M\",HLOOKUP(F311,males2,A299,FALSE),\"\")))","v":"Claire Wilsher"},"Hallam",0,null,0,null,0,null,0,null,0,0,null,0,null,0,null,0,null,0,{"$f":"IF(X311=P299,\"LR=\",IF(X311>P299,\"LR\",\"\"))","v":""}]
[{"$f":"A304+3","v":5},{"$f":"IF(OR(A312=0,A312=\"\"),\"\",VLOOKUP(A312,teamorder2,2,FALSE))","v":2},null,0,3,2,{"$f":"IF(OR(F312=0,F312=\"\"),\"\",IF(A298=\"F\",HLOOKUP(F312,females2,A299,FALSE),IF(A298=\"M\",HLOOKUP(F312,males2,A299,FALSE),\"\")))","v":"Katie McMunn"},"Linc W",0,null,0,null,0,null,0,null,0,0,null,0,null,0,null,0,null,0,{"$f":"IF(X312=P299,\"LR=\",IF(X312>P299,\"LR\",\"\"))","v":""}]
[null,{"$f":"IF(T(B310)=\"\",B310*11,CONCATENATE(B310,B310))","v":11},null,0,4,11,{"$f":"IF(OR(F313=0,F313=\"\"),\"\",IF(A298=\"F\",HLOOKUP(F313,females2,A299,FALSE),IF(A298=\"M\",HLOOKUP(F313,males2,A299,FALSE),\"\")))","v":"-"},"DASH",0,null,0,null,0,null,0,null,0,0,null,0,null,0,null,0,null,0,{"$f":"IF(X313=P299,\"LR=\",IF(X313>P299,\"LR\",\"\"))","v":""}]
[null,{"$f":"IF(T(B311)=\"\",B311*11,CONCATENATE(B311,B311))","v":33},null,0,5,33,{"$f":"IF(OR(F314=0,F314=\"\"),\"\",IF(A298=\"F\",HLOOKUP(F314,females2,A299,FALSE),IF(A298=\"M\",HLOOKUP(F314,males2,A299,FALSE),\"\")))","v":"Nicole Norton"},"Hallam",0,null,0,null,0,null,0,null,0,0,null,0,null,0,null,0,null,0,{"$f":"IF(X314=P299,\"LR=\",IF(X314>P299,\"LR\",\"\"))","v":""}]
[null,{"$f":"IF(T(B312)=\"\",B312*11,CONCATENATE(B312,B312))","v":22},null,0,6,22,{"$f":"IF(OR(F315=0,F315=\"\"),\"\",IF(A298=\"F\",HLOOKUP(F315,females2,A299,FALSE),IF(A298=\"M\",HLOOKUP(F315,males2,A299,FALSE),\"\")))","v":"-"},"Linc W",0,null,0,null,0,null,0,null,0,0,null,0,null,0,null,0,null,0,{"$f":"IF(X315=P299,\"LR=\",IF(X315>P299,\"LR\",\"\"))","v":""}]
[null,0,null,0,7,"",{"$f":"IF(OR(F316=0,F316=\"\"),\"\",IF(A298=\"F\",HLOOKUP(F316,females2,A299,FALSE),IF(A298=\"M\",HLOOKUP(F316,males2,A299,FALSE),\"\")))","v":""},"",0,null,0,null,0,null,0,null,0,0,null,0,null,0,null,0,null,0,{"$f":"IF(X316=P299,\"LR=\",IF(X316>P299,\"LR\",\"\"))","v":""}]
[null,0,null,0,8,"",{"$f":"IF(OR(F317=0,F317=\"\"),\"\",IF(A298=\"F\",HLOOKUP(F317,females2,A299,FALSE),IF(A298=\"M\",HLOOKUP(F317,males2,A299,FALSE),\"\")))","v":""},"",0,null,0,null,0,null,0,null,0,0,null,0,null,0,null,0,null,0,{"$f":"IF(X317=P299,\"LR=\",IF(X317>P299,\"LR\",\"\"))","v":""}]
[]
[null,null,null,null,"MATCH 1 RESULT",null,null,null,null,null,"MATCH 2 RESULT",null,null,null,null,null,null,null,null,null,null,null,"JUDGES' SIGNATURES"]
[null,null,null,null,null,"No.","NAME","CLUB","DISTANCE",null,null,"No.","NAME",null,null,null,"CLUB",null,null,null,"DISTANCE"]
[null,null,1,null,1,{"$f":"IF(ISERROR(VLOOKUP(C321,$C$14:$Y$21,4,FALSE))=TRUE,0,IF(VLOOKUP(C321,$C$14:$Y$21,22,FALSE)=0,0,IF(VLOOKUP(C321,$C$14:$Y$21,22,FALSE)=99,99,IF(VLOOKUP(C321,$C$14:$Y$21,22,FALSE)=98,98,IF(VLOOKUP(C321,$C$14:$Y$21,22,FALSE)=96,96,IF(VLOOKUP(C321,$C$14:$Y$21,22,FALSE)=95,95,VLOOKUP(C321,$C$14:$Y$21,4,FALSE)))))))","v":0},{"$f":"IF(ISERROR(VLOOKUP(C321,$C$14:$Y$21,4,FALSE))=TRUE,0,VLOOKUP(C321,$C$14:$Y$21,5,FALSE))","v":0},{"$f":"IF(ISERROR(VLOOKUP(C321,$C$14:$Y$21,4,FALSE))=TRUE,0,VLOOKUP(C321,$C$14:$Y$21,6,FALSE))","v":0},{"$f":"IF(ISERROR(VLOOKUP(C321,$C$14:$Y$21,4,FALSE))=TRUE,0,IF(VLOOKUP(C321,$C$14:$Y$21,22,FALSE)=0,\"\",IF(VLOOKUP(C321,$C$14:$Y$21,22,FALSE)>95.99,\"\",VLOOKUP(C321,$C$14:$Y$21,22,FALSE))))","v":0},null,1,{"$f":"IF(ISERROR(VLOOKUP(C321,$D$22:$Y$29,4,FALSE))=TRUE,0,IF(VLOOKUP(C321,D$22:Y$29,21,FALSE)=0,\"\",VLOOKUP(C321,D$22:Y$29,3,FALSE)))","v":0},{"$f":"IF(ISERROR(VLOOKUP(C321,$D$22:$Y$29,4,FALSE))=TRUE,0,VLOOKUP(C321,D$22:Y$29,4,FALSE))","v":0},null,null,null,{"$f":"IF(ISERROR(VLOOKUP(C321,$D$22:$Y$29,4,FALSE))=TRUE,0,VLOOKUP(C321,$D$22:$Y$29,5,FALSE))","v":0},null,null,null,{"$f":"IF(ISERROR(VLOOKUP(C321,$D$22:$Y$29,3,FALSE))=TRUE,0,IF(VLOOKUP(C321,$D$22:$Y$29,21,FALSE)=0,\"\",VLOOKUP(C321,$D$22:$Y$29,21,FALSE)))","v":0}]
[null,null,2,null,2,{"$f":"IF(ISERROR(VLOOKUP(C322,$C$14:$Y$21,4,FALSE))=TRUE,0,IF(VLOOKUP(C322,$C$14:$Y$21,22,FALSE)=0,\"\",IF(VLOOKUP(C322,$C$14:$Y$21,22,FALSE)=99,99,IF(VLOOKUP(C322,$C$14:$Y$21,22,FALSE)=98,98,IF(VLOOKUP(C322,$C$14:$Y$21,22,FALSE)=96,96,VLOOKUP(C322,$C$14:$Y$21,4,FALSE))))))","v":0},0,0,0,null,2,0,0,null,null,null,0,null,null,null,0]
[null,null,3,null,3,0,0,0,0,null,3,0,0,null,null,null,0,null,null,null,0]
[null,null,4,null,4,0,0,0,0,null,4,0,0,null,null,null,0,null,null,null,0]
[null,null,5,null,5,0,0,0,0,null,5,0,0,null,null,null,0,null,null,null,0]
[null,null,6,null,6,0,0,0,0,null,6,0,0,null,null,null,0,null,null,null,0,null,"REFEREE'S SIGNATURE"]
[null,null,7,null,7,0,0,0,0,null,7,0,0,null,null,null,0,null,null,null,0]
[null,null,8,null,8,0,0,0,0,null,8,0,0,null,null,null,0,null,null,null,0]
["F19",null,null,null,"UK ATHLETICS: DISTANCE CARD"]
[{"$f":"VLOOKUP(A329,eventno,5,FALSE)","v":"M"},null,null,null,"MEETING ",null,{"$f":"CONCATENATE(MatchDay!$C$3,\"/\",MatchDay!$I$3)","v":"Northern Premier East/Northern 1 SE"},null,"VENUE ",null,null,{"$f":"MatchDay!$C$7","v":"Thornes Park Stadium, Wakefield"},null,null,null,null,null,"DATE ",null,{"$f":"MatchDay!$C$5","v":"Sunday 8th May 2011"}]
[{"$f":"IF(A330=\"M\",VLOOKUP(A329,males,15,FALSE),VLOOKUP(A329,females,15,FALSE))","v":43},null,null,null,"EVENT",null,{"$f":"CONCATENATE(A329,\" \",VLOOKUP(A329,eventno,4,FALSE))","v":"F19 U17M Long Jump"},null,"TIME",null,null,{"$f":"VLOOKUP(A329,eventno,12,FALSE)","v":"13:45:00"},null,"Record",null,{"$f":"VLOOKUP(A329,eventno,7,FALSE)","v":7.45},null,"Duty",null,{"$f":"VLOOKUP(VLOOKUP(A329,eventno,13,FALSE),teamorder2,3,FALSE)","v":"Lincoln Wellington"}]
[null,null,null,null,"Order","No","NAME","CLUB","1st Trial",null,"2nd Trial",null,"3rd Trial",null,"Best of 3",null,"Position after\n3 Trials","4th Trial",null,"5th Trial",null,"6th Trial",null,"Best of All",null,"Final\nPositionn","A or B"]
[{"$f":"VLOOKUP(A329,eventno,6,FALSE)","v":0},null,null,null,null,null,null,null,"Metres",null,"Metres",null,"Metres",null,"Metres",null,null,"Metres",null,"Metres",null,"Metres",null,"Metres",null,null,null,"A","B"]
[3,{"$f":"IF(OR(A334=0,A334=\"\"),\"\",VLOOKUP(A334,teamorder,2,FALSE))","v":7},{"$f":"Q334","v":0},null,1,{"$f":"IF(B334=0,\"\",B334)","v":7},{"$f":"IF(OR(F334=0,F334=\"\"),\"\",IF(A330=\"F\",HLOOKUP(F334,females,A331,FALSE),IF(A330=\"M\",HLOOKUP(F334,males,A331,FALSE),\"\")))","v":"Elliott Hurley"},{"$f":"IF(OR(F334=0,F334=\"\"),\"\",VLOOKUP(F334,match_teams,4,FALSE))","v":"Leeds C"},0,null,0,null,0,null,{"$f":"IF(AND(T(I334)<>\"\",T(K334)<>\"\",T(M334)<>\"\"),0,LARGE(I334:N334,1))","v":0},null,{"$f":"IF(OR(O334=\"\",O334=0),0,RANK(O334,$O$14:$P$21,0))","v":0},0,null,0,null,0,null,{"$f":"IF(AND(T(R334)<>\"\",T(T334)<>\"\",T(V334)<>\"\"),0,IF(O334>LARGE(R334:W334,1),O334,LARGE(R334:W334,1)))","v":0},null,{"$f":"IF(OR(X334=\"\",X334=0),0,RANK(X334,$X$14:$Y$29,0))","v":0},{"$f":"IF(X334=P331,\"LR=\",IF(X334>P331,\"LR\",\"\"))","v":""}]
[1,{"$f":"IF(OR(A335=0,A335=\"\"),\"\",VLOOKUP(A335,teamorder,2,FALSE))","v":9},{"$f":"Q335","v":0},null,2,9,{"$f":"IF(OR(F335=0,F335=\"\"),\"\",IF(A330=\"F\",HLOOKUP(F335,females,A331,FALSE),IF(A330=\"M\",HLOOKUP(F335,males,A331,FALSE),\"\")))","v":"Jake Worton"},"Wake",0,null,0,null,0,null,{"$f":"IF(AND(T(I335)<>\"\",T(K335)<>\"\",T(M335)<>\"\"),0,LARGE(I335:N335,1))","v":0},null,0,0,null,0,null,0,null,{"$f":"IF(AND(T(R335)<>\"\",T(T335)<>\"\",T(V335)<>\"\"),0,IF(O335>LARGE(R335:W335,1),O335,LARGE(R335:W335,1)))","v":0},null,0,{"$f":"IF(X335=P331,\"LR=\",IF(X335>P331,\"LR\",\"\"))","v":""}]
[2,{"$f":"IF(OR(A336=0,A336=\"\"),\"\",VLOOKUP(A336,teamorder,2,FALSE))","v":8},0,null,3,8,{"$f":"IF(OR(F336=0,F336=\"\"),\"\",IF(A330=\"F\",HLOOKUP(F336,females,A331,FALSE),IF(A330=\"M\",HLOOKUP(F336,males,A331,FALSE),\"\")))","v":"Adam Robinson"},"York",0,null,0,null,0,null,0,null,0,0,null,0,null,0,null,0,null,0,{"$f":"IF(X336=P331,\"LR=\",IF(X336>P331,\"LR\",\"\"))","v":""}]
[null,{"$f":"IF(T(B334)=\"\",B334*11,CONCATENATE(B334,B334))","v":77},0,null,4,77,{"$f":"IF(OR(F337=0,F337=\"\"),\"\",IF(A330=\"F\",HLOOKUP(F337,females,A331,FALSE),IF(A330=\"M\",HLOOKUP(F337,males,A331,FALSE),\"\")))","v":"Matthew Campleman"},"Leeds C",0,null,0,null,0,null,0,null,0,0,null,0,null,0,null,0,null,0,{"$f":"IF(X337=P331,\"LR=\",IF(X337>P331,\"LR\",\"\"))","v":""}]
[null,{"$f":"IF(T(B335)=\"\",B335*11,CONCATENATE(B335,B335))","v":99},0,null,5,99,{"$f":"IF(OR(F338=0,F338=\"\"),\"\",IF(A330=\"F\",HLOOKUP(F338,females,A331,FALSE),IF(A330=\"M\",HLOOKUP(F338,males,A331,FALSE),\"\")))","v":"Andrew Lorkins"},"Wake",0,null,0,null,0,null,0,null,0,0,null,0,null,0,null,0,null,0,{"$f":"IF(X338=P331,\"LR=\",IF(X338>P331,\"LR\",\"\"))","v":""}]
[null,{"$f":"IF(T(B336)=\"\",B336*11,CONCATENATE(B336,B336))","v":88},0,null,6,88,{"$f":"IF(OR(F339=0,F339=\"\"),\"\",IF(A330=\"F\",HLOOKUP(F339,females,A331,FALSE),IF(A330=\"M\",HLOOKUP(F339,males,A331,FALSE),\"\")))","v":"Peirre Weller"},"York",0,null,0,null,0,null,0,null,0,0,null,0,null,0,null,0,null,0,{"$f":"IF(X339=P331,\"LR=\",IF(X339>P331,\"LR\",\"\"))","v":""}]
[null,null,0,null,7,"",{"$f":"IF(OR(F340=0,F340=\"\"),\"\",IF(A330=\"F\",HLOOKUP(F340,females,A331,FALSE),IF(A330=\"M\",HLOOKUP(F340,males,A331,FALSE),\"\")))","v":""},"",0,null,0,null,0,null,0,null,0,0,null,0,null,0,null,0,null,0,{"$f":"IF(X340=P331,\"LR=\",IF(X340>P331,\"LR\",\"\"))","v":""}]
[null,null,0,null,8,"",{"$f":"IF(OR(F341=0,F341=\"\"),\"\",IF(A330=\"F\",HLOOKUP(F341,females,A331,FALSE),IF(A330=\"M\",HLOOKUP(F341,males,A331,FALSE),\"\")))","v":""},"",0,null,0,null,0,null,0,null,0,0,null,0,null,0,null,0,null,0,{"$f":"IF(X341=P331,\"LR=\",IF(X341>P331,\"LR\",\"\"))","v":""}]
[{"$f":"A334+3","v":6},{"$f":"IF(OR(A342=0,A342=\"\"),\"\",VLOOKUP(A342,teamorder2,2,FALSE))","v":3},null,{"$f":"Q342","v":0},1,3,{"$f":"IF(OR(F342=0,F342=\"\"),\"\",IF(A330=\"F\",HLOOKUP(F342,females2,A331,FALSE),IF(A330=\"M\",HLOOKUP(F342,males2,A331,FALSE),\"\")))","v":"-"},{"$f":"IF(OR(F342=0,F342=\"\"),\"\",VLOOKUP(F342,match_teams2,4,FALSE))","v":"Hallam"},0,null,0,null,0,null,0,null,{"$f":"IF(OR(O342=\"\",O342=0),0,RANK(O342,$O$22:$P$29,0))","v":0},0,null,0,null,0,null,0,null,0,{"$f":"IF(X342=P331,\"LR=\",IF(X342>P331,\"LR\",\"\"))","v":""}]
[{"$f":"A335+3","v":4},{"$f":"IF(OR(A343=0,A343=\"\"),\"\",VLOOKUP(A343,teamorder2,2,FALSE))","v":1},null,{"$f":"Q343","v":0},2,1,{"$f":"IF(OR(F343=0,F343=\"\"),\"\",IF(A330=\"F\",HLOOKUP(F343,females2,A331,FALSE),IF(A330=\"M\",HLOOKUP(F343,males2,A331,FALSE),\"\")))","v":"Ryan Sutherland"},"DASH",0,null,0,null,0,null,0,null,0,0,null,0,null,0,null,0,null,0,{"$f":"IF(X343=P331,\"LR=\",IF(X343>P331,\"LR\",\"\"))","v":""}]
[{"$f":"A336+3","v":5},{"$f":"IF(OR(A344=0,A344=\"\"),\"\",VLOOKUP(A344,teamorder2,2,FALSE))","v":2},null,0,3,2,{"$f":"IF(OR(F344=0,F344=\"\"),\"\",IF(A330=\"F\",HLOOKUP(F344,females2,A331,FALSE),IF(A330=\"M\",HLOOKUP(F344,males2,A331,FALSE),\"\")))","v":"Josh Holden"},"Linc W",0,null,0,null,0,null,0,null,0,0,null,0,null,0,null,0,null,0,{"$f":"IF(X344=P331,\"LR=\",IF(X344>P331,\"LR\",\"\"))","v":""}]
[null,{"$f":"IF(T(B342)=\"\",B342*11,CONCATENATE(B342,B342))","v":33},null,0,4,33,{"$f":"IF(OR(F345=0,F345=\"\"),\"\",IF(A330=\"F\",HLOOKUP(F345,females2,A331,FALSE),IF(A330=\"M\",HLOOKUP(F345,males2,A331,FALSE),\"\")))","v":"-"},"Hallam",0,null,0,null,0,null,0,null,0,0,null,0,null,0,null,0,null,0,{"$f":"IF(X345=P331,\"LR=\",IF(X345>P331,\"LR\",\"\"))","v":""}]
[null,{"$f":"IF(T(B343)=\"\",B343*11,CONCATENATE(B343,B343))","v":11},null,0,5,11,{"$f":"IF(OR(F346=0,F346=\"\"),\"\",IF(A330=\"F\",HLOOKUP(F346,females2,A331,FALSE),IF(A330=\"M\",HLOOKUP(F346,males2,A331,FALSE),\"\")))","v":"Adam Milner"},"DASH",0,null,0,null,0,null,0,null,0,0,null,0,null,0,null,0,null,0,{"$f":"IF(X346=P331,\"LR=\",IF(X346>P331,\"LR\",\"\"))","v":""}]
[null,{"$f":"IF(T(B344)=\"\",B344*11,CONCATENATE(B344,B344))","v":22},null,0,6,22,{"$f":"IF(OR(F347=0,F347=\"\"),\"\",IF(A330=\"F\",HLOOKUP(F347,females2,A331,FALSE),IF(A330=\"M\",HLOOKUP(F347,males2,A331,FALSE),\"\")))","v":"Jack Harper"},"Linc W",0,null,0,null,0,null,0,null,0,0,null,0,null,0,null,0,null,0,{"$f":"IF(X347=P331,\"LR=\",IF(X347>P331,\"LR\",\"\"))","v":""}]
[null,0,null,0,7,"",{"$f":"IF(OR(F348=0,F348=\"\"),\"\",IF(A330=\"F\",HLOOKUP(F348,females2,A331,FALSE),IF(A330=\"M\",HLOOKUP(F348,males2,A331,FALSE),\"\")))","v":""},"",0,null,0,null,0,null,0,null,0,0,null,0,null,0,null,0,null,0,{"$f":"IF(X348=P331,\"LR=\",IF(X348>P331,\"LR\",\"\"))","v":""}]
[null,0,null,0,8,"",{"$f":"IF(OR(F349=0,F349=\"\"),\"\",IF(A330=\"F\",HLOOKUP(F349,females2,A331,FALSE),IF(A330=\"M\",HLOOKUP(F349,males2,A331,FALSE),\"\")))","v":""},"",0,null,0,null,0,null,0,null,0,0,null,0,null,0,null,0,null,0,{"$f":"IF(X349=P331,\"LR=\",IF(X349>P331,\"LR\",\"\"))","v":""}]
[]
[null,null,null,null,"MATCH 1 RESULT",null,null,null,null,null,"MATCH 2 RESULT",null,null,null,null,null,null,null,null,null,null,null,"JUDGES' SIGNATURES"]
[null,null,null,null,null,"No.","NAME","CLUB","DISTANCE",null,null,"No.","NAME",null,null,null,"CLUB",null,null,null,"DISTANCE"]
[null,null,1,null,1,{"$f":"IF(ISERROR(VLOOKUP(C353,$C$14:$Y$21,4,FALSE))=TRUE,0,IF(VLOOKUP(C353,$C$14:$Y$21,22,FALSE)=0,0,IF(VLOOKUP(C353,$C$14:$Y$21,22,FALSE)=99,99,IF(VLOOKUP(C353,$C$14:$Y$21,22,FALSE)=98,98,IF(VLOOKUP(C353,$C$14:$Y$21,22,FALSE)=96,96,IF(VLOOKUP(C353,$C$14:$Y$21,22,FALSE)=95,95,VLOOKUP(C353,$C$14:$Y$21,4,FALSE)))))))","v":0},{"$f":"IF(ISERROR(VLOOKUP(C353,$C$14:$Y$21,4,FALSE))=TRUE,0,VLOOKUP(C353,$C$14:$Y$21,5,FALSE))","v":0},{"$f":"IF(ISERROR(VLOOKUP(C353,$C$14:$Y$21,4,FALSE))=TRUE,0,VLOOKUP(C353,$C$14:$Y$21,6,FALSE))","v":0},{"$f":"IF(ISERROR(VLOOKUP(C353,$C$14:$Y$21,4,FALSE))=TRUE,0,IF(VLOOKUP(C353,$C$14:$Y$21,22,FALSE)=0,\"\",IF(VLOOKUP(C353,$C$14:$Y$21,22,FALSE)>95.99,\"\",VLOOKUP(C353,$C$14:$Y$21,22,FALSE))))","v":0},null,1,{"$f":"IF(ISERROR(VLOOKUP(C353,$D$22:$Y$29,4,FALSE))=TRUE,0,IF(VLOOKUP(C353,D$22:Y$29,21,FALSE)=0,\"\",VLOOKUP(C353,D$22:Y$29,3,FALSE)))","v":0},{"$f":"IF(ISERROR(VLOOKUP(C353,$D$22:$Y$29,4,FALSE))=TRUE,0,VLOOKUP(C353,D$22:Y$29,4,FALSE))","v":0},null,null,null,{"$f":"IF(ISERROR(VLOOKUP(C353,$D$22:$Y$29,4,FALSE))=TRUE,0,VLOOKUP(C353,$D$22:$Y$29,5,FALSE))","v":0},null,null,null,{"$f":"IF(ISERROR(VLOOKUP(C353,$D$22:$Y$29,3,FALSE))=TRUE,0,IF(VLOOKUP(C353,$D$22:$Y$29,21,FALSE)=0,\"\",VLOOKUP(C353,$D$22:$Y$29,21,FALSE)))","v":0}]
[null,null,2,null,2,{"$f":"IF(ISERROR(VLOOKUP(C354,$C$14:$Y$21,4,FALSE))=TRUE,0,IF(VLOOKUP(C354,$C$14:$Y$21,22,FALSE)=0,\"\",IF(VLOOKUP(C354,$C$14:$Y$21,22,FALSE)=99,99,IF(VLOOKUP(C354,$C$14:$Y$21,22,FALSE)=98,98,IF(VLOOKUP(C354,$C$14:$Y$21,22,FALSE)=96,96,VLOOKUP(C354,$C$14:$Y$21,4,FALSE))))))","v":0},0,0,0,null,2,0,0,null,null,null,0,null,null,null,0]
[null,null,3,null,3,0,0,0,0,null,3,0,0,null,null,null,0,null,null,null,0]
[null,null,4,null,4,0,0,0,0,null,4,0,0,null,null,null,0,null,null,null,0]
[null,null,5,null,5,0,0,0,0,null,5,0,0,null,null,null,0,null,null,null,0]
[null,null,6,null,6,0,0,0,0,null,6,0,0,null,null,null,0,null,null,null,0,null,"REFEREE'S SIGNATURE"]
[null,null,7,null,7,0,0,0,0,null,7,0,0,null,null,null,0,null,null,null,0]
[null,null,8,null,8,0,0,0,0,null,8,0,0,null,null,null,0,null,null,null,0]
["F20",null,null,null,"UK ATHLETICS: DISTANCE CARD"]
[{"$f":"VLOOKUP(A361,eventno,5,FALSE)","v":"F"},null,null,null,"MEETING ",null,{"$f":"CONCATENATE(MatchDay!$C$3,\"/\",MatchDay!$I$3)","v":"Northern Premier East/Northern 1 SE"},null,"VENUE ",null,null,{"$f":"MatchDay!$C$7","v":"Thornes Park Stadium, Wakefield"},null,null,null,null,null,"DATE ",null,{"$f":"MatchDay!$C$5","v":"Sunday 8th May 2011"}]
[{"$f":"IF(A362=\"M\",VLOOKUP(A361,males,15,FALSE),VLOOKUP(A361,females,15,FALSE))","v":46},null,null,null,"EVENT",null,{"$f":"CONCATENATE(A361,\" \",VLOOKUP(A361,eventno,4,FALSE))","v":"F20 U15G Discus"},null,"TIME",null,null,{"$f":"VLOOKUP(A361,eventno,12,FALSE)","v":"14:15:00"},null,"Record",null,{"$f":"VLOOKUP(A361,eventno,7,FALSE)","v":39.47},null,"Duty",null,{"$f":"VLOOKUP(VLOOKUP(A361,eventno,13,FALSE),teamorder2,3,FALSE)","v":"Hallamshire Harr"}]
[null,null,null,null,"Order","No","NAME","CLUB","1st Trial",null,"2nd Trial",null,"3rd Trial",null,"Best of 3",null,"Position after\n3 Trials","4th Trial",null,"5th Trial",null,"6th Trial",null,"Best of All",null,"Final\nPositionn","A or B"]
[{"$f":"VLOOKUP(A361,eventno,6,FALSE)","v":0},null,null,null,null,null,null,null,"Metres",null,"Metres",null,"Metres",null,"Metres",null,null,"Metres",null,"Metres",null,"Metres",null,"Metres",null,null,null,"A","B"]
[2,{"$f":"IF(OR(A366=0,A366=\"\"),\"\",VLOOKUP(A366,teamorder,2,FALSE))","v":8},{"$f":"Q366","v":0},null,1,{"$f":"IF(B366=0,\"\",B366)","v":8},{"$f":"IF(OR(F366=0,F366=\"\"),\"\",IF(A362=\"F\",HLOOKUP(F366,females,A363,FALSE),IF(A362=\"M\",HLOOKUP(F366,males,A363,FALSE),\"\")))","v":"Chelsea Walker"},{"$f":"IF(OR(F366=0,F366=\"\"),\"\",VLOOKUP(F366,match_teams,4,FALSE))","v":"York"},0,null,0,null,0,null,{"$f":"IF(AND(T(I366)<>\"\",T(K366)<>\"\",T(M366)<>\"\"),0,LARGE(I366:N366,1))","v":0},null,{"$f":"IF(OR(O366=\"\",O366=0),0,RANK(O366,$O$14:$P$21,0))","v":0},0,null,0,null,0,null,{"$f":"IF(AND(T(R366)<>\"\",T(T366)<>\"\",T(V366)<>\"\"),0,IF(O366>LARGE(R366:W366,1),O366,LARGE(R366:W366,1)))","v":0},null,{"$f":"IF(OR(X366=\"\",X366=0),0,RANK(X366,$X$14:$Y$29,0))","v":0},{"$f":"IF(X366=P363,\"LR=\",IF(X366>P363,\"LR\",\"\"))","v":""}]
[3,{"$f":"IF(OR(A367=0,A367=\"\"),\"\",VLOOKUP(A367,teamorder,2,FALSE))","v":7},{"$f":"Q367","v":0},null,2,7,{"$f":"IF(OR(F367=0,F367=\"\"),\"\",IF(A362=\"F\",HLOOKUP(F367,females,A363,FALSE),IF(A362=\"M\",HLOOKUP(F367,males,A363,FALSE),\"\")))","v":"Nicola Sawyer"},"Leeds C",0,null,0,null,0,null,{"$f":"IF(AND(T(I367)<>\"\",T(K367)<>\"\",T(M367)<>\"\"),0,LARGE(I367:N367,1))","v":0},null,0,0,null,0,null,0,null,{"$f":"IF(AND(T(R367)<>\"\",T(T367)<>\"\",T(V367)<>\"\"),0,IF(O367>LARGE(R367:W367,1),O367,LARGE(R367:W367,1)))","v":0},null,0,{"$f":"IF(X367=P363,\"LR=\",IF(X367>P363,\"LR\",\"\"))","v":""}]
[1,{"$f":"IF(OR(A368=0,A368=\"\"),\"\",VLOOKUP(A368,teamorder,2,FALSE))","v":9},0,null,3,9,{"$f":"IF(OR(F368=0,F368=\"\"),\"\",IF(A362=\"F\",HLOOKUP(F368,females,A363,FALSE),IF(A362=\"M\",HLOOKUP(F368,males,A363,FALSE),\"\")))","v":"Alyce McCurdie"},"Wake",0,null,0,null,0,null,0,null,0,0,null,0,null,0,null,0,null,0,{"$f":"IF(X368=P363,\"LR=\",IF(X368>P363,\"LR\",\"\"))","v":""}]
[null,{"$f":"IF(T(B366)=\"\",B366*11,CONCATENATE(B366,B366))","v":88},0,null,4,88,{"$f":"IF(OR(F369=0,F369=\"\"),\"\",IF(A362=\"F\",HLOOKUP(F369,females,A363,FALSE),IF(A362=\"M\",HLOOKUP(F369,males,A363,FALSE),\"\")))","v":"Jade Kerrison"},"York",0,null,0,null,0,null,0,null,0,0,null,0,null,0,null,0,null,0,{"$f":"IF(X369=P363,\"LR=\",IF(X369>P363,\"LR\",\"\"))","v":""}]
[null,{"$f":"IF(T(B367)=\"\",B367*11,CONCATENATE(B367,B367))","v":77},0,null,5,77,{"$f":"IF(OR(F370=0,F370=\"\"),\"\",IF(A362=\"F\",HLOOKUP(F370,females,A363,FALSE),IF(A362=\"M\",HLOOKUP(F370,males,A363,FALSE),\"\")))","v":"Melissa Fletcher"},"Leeds C",0,null,0,null,0,null,0,null,0,0,null,0,null,0,null,0,null,0,{"$f":"IF(X370=P363,\"LR=\",IF(X370>P363,\"LR\",\"\"))","v":""}]
[null,{"$f":"IF(T(B368)=\"\",B368*11,CONCATENATE(B368,B368))","v":99},0,null,6,99,{"$f":"IF(OR(F371=0,F371=\"\"),\"\",IF(A362=\"F\",HLOOKUP(F371,females,A363,FALSE),IF(A362=\"M\",HLOOKUP(F371,males,A363,FALSE),\"\")))","v":"Bethany Taylor"},"Wake",0,null,0,null,0,null,0,null,0,0,null,0,null,0,null,0,null,0,{"$f":"IF(X371=P363,\"LR=\",IF(X371>P363,\"LR\",\"\"))","v":""}]
[null,null,0,null,7,"",{"$f":"IF(OR(F372=0,F372=\"\"),\"\",IF(A362=\"F\",HLOOKUP(F372,females,A363,FALSE),IF(A362=\"M\",HLOOKUP(F372,males,A363,FALSE),\"\")))","v":""},"",0,null,0,null,0,null,0,null,0,0,null,0,null,0,null,0,null,0,{"$f":"IF(X372=P363,\"LR=\",IF(X372>P363,\"LR\",\"\"))","v":""}]
[null,null,0,null,8,"",{"$f":"IF(OR(F373=0,F373=\"\"),\"\",IF(A362=\"F\",HLOOKUP(F373,females,A363,FALSE),IF(A362=\"M\",HLOOKUP(F373,males,A363,FALSE),\"\")))","v":""},"",0,null,0,null,0,null,0,null,0,0,null,0,null,0,null,0,null,0,{"$f":"IF(X373=P363,\"LR=\",IF(X373>P363,\"LR\",\"\"))","v":""}]
[{"$f":"A366+3","v":5},{"$f":"IF(OR(A374=0,A374=\"\"),\"\",VLOOKUP(A374,teamorder2,2,FALSE))","v":2},null,{"$f":"Q374","v":0},1,2,{"$f":"IF(OR(F374=0,F374=\"\"),\"\",IF(A362=\"F\",HLOOKUP(F374,females2,A363,FALSE),IF(A362=\"M\",HLOOKUP(F374,males2,A363,FALSE),\"\")))","v":"India Freeman"},{"$f":"IF(OR(F374=0,F374=\"\"),\"\",VLOOKUP(F374,match_teams2,4,FALSE))","v":"Linc W"},0,null,0,null,0,null,0,null,{"$f":"IF(OR(O374=\"\",O374=0),0,RANK(O374,$O$22:$P$29,0))","v":0},0,null,0,null,0,null,0,null,0,{"$f":"IF(X374=P363,\"LR=\",IF(X374>P363,\"LR\",\"\"))","v":""}]
[{"$f":"A367+3","v":6},{"$f":"IF(OR(A375=0,A375=\"\"),\"\",VLOOKUP(A375,teamorder2,2,FALSE))","v":3},null,{"$f":"Q375","v":0},2,3,{"$f":"IF(OR(F375=0,F375=\"\"),\"\",IF(A362=\"F\",HLOOKUP(F375,females2,A363,FALSE),IF(A362=\"M\",HLOOKUP(F375,males2,A363,FALSE),\"\")))","v":"Charlotte Mather"},"Hallam",0,null,0,null,0,null,0,null,0,0,null,0,null,0,null,0,null,0,{"$f":"IF(X375=P363,\"LR=\",IF(X375>P363,\"LR\",\"\"))","v":""}]
[{"$f":"A368+3","v":4},{"$f":"IF(OR(A376=0,A376=\"\"),\"\",VLOOKUP(A376,teamorder2,2,FALSE))","v":1},null,0,3,1,{"$f":"IF(OR(F376=0,F376=\"\"),\"\",IF(A362=\"F\",HLOOKUP(F376,females2,A363,FALSE),IF(A362=\"M\",HLOOKUP(F376,males2,A363,FALSE),\"\")))","v":"Emma Clarkson"},"DASH",0,null,0,null,0,null,0,null,0,0,null,0,null,0,null,0,null,0,{"$f":"IF(X376=P363,\"LR=\",IF(X376>P363,\"LR\",\"\"))","v":""}]
[null,{"$f":"IF(T(B374)=\"\",B374*11,CONCATENATE(B374,B374))","v":22},null,0,4,22,{"$f":"IF(OR(F377=0,F377=\"\"),\"\",IF(A362=\"F\",HLOOKUP(F377,females2,A363,FALSE),IF(A362=\"M\",HLOOKUP(F377,males2,A363,FALSE),\"\")))","v":"Abbie Donnelly"},"Linc W",0,null,0,null,0,null,0,null,0,0,null,0,null,0,null,0,null,0,{"$f":"IF(X377=P363,\"LR=\",IF(X377>P363,\"LR\",\"\"))","v":""}]
[null,{"$f":"IF(T(B375)=\"\",B375*11,CONCATENATE(B375,B375))","v":33},null,0,5,33,{"$f":"IF(OR(F378=0,F378=\"\"),\"\",IF(A362=\"F\",HLOOKUP(F378,females2,A363,FALSE),IF(A362=\"M\",HLOOKUP(F378,males2,A363,FALSE),\"\")))","v":"Lexie Wilson"},"Hallam",0,null,0,null,0,null,0,null,0,0,null,0,null,0,null,0,null,0,{"$f":"IF(X378=P363,\"LR=\",IF(X378>P363,\"LR\",\"\"))","v":""}]
[null,{"$f":"IF(T(B376)=\"\",B376*11,CONCATENATE(B376,B376))","v":11},null,0,6,11,{"$f":"IF(OR(F379=0,F379=\"\"),\"\",IF(A362=\"F\",HLOOKUP(F379,females2,A363,FALSE),IF(A362=\"M\",HLOOKUP(F379,males2,A363,FALSE),\"\")))","v":"-"},"DASH",0,null,0,null,0,null,0,null,0,0,null,0,null,0,null,0,null,0,{"$f":"IF(X379=P363,\"LR=\",IF(X379>P363,\"LR\",\"\"))","v":""}]
[null,0,null,0,7,"",{"$f":"IF(OR(F380=0,F380=\"\"),\"\",IF(A362=\"F\",HLOOKUP(F380,females2,A363,FALSE),IF(A362=\"M\",HLOOKUP(F380,males2,A363,FALSE),\"\")))","v":""},"",0,null,0,null,0,null,0,null,0,0,null,0,null,0,null,0,null,0,{"$f":"IF(X380=P363,\"LR=\",IF(X380>P363,\"LR\",\"\"))","v":""}]
[null,0,null,0,8,"",{"$f":"IF(OR(F381=0,F381=\"\"),\"\",IF(A362=\"F\",HLOOKUP(F381,females2,A363,FALSE),IF(A362=\"M\",HLOOKUP(F381,males2,A363,FALSE),\"\")))","v":""},"",0,null,0,null,0,null,0,null,0,0,null,0,null,0,null,0,null,0,{"$f":"IF(X381=P363,\"LR=\",IF(X381>P363,\"LR\",\"\"))","v":""}]
[]
[null,null,null,null,"MATCH 1 RESULT",null,null,null,null,null,"MATCH 2 RESULT",null,null,null,null,null,null,null,null,null,null,null,"JUDGES' SIGNATURES"]
[null,null,null,null,null,"No.","NAME","CLUB","DISTANCE",null,null,"No.","NAME",null,null,null,"CLUB",null,null,null,"DISTANCE"]
[null,null,1,null,1,{"$f":"IF(ISERROR(VLOOKUP(C385,$C$14:$Y$21,4,FALSE))=TRUE,0,IF(VLOOKUP(C385,$C$14:$Y$21,22,FALSE)=0,0,IF(VLOOKUP(C385,$C$14:$Y$21,22,FALSE)=99,99,IF(VLOOKUP(C385,$C$14:$Y$21,22,FALSE)=98,98,IF(VLOOKUP(C385,$C$14:$Y$21,22,FALSE)=96,96,IF(VLOOKUP(C385,$C$14:$Y$21,22,FALSE)=95,95,VLOOKUP(C385,$C$14:$Y$21,4,FALSE)))))))","v":0},{"$f":"IF(ISERROR(VLOOKUP(C385,$C$14:$Y$21,4,FALSE))=TRUE,0,VLOOKUP(C385,$C$14:$Y$21,5,FALSE))","v":0},{"$f":"IF(ISERROR(VLOOKUP(C385,$C$14:$Y$21,4,FALSE))=TRUE,0,VLOOKUP(C385,$C$14:$Y$21,6,FALSE))","v":0},{"$f":"IF(ISERROR(VLOOKUP(C385,$C$14:$Y$21,4,FALSE))=TRUE,0,IF(VLOOKUP(C385,$C$14:$Y$21,22,FALSE)=0,\"\",IF(VLOOKUP(C385,$C$14:$Y$21,22,FALSE)>95.99,\"\",VLOOKUP(C385,$C$14:$Y$21,22,FALSE))))","v":0},null,1,{"$f":"IF(ISERROR(VLOOKUP(C385,$D$22:$Y$29,4,FALSE))=TRUE,0,IF(VLOOKUP(C385,D$22:Y$29,21,FALSE)=0,\"\",VLOOKUP(C385,D$22:Y$29,3,FALSE)))","v":0},{"$f":"IF(ISERROR(VLOOKUP(C385,$D$22:$Y$29,4,FALSE))=TRUE,0,VLOOKUP(C385,D$22:Y$29,4,FALSE))","v":0},null,null,null,{"$f":"IF(ISERROR(VLOOKUP(C385,$D$22:$Y$29,4,FALSE))=TRUE,0,VLOOKUP(C385,$D$22:$Y$29,5,FALSE))","v":0},null,null,null,{"$f":"IF(ISERROR(VLOOKUP(C385,$D$22:$Y$29,3,FALSE))=TRUE,0,IF(VLOOKUP(C385,$D$22:$Y$29,21,FALSE)=0,\"\",VLOOKUP(C385,$D$22:$Y$29,21,FALSE)))","v":0}]
[null,null,2,null,2,{"$f":"IF(ISERROR(VLOOKUP(C386,$C$14:$Y$21,4,FALSE))=TRUE,0,IF(VLOOKUP(C386,$C$14:$Y$21,22,FALSE)=0,\"\",IF(VLOOKUP(C386,$C$14:$Y$21,22,FALSE)=99,99,IF(VLOOKUP(C386,$C$14:$Y$21,22,FALSE)=98,98,IF(VLOOKUP(C386,$C$14:$Y$21,22,FALSE)=96,96,VLOOKUP(C386,$C$14:$Y$21,4,FALSE))))))","v":0},0,0,0,null,2,0,0,null,null,null,0,null,null,null,0]
[null,null,3,null,3,0,0,0,0,null,3,0,0,null,null,null,0,null,null,null,0]
[null,null,4,null,4,0,0,0,0,null,4,0,0,null,null,null,0,null,null,null,0]
[null,null,5,null,5,0,0,0,0,null,5,0,0,null,null,null,0,null,null,null,0]
[null,null,6,null,6,0,0,0,0,null,6,0,0,null,null,null,0,null,null,null,0,null,"REFEREE'S SIGNATURE"]
[null,null,7,null,7,0,0,0,0,null,7,0,0,null,null,null,0,null,null,null,0]
[null,null,8,null,8,0,0,0,0,null,8,0,0,null,null,null,0,null,null,null,0]
["F21",null,null,null,"UK ATHLETICS: DISTANCE CARD"]
[{"$f":"VLOOKUP(A393,eventno,5,FALSE)","v":"F"},null,null,null,"MEETING ",null,{"$f":"CONCATENATE(MatchDay!$C$3,\"/\",MatchDay!$I$3)","v":"Northern Premier East/Northern 1 SE"},null,"VENUE ",null,null,{"$f":"MatchDay!$C$7","v":"Thornes Park Stadium, Wakefield"},null,null,null,null,null,"DATE ",null,{"$f":"MatchDay!$C$5","v":"Sunday 8th May 2011"}]
[{"$f":"IF(A394=\"M\",VLOOKUP(A393,males,15,FALSE),VLOOKUP(A393,females,15,FALSE))","v":47},null,null,null,"EVENT",null,{"$f":"CONCATENATE(A393,\" \",VLOOKUP(A393,eventno,4,FALSE))","v":"F21 U17W Discus"},null,"TIME",null,null,{"$f":"VLOOKUP(A393,eventno,12,FALSE)","v":"14:15:00"},null,"Record",null,{"$f":"VLOOKUP(A393,eventno,7,FALSE)","v":45.48},null,"Duty",null,{"$f":"VLOOKUP(VLOOKUP(A393,eventno,13,FALSE),teamorder2,3,FALSE)","v":"Hallamshire Harr"}]
[null,null,null,null,"Order","No","NAME","CLUB","1st Trial",null,"2nd Trial",null,"3rd Trial",null,"Best of 3",null,"Position after\n3 Trials","4th Trial",null,"5th Trial",null,"6th Trial",null,"Best of All",null,"Final\nPositionn","A or B"]
[{"$f":"VLOOKUP(A393,eventno,6,FALSE)","v":0},null,null,null,null,null,null,null,"Metres",null,"Metres",null,"Metres",null,"Metres",null,null,"Metres",null,"Metres",null,"Metres",null,"Metres",null,null,null,"A","B"]
[1,{"$f":"IF(OR(A398=0,A398=\"\"),\"\",VLOOKUP(A398,teamorder,2,FALSE))","v":9},{"$f":"Q398","v":0},null,1,{"$f":"IF(B398=0,\"\",B398)","v":9},{"$f":"IF(OR(F398=0,F398=\"\"),\"\",IF(A394=\"F\",HLOOKUP(F398,females,A395,FALSE),IF(A394=\"M\",HLOOKUP(F398,males,A395,FALSE),\"\")))","v":"Hannah Yates"},{"$f":"IF(OR(F398=0,F398=\"\"),\"\",VLOOKUP(F398,match_teams,4,FALSE))","v":"Wake"},0,null,0,null,0,null,{"$f":"IF(AND(T(I398)<>\"\",T(K398)<>\"\",T(M398)<>\"\"),0,LARGE(I398:N398,1))","v":0},null,{"$f":"IF(OR(O398=\"\",O398=0),0,RANK(O398,$O$14:$P$21,0))","v":0},0,null,0,null,0,null,{"$f":"IF(AND(T(R398)<>\"\",T(T398)<>\"\",T(V398)<>\"\"),0,IF(O398>LARGE(R398:W398,1),O398,LARGE(R398:W398,1)))","v":0},null,{"$f":"IF(OR(X398=\"\",X398=0),0,RANK(X398,$X$14:$Y$29,0))","v":0},{"$f":"IF(X398=P395,\"LR=\",IF(X398>P395,\"LR\",\"\"))","v":""}]
[2,{"$f":"IF(OR(A399=0,A399=\"\"),\"\",VLOOKUP(A399,teamorder,2,FALSE))","v":8},{"$f":"Q399","v":0},null,2,8,{"$f":"IF(OR(F399=0,F399=\"\"),\"\",IF(A394=\"F\",HLOOKUP(F399,females,A395,FALSE),IF(A394=\"M\",HLOOKUP(F399,males,A395,FALSE),\"\")))","v":"Becky Tunnicliffe"},"York",0,null,0,null,0,null,{"$f":"IF(AND(T(I399)<>\"\",T(K399)<>\"\",T(M399)<>\"\"),0,LARGE(I399:N399,1))","v":0},null,0,0,null,0,null,0,null,{"$f":"IF(AND(T(R399)<>\"\",T(T399)<>\"\",T(V399)<>\"\"),0,IF(O399>LARGE(R399:W399,1),O399,LARGE(R399:W399,1)))","v":0},null,0,{"$f":"IF(X399=P395,\"LR=\",IF(X399>P395,\"LR\",\"\"))","v":""}]
[3,{"$f":"IF(OR(A400=0,A400=\"\"),\"\",VLOOKUP(A400,teamorder,2,FALSE))","v":7},0,null,3,7,{"$f":"IF(OR(F400=0,F400=\"\"),\"\",IF(A394=\"F\",HLOOKUP(F400,females,A395,FALSE),IF(A394=\"M\",HLOOKUP(F400,males,A395,FALSE),\"\")))","v":"Georgia Yearby"},"Leeds C",0,null,0,null,0,null,0,null,0,0,null,0,null,0,null,0,null,0,{"$f":"IF(X400=P395,\"LR=\",IF(X400>P395,\"LR\",\"\"))","v":""}]
[null,{"$f":"IF(T(B398)=\"\",B398*11,CONCATENATE(B398,B398))","v":99},0,null,4,99,{"$f":"IF(OR(F401=0,F401=\"\"),\"\",IF(A394=\"F\",HLOOKUP(F401,females,A395,FALSE),IF(A394=\"M\",HLOOKUP(F401,males,A395,FALSE),\"\")))","v":"Samantha Lancaster"},"Wake",0,null,0,null,0,null,0,null,0,0,null,0,null,0,null,0,null,0,{"$f":"IF(X401=P395,\"LR=\",IF(X401>P395,\"LR\",\"\"))","v":""}]
[null,{"$f":"IF(T(B399)=\"\",B399*11,CONCATENATE(B399,B399))","v":88},0,null,5,88,{"$f":"IF(OR(F402=0,F402=\"\"),\"\",IF(A394=\"F\",HLOOKUP(F402,females,A395,FALSE),IF(A394=\"M\",HLOOKUP(F402,males,A395,FALSE),\"\")))","v":"Zoe Robson"},"York",0,null,0,null,0,null,0,null,0,0,null,0,null,0,null,0,null,0,{"$f":"IF(X402=P395,\"LR=\",IF(X402>P395,\"LR\",\"\"))","v":""}]
[null,{"$f":"IF(T(B400)=\"\",B400*11,CONCATENATE(B400,B400))","v":77},0,null,6,77,{"$f":"IF(OR(F403=0,F403=\"\"),\"\",IF(A394=\"F\",HLOOKUP(F403,females,A395,FALSE),IF(A394=\"M\",HLOOKUP(F403,males,A395,FALSE),\"\")))","v":"Grace Coburn"},"Leeds C",0,null,0,null,0,null,0,null,0,0,null,0,null,0,null,0,null,0,{"$f":"IF(X403=P395,\"LR=\",IF(X403>P395,\"LR\",\"\"))","v":""}]
[null,null,0,null,7,"",{"$f":"IF(OR(F404=0,F404=\"\"),\"\",IF(A394=\"F\",HLOOKUP(F404,females,A395,FALSE),IF(A394=\"M\",HLOOKUP(F404,males,A395,FALSE),\"\")))","v":""},"",0,null,0,null,0,null,0,null,0,0,null,0,null,0,null,0,null,0,{"$f":"IF(X404=P395,\"LR=\",IF(X404>P395,\"LR\",\"\"))","v":""}]
[null,null,0,null,8,"",{"$f":"IF(OR(F405=0,F405=\"\"),\"\",IF(A394=\"F\",HLOOKUP(F405,females,A395,FALSE),IF(A394=\"M\",HLOOKUP(F405,males,A395,FALSE),\"\")))","v":""},"",0,null,0,null,0,null,0,null,0,0,null,0,null,0,null,0,null,0,{"$f":"IF(X405=P395,\"LR=\",IF(X405>P395,\"LR\",\"\"))","v":""}]
[{"$f":"A398+3","v":4},{"$f":"IF(OR(A406=0,A406=\"\"),\"\",VLOOKUP(A406,teamorder2,2,FALSE))","v":1},null,{"$f":"Q406","v":0},1,1,{"$f":"IF(OR(F406=0,F406=\"\"),\"\",IF(A394=\"F\",HLOOKUP(F406,females2,A395,FALSE),IF(A394=\"M\",HLOOKUP(F406,males2,A395,FALSE),\"\")))","v":"-"},{"$f":"IF(OR(F406=0,F406=\"\"),\"\",VLOOKUP(F406,match_teams2,4,FALSE))","v":"DASH"},0,null,0,null,0,null,0,null,{"$f":"IF(OR(O406=\"\",O406=0),0,RANK(O406,$O$22:$P$29,0))","v":0},0,null,0,null,0,null,0,null,0,{"$f":"IF(X406=P395,\"LR=\",IF(X406>P395,\"LR\",\"\"))","v":""}]
[{"$f":"A399+3","v":5},{"$f":"IF(OR(A407=0,A407=\"\"),\"\",VLOOKUP(A407,teamorder2,2,FALSE))","v":2},null,{"$f":"Q407","v":0},2,2,{"$f":"IF(OR(F407=0,F407=\"\"),\"\",IF(A394=\"F\",HLOOKUP(F407,females2,A395,FALSE),IF(A394=\"M\",HLOOKUP(F407,males2,A395,FALSE),\"\")))","v":"Elsie Dawes"},"Linc W",0,null,0,null,0,null,0,null,0,0,null,0,null,0,null,0,null,0,{"$f":"IF(X407=P395,\"LR=\",IF(X407>P395,\"LR\",\"\"))","v":""}]
[{"$f":"A400+3","v":6},{"$f":"IF(OR(A408=0,A408=\"\"),\"\",VLOOKUP(A408,teamorder2,2,FALSE))","v":3},null,0,3,3,{"$f":"IF(OR(F408=0,F408=\"\"),\"\",IF(A394=\"F\",HLOOKUP(F408,females2,A395,FALSE),IF(A394=\"M\",HLOOKUP(F408,males2,A395,FALSE),\"\")))","v":"Emily Fox"},"Hallam",0,null,0,null,0,null,0,null,0,0,null,0,null,0,null,0,null,0,{"$f":"IF(X408=P395,\"LR=\",IF(X408>P395,\"LR\",\"\"))","v":""}]
[null,{"$f":"IF(T(B406)=\"\",B406*11,CONCATENATE(B406,B406))","v":11},null,0,4,11,{"$f":"IF(OR(F409=0,F409=\"\"),\"\",IF(A394=\"F\",HLOOKUP(F409,females2,A395,FALSE),IF(A394=\"M\",HLOOKUP(F409,males2,A395,FALSE),\"\")))","v":"-"},"DASH",0,null,0,null,0,null,0,null,0,0,null,0,null,0,null,0,null,0,{"$f":"IF(X409=P395,\"LR=\",IF(X409>P395,\"LR\",\"\"))","v":""}]
[null,{"$f":"IF(T(B407)=\"\",B407*11,CONCATENATE(B407,B407))","v":22},null,0,5,22,{"$f":"IF(OR(F410=0,F410=\"\"),\"\",IF(A394=\"F\",HLOOKUP(F410,females2,A395,FALSE),IF(A394=\"M\",HLOOKUP(F410,males2,A395,FALSE),\"\")))","v":"Rhiannon Philps"},"Linc W",0,null,0,null,0,null,0,null,0,0,null,0,null,0,null,0,null,0,{"$f":"IF(X410=P395,\"LR=\",IF(X410>P395,\"LR\",\"\"))","v":""}]
[null,{"$f":"IF(T(B408)=\"\",B408*11,CONCATENATE(B408,B408))","v":33},null,0,6,33,{"$f":"IF(OR(F411=0,F411=\"\"),\"\",IF(A394=\"F\",HLOOKUP(F411,females2,A395,FALSE),IF(A394=\"M\",HLOOKUP(F411,males2,A395,FALSE),\"\")))","v":"Fiona Bell"},"Hallam",0,null,0,null,0,null,0,null,0,0,null,0,null,0,null,0,null,0,{"$f":"IF(X411=P395,\"LR=\",IF(X411>P395,\"LR\",\"\"))","v":""}]
[null,0,null,0,7,"",{"$f":"IF(OR(F412=0,F412=\"\"),\"\",IF(A394=\"F\",HLOOKUP(F412,females2,A395,FALSE),IF(A394=\"M\",HLOOKUP(F412,males2,A395,FALSE),\"\")))","v":""},"",0,null,0,null,0,null,0,null,0,0,null,0,null,0,null,0,null,0,{"$f":"IF(X412=P395,\"LR=\",IF(X412>P395,\"LR\",\"\"))","v":""}]
[null,0,null,0,8,"",{"$f":"IF(OR(F413=0,F413=\"\"),\"\",IF(A394=\"F\",HLOOKUP(F413,females2,A395,FALSE),IF(A394=\"M\",HLOOKUP(F413,males2,A395,FALSE),\"\")))","v":""},"",0,null,0,null,0,null,0,null,0,0,null,0,null,0,null,0,null,0,{"$f":"IF(X413=P395,\"LR=\",IF(X413>P395,\"LR\",\"\"))","v":""}]
[]
[null,null,null,null,"MATCH 1 RESULT",null,null,null,null,null,"MATCH 2 RESULT",null,null,null,null,null,null,null,null,null,null,null,"JUDGES' SIGNATURES"]
[null,null,null,null,null,"No.","NAME","CLUB","DISTANCE",null,null,"No.","NAME",null,null,null,"CLUB",null,null,null,"DISTANCE"]
[null,null,1,null,1,{"$f":"IF(ISERROR(VLOOKUP(C417,$C$14:$Y$21,4,FALSE))=TRUE,0,IF(VLOOKUP(C417,$C$14:$Y$21,22,FALSE)=0,0,IF(VLOOKUP(C417,$C$14:$Y$21,22,FALSE)=99,99,IF(VLOOKUP(C417,$C$14:$Y$21,22,FALSE)=98,98,IF(VLOOKUP(C417,$C$14:$Y$21,22,FALSE)=96,96,IF(VLOOKUP(C417,$C$14:$Y$21,22,FALSE)=95,95,VLOOKUP(C417,$C$14:$Y$21,4,FALSE)))))))","v":0},{"$f":"IF(ISERROR(VLOOKUP(C417,$C$14:$Y$21,4,FALSE))=TRUE,0,VLOOKUP(C417,$C$14:$Y$21,5,FALSE))","v":0},{"$f":"IF(ISERROR(VLOOKUP(C417,$C$14:$Y$21,4,FALSE))=TRUE,0,VLOOKUP(C417,$C$14:$Y$21,6,FALSE))","v":0},{"$f":"IF(ISERROR(VLOOKUP(C417,$C$14:$Y$21,4,FALSE))=TRUE,0,IF(VLOOKUP(C417,$C$14:$Y$21,22,FALSE)=0,\"\",IF(VLOOKUP(C417,$C$14:$Y$21,22,FALSE)>95.99,\"\",VLOOKUP(C417,$C$14:$Y$21,22,FALSE))))","v":0},null,1,{"$f":"IF(ISERROR(VLOOKUP(C417,$D$22:$Y$29,4,FALSE))=TRUE,0,IF(VLOOKUP(C417,D$22:Y$29,21,FALSE)=0,\"\",VLOOKUP(C417,D$22:Y$29,3,FALSE)))","v":0},{"$f":"IF(ISERROR(VLOOKUP(C417,$D$22:$Y$29,4,FALSE))=TRUE,0,VLOOKUP(C417,D$22:Y$29,4,FALSE))","v":0},null,null,null,{"$f":"IF(ISERROR(VLOOKUP(C417,$D$22:$Y$29,4,FALSE))=TRUE,0,VLOOKUP(C417,$D$22:$Y$29,5,FALSE))","v":0},null,null,null,{"$f":"IF(ISERROR(VLOOKUP(C417,$D$22:$Y$29,3,FALSE))=TRUE,0,IF(VLOOKUP(C417,$D$22:$Y$29,21,FALSE)=0,\"\",VLOOKUP(C417,$D$22:$Y$29,21,FALSE)))","v":0}]
[null,null,2,null,2,{"$f":"IF(ISERROR(VLOOKUP(C418,$C$14:$Y$21,4,FALSE))=TRUE,0,IF(VLOOKUP(C418,$C$14:$Y$21,22,FALSE)=0,\"\",IF(VLOOKUP(C418,$C$14:$Y$21,22,FALSE)=99,99,IF(VLOOKUP(C418,$C$14:$Y$21,22,FALSE)=98,98,IF(VLOOKUP(C418,$C$14:$Y$21,22,FALSE)=96,96,VLOOKUP(C418,$C$14:$Y$21,4,FALSE))))))","v":0},0,0,0,null,2,0,0,null,null,null,0,null,null,null,0]
[null,null,3,null,3,0,0,0,0,null,3,0,0,null,null,null,0,null,null,null,0]
[null,null,4,null,4,0,0,0,0,null,4,0,0,null,null,null,0,null,null,null,0]
[null,null,5,null,5,0,0,0,0,null,5,0,0,null,null,null,0,null,null,null,0]
[null,null,6,null,6,0,0,0,0,null,6,0,0,null,null,null,0,null,null,null,0,null,"REFEREE'S SIGNATURE"]
[null,null,7,null,7,0,0,0,0,null,7,0,0,null,null,null,0,null,null,null,0]
[null,null,8,null,8,0,0,0,0,null,8,0,0,null,null,null,0,null,null,null,0]
["F22",null,null,null,"UK ATHLETICS: DISTANCE CARD"]
[{"$f":"VLOOKUP(A425,eventno,5,FALSE)","v":"M"},null,null,null,"MEETING ",null,{"$f":"CONCATENATE(MatchDay!$C$3,\"/\",MatchDay!$I$3)","v":"Northern Premier East/Northern 1 SE"},null,"VENUE ",null,null,{"$f":"MatchDay!$C$7","v":"Thornes Park Stadium, Wakefield"},null,null,null,null,null,"DATE ",null,{"$f":"MatchDay!$C$5","v":"Sunday 8th May 2011"}]
[{"$f":"IF(A426=\"M\",VLOOKUP(A425,males,15,FALSE),VLOOKUP(A425,females,15,FALSE))","v":44},null,null,null,"EVENT",null,{"$f":"CONCATENATE(A425,\" \",VLOOKUP(A425,eventno,4,FALSE))","v":"F22 U13B Shot"},null,"TIME",null,null,{"$f":"VLOOKUP(A425,eventno,12,FALSE)","v":"14:30:00"},null,"Record",null,{"$f":"VLOOKUP(A425,eventno,7,FALSE)","v":14.47},null,"Duty",null,{"$f":"VLOOKUP(VLOOKUP(A425,eventno,13,FALSE),teamorder,3,FALSE)","v":"Leeds City"}]
[null,null,null,null,"Order","No","NAME","CLUB","1st Trial",null,"2nd Trial",null,"3rd Trial",null,"Best of 3",null,"Position after\n3 Trials","4th Trial",null,"5th Trial",null,"6th Trial",null,"Best of All",null,"Final\nPositionn","A or B"]
[{"$f":"VLOOKUP(A425,eventno,6,FALSE)","v":0},null,null,null,null,null,null,null,"Metres",null,"Metres",null,"Metres",null,"Metres",null,null,"Metres",null,"Metres",null,"Metres",null,"Metres",null,null,null,"A","B"]
[2,{"$f":"IF(OR(A430=0,A430=\"\"),\"\",VLOOKUP(A430,teamorder,2,FALSE))","v":8},{"$f":"Q430","v":0},null,1,{"$f":"IF(B430=0,\"\",B430)","v":8},{"$f":"IF(OR(F430=0,F430=\"\"),\"\",IF(A426=\"F\",HLOOKUP(F430,females,A427,FALSE),IF(A426=\"M\",HLOOKUP(F430,males,A427,FALSE),\"\")))","v":"Matt Hobson"},{"$f":"IF(OR(F430=0,F430=\"\"),\"\",VLOOKUP(F430,match_teams,4,FALSE))","v":"York"},0,null,0,null,0,null,{"$f":"IF(AND(T(I430)<>\"\",T(K430)<>\"\",T(M430)<>\"\"),0,LARGE(I430:N430,1))","v":0},null,{"$f":"IF(OR(O430=\"\",O430=0),0,RANK(O430,$O$14:$P$21,0))","v":0},0,null,0,null,0,null,{"$f":"IF(AND(T(R430)<>\"\",T(T430)<>\"\",T(V430)<>\"\"),0,IF(O430>LARGE(R430:W430,1),O430,LARGE(R430:W430,1)))","v":0},null,{"$f":"IF(OR(X430=\"\",X430=0),0,RANK(X430,$X$14:$Y$29,0))","v":0},{"$f":"IF(X430=P427,\"LR=\",IF(X430>P427,\"LR\",\"\"))","v":""}]
[1,{"$f":"IF(OR(A431=0,A431=\"\"),\"\",VLOOKUP(A431,teamorder,2,FALSE))","v":9},{"$f":"Q431","v":0},null,2,9,{"$f":"IF(OR(F431=0,F431=\"\"),\"\",IF(A426=\"F\",HLOOKUP(F431,females,A427,FALSE),IF(A426=\"M\",HLOOKUP(F431,males,A427,FALSE),\"\")))","v":"Dylan Roberts"},"Wake",0,null,0,null,0,null,{"$f":"IF(AND(T(I431)<>\"\",T(K431)<>\"\",T(M431)<>\"\"),0,LARGE(I431:N431,1))","v":0},null,0,0,null,0,null,0,null,{"$f":"IF(AND(T(R431)<>\"\",T(T431)<>\"\",T(V431)<>\"\"),0,IF(O431>LARGE(R431:W431,1),O431,LARGE(R431:W431,1)))","v":0},null,0,{"$f":"IF(X431=P427,\"LR=\",IF(X431>P427,\"LR\",\"\"))","v":""}]
[3,{"$f":"IF(OR(A432=0,A432=\"\"),\"\",VLOOKUP(A432,teamorder,2,FALSE))","v":7},0,null,3,7,{"$f":"IF(OR(F432=0,F432=\"\"),\"\",IF(A426=\"F\",HLOOKUP(F432,females,A427,FALSE),IF(A426=\"M\",HLOOKUP(F432,males,A427,FALSE),\"\")))","v":"Owen Sage"},"Leeds C",0,null,0,null,0,null,0,null,0,0,null,0,null,0,null,0,null,0,{"$f":"IF(X432=P427,\"LR=\",IF(X432>P427,\"LR\",\"\"))","v":""}]
[null,{"$f":"IF(T(B430)=\"\",B430*11,CONCATENATE(B430,B430))","v":88},0,null,4,88,{"$f":"IF(OR(F433=0,F433=\"\"),\"\",IF(A426=\"F\",HLOOKUP(F433,females,A427,FALSE),IF(A426=\"M\",HLOOKUP(F433,males,A427,FALSE),\"\")))","v":"-"},"York",0,null,0,null,0,null,0,null,0,0,null,0,null,0,null,0,null,0,{"$f":"IF(X433=P427,\"LR=\",IF(X433>P427,\"LR\",\"\"))","v":""}]
[null,{"$f":"IF(T(B431)=\"\",B431*11,CONCATENATE(B431,B431))","v":99},0,null,5,99,{"$f":"IF(OR(F434=0,F434=\"\"),\"\",IF(A426=\"F\",HLOOKUP(F434,females,A427,FALSE),IF(A426=\"M\",HLOOKUP(F434,males,A427,FALSE),\"\")))","v":"Barnaby Drew"},"Wake",0,null,0,null,0,null,0,null,0,0,null,0,null,0,null,0,null,0,{"$f":"IF(X434=P427,\"LR=\",IF(X434>P427,\"LR\",\"\"))","v":""}]
[null,{"$f":"IF(T(B432)=\"\",B432*11,CONCATENATE(B432,B432))","v":77},0,null,6,77,{"$f":"IF(OR(F435=0,F435=\"\"),\"\",IF(A426=\"F\",HLOOKUP(F435,females,A427,FALSE),IF(A426=\"M\",HLOOKUP(F435,males,A427,FALSE),\"\")))","v":"Alex Booth"},"Leeds C",0,null,0,null,0,null,0,null,0,0,null,0,null,0,null,0,null,0,{"$f":"IF(X435=P427,\"LR=\",IF(X435>P427,\"LR\",\"\"))","v":""}]
[null,null,0,null,7,"",{"$f":"IF(OR(F436=0,F436=\"\"),\"\",IF(A426=\"F\",HLOOKUP(F436,females,A427,FALSE),IF(A426=\"M\",HLOOKUP(F436,males,A427,FALSE),\"\")))","v":""},"",0,null,0,null,0,null,0,null,0,0,null,0,null,0,null,0,null,0,{"$f":"IF(X436=P427,\"LR=\",IF(X436>P427,\"LR\",\"\"))","v":""}]
[null,null,0,null,8,"",{"$f":"IF(OR(F437=0,F437=\"\"),\"\",IF(A426=\"F\",HLOOKUP(F437,females,A427,FALSE),IF(A426=\"M\",HLOOKUP(F437,males,A427,FALSE),\"\")))","v":""},"",0,null,0,null,0,null,0,null,0,0,null,0,null,0,null,0,null,0,{"$f":"IF(X437=P427,\"LR=\",IF(X437>P427,\"LR\",\"\"))","v":""}]
[{"$f":"A430+3","v":5},{"$f":"IF(OR(A438=0,A438=\"\"),\"\",VLOOKUP(A438,teamorder2,2,FALSE))","v":2},null,{"$f":"Q438","v":0},1,2,{"$f":"IF(OR(F438=0,F438=\"\"),\"\",IF(A426=\"F\",HLOOKUP(F438,females2,A427,FALSE),IF(A426=\"M\",HLOOKUP(F438,males2,A427,FALSE),\"\")))","v":"Oliver Jackson"},{"$f":"IF(OR(F438=0,F438=\"\"),\"\",VLOOKUP(F438,match_teams2,4,FALSE))","v":"Linc W"},0,null,0,null,0,null,0,null,{"$f":"IF(OR(O438=\"\",O438=0),0,RANK(O438,$O$22:$P$29,0))","v":0},0,null,0,null,0,null,0,null,0,{"$f":"IF(X438=P427,\"LR=\",IF(X438>P427,\"LR\",\"\"))","v":""}]
[{"$f":"A431+3","v":4},{"$f":"IF(OR(A439=0,A439=\"\"),\"\",VLOOKUP(A439,teamorder2,2,FALSE))","v":1},null,{"$f":"Q439","v":0},2,1,{"$f":"IF(OR(F439=0,F439=\"\"),\"\",IF(A426=\"F\",HLOOKUP(F439,females2,A427,FALSE),IF(A426=\"M\",HLOOKUP(F439,males2,A427,FALSE),\"\")))","v":"James Mckell"},"DASH",0,null,0,null,0,null,0,null,0,0,null,0,null,0,null,0,null,0,{"$f":"IF(X439=P427,\"LR=\",IF(X439>P427,\"LR\",\"\"))","v":""}]
[{"$f":"A432+3","v":6},{"$f":"IF(OR(A440=0,A440=\"\"),\"\",VLOOKUP(A440,teamorder2,2,FALSE))","v":3},null,0,3,3,{"$f":"IF(OR(F440=0,F440=\"\"),\"\",IF(A426=\"F\",HLOOKUP(F440,females2,A427,FALSE),IF(A426=\"M\",HLOOKUP(F440,males2,A427,FALSE),\"\")))","v":"Jake Steade"},"Hallam",0,null,0,null,0,null,0,null,0,0,null,0,null,0,null,0,null,0,{"$f":"IF(X440=P427,\"LR=\",IF(X440>P427,\"LR\",\"\"))","v":""}]
[null,{"$f":"IF(T(B438)=\"\",B438*11,CONCATENATE(B438,B438))","v":22},null,0,4,22,{"$f":"IF(OR(F441=0,F441=\"\"),\"\",IF(A426=\"F\",HLOOKUP(F441,females2,A427,FALSE),IF(A426=\"M\",HLOOKUP(F441,males2,A427,FALSE),\"\")))","v":"Maxwell Sheehan"},"Linc W",0,null,0,null,0,null,0,null,0,0,null,0,null,0,null,0,null,0,{"$f":"IF(X441=P427,\"LR=\",IF(X441>P427,\"LR\",\"\"))","v":""}]
[null,{"$f":"IF(T(B439)=\"\",B439*11,CONCATENATE(B439,B439))","v":11},null,0,5,11,{"$f":"IF(OR(F442=0,F442=\"\"),\"\",IF(A426=\"F\",HLOOKUP(F442,females2,A427,FALSE),IF(A426=\"M\",HLOOKUP(F442,males2,A427,FALSE),\"\")))","v":"Bradley Gabbitas"},"DASH",0,null,0,null,0,null,0,null,0,0,null,0,null,0,null,0,null,0,{"$f":"IF(X442=P427,\"LR=\",IF(X442>P427,\"LR\",\"\"))","v":""}]
[null,{"$f":"IF(T(B440)=\"\",B440*11,CONCATENATE(B440,B440))","v":33},null,0,6,33,{"$f":"IF(OR(F443=0,F443=\"\"),\"\",IF(A426=\"F\",HLOOKUP(F443,females2,A427,FALSE),IF(A426=\"M\",HLOOKUP(F443,males2,A427,FALSE),\"\")))","v":"Jacob Worthington"},"Hallam",0,null,0,null,0,null,0,null,0,0,null,0,null,0,null,0,null,0,{"$f":"IF(X443=P427,\"LR=\",IF(X443>P427,\"LR\",\"\"))","v":""}]
[null,0,null,0,7,"",{"$f":"IF(OR(F444=0,F444=\"\"),\"\",IF(A426=\"F\",HLOOKUP(F444,females2,A427,FALSE),IF(A426=\"M\",HLOOKUP(F444,males2,A427,FALSE),\"\")))","v":""},"",0,null,0,null,0,null,0,null,0,0,null,0,null,0,null,0,null,0,{"$f":"IF(X444=P427,\"LR=\",IF(X444>P427,\"LR\",\"\"))","v":""}]
[null,0,null,0,8,"",{"$f":"IF(OR(F445=0,F445=\"\"),\"\",IF(A426=\"F\",HLOOKUP(F445,females2,A427,FALSE),IF(A426=\"M\",HLOOKUP(F445,males2,A427,FALSE),\"\")))","v":""},"",0,null,0,null,0,null,0,null,0,0,null,0,null,0,null,0,null,0,{"$f":"IF(X445=P427,\"LR=\",IF(X445>P427,\"LR\",\"\"))","v":""}]
[]
[null,null,null,null,"MATCH 1 RESULT",null,null,null,null,null,"MATCH 2 RESULT",null,null,null,null,null,null,null,null,null,null,null,"JUDGES' SIGNATURES"]
[null,null,null,null,null,"No.","NAME","CLUB","DISTANCE",null,null,"No.","NAME",null,null,null,"CLUB",null,null,null,"DISTANCE"]
[null,null,1,null,1,{"$f":"IF(ISERROR(VLOOKUP(C449,$C$14:$Y$21,4,FALSE))=TRUE,0,IF(VLOOKUP(C449,$C$14:$Y$21,22,FALSE)=0,0,IF(VLOOKUP(C449,$C$14:$Y$21,22,FALSE)=99,99,IF(VLOOKUP(C449,$C$14:$Y$21,22,FALSE)=98,98,IF(VLOOKUP(C449,$C$14:$Y$21,22,FALSE)=96,96,IF(VLOOKUP(C449,$C$14:$Y$21,22,FALSE)=95,95,VLOOKUP(C449,$C$14:$Y$21,4,FALSE)))))))","v":0},{"$f":"IF(ISERROR(VLOOKUP(C449,$C$14:$Y$21,4,FALSE))=TRUE,0,VLOOKUP(C449,$C$14:$Y$21,5,FALSE))","v":0},{"$f":"IF(ISERROR(VLOOKUP(C449,$C$14:$Y$21,4,FALSE))=TRUE,0,VLOOKUP(C449,$C$14:$Y$21,6,FALSE))","v":0},{"$f":"IF(ISERROR(VLOOKUP(C449,$C$14:$Y$21,4,FALSE))=TRUE,0,IF(VLOOKUP(C449,$C$14:$Y$21,22,FALSE)=0,\"\",IF(VLOOKUP(C449,$C$14:$Y$21,22,FALSE)>95.99,\"\",VLOOKUP(C449,$C$14:$Y$21,22,FALSE))))","v":0},null,1,{"$f":"IF(ISERROR(VLOOKUP(C449,$D$22:$Y$29,4,FALSE))=TRUE,0,IF(VLOOKUP(C449,D$22:Y$29,21,FALSE)=0,\"\",VLOOKUP(C449,D$22:Y$29,3,FALSE)))","v":0},{"$f":"IF(ISERROR(VLOOKUP(C449,$D$22:$Y$29,4,FALSE))=TRUE,0,VLOOKUP(C449,D$22:Y$29,4,FALSE))","v":0},null,null,null,{"$f":"IF(ISERROR(VLOOKUP(C449,$D$22:$Y$29,4,FALSE))=TRUE,0,VLOOKUP(C449,$D$22:$Y$29,5,FALSE))","v":0},null,null,null,{"$f":"IF(ISERROR(VLOOKUP(C449,$D$22:$Y$29,3,FALSE))=TRUE,0,IF(VLOOKUP(C449,$D$22:$Y$29,21,FALSE)=0,\"\",VLOOKUP(C449,$D$22:$Y$29,21,FALSE)))","v":0}]
[null,null,2,null,2,{"$f":"IF(ISERROR(VLOOKUP(C450,$C$14:$Y$21,4,FALSE))=TRUE,0,IF(VLOOKUP(C450,$C$14:$Y$21,22,FALSE)=0,\"\",IF(VLOOKUP(C450,$C$14:$Y$21,22,FALSE)=99,99,IF(VLOOKUP(C450,$C$14:$Y$21,22,FALSE)=98,98,IF(VLOOKUP(C450,$C$14:$Y$21,22,FALSE)=96,96,VLOOKUP(C450,$C$14:$Y$21,4,FALSE))))))","v":0},0,0,0,null,2,0,0,null,null,null,0,null,null,null,0]
[null,null,3,null,3,0,0,0,0,null,3,0,0,null,null,null,0,null,null,null,0]
[null,null,4,null,4,0,0,0,0,null,4,0,0,null,null,null,0,null,null,null,0]
[null,null,5,null,5,0,0,0,0,null,5,0,0,null,null,null,0,null,null,null,0]
[null,null,6,null,6,0,0,0,0,null,6,0,0,null,null,null,0,null,null,null,0,null,"REFEREE'S SIGNATURE"]
[null,null,7,null,7,0,0,0,0,null,7,0,0,null,null,null,0,null,null,null,0]
[null,null,8,null,8,0,0,0,0,null,8,0,0,null,null,null,0,null,null,null,0]
["F23",null,null,null,"UK ATHLETICS: DISTANCE CARD"]
[{"$f":"VLOOKUP(A457,eventno,5,FALSE)","v":"F"},null,null,null,"MEETING ",null,{"$f":"CONCATENATE(MatchDay!$C$3,\"/\",MatchDay!$I$3)","v":"Northern Premier East/Northern 1 SE"},null,"VENUE ",null,null,{"$f":"MatchDay!$C$7","v":"Thornes Park Stadium, Wakefield"},null,null,null,null,null,"DATE ",null,{"$f":"MatchDay!$C$5","v":"Sunday 8th May 2011"}]
[{"$f":"IF(A458=\"M\",VLOOKUP(A457,males,15,FALSE),VLOOKUP(A457,females,15,FALSE))","v":45},null,null,null,"EVENT",null,{"$f":"CONCATENATE(A457,\" \",VLOOKUP(A457,eventno,4,FALSE))","v":"F23 U15G Long Jump"},null,"TIME",null,null,{"$f":"VLOOKUP(A457,eventno,12,FALSE)","v":"14:30:00"},null,"Record",null,{"$f":"VLOOKUP(A457,eventno,7,FALSE)","v":6.07},null,"Duty",null,{"$f":"VLOOKUP(VLOOKUP(A457,eventno,13,FALSE),teamorder2,3,FALSE)","v":"Lincoln Wellington"}]
[null,null,null,null,"Order","No","NAME","CLUB","1st Trial",null,"2nd Trial",null,"3rd Trial",null,"Best of 3",null,"Position after\n3 Trials","4th Trial",null,"5th Trial",null,"6th Trial",null,"Best of All",null,"Final\nPositionn","A or B"]
[{"$f":"VLOOKUP(A457,eventno,6,FALSE)","v":0},null,null,null,null,null,null,null,"Metres",null,"Metres",null,"Metres",null,"Metres",null,null,"Metres",null,"Metres",null,"Metres",null,"Metres",null,null,null,"A","B"]
[3,{"$f":"IF(OR(A462=0,A462=\"\"),\"\",VLOOKUP(A462,teamorder,2,FALSE))","v":7},{"$f":"Q462","v":0},null,1,{"$f":"IF(B462=0,\"\",B462)","v":7},{"$f":"IF(OR(F462=0,F462=\"\"),\"\",IF(A458=\"F\",HLOOKUP(F462,females,A459,FALSE),IF(A458=\"M\",HLOOKUP(F462,males,A459,FALSE),\"\")))","v":"Sian Gilmartin-Green"},{"$f":"IF(OR(F462=0,F462=\"\"),\"\",VLOOKUP(F462,match_teams,4,FALSE))","v":"Leeds C"},0,null,0,null,0,null,{"$f":"IF(AND(T(I462)<>\"\",T(K462)<>\"\",T(M462)<>\"\"),0,LARGE(I462:N462,1))","v":0},null,{"$f":"IF(OR(O462=\"\",O462=0),0,RANK(O462,$O$14:$P$21,0))","v":0},0,null,0,null,0,null,{"$f":"IF(AND(T(R462)<>\"\",T(T462)<>\"\",T(V462)<>\"\"),0,IF(O462>LARGE(R462:W462,1),O462,LARGE(R462:W462,1)))","v":0},null,{"$f":"IF(OR(X462=\"\",X462=0),0,RANK(X462,$X$14:$Y$29,0))","v":0},{"$f":"IF(X462=P459,\"LR=\",IF(X462>P459,\"LR\",\"\"))","v":""}]
[1,{"$f":"IF(OR(A463=0,A463=\"\"),\"\",VLOOKUP(A463,teamorder,2,FALSE))","v":9},{"$f":"Q463","v":0},null,2,9,{"$f":"IF(OR(F463=0,F463=\"\"),\"\",IF(A458=\"F\",HLOOKUP(F463,females,A459,FALSE),IF(A458=\"M\",HLOOKUP(F463,males,A459,FALSE),\"\")))","v":"Jessica Eyles"},"Wake",0,null,0,null,0,null,{"$f":"IF(AND(T(I463)<>\"\",T(K463)<>\"\",T(M463)<>\"\"),0,LARGE(I463:N463,1))","v":0},null,0,0,null,0,null,0,null,{"$f":"IF(AND(T(R463)<>\"\",T(T463)<>\"\",T(V463)<>\"\"),0,IF(O463>LARGE(R463:W463,1),O463,LARGE(R463:W463,1)))","v":0},null,0,{"$f":"IF(X463=P459,\"LR=\",IF(X463>P459,\"LR\",\"\"))","v":""}]
[2,{"$f":"IF(OR(A464=0,A464=\"\"),\"\",VLOOKUP(A464,teamorder,2,FALSE))","v":8},0,null,3,8,{"$f":"IF(OR(F464=0,F464=\"\"),\"\",IF(A458=\"F\",HLOOKUP(F464,females,A459,FALSE),IF(A458=\"M\",HLOOKUP(F464,males,A459,FALSE),\"\")))","v":"Josie Parry"},"York",0,null,0,null,0,null,0,null,0,0,null,0,null,0,null,0,null,0,{"$f":"IF(X464=P459,\"LR=\",IF(X464>P459,\"LR\",\"\"))","v":""}]
[null,{"$f":"IF(T(B462)=\"\",B462*11,CONCATENATE(B462,B462))","v":77},0,null,4,77,{"$f":"IF(OR(F465=0,F465=\"\"),\"\",IF(A458=\"F\",HLOOKUP(F465,females,A459,FALSE),IF(A458=\"M\",HLOOKUP(F465,males,A459,FALSE),\"\")))","v":"Jemma Ibbetson"},"Leeds C",0,null,0,null,0,null,0,null,0,0,null,0,null,0,null,0,null,0,{"$f":"IF(X465=P459,\"LR=\",IF(X465>P459,\"LR\",\"\"))","v":""}]
[null,{"$f":"IF(T(B463)=\"\",B463*11,CONCATENATE(B463,B463))","v":99},0,null,5,99,{"$f":"IF(OR(F466=0,F466=\"\"),\"\",IF(A458=\"F\",HLOOKUP(F466,females,A459,FALSE),IF(A458=\"M\",HLOOKUP(F466,males,A459,FALSE),\"\")))","v":"Olivia Walker"},"Wake",0,null,0,null,0,null,0,null,0,0,null,0,null,0,null,0,null,0,{"$f":"IF(X466=P459,\"LR=\",IF(X466>P459,\"LR\",\"\"))","v":""}]
[null,{"$f":"IF(T(B464)=\"\",B464*11,CONCATENATE(B464,B464))","v":88},0,null,6,88,{"$f":"IF(OR(F467=0,F467=\"\"),\"\",IF(A458=\"F\",HLOOKUP(F467,females,A459,FALSE),IF(A458=\"M\",HLOOKUP(F467,males,A459,FALSE),\"\")))","v":"Libby Brown"},"York",0,null,0,null,0,null,0,null,0,0,null,0,null,0,null,0,null,0,{"$f":"IF(X467=P459,\"LR=\",IF(X467>P459,\"LR\",\"\"))","v":""}]
[null,null,0,null,7,"",{"$f":"IF(OR(F468=0,F468=\"\"),\"\",IF(A458=\"F\",HLOOKUP(F468,females,A459,FALSE),IF(A458=\"M\",HLOOKUP(F468,males,A459,FALSE),\"\")))","v":""},"",0,null,0,null,0,null,0,null,0,0,null,0,null,0,null,0,null,0,{"$f":"IF(X468=P459,\"LR=\",IF(X468>P459,\"LR\",\"\"))","v":""}]
[null,null,0,null,8,"",{"$f":"IF(OR(F469=0,F469=\"\"),\"\",IF(A458=\"F\",HLOOKUP(F469,females,A459,FALSE),IF(A458=\"M\",HLOOKUP(F469,males,A459,FALSE),\"\")))","v":""},"",0,null,0,null,0,null,0,null,0,0,null,0,null,0,null,0,null,0,{"$f":"IF(X469=P459,\"LR=\",IF(X469>P459,\"LR\",\"\"))","v":""}]
[{"$f":"A462+3","v":6},{"$f":"IF(OR(A470=0,A470=\"\"),\"\",VLOOKUP(A470,teamorder2,2,FALSE))","v":3},null,{"$f":"Q470","v":0},1,3,{"$f":"IF(OR(F470=0,F470=\"\"),\"\",IF(A458=\"F\",HLOOKUP(F470,females2,A459,FALSE),IF(A458=\"M\",HLOOKUP(F470,males2,A459,FALSE),\"\")))","v":"Elaine Williams"},{"$f":"IF(OR(F470=0,F470=\"\"),\"\",VLOOKUP(F470,match_teams2,4,FALSE))","v":"Hallam"},0,null,0,null,0,null,0,null,{"$f":"IF(OR(O470=\"\",O470=0),0,RANK(O470,$O$22:$P$29,0))","v":0},0,null,0,null,0,null,0,null,0,{"$f":"IF(X470=P459,\"LR=\",IF(X470>P459,\"LR\",\"\"))","v":""}]
[{"$f":"A463+3","v":4},{"$f":"IF(OR(A471=0,A471=\"\"),\"\",VLOOKUP(A471,teamorder2,2,FALSE))","v":1},null,{"$f":"Q471","v":0},2,1,{"$f":"IF(OR(F471=0,F471=\"\"),\"\",IF(A458=\"F\",HLOOKUP(F471,females2,A459,FALSE),IF(A458=\"M\",HLOOKUP(F471,males2,A459,FALSE),\"\")))","v":"Emily Miles"},"DASH",0,null,0,null,0,null,0,null,0,0,null,0,null,0,null,0,null,0,{"$f":"IF(X471=P459,\"LR=\",IF(X471>P459,\"LR\",\"\"))","v":""}]
[{"$f":"A464+3","v":5},{"$f":"IF(OR(A472=0,A472=\"\"),\"\",VLOOKUP(A472,teamorder2,2,FALSE))","v":2},null,0,3,2,{"$f":"IF(OR(F472=0,F472=\"\"),\"\",IF(A458=\"F\",HLOOKUP(F472,females2,A459,FALSE),IF(A458=\"M\",HLOOKUP(F472,males2,A459,FALSE),\"\")))","v":"Lauren Ward"},"Linc W",0,null,0,null,0,null,0,null,0,0,null,0,null,0,null,0,null,0,{"$f":"IF(X472=P459,\"LR=\",IF(X472>P459,\"LR\",\"\"))","v":""}]
[null,{"$f":"IF(T(B470)=\"\",B470*11,CONCATENATE(B470,B470))","v":33},null,0,4,33,{"$f":"IF(OR(F473=0,F473=\"\"),\"\",IF(A458=\"F\",HLOOKUP(F473,females2,A459,FALSE),IF(A458=\"M\",HLOOKUP(F473,males2,A459,FALSE),\"\")))","v":"Evelyn Williams"},"Hallam",0,null,0,null,0,null,0,null,0,0,null,0,null,0,null,0,null,0,{"$f":"IF(X473=P459,\"LR=\",IF(X473>P459,\"LR\",\"\"))","v":""}]
[null,{"$f":"IF(T(B471)=\"\",B471*11,CONCATENATE(B471,B471))","v":11},null,0,5,11,{"$f":"IF(OR(F474=0,F474=\"\"),\"\",IF(A458=\"F\",HLOOKUP(F474,females2,A459,FALSE),IF(A458=\"M\",HLOOKUP(F474,males2,A459,FALSE),\"\")))","v":"Catriona Mckell"},"DASH",0,null,0,null,0,null,0,null,0,0,null,0,null,0,null,0,null,0,{"$f":"IF(X474=P459,\"LR=\",IF(X474>P459,\"LR\",\"\"))","v":""}]
[null,{"$f":"IF(T(B472)=\"\",B472*11,CONCATENATE(B472,B472))","v":22},null,0,6,22,{"$f":"IF(OR(F475=0,F475=\"\"),\"\",IF(A458=\"F\",HLOOKUP(F475,females2,A459,FALSE),IF(A458=\"M\",HLOOKUP(F475,males2,A459,FALSE),\"\")))","v":"Alex Jackson"},"Linc W",0,null,0,null,0,null,0,null,0,0,null,0,null,0,null,0,null,0,{"$f":"IF(X475=P459,\"LR=\",IF(X475>P459,\"LR\",\"\"))","v":""}]
[null,0,null,0,7,"",{"$f":"IF(OR(F476=0,F476=\"\"),\"\",IF(A458=\"F\",HLOOKUP(F476,females2,A459,FALSE),IF(A458=\"M\",HLOOKUP(F476,males2,A459,FALSE),\"\")))","v":""},"",0,null,0,null,0,null,0,null,0,0,null,0,null,0,null,0,null,0,{"$f":"IF(X476=P459,\"LR=\",IF(X476>P459,\"LR\",\"\"))","v":""}]
[null,0,null,0,8,"",{"$f":"IF(OR(F477=0,F477=\"\"),\"\",IF(A458=\"F\",HLOOKUP(F477,females2,A459,FALSE),IF(A458=\"M\",HLOOKUP(F477,males2,A459,FALSE),\"\")))","v":""},"",0,null,0,null,0,null,0,null,0,0,null,0,null,0,null,0,null,0,{"$f":"IF(X477=P459,\"LR=\",IF(X477>P459,\"LR\",\"\"))","v":""}]
[]
[null,null,null,null,"MATCH 1 RESULT",null,null,null,null,null,"MATCH 2 RESULT",null,null,null,null,null,null,null,null,null,null,null,"JUDGES' SIGNATURES"]
[null,null,null,null,null,"No.","NAME","CLUB","DISTANCE",null,null,"No.","NAME",null,null,null,"CLUB",null,null,null,"DISTANCE"]
[null,null,1,null,1,{"$f":"IF(ISERROR(VLOOKUP(C481,$C$14:$Y$21,4,FALSE))=TRUE,0,IF(VLOOKUP(C481,$C$14:$Y$21,22,FALSE)=0,0,IF(VLOOKUP(C481,$C$14:$Y$21,22,FALSE)=99,99,IF(VLOOKUP(C481,$C$14:$Y$21,22,FALSE)=98,98,IF(VLOOKUP(C481,$C$14:$Y$21,22,FALSE)=96,96,IF(VLOOKUP(C481,$C$14:$Y$21,22,FALSE)=95,95,VLOOKUP(C481,$C$14:$Y$21,4,FALSE)))))))","v":0},{"$f":"IF(ISERROR(VLOOKUP(C481,$C$14:$Y$21,4,FALSE))=TRUE,0,VLOOKUP(C481,$C$14:$Y$21,5,FALSE))","v":0},{"$f":"IF(ISERROR(VLOOKUP(C481,$C$14:$Y$21,4,FALSE))=TRUE,0,VLOOKUP(C481,$C$14:$Y$21,6,FALSE))","v":0},{"$f":"IF(ISERROR(VLOOKUP(C481,$C$14:$Y$21,4,FALSE))=TRUE,0,IF(VLOOKUP(C481,$C$14:$Y$21,22,FALSE)=0,\"\",IF(VLOOKUP(C481,$C$14:$Y$21,22,FALSE)>95.99,\"\",VLOOKUP(C481,$C$14:$Y$21,22,FALSE))))","v":0},null,1,{"$f":"IF(ISERROR(VLOOKUP(C481,$D$22:$Y$29,4,FALSE))=TRUE,0,IF(VLOOKUP(C481,D$22:Y$29,21,FALSE)=0,\"\",VLOOKUP(C481,D$22:Y$29,3,FALSE)))","v":0},{"$f":"IF(ISERROR(VLOOKUP(C481,$D$22:$Y$29,4,FALSE))=TRUE,0,VLOOKUP(C481,D$22:Y$29,4,FALSE))","v":0},null,null,null,{"$f":"IF(ISERROR(VLOOKUP(C481,$D$22:$Y$29,4,FALSE))=TRUE,0,VLOOKUP(C481,$D$22:$Y$29,5,FALSE))","v":0},null,null,null,{"$f":"IF(ISERROR(VLOOKUP(C481,$D$22:$Y$29,3,FALSE))=TRUE,0,IF(VLOOKUP(C481,$D$22:$Y$29,21,FALSE)=0,\"\",VLOOKUP(C481,$D$22:$Y$29,21,FALSE)))","v":0}]
[null,null,2,null,2,{"$f":"IF(ISERROR(VLOOKUP(C482,$C$14:$Y$21,4,FALSE))=TRUE,0,IF(VLOOKUP(C482,$C$14:$Y$21,22,FALSE)=0,\"\",IF(VLOOKUP(C482,$C$14:$Y$21,22,FALSE)=99,99,IF(VLOOKUP(C482,$C$14:$Y$21,22,FALSE)=98,98,IF(VLOOKUP(C482,$C$14:$Y$21,22,FALSE)=96,96,VLOOKUP(C482,$C$14:$Y$21,4,FALSE))))))","v":0},0,0,0,null,2,0,0,null,null,null,0,null,null,null,0]
[null,null,3,null,3,0,0,0,0,null,3,0,0,null,null,null,0,null,null,null,0]
[null,null,4,null,4,0,0,0,0,null,4,0,0,null,null,null,0,null,null,null,0]
[null,null,5,null,5,0,0,0,0,null,5,0,0,null,null,null,0,null,null,null,0]
[null,null,6,null,6,0,0,0,0,null,6,0,0,null,null,null,0,null,null,null,0,null,"REFEREE'S SIGNATURE"]
[null,null,7,null,7,0,0,0,0,null,7,0,0,null,null,null,0,null,null,null,0]
[null,null,8,null,8,0,0,0,0,null,8,0,0,null,null,null,0,null,null,null,0]
["F24",null,null,null,"UK ATHLETICS: DISTANCE CARD"]
[{"$f":"VLOOKUP(A489,eventno,5,FALSE)","v":"F"},null,null,null,"MEETING ",null,{"$f":"CONCATENATE(MatchDay!$C$3,\"/\",MatchDay!$I$3)","v":"Northern Premier East/Northern 1 SE"},null,"VENUE ",null,null,{"$f":"MatchDay!$C$7","v":"Thornes Park Stadium, Wakefield"},null,null,null,null,null,"DATE ",null,{"$f":"MatchDay!$C$5","v":"Sunday 8th May 2011"}]
[{"$f":"IF(A490=\"M\",VLOOKUP(A489,males,15,FALSE),VLOOKUP(A489,females,15,FALSE))","v":37},null,null,null,"EVENT",null,{"$f":"CONCATENATE(A489,\" \",VLOOKUP(A489,eventno,4,FALSE))","v":"F24 U15G Shot"},null,"TIME",null,null,{"$f":"VLOOKUP(A489,eventno,12,FALSE)","v":"15:15:00"},null,"Record",null,{"$f":"VLOOKUP(A489,eventno,7,FALSE)","v":13.75},null,"Duty",null,{"$f":"VLOOKUP(VLOOKUP(A489,eventno,13,FALSE),teamorder2,3,FALSE)","v":"2DASH"}]
[null,null,null,null,"Order","No","NAME","CLUB","1st Trial",null,"2nd Trial",null,"3rd Trial",null,"Best of 3",null,"Position after\n3 Trials","4th Trial",null,"5th Trial",null,"6th Trial",null,"Best of All",null,"Final\nPositionn","A or B"]
[{"$f":"VLOOKUP(A489,eventno,6,FALSE)","v":0},null,null,null,null,null,null,null,"Metres",null,"Metres",null,"Metres",null,"Metres",null,null,"Metres",null,"Metres",null,"Metres",null,"Metres",null,null,null,"A","B"]
[3,{"$f":"IF(OR(A494=0,A494=\"\"),\"\",VLOOKUP(A494,teamorder,2,FALSE))","v":7},{"$f":"Q494","v":0},null,1,{"$f":"IF(B494=0,\"\",B494)","v":7},{"$f":"IF(OR(F494=0,F494=\"\"),\"\",IF(A490=\"F\",HLOOKUP(F494,females,A491,FALSE),IF(A490=\"M\",HLOOKUP(F494,males,A491,FALSE),\"\")))","v":"Caoimhe Crampton"},{"$f":"IF(OR(F494=0,F494=\"\"),\"\",VLOOKUP(F494,match_teams,4,FALSE))","v":"Leeds C"},0,null,0,null,0,null,{"$f":"IF(AND(T(I494)<>\"\",T(K494)<>\"\",T(M494)<>\"\"),0,LARGE(I494:N494,1))","v":0},null,{"$f":"IF(OR(O494=\"\",O494=0),0,RANK(O494,$O$14:$P$21,0))","v":0},0,null,0,null,0,null,{"$f":"IF(AND(T(R494)<>\"\",T(T494)<>\"\",T(V494)<>\"\"),0,IF(O494>LARGE(R494:W494,1),O494,LARGE(R494:W494,1)))","v":0},null,{"$f":"IF(OR(X494=\"\",X494=0),0,RANK(X494,$X$14:$Y$29,0))","v":0},{"$f":"IF(X494=P491,\"LR=\",IF(X494>P491,\"LR\",\"\"))","v":""}]
[1,{"$f":"IF(OR(A495=0,A495=\"\"),\"\",VLOOKUP(A495,teamorder,2,FALSE))","v":9},{"$f":"Q495","v":0},null,2,9,{"$f":"IF(OR(F495=0,F495=\"\"),\"\",IF(A490=\"F\",HLOOKUP(F495,females,A491,FALSE),IF(A490=\"M\",HLOOKUP(F495,males,A491,FALSE),\"\")))","v":"Alyce McCurdie"},"Wake",0,null,0,null,0,null,{"$f":"IF(AND(T(I495)<>\"\",T(K495)<>\"\",T(M495)<>\"\"),0,LARGE(I495:N495,1))","v":0},null,0,0,null,0,null,0,null,{"$f":"IF(AND(T(R495)<>\"\",T(T495)<>\"\",T(V495)<>\"\"),0,IF(O495>LARGE(R495:W495,1),O495,LARGE(R495:W495,1)))","v":0},null,0,{"$f":"IF(X495=P491,\"LR=\",IF(X495>P491,\"LR\",\"\"))","v":""}]
[2,{"$f":"IF(OR(A496=0,A496=\"\"),\"\",VLOOKUP(A496,teamorder,2,FALSE))","v":8},0,null,3,8,{"$f":"IF(OR(F496=0,F496=\"\"),\"\",IF(A490=\"F\",HLOOKUP(F496,females,A491,FALSE),IF(A490=\"M\",HLOOKUP(F496,males,A491,FALSE),\"\")))","v":"Georgie Fenny"},"York",0,null,0,null,0,null,0,null,0,0,null,0,null,0,null,0,null,0,{"$f":"IF(X496=P491,\"LR=\",IF(X496>P491,\"LR\",\"\"))","v":""}]
[null,{"$f":"IF(T(B494)=\"\",B494*11,CONCATENATE(B494,B494))","v":77},0,null,4,77,{"$f":"IF(OR(F497=0,F497=\"\"),\"\",IF(A490=\"F\",HLOOKUP(F497,females,A491,FALSE),IF(A490=\"M\",HLOOKUP(F497,males,A491,FALSE),\"\")))","v":"Jemma Ibbetson"},"Leeds C",0,null,0,null,0,null,0,null,0,0,null,0,null,0,null,0,null,0,{"$f":"IF(X497=P491,\"LR=\",IF(X497>P491,\"LR\",\"\"))","v":""}]
[null,{"$f":"IF(T(B495)=\"\",B495*11,CONCATENATE(B495,B495))","v":99},0,null,5,99,{"$f":"IF(OR(F498=0,F498=\"\"),\"\",IF(A490=\"F\",HLOOKUP(F498,females,A491,FALSE),IF(A490=\"M\",HLOOKUP(F498,males,A491,FALSE),\"\")))","v":"Jessica Eyles"},"Wake",0,null,0,null,0,null,0,null,0,0,null,0,null,0,null,0,null,0,{"$f":"IF(X498=P491,\"LR=\",IF(X498>P491,\"LR\",\"\"))","v":""}]
[null,{"$f":"IF(T(B496)=\"\",B496*11,CONCATENATE(B496,B496))","v":88},0,null,6,88,{"$f":"IF(OR(F499=0,F499=\"\"),\"\",IF(A490=\"F\",HLOOKUP(F499,females,A491,FALSE),IF(A490=\"M\",HLOOKUP(F499,males,A491,FALSE),\"\")))","v":"Chloe Hopper"},"York",0,null,0,null,0,null,0,null,0,0,null,0,null,0,null,0,null,0,{"$f":"IF(X499=P491,\"LR=\",IF(X499>P491,\"LR\",\"\"))","v":""}]
[null,null,0,null,7,"",{"$f":"IF(OR(F500=0,F500=\"\"),\"\",IF(A490=\"F\",HLOOKUP(F500,females,A491,FALSE),IF(A490=\"M\",HLOOKUP(F500,males,A491,FALSE),\"\")))","v":""},"",0,null,0,null,0,null,0,null,0,0,null,0,null,0,null,0,null,0,{"$f":"IF(X500=P491,\"LR=\",IF(X500>P491,\"LR\",\"\"))","v":""}]
[null,null,0,null,8,"",{"$f":"IF(OR(F501=0,F501=\"\"),\"\",IF(A490=\"F\",HLOOKUP(F501,females,A491,FALSE),IF(A490=\"M\",HLOOKUP(F501,males,A491,FALSE),\"\")))","v":""},"",0,null,0,null,0,null,0,null,0,0,null,0,null,0,null,0,null,0,{"$f":"IF(X501=P491,\"LR=\",IF(X501>P491,\"LR\",\"\"))","v":""}]
[{"$f":"A494+3","v":6},{"$f":"IF(OR(A502=0,A502=\"\"),\"\",VLOOKUP(A502,teamorder2,2,FALSE))","v":3},null,{"$f":"Q502","v":0},1,3,{"$f":"IF(OR(F502=0,F502=\"\"),\"\",IF(A490=\"F\",HLOOKUP(F502,females2,A491,FALSE),IF(A490=\"M\",HLOOKUP(F502,males2,A491,FALSE),\"\")))","v":"Elaine Williams"},{"$f":"IF(OR(F502=0,F502=\"\"),\"\",VLOOKUP(F502,match_teams2,4,FALSE))","v":"Hallam"},0,null,0,null,0,null,0,null,{"$f":"IF(OR(O502=\"\",O502=0),0,RANK(O502,$O$22:$P$29,0))","v":0},0,null,0,null,0,null,0,null,0,{"$f":"IF(X502=P491,\"LR=\",IF(X502>P491,\"LR\",\"\"))","v":""}]
[{"$f":"A495+3","v":4},{"$f":"IF(OR(A503=0,A503=\"\"),\"\",VLOOKUP(A503,teamorder2,2,FALSE))","v":1},null,{"$f":"Q503","v":0},2,1,{"$f":"IF(OR(F503=0,F503=\"\"),\"\",IF(A490=\"F\",HLOOKUP(F503,females2,A491,FALSE),IF(A490=\"M\",HLOOKUP(F503,males2,A491,FALSE),\"\")))","v":"Emma Clarkson"},"DASH",0,null,0,null,0,null,0,null,0,0,null,0,null,0,null,0,null,0,{"$f":"IF(X503=P491,\"LR=\",IF(X503>P491,\"LR\",\"\"))","v":""}]
[{"$f":"A496+3","v":5},{"$f":"IF(OR(A504=0,A504=\"\"),\"\",VLOOKUP(A504,teamorder2,2,FALSE))","v":2},null,0,3,2,{"$f":"IF(OR(F504=0,F504=\"\"),\"\",IF(A490=\"F\",HLOOKUP(F504,females2,A491,FALSE),IF(A490=\"M\",HLOOKUP(F504,males2,A491,FALSE),\"\")))","v":"India Freeman"},"Linc W",0,null,0,null,0,null,0,null,0,0,null,0,null,0,null,0,null,0,{"$f":"IF(X504=P491,\"LR=\",IF(X504>P491,\"LR\",\"\"))","v":""}]
[null,{"$f":"IF(T(B502)=\"\",B502*11,CONCATENATE(B502,B502))","v":33},null,0,4,33,{"$f":"IF(OR(F505=0,F505=\"\"),\"\",IF(A490=\"F\",HLOOKUP(F505,females2,A491,FALSE),IF(A490=\"M\",HLOOKUP(F505,males2,A491,FALSE),\"\")))","v":"Evelyn Williams"},"Hallam",0,null,0,null,0,null,0,null,0,0,null,0,null,0,null,0,null,0,{"$f":"IF(X505=P491,\"LR=\",IF(X505>P491,\"LR\",\"\"))","v":""}]
[null,{"$f":"IF(T(B503)=\"\",B503*11,CONCATENATE(B503,B503))","v":11},null,0,5,11,{"$f":"IF(OR(F506=0,F506=\"\"),\"\",IF(A490=\"F\",HLOOKUP(F506,females2,A491,FALSE),IF(A490=\"M\",HLOOKUP(F506,males2,A491,FALSE),\"\")))","v":"Catriona Mckell"},"DASH",0,null,0,null,0,null,0,null,0,0,null,0,null,0,null,0,null,0,{"$f":"IF(X506=P491,\"LR=\",IF(X506>P491,\"LR\",\"\"))","v":""}]
[null,{"$f":"IF(T(B504)=\"\",B504*11,CONCATENATE(B504,B504))","v":22},null,0,6,22,{"$f":"IF(OR(F507=0,F507=\"\"),\"\",IF(A490=\"F\",HLOOKUP(F507,females2,A491,FALSE),IF(A490=\"M\",HLOOKUP(F507,males2,A491,FALSE),\"\")))","v":"Lauren Ward"},"Linc W",0,null,0,null,0,null,0,null,0,0,null,0,null,0,null,0,null,0,{"$f":"IF(X507=P491,\"LR=\",IF(X507>P491,\"LR\",\"\"))","v":""}]
[null,0,null,0,7,"",{"$f":"IF(OR(F508=0,F508=\"\"),\"\",IF(A490=\"F\",HLOOKUP(F508,females2,A491,FALSE),IF(A490=\"M\",HLOOKUP(F508,males2,A491,FALSE),\"\")))","v":""},"",0,null,0,null,0,null,0,null,0,0,null,0,null,0,null,0,null,0,{"$f":"IF(X508=P491,\"LR=\",IF(X508>P491,\"LR\",\"\"))","v":""}]
[null,0,null,0,8,"",{"$f":"IF(OR(F509=0,F509=\"\"),\"\",IF(A490=\"F\",HLOOKUP(F509,females2,A491,FALSE),IF(A490=\"M\",HLOOKUP(F509,males2,A491,FALSE),\"\")))","v":""},"",0,null,0,null,0,null,0,null,0,0,null,0,null,0,null,0,null,0,{"$f":"IF(X509=P491,\"LR=\",IF(X509>P491,\"LR\",\"\"))","v":""}]
[]
[null,null,null,null,"MATCH 1 RESULT",null,null,null,null,null,"MATCH 2 RESULT",null,null,null,null,null,null,null,null,null,null,null,"JUDGES' SIGNATURES"]
[null,null,null,null,null,"No.","NAME","CLUB","DISTANCE",null,null,"No.","NAME",null,null,null,"CLUB",null,null,null,"DISTANCE"]
[null,null,1,null,1,{"$f":"IF(ISERROR(VLOOKUP(C513,$C$14:$Y$21,4,FALSE))=TRUE,0,IF(VLOOKUP(C513,$C$14:$Y$21,22,FALSE)=0,0,IF(VLOOKUP(C513,$C$14:$Y$21,22,FALSE)=99,99,IF(VLOOKUP(C513,$C$14:$Y$21,22,FALSE)=98,98,IF(VLOOKUP(C513,$C$14:$Y$21,22,FALSE)=96,96,IF(VLOOKUP(C513,$C$14:$Y$21,22,FALSE)=95,95,VLOOKUP(C513,$C$14:$Y$21,4,FALSE)))))))","v":0},{"$f":"IF(ISERROR(VLOOKUP(C513,$C$14:$Y$21,4,FALSE))=TRUE,0,VLOOKUP(C513,$C$14:$Y$21,5,FALSE))","v":0},{"$f":"IF(ISERROR(VLOOKUP(C513,$C$14:$Y$21,4,FALSE))=TRUE,0,VLOOKUP(C513,$C$14:$Y$21,6,FALSE))","v":0},{"$f":"IF(ISERROR(VLOOKUP(C513,$C$14:$Y$21,4,FALSE))=TRUE,0,IF(VLOOKUP(C513,$C$14:$Y$21,22,FALSE)=0,\"\",IF(VLOOKUP(C513,$C$14:$Y$21,22,FALSE)>95.99,\"\",VLOOKUP(C513,$C$14:$Y$21,22,FALSE))))","v":0},null,1,{"$f":"IF(ISERROR(VLOOKUP(C513,$D$22:$Y$29,4,FALSE))=TRUE,0,IF(VLOOKUP(C513,D$22:Y$29,21,FALSE)=0,\"\",VLOOKUP(C513,D$22:Y$29,3,FALSE)))","v":0},{"$f":"IF(ISERROR(VLOOKUP(C513,$D$22:$Y$29,4,FALSE))=TRUE,0,VLOOKUP(C513,D$22:Y$29,4,FALSE))","v":0},null,null,null,{"$f":"IF(ISERROR(VLOOKUP(C513,$D$22:$Y$29,4,FALSE))=TRUE,0,VLOOKUP(C513,$D$22:$Y$29,5,FALSE))","v":0},null,null,null,{"$f":"IF(ISERROR(VLOOKUP(C513,$D$22:$Y$29,3,FALSE))=TRUE,0,IF(VLOOKUP(C513,$D$22:$Y$29,21,FALSE)=0,\"\",VLOOKUP(C513,$D$22:$Y$29,21,FALSE)))","v":0}]
[null,null,2,null,2,{"$f":"IF(ISERROR(VLOOKUP(C514,$C$14:$Y$21,4,FALSE))=TRUE,0,IF(VLOOKUP(C514,$C$14:$Y$21,22,FALSE)=0,\"\",IF(VLOOKUP(C514,$C$14:$Y$21,22,FALSE)=99,99,IF(VLOOKUP(C514,$C$14:$Y$21,22,FALSE)=98,98,IF(VLOOKUP(C514,$C$14:$Y$21,22,FALSE)=96,96,VLOOKUP(C514,$C$14:$Y$21,4,FALSE))))))","v":0},0,0,0,null,2,0,0,null,null,null,0,null,null,null,0]
[null,null,3,null,3,0,0,0,0,null,3,0,0,null,null,null,0,null,null,null,0]
[null,null,4,null,4,0,0,0,0,null,4,0,0,null,null,null,0,null,null,null,0]
[null,null,5,null,5,0,0,0,0,null,5,0,0,null,null,null,0,null,null,null,0]
[null,null,6,null,6,0,0,0,0,null,6,0,0,null,null,null,0,null,null,null,0,null,"REFEREE'S SIGNATURE"]
[null,null,7,null,7,0,0,0,0,null,7,0,0,null,null,null,0,null,null,null,0]
[null,null,8,null,8,0,0,0,0,null,8,0,0,null,null,null,0,null,null,null,0]
["F25",null,null,null,"UK ATHLETICS: DISTANCE CARD"]
[{"$f":"VLOOKUP(A521,eventno,5,FALSE)","v":"M"},null,null,null,"MEETING ",null,{"$f":"CONCATENATE(MatchDay!$C$3,\"/\",MatchDay!$I$3)","v":"Northern Premier East/Northern 1 SE"},null,"VENUE ",null,null,{"$f":"MatchDay!$C$7","v":"Thornes Park Stadium, Wakefield"},null,null,null,null,null,"DATE ",null,{"$f":"MatchDay!$C$5","v":"Sunday 8th May 2011"}]
[{"$f":"IF(A522=\"M\",VLOOKUP(A521,males,15,FALSE),VLOOKUP(A521,females,15,FALSE))","v":45},null,null,null,"EVENT",null,{"$f":"CONCATENATE(A521,\" \",VLOOKUP(A521,eventno,4,FALSE))","v":"F25 U15B Long Jump"},null,"TIME",null,null,{"$f":"VLOOKUP(A521,eventno,12,FALSE)","v":"15:15:00"},null,"Record",null,{"$f":"VLOOKUP(A521,eventno,7,FALSE)","v":6.72},null,"Duty",null,{"$f":"VLOOKUP(VLOOKUP(A521,eventno,13,FALSE),teamorder,3,FALSE)","v":"Wakefield"}]
[null,null,null,null,"Order","No","NAME","CLUB","1st Trial",null,"2nd Trial",null,"3rd Trial",null,"Best of 3",null,"Position after\n3 Trials","4th Trial",null,"5th Trial",null,"6th Trial",null,"Best of All",null,"Final\nPositionn","A or B"]
[{"$f":"VLOOKUP(A521,eventno,6,FALSE)","v":0},null,null,null,null,null,null,null,"Metres",null,"Metres",null,"Metres",null,"Metres",null,null,"Metres",null,"Metres",null,"Metres",null,"Metres",null,null,null,"A","B"]
[2,{"$f":"IF(OR(A526=0,A526=\"\"),\"\",VLOOKUP(A526,teamorder,2,FALSE))","v":8},{"$f":"Q526","v":0},null,1,{"$f":"IF(B526=0,\"\",B526)","v":8},{"$f":"IF(OR(F526=0,F526=\"\"),\"\",IF(A522=\"F\",HLOOKUP(F526,females,A523,FALSE),IF(A522=\"M\",HLOOKUP(F526,males,A523,FALSE),\"\")))","v":"Chris Searle"},{"$f":"IF(OR(F526=0,F526=\"\"),\"\",VLOOKUP(F526,match_teams,4,FALSE))","v":"York"},0,null,0,null,0,null,{"$f":"IF(AND(T(I526)<>\"\",T(K526)<>\"\",T(M526)<>\"\"),0,LARGE(I526:N526,1))","v":0},null,{"$f":"IF(OR(O526=\"\",O526=0),0,RANK(O526,$O$14:$P$21,0))","v":0},0,null,0,null,0,null,{"$f":"IF(AND(T(R526)<>\"\",T(T526)<>\"\",T(V526)<>\"\"),0,IF(O526>LARGE(R526:W526,1),O526,LARGE(R526:W526,1)))","v":0},null,{"$f":"IF(OR(X526=\"\",X526=0),0,RANK(X526,$X$14:$Y$29,0))","v":0},{"$f":"IF(X526=P523,\"LR=\",IF(X526>P523,\"LR\",\"\"))","v":""}]
[3,{"$f":"IF(OR(A527=0,A527=\"\"),\"\",VLOOKUP(A527,teamorder,2,FALSE))","v":7},{"$f":"Q527","v":0},null,2,7,{"$f":"IF(OR(F527=0,F527=\"\"),\"\",IF(A522=\"F\",HLOOKUP(F527,females,A523,FALSE),IF(A522=\"M\",HLOOKUP(F527,males,A523,FALSE),\"\")))","v":"Finlay Fuller"},"Leeds C",0,null,0,null,0,null,{"$f":"IF(AND(T(I527)<>\"\",T(K527)<>\"\",T(M527)<>\"\"),0,LARGE(I527:N527,1))","v":0},null,0,0,null,0,null,0,null,{"$f":"IF(AND(T(R527)<>\"\",T(T527)<>\"\",T(V527)<>\"\"),0,IF(O527>LARGE(R527:W527,1),O527,LARGE(R527:W527,1)))","v":0},null,0,{"$f":"IF(X527=P523,\"LR=\",IF(X527>P523,\"LR\",\"\"))","v":""}]
[1,{"$f":"IF(OR(A528=0,A528=\"\"),\"\",VLOOKUP(A528,teamorder,2,FALSE))","v":9},0,null,3,9,{"$f":"IF(OR(F528=0,F528=\"\"),\"\",IF(A522=\"F\",HLOOKUP(F528,females,A523,FALSE),IF(A522=\"M\",HLOOKUP(F528,males,A523,FALSE),\"\")))","v":"Declan Sheehan"},"Wake",0,null,0,null,0,null,0,null,0,0,null,0,null,0,null,0,null,0,{"$f":"IF(X528=P523,\"LR=\",IF(X528>P523,\"LR\",\"\"))","v":""}]
[null,{"$f":"IF(T(B526)=\"\",B526*11,CONCATENATE(B526,B526))","v":88},0,null,4,88,{"$f":"IF(OR(F529=0,F529=\"\"),\"\",IF(A522=\"F\",HLOOKUP(F529,females,A523,FALSE),IF(A522=\"M\",HLOOKUP(F529,males,A523,FALSE),\"\")))","v":"Matthew Richardson"},"York",0,null,0,null,0,null,0,null,0,0,null,0,null,0,null,0,null,0,{"$f":"IF(X529=P523,\"LR=\",IF(X529>P523,\"LR\",\"\"))","v":""}]
[null,{"$f":"IF(T(B527)=\"\",B527*11,CONCATENATE(B527,B527))","v":77},0,null,5,77,{"$f":"IF(OR(F530=0,F530=\"\"),\"\",IF(A522=\"F\",HLOOKUP(F530,females,A523,FALSE),IF(A522=\"M\",HLOOKUP(F530,males,A523,FALSE),\"\")))","v":"Thomas Harrison"},"Leeds C",0,null,0,null,0,null,0,null,0,0,null,0,null,0,null,0,null,0,{"$f":"IF(X530=P523,\"LR=\",IF(X530>P523,\"LR\",\"\"))","v":""}]
[null,{"$f":"IF(T(B528)=\"\",B528*11,CONCATENATE(B528,B528))","v":99},0,null,6,99,{"$f":"IF(OR(F531=0,F531=\"\"),\"\",IF(A522=\"F\",HLOOKUP(F531,females,A523,FALSE),IF(A522=\"M\",HLOOKUP(F531,males,A523,FALSE),\"\")))","v":"Ben Read"},"Wake",0,null,0,null,0,null,0,null,0,0,null,0,null,0,null,0,null,0,{"$f":"IF(X531=P523,\"LR=\",IF(X531>P523,\"LR\",\"\"))","v":""}]
[null,null,0,null,7,"",{"$f":"IF(OR(F532=0,F532=\"\"),\"\",IF(A522=\"F\",HLOOKUP(F532,females,A523,FALSE),IF(A522=\"M\",HLOOKUP(F532,males,A523,FALSE),\"\")))","v":""},"",0,null,0,null,0,null,0,null,0,0,null,0,null,0,null,0,null,0,{"$f":"IF(X532=P523,\"LR=\",IF(X532>P523,\"LR\",\"\"))","v":""}]
[null,null,0,null,8,"",{"$f":"IF(OR(F533=0,F533=\"\"),\"\",IF(A522=\"F\",HLOOKUP(F533,females,A523,FALSE),IF(A522=\"M\",HLOOKUP(F533,males,A523,FALSE),\"\")))","v":""},"",0,null,0,null,0,null,0,null,0,0,null,0,null,0,null,0,null,0,{"$f":"IF(X533=P523,\"LR=\",IF(X533>P523,\"LR\",\"\"))","v":""}]
[{"$f":"A526+3","v":5},{"$f":"IF(OR(A534=0,A534=\"\"),\"\",VLOOKUP(A534,teamorder2,2,FALSE))","v":2},null,{"$f":"Q534","v":0},1,2,{"$f":"IF(OR(F534=0,F534=\"\"),\"\",IF(A522=\"F\",HLOOKUP(F534,females2,A523,FALSE),IF(A522=\"M\",HLOOKUP(F534,males2,A523,FALSE),\"\")))","v":"Oliver Fluck"},{"$f":"IF(OR(F534=0,F534=\"\"),\"\",VLOOKUP(F534,match_teams2,4,FALSE))","v":"Linc W"},0,null,0,null,0,null,0,null,{"$f":"IF(OR(O534=\"\",O534=0),0,RANK(O534,$O$22:$P$29,0))","v":0},0,null,0,null,0,null,0,null,0,{"$f":"IF(X534=P523,\"LR=\",IF(X534>P523,\"LR\",\"\"))","v":""}]
[{"$f":"A527+3","v":6},{"$f":"IF(OR(A535=0,A535=\"\"),\"\",VLOOKUP(A535,teamorder2,2,FALSE))","v":3},null,{"$f":"Q535","v":0},2,3,{"$f":"IF(OR(F535=0,F535=\"\"),\"\",IF(A522=\"F\",HLOOKUP(F535,females2,A523,FALSE),IF(A522=\"M\",HLOOKUP(F535,males2,A523,FALSE),\"\")))","v":"Thomas Hughes"},"Hallam",0,null,0,null,0,null,0,null,0,0,null,0,null,0,null,0,null,0,{"$f":"IF(X535=P523,\"LR=\",IF(X535>P523,\"LR\",\"\"))","v":""}]
[{"$f":"A528+3","v":4},{"$f":"IF(OR(A536=0,A536=\"\"),\"\",VLOOKUP(A536,teamorder2,2,FALSE))","v":1},null,0,3,1,{"$f":"IF(OR(F536=0,F536=\"\"),\"\",IF(A522=\"F\",HLOOKUP(F536,females2,A523,FALSE),IF(A522=\"M\",HLOOKUP(F536,males2,A523,FALSE),\"\")))","v":"Chris Li"},"DASH",0,null,0,null,0,null,0,null,0,0,null,0,null,0,null,0,null,0,{"$f":"IF(X536=P523,\"LR=\",IF(X536>P523,\"LR\",\"\"))","v":""}]
[null,{"$f":"IF(T(B534)=\"\",B534*11,CONCATENATE(B534,B534))","v":22},null,0,4,22,{"$f":"IF(OR(F537=0,F537=\"\"),\"\",IF(A522=\"F\",HLOOKUP(F537,females2,A523,FALSE),IF(A522=\"M\",HLOOKUP(F537,males2,A523,FALSE),\"\")))","v":"Frazer McDowall"},"Linc W",0,null,0,null,0,null,0,null,0,0,null,0,null,0,null,0,null,0,{"$f":"IF(X537=P523,\"LR=\",IF(X537>P523,\"LR\",\"\"))","v":""}]
[null,{"$f":"IF(T(B535)=\"\",B535*11,CONCATENATE(B535,B535))","v":33},null,0,5,33,{"$f":"IF(OR(F538=0,F538=\"\"),\"\",IF(A522=\"F\",HLOOKUP(F538,females2,A523,FALSE),IF(A522=\"M\",HLOOKUP(F538,males2,A523,FALSE),\"\")))","v":"James Lee"},"Hallam",0,null,0,null,0,null,0,null,0,0,null,0,null,0,null,0,null,0,{"$f":"IF(X538=P523,\"LR=\",IF(X538>P523,\"LR\",\"\"))","v":""}]
[null,{"$f":"IF(T(B536)=\"\",B536*11,CONCATENATE(B536,B536))","v":11},null,0,6,11,{"$f":"IF(OR(F539=0,F539=\"\"),\"\",IF(A522=\"F\",HLOOKUP(F539,females2,A523,FALSE),IF(A522=\"M\",HLOOKUP(F539,males2,A523,FALSE),\"\")))","v":"-"},"DASH",0,null,0,null,0,null,0,null,0,0,null,0,null,0,null,0,null,0,{"$f":"IF(X539=P523,\"LR=\",IF(X539>P523,\"LR\",\"\"))","v":""}]
[null,0,null,0,7,"",{"$f":"IF(OR(F540=0,F540=\"\"),\"\",IF(A522=\"F\",HLOOKUP(F540,females2,A523,FALSE),IF(A522=\"M\",HLOOKUP(F540,males2,A523,FALSE),\"\")))","v":""},"",0,null,0,null,0,null,0,null,0,0,null,0,null,0,null,0,null,0,{"$f":"IF(X540=P523,\"LR=\",IF(X540>P523,\"LR\",\"\"))","v":""}]
[null,0,null,0,8,"",{"$f":"IF(OR(F541=0,F541=\"\"),\"\",IF(A522=\"F\",HLOOKUP(F541,females2,A523,FALSE),IF(A522=\"M\",HLOOKUP(F541,males2,A523,FALSE),\"\")))","v":""},"",0,null,0,null,0,null,0,null,0,0,null,0,null,0,null,0,null,0,{"$f":"IF(X541=P523,\"LR=\",IF(X541>P523,\"LR\",\"\"))","v":""}]
[]
[null,null,null,null,"MATCH 1 RESULT",null,null,null,null,null,"MATCH 2 RESULT",null,null,null,null,null,null,null,null,null,null,null,"JUDGES' SIGNATURES"]
[null,null,null,null,null,"No.","NAME","CLUB","DISTANCE",null,null,"No.","NAME",null,null,null,"CLUB",null,null,null,"DISTANCE"]
[null,null,1,null,1,{"$f":"IF(ISERROR(VLOOKUP(C545,$C$14:$Y$21,4,FALSE))=TRUE,0,IF(VLOOKUP(C545,$C$14:$Y$21,22,FALSE)=0,0,IF(VLOOKUP(C545,$C$14:$Y$21,22,FALSE)=99,99,IF(VLOOKUP(C545,$C$14:$Y$21,22,FALSE)=98,98,IF(VLOOKUP(C545,$C$14:$Y$21,22,FALSE)=96,96,IF(VLOOKUP(C545,$C$14:$Y$21,22,FALSE)=95,95,VLOOKUP(C545,$C$14:$Y$21,4,FALSE)))))))","v":0},{"$f":"IF(ISERROR(VLOOKUP(C545,$C$14:$Y$21,4,FALSE))=TRUE,0,VLOOKUP(C545,$C$14:$Y$21,5,FALSE))","v":0},{"$f":"IF(ISERROR(VLOOKUP(C545,$C$14:$Y$21,4,FALSE))=TRUE,0,VLOOKUP(C545,$C$14:$Y$21,6,FALSE))","v":0},{"$f":"IF(ISERROR(VLOOKUP(C545,$C$14:$Y$21,4,FALSE))=TRUE,0,IF(VLOOKUP(C545,$C$14:$Y$21,22,FALSE)=0,\"\",IF(VLOOKUP(C545,$C$14:$Y$21,22,FALSE)>95.99,\"\",VLOOKUP(C545,$C$14:$Y$21,22,FALSE))))","v":0},null,1,{"$f":"IF(ISERROR(VLOOKUP(C545,$D$22:$Y$29,4,FALSE))=TRUE,0,IF(VLOOKUP(C545,D$22:Y$29,21,FALSE)=0,\"\",VLOOKUP(C545,D$22:Y$29,3,FALSE)))","v":0},{"$f":"IF(ISERROR(VLOOKUP(C545,$D$22:$Y$29,4,FALSE))=TRUE,0,VLOOKUP(C545,D$22:Y$29,4,FALSE))","v":0},null,null,null,{"$f":"IF(ISERROR(VLOOKUP(C545,$D$22:$Y$29,4,FALSE))=TRUE,0,VLOOKUP(C545,$D$22:$Y$29,5,FALSE))","v":0},null,null,null,{"$f":"IF(ISERROR(VLOOKUP(C545,$D$22:$Y$29,3,FALSE))=TRUE,0,IF(VLOOKUP(C545,$D$22:$Y$29,21,FALSE)=0,\"\",VLOOKUP(C545,$D$22:$Y$29,21,FALSE)))","v":0}]
[null,null,2,null,2,{"$f":"IF(ISERROR(VLOOKUP(C546,$C$14:$Y$21,4,FALSE))=TRUE,0,IF(VLOOKUP(C546,$C$14:$Y$21,22,FALSE)=0,\"\",IF(VLOOKUP(C546,$C$14:$Y$21,22,FALSE)=99,99,IF(VLOOKUP(C546,$C$14:$Y$21,22,FALSE)=98,98,IF(VLOOKUP(C546,$C$14:$Y$21,22,FALSE)=96,96,VLOOKUP(C546,$C$14:$Y$21,4,FALSE))))))","v":0},0,0,0,null,2,0,0,null,null,null,0,null,null,null,0]
[null,null,3,null,3,0,0,0,0,null,3,0,0,null,null,null,0,null,null,null,0]
[null,null,4,null,4,0,0,0,0,null,4,0,0,null,null,null,0,null,null,null,0]
[null,null,5,null,5,0,0,0,0,null,5,0,0,null,null,null,0,null,null,null,0]
[null,null,6,null,6,0,0,0,0,null,6,0,0,null,null,null,0,null,null,null,0,null,"REFEREE'S SIGNATURE"]
[null,null,7,null,7,0,0,0,0,null,7,0,0,null,null,null,0,null,null,null,0]
[null,null,8,null,8,0,0,0,0,null,8,0,0,null,null,null,0,null,null,null,0]
["F26",null,null,null,"UK ATHLETICS: DISTANCE CARD"]
[{"$f":"VLOOKUP(A553,eventno,5,FALSE)","v":"M"},null,null,null,"MEETING ",null,{"$f":"CONCATENATE(MatchDay!$C$3,\"/\",MatchDay!$I$3)","v":"Northern Premier East/Northern 1 SE"},null,"VENUE ",null,null,{"$f":"MatchDay!$C$7","v":"Thornes Park Stadium, Wakefield"},null,null,null,null,null,"DATE ",null,{"$f":"MatchDay!$C$5","v":"Sunday 8th May 2011"}]
[{"$f":"IF(A554=\"M\",VLOOKUP(A553,males,15,FALSE),VLOOKUP(A553,females,15,FALSE))","v":46},null,null,null,"EVENT",null,{"$f":"CONCATENATE(A553,\" \",VLOOKUP(A553,eventno,4,FALSE))","v":"F26 U15B Discus"},null,"TIME",null,null,{"$f":"VLOOKUP(A553,eventno,12,FALSE)","v":"15:25:00"},null,"Record",null,{"$f":"VLOOKUP(A553,eventno,7,FALSE)","v":53.93},null,"Duty",null,{"$f":"VLOOKUP(VLOOKUP(A553,eventno,13,FALSE),teamorder,3,FALSE)","v":"Leeds City"}]
[null,null,null,null,"Order","No","NAME","CLUB","1st Trial",null,"2nd Trial",null,"3rd Trial",null,"Best of 3",null,"Position after\n3 Trials","4th Trial",null,"5th Trial",null,"6th Trial",null,"Best of All",null,"Final\nPositionn","A or B"]
[{"$f":"VLOOKUP(A553,eventno,6,FALSE)","v":0},null,null,null,null,null,null,null,"Metres",null,"Metres",null,"Metres",null,"Metres",null,null,"Metres",null,"Metres",null,"Metres",null,"Metres",null,null,null,"A","B"]
[1,{"$f":"IF(OR(A558=0,A558=\"\"),\"\",VLOOKUP(A558,teamorder,2,FALSE))","v":9},{"$f":"Q558","v":0},null,1,{"$f":"IF(B558=0,\"\",B558)","v":9},{"$f":"IF(OR(F558=0,F558=\"\"),\"\",IF(A554=\"F\",HLOOKUP(F558,females,A555,FALSE),IF(A554=\"M\",HLOOKUP(F558,males,A555,FALSE),\"\")))","v":"Andrew Jones"},{"$f":"IF(OR(F558=0,F558=\"\"),\"\",VLOOKUP(F558,match_teams,4,FALSE))","v":"Wake"},0,null,0,null,0,null,{"$f":"IF(AND(T(I558)<>\"\",T(K558)<>\"\",T(M558)<>\"\"),0,LARGE(I558:N558,1))","v":0},null,{"$f":"IF(OR(O558=\"\",O558=0),0,RANK(O558,$O$14:$P$21,0))","v":0},0,null,0,null,0,null,{"$f":"IF(AND(T(R558)<>\"\",T(T558)<>\"\",T(V558)<>\"\"),0,IF(O558>LARGE(R558:W558,1),O558,LARGE(R558:W558,1)))","v":0},null,{"$f":"IF(OR(X558=\"\",X558=0),0,RANK(X558,$X$14:$Y$29,0))","v":0},{"$f":"IF(X558=P555,\"LR=\",IF(X558>P555,\"LR\",\"\"))","v":""}]
[2,{"$f":"IF(OR(A559=0,A559=\"\"),\"\",VLOOKUP(A559,teamorder,2,FALSE))","v":8},{"$f":"Q559","v":0},null,2,8,{"$f":"IF(OR(F559=0,F559=\"\"),\"\",IF(A554=\"F\",HLOOKUP(F559,females,A555,FALSE),IF(A554=\"M\",HLOOKUP(F559,males,A555,FALSE),\"\")))","v":"Luke Nichols"},"York",0,null,0,null,0,null,{"$f":"IF(AND(T(I559)<>\"\",T(K559)<>\"\",T(M559)<>\"\"),0,LARGE(I559:N559,1))","v":0},null,0,0,null,0,null,0,null,{"$f":"IF(AND(T(R559)<>\"\",T(T559)<>\"\",T(V559)<>\"\"),0,IF(O559>LARGE(R559:W559,1),O559,LARGE(R559:W559,1)))","v":0},null,0,{"$f":"IF(X559=P555,\"LR=\",IF(X559>P555,\"LR\",\"\"))","v":""}]
[3,{"$f":"IF(OR(A560=0,A560=\"\"),\"\",VLOOKUP(A560,teamorder,2,FALSE))","v":7},0,null,3,7,{"$f":"IF(OR(F560=0,F560=\"\"),\"\",IF(A554=\"F\",HLOOKUP(F560,females,A555,FALSE),IF(A554=\"M\",HLOOKUP(F560,males,A555,FALSE),\"\")))","v":"George Armstrong"},"Leeds C",0,null,0,null,0,null,0,null,0,0,null,0,null,0,null,0,null,0,{"$f":"IF(X560=P555,\"LR=\",IF(X560>P555,\"LR\",\"\"))","v":""}]
[null,{"$f":"IF(T(B558)=\"\",B558*11,CONCATENATE(B558,B558))","v":99},0,null,4,99,{"$f":"IF(OR(F561=0,F561=\"\"),\"\",IF(A554=\"F\",HLOOKUP(F561,females,A555,FALSE),IF(A554=\"M\",HLOOKUP(F561,males,A555,FALSE),\"\")))","v":"George Heppinstall"},"Wake",0,null,0,null,0,null,0,null,0,0,null,0,null,0,null,0,null,0,{"$f":"IF(X561=P555,\"LR=\",IF(X561>P555,\"LR\",\"\"))","v":""}]
[null,{"$f":"IF(T(B559)=\"\",B559*11,CONCATENATE(B559,B559))","v":88},0,null,5,88,{"$f":"IF(OR(F562=0,F562=\"\"),\"\",IF(A554=\"F\",HLOOKUP(F562,females,A555,FALSE),IF(A554=\"M\",HLOOKUP(F562,males,A555,FALSE),\"\")))","v":"-"},"York",0,null,0,null,0,null,0,null,0,0,null,0,null,0,null,0,null,0,{"$f":"IF(X562=P555,\"LR=\",IF(X562>P555,\"LR\",\"\"))","v":""}]
[null,{"$f":"IF(T(B560)=\"\",B560*11,CONCATENATE(B560,B560))","v":77},0,null,6,77,{"$f":"IF(OR(F563=0,F563=\"\"),\"\",IF(A554=\"F\",HLOOKUP(F563,females,A555,FALSE),IF(A554=\"M\",HLOOKUP(F563,males,A555,FALSE),\"\")))","v":"Harris Hameed"},"Leeds C",0,null,0,null,0,null,0,null,0,0,null,0,null,0,null,0,null,0,{"$f":"IF(X563=P555,\"LR=\",IF(X563>P555,\"LR\",\"\"))","v":""}]
[null,null,0,null,7,"",{"$f":"IF(OR(F564=0,F564=\"\"),\"\",IF(A554=\"F\",HLOOKUP(F564,females,A555,FALSE),IF(A554=\"M\",HLOOKUP(F564,males,A555,FALSE),\"\")))","v":""},"",0,null,0,null,0,null,0,null,0,0,null,0,null,0,null,0,null,0,{"$f":"IF(X564=P555,\"LR=\",IF(X564>P555,\"LR\",\"\"))","v":""}]
[null,null,0,null,8,"",{"$f":"IF(OR(F565=0,F565=\"\"),\"\",IF(A554=\"F\",HLOOKUP(F565,females,A555,FALSE),IF(A554=\"M\",HLOOKUP(F565,males,A555,FALSE),\"\")))","v":""},"",0,null,0,null,0,null,0,null,0,0,null,0,null,0,null,0,null,0,{"$f":"IF(X565=P555,\"LR=\",IF(X565>P555,\"LR\",\"\"))","v":""}]
[{"$f":"A558+3","v":4},{"$f":"IF(OR(A566=0,A566=\"\"),\"\",VLOOKUP(A566,teamorder2,2,FALSE))","v":1},null,{"$f":"Q566","v":0},1,1,{"$f":"IF(OR(F566=0,F566=\"\"),\"\",IF(A554=\"F\",HLOOKUP(F566,females2,A555,FALSE),IF(A554=\"M\",HLOOKUP(F566,males2,A555,FALSE),\"\")))","v":"Daniel Salt"},{"$f":"IF(OR(F566=0,F566=\"\"),\"\",VLOOKUP(F566,match_teams2,4,FALSE))","v":"DASH"},0,null,0,null,0,null,0,null,{"$f":"IF(OR(O566=\"\",O566=0),0,RANK(O566,$O$22:$P$29,0))","v":0},0,null,0,null,0,null,0,null,0,{"$f":"IF(X566=P555,\"LR=\",IF(X566>P555,\"LR\",\"\"))","v":""}]
[{"$f":"A559+3","v":5},{"$f":"IF(OR(A567=0,A567=\"\"),\"\",VLOOKUP(A567,teamorder2,2,FALSE))","v":2},null,{"$f":"Q567","v":0},2,2,{"$f":"IF(OR(F567=0,F567=\"\"),\"\",IF(A554=\"F\",HLOOKUP(F567,females2,A555,FALSE),IF(A554=\"M\",HLOOKUP(F567,males2,A555,FALSE),\"\")))","v":"Daniel Flemming"},"Linc W",0,null,0,null,0,null,0,null,0,0,null,0,null,0,null,0,null,0,{"$f":"IF(X567=P555,\"LR=\",IF(X567>P555,\"LR\",\"\"))","v":""}]
[{"$f":"A560+3","v":6},{"$f":"IF(OR(A568=0,A568=\"\"),\"\",VLOOKUP(A568,teamorder2,2,FALSE))","v":3},null,0,3,3,{"$f":"IF(OR(F568=0,F568=\"\"),\"\",IF(A554=\"F\",HLOOKUP(F568,females2,A555,FALSE),IF(A554=\"M\",HLOOKUP(F568,males2,A555,FALSE),\"\")))","v":"OscarBryce"},"Hallam",0,null,0,null,0,null,0,null,0,0,null,0,null,0,null,0,null,0,{"$f":"IF(X568=P555,\"LR=\",IF(X568>P555,\"LR\",\"\"))","v":""}]
[null,{"$f":"IF(T(B566)=\"\",B566*11,CONCATENATE(B566,B566))","v":11},null,0,4,11,{"$f":"IF(OR(F569=0,F569=\"\"),\"\",IF(A554=\"F\",HLOOKUP(F569,females2,A555,FALSE),IF(A554=\"M\",HLOOKUP(F569,males2,A555,FALSE),\"\")))","v":"Toby Leverette"},"DASH",0,null,0,null,0,null,0,null,0,0,null,0,null,0,null,0,null,0,{"$f":"IF(X569=P555,\"LR=\",IF(X569>P555,\"LR\",\"\"))","v":""}]
[null,{"$f":"IF(T(B567)=\"\",B567*11,CONCATENATE(B567,B567))","v":22},null,0,5,22,{"$f":"IF(OR(F570=0,F570=\"\"),\"\",IF(A554=\"F\",HLOOKUP(F570,females2,A555,FALSE),IF(A554=\"M\",HLOOKUP(F570,males2,A555,FALSE),\"\")))","v":"Michael Harper"},"Linc W",0,null,0,null,0,null,0,null,0,0,null,0,null,0,null,0,null,0,{"$f":"IF(X570=P555,\"LR=\",IF(X570>P555,\"LR\",\"\"))","v":""}]
[null,{"$f":"IF(T(B568)=\"\",B568*11,CONCATENATE(B568,B568))","v":33},null,0,6,33,{"$f":"IF(OR(F571=0,F571=\"\"),\"\",IF(A554=\"F\",HLOOKUP(F571,females2,A555,FALSE),IF(A554=\"M\",HLOOKUP(F571,males2,A555,FALSE),\"\")))","v":"Sam Draycott"},"Hallam",0,null,0,null,0,null,0,null,0,0,null,0,null,0,null,0,null,0,{"$f":"IF(X571=P555,\"LR=\",IF(X571>P555,\"LR\",\"\"))","v":""}]
[null,0,null,0,7,"",{"$f":"IF(OR(F572=0,F572=\"\"),\"\",IF(A554=\"F\",HLOOKUP(F572,females2,A555,FALSE),IF(A554=\"M\",HLOOKUP(F572,males2,A555,FALSE),\"\")))","v":""},"",0,null,0,null,0,null,0,null,0,0,null,0,null,0,null,0,null,0,{"$f":"IF(X572=P555,\"LR=\",IF(X572>P555,\"LR\",\"\"))","v":""}]
[null,0,null,0,8,"",{"$f":"IF(OR(F573=0,F573=\"\"),\"\",IF(A554=\"F\",HLOOKUP(F573,females2,A555,FALSE),IF(A554=\"M\",HLOOKUP(F573,males2,A555,FALSE),\"\")))","v":""},"",0,null,0,null,0,null,0,null,0,0,null,0,null,0,null,0,null,0,{"$f":"IF(X573=P555,\"LR=\",IF(X573>P555,\"LR\",\"\"))","v":""}]
[]
[null,null,null,null,"MATCH 1 RESULT",null,null,null,null,null,"MATCH 2 RESULT",null,null,null,null,null,null,null,null,null,null,null,"JUDGES' SIGNATURES"]
[null,null,null,null,null,"No.","NAME","CLUB","DISTANCE",null,null,"No.","NAME",null,null,null,"CLUB",null,null,null,"DISTANCE"]
[null,null,1,null,1,{"$f":"IF(ISERROR(VLOOKUP(C577,$C$14:$Y$21,4,FALSE))=TRUE,0,IF(VLOOKUP(C577,$C$14:$Y$21,22,FALSE)=0,0,IF(VLOOKUP(C577,$C$14:$Y$21,22,FALSE)=99,99,IF(VLOOKUP(C577,$C$14:$Y$21,22,FALSE)=98,98,IF(VLOOKUP(C577,$C$14:$Y$21,22,FALSE)=96,96,IF(VLOOKUP(C577,$C$14:$Y$21,22,FALSE)=95,95,VLOOKUP(C577,$C$14:$Y$21,4,FALSE)))))))","v":0},{"$f":"IF(ISERROR(VLOOKUP(C577,$C$14:$Y$21,4,FALSE))=TRUE,0,VLOOKUP(C577,$C$14:$Y$21,5,FALSE))","v":0},{"$f":"IF(ISERROR(VLOOKUP(C577,$C$14:$Y$21,4,FALSE))=TRUE,0,VLOOKUP(C577,$C$14:$Y$21,6,FALSE))","v":0},{"$f":"IF(ISERROR(VLOOKUP(C577,$C$14:$Y$21,4,FALSE))=TRUE,0,IF(VLOOKUP(C577,$C$14:$Y$21,22,FALSE)=0,\"\",IF(VLOOKUP(C577,$C$14:$Y$21,22,FALSE)>95.99,\"\",VLOOKUP(C577,$C$14:$Y$21,22,FALSE))))","v":0},null,1,{"$f":"IF(ISERROR(VLOOKUP(C577,$D$22:$Y$29,4,FALSE))=TRUE,0,IF(VLOOKUP(C577,D$22:Y$29,21,FALSE)=0,\"\",VLOOKUP(C577,D$22:Y$29,3,FALSE)))","v":0},{"$f":"IF(ISERROR(VLOOKUP(C577,$D$22:$Y$29,4,FALSE))=TRUE,0,VLOOKUP(C577,D$22:Y$29,4,FALSE))","v":0},null,null,null,{"$f":"IF(ISERROR(VLOOKUP(C577,$D$22:$Y$29,4,FALSE))=TRUE,0,VLOOKUP(C577,$D$22:$Y$29,5,FALSE))","v":0},null,null,null,{"$f":"IF(ISERROR(VLOOKUP(C577,$D$22:$Y$29,3,FALSE))=TRUE,0,IF(VLOOKUP(C577,$D$22:$Y$29,21,FALSE)=0,\"\",VLOOKUP(C577,$D$22:$Y$29,21,FALSE)))","v":0}]
[null,null,2,null,2,{"$f":"IF(ISERROR(VLOOKUP(C578,$C$14:$Y$21,4,FALSE))=TRUE,0,IF(VLOOKUP(C578,$C$14:$Y$21,22,FALSE)=0,\"\",IF(VLOOKUP(C578,$C$14:$Y$21,22,FALSE)=99,99,IF(VLOOKUP(C578,$C$14:$Y$21,22,FALSE)=98,98,IF(VLOOKUP(C578,$C$14:$Y$21,22,FALSE)=96,96,VLOOKUP(C578,$C$14:$Y$21,4,FALSE))))))","v":0},0,0,0,null,2,0,0,null,null,null,0,null,null,null,0]
[null,null,3,null,3,0,0,0,0,null,3,0,0,null,null,null,0,null,null,null,0]
[null,null,4,null,4,0,0,0,0,null,4,0,0,null,null,null,0,null,null,null,0]
[null,null,5,null,5,0,0,0,0,null,5,0,0,null,null,null,0,null,null,null,0]
[null,null,6,null,6,0,0,0,0,null,6,0,0,null,null,null,0,null,null,null,0,null,"REFEREE'S SIGNATURE"]
[null,null,7,null,7,0,0,0,0,null,7,0,0,null,null,null,0,null,null,null,0]
[null,null,8,null,8,0,0,0,0,null,8,0,0,null,null,null,0,null,null,null,0]
["F27",null,null,null,"UK ATHLETICS: DISTANCE CARD"]
[{"$f":"VLOOKUP(A585,eventno,5,FALSE)","v":"M"},null,null,null,"MEETING ",null,{"$f":"CONCATENATE(MatchDay!$C$3,\"/\",MatchDay!$I$3)","v":"Northern Premier East/Northern 1 SE"},null,"VENUE ",null,null,{"$f":"MatchDay!$C$7","v":"Thornes Park Stadium, Wakefield"},null,null,null,null,null,"DATE ",null,{"$f":"MatchDay!$C$5","v":"Sunday 8th May 2011"}]
[{"$f":"IF(A586=\"M\",VLOOKUP(A585,males,15,FALSE),VLOOKUP(A585,females,15,FALSE))","v":47},null,null,null,"EVENT",null,{"$f":"CONCATENATE(A585,\" \",VLOOKUP(A585,eventno,4,FALSE))","v":"F27 U17M Discus"},null,"TIME",null,null,{"$f":"VLOOKUP(A585,eventno,12,FALSE)","v":"15:25:00"},null,"Record",null,{"$f":"VLOOKUP(A585,eventno,7,FALSE)","v":58.24},null,"Duty",null,{"$f":"VLOOKUP(VLOOKUP(A585,eventno,13,FALSE),teamorder,3,FALSE)","v":"Leeds City"}]
[null,null,null,null,"Order","No","NAME","CLUB","1st Trial",null,"2nd Trial",null,"3rd Trial",null,"Best of 3",null,"Position after\n3 Trials","4th Trial",null,"5th Trial",null,"6th Trial",null,"Best of All",null,"Final\nPositionn","A or B"]
[{"$f":"VLOOKUP(A585,eventno,6,FALSE)","v":0},null,null,null,null,null,null,null,"Metres",null,"Metres",null,"Metres",null,"Metres",null,null,"Metres",null,"Metres",null,"Metres",null,"Metres",null,null,null,"A","B"]
[2,{"$f":"IF(OR(A590=0,A590=\"\"),\"\",VLOOKUP(A590,teamorder,2,FALSE))","v":8},{"$f":"Q590","v":0},null,1,{"$f":"IF(B590=0,\"\",B590)","v":8},{"$f":"IF(OR(F590=0,F590=\"\"),\"\",IF(A586=\"F\",HLOOKUP(F590,females,A587,FALSE),IF(A586=\"M\",HLOOKUP(F590,males,A587,FALSE),\"\")))","v":"Adam Robinson"},{"$f":"IF(OR(F590=0,F590=\"\"),\"\",VLOOKUP(F590,match_teams,4,FALSE))","v":"York"},0,null,0,null,0,null,{"$f":"IF(AND(T(I590)<>\"\",T(K590)<>\"\",T(M590)<>\"\"),0,LARGE(I590:N590,1))","v":0},null,{"$f":"IF(OR(O590=\"\",O590=0),0,RANK(O590,$O$14:$P$21,0))","v":0},0,null,0,null,0,null,{"$f":"IF(AND(T(R590)<>\"\",T(T590)<>\"\",T(V590)<>\"\"),0,IF(O590>LARGE(R590:W590,1),O590,LARGE(R590:W590,1)))","v":0},null,{"$f":"IF(OR(X590=\"\",X590=0),0,RANK(X590,$X$14:$Y$29,0))","v":0},{"$f":"IF(X590=P587,\"LR=\",IF(X590>P587,\"LR\",\"\"))","v":""}]
[3,{"$f":"IF(OR(A591=0,A591=\"\"),\"\",VLOOKUP(A591,teamorder,2,FALSE))","v":7},{"$f":"Q591","v":0},null,2,7,{"$f":"IF(OR(F591=0,F591=\"\"),\"\",IF(A586=\"F\",HLOOKUP(F591,females,A587,FALSE),IF(A586=\"M\",HLOOKUP(F591,males,A587,FALSE),\"\")))","v":"Connor Morley"},"Leeds C",0,null,0,null,0,null,{"$f":"IF(AND(T(I591)<>\"\",T(K591)<>\"\",T(M591)<>\"\"),0,LARGE(I591:N591,1))","v":0},null,0,0,null,0,null,0,null,{"$f":"IF(AND(T(R591)<>\"\",T(T591)<>\"\",T(V591)<>\"\"),0,IF(O591>LARGE(R591:W591,1),O591,LARGE(R591:W591,1)))","v":0},null,0,{"$f":"IF(X591=P587,\"LR=\",IF(X591>P587,\"LR\",\"\"))","v":""}]
[1,{"$f":"IF(OR(A592=0,A592=\"\"),\"\",VLOOKUP(A592,teamorder,2,FALSE))","v":9},0,null,3,9,{"$f":"IF(OR(F592=0,F592=\"\"),\"\",IF(A586=\"F\",HLOOKUP(F592,females,A587,FALSE),IF(A586=\"M\",HLOOKUP(F592,males,A587,FALSE),\"\")))","v":"Kieran Thackray"},"Wake",0,null,0,null,0,null,0,null,0,0,null,0,null,0,null,0,null,0,{"$f":"IF(X592=P587,\"LR=\",IF(X592>P587,\"LR\",\"\"))","v":""}]
[null,{"$f":"IF(T(B590)=\"\",B590*11,CONCATENATE(B590,B590))","v":88},0,null,4,88,{"$f":"IF(OR(F593=0,F593=\"\"),\"\",IF(A586=\"F\",HLOOKUP(F593,females,A587,FALSE),IF(A586=\"M\",HLOOKUP(F593,males,A587,FALSE),\"\")))","v":"-"},"York",0,null,0,null,0,null,0,null,0,0,null,0,null,0,null,0,null,0,{"$f":"IF(X593=P587,\"LR=\",IF(X593>P587,\"LR\",\"\"))","v":""}]
[null,{"$f":"IF(T(B591)=\"\",B591*11,CONCATENATE(B591,B591))","v":77},0,null,5,77,{"$f":"IF(OR(F594=0,F594=\"\"),\"\",IF(A586=\"F\",HLOOKUP(F594,females,A587,FALSE),IF(A586=\"M\",HLOOKUP(F594,males,A587,FALSE),\"\")))","v":"Max Ansell-Wood"},"Leeds C",0,null,0,null,0,null,0,null,0,0,null,0,null,0,null,0,null,0,{"$f":"IF(X594=P587,\"LR=\",IF(X594>P587,\"LR\",\"\"))","v":""}]
[null,{"$f":"IF(T(B592)=\"\",B592*11,CONCATENATE(B592,B592))","v":99},0,null,6,99,{"$f":"IF(OR(F595=0,F595=\"\"),\"\",IF(A586=\"F\",HLOOKUP(F595,females,A587,FALSE),IF(A586=\"M\",HLOOKUP(F595,males,A587,FALSE),\"\")))","v":"Ethan Plumb"},"Wake",0,null,0,null,0,null,0,null,0,0,null,0,null,0,null,0,null,0,{"$f":"IF(X595=P587,\"LR=\",IF(X595>P587,\"LR\",\"\"))","v":""}]
[null,null,0,null,7,"",{"$f":"IF(OR(F596=0,F596=\"\"),\"\",IF(A586=\"F\",HLOOKUP(F596,females,A587,FALSE),IF(A586=\"M\",HLOOKUP(F596,males,A587,FALSE),\"\")))","v":""},"",0,null,0,null,0,null,0,null,0,0,null,0,null,0,null,0,null,0,{"$f":"IF(X596=P587,\"LR=\",IF(X596>P587,\"LR\",\"\"))","v":""}]
[null,null,0,null,8,"",{"$f":"IF(OR(F597=0,F597=\"\"),\"\",IF(A586=\"F\",HLOOKUP(F597,females,A587,FALSE),IF(A586=\"M\",HLOOKUP(F597,males,A587,FALSE),\"\")))","v":""},"",0,null,0,null,0,null,0,null,0,0,null,0,null,0,null,0,null,0,{"$f":"IF(X597=P587,\"LR=\",IF(X597>P587,\"LR\",\"\"))","v":""}]
[{"$f":"A590+3","v":5},{"$f":"IF(OR(A598=0,A598=\"\"),\"\",VLOOKUP(A598,teamorder2,2,FALSE))","v":2},null,{"$f":"Q598","v":0},1,2,{"$f":"IF(OR(F598=0,F598=\"\"),\"\",IF(A586=\"F\",HLOOKUP(F598,females2,A587,FALSE),IF(A586=\"M\",HLOOKUP(F598,males2,A587,FALSE),\"\")))","v":"Dominic Sykes"},{"$f":"IF(OR(F598=0,F598=\"\"),\"\",VLOOKUP(F598,match_teams2,4,FALSE))","v":"Linc W"},0,null,0,null,0,null,0,null,{"$f":"IF(OR(O598=\"\",O598=0),0,RANK(O598,$O$22:$P$29,0))","v":0},0,null,0,null,0,null,0,null,0,{"$f":"IF(X598=P587,\"LR=\",IF(X598>P587,\"LR\",\"\"))","v":""}]
[{"$f":"A591+3","v":6},{"$f":"IF(OR(A599=0,A599=\"\"),\"\",VLOOKUP(A599,teamorder2,2,FALSE))","v":3},null,{"$f":"Q599","v":0},2,3,{"$f":"IF(OR(F599=0,F599=\"\"),\"\",IF(A586=\"F\",HLOOKUP(F599,females2,A587,FALSE),IF(A586=\"M\",HLOOKUP(F599,males2,A587,FALSE),\"\")))","v":"Anthony Tierney"},"Hallam",0,null,0,null,0,null,0,null,0,0,null,0,null,0,null,0,null,0,{"$f":"IF(X599=P587,\"LR=\",IF(X599>P587,\"LR\",\"\"))","v":""}]
[{"$f":"A592+3","v":4},{"$f":"IF(OR(A600=0,A600=\"\"),\"\",VLOOKUP(A600,teamorder2,2,FALSE))","v":1},null,0,3,1,{"$f":"IF(OR(F600=0,F600=\"\"),\"\",IF(A586=\"F\",HLOOKUP(F600,females2,A587,FALSE),IF(A586=\"M\",HLOOKUP(F600,males2,A587,FALSE),\"\")))","v":"Niall Hunt"},"DASH",0,null,0,null,0,null,0,null,0,0,null,0,null,0,null,0,null,0,{"$f":"IF(X600=P587,\"LR=\",IF(X600>P587,\"LR\",\"\"))","v":""}]
[null,{"$f":"IF(T(B598)=\"\",B598*11,CONCATENATE(B598,B598))","v":22},null,0,4,22,{"$f":"IF(OR(F601=0,F601=\"\"),\"\",IF(A586=\"F\",HLOOKUP(F601,females2,A587,FALSE),IF(A586=\"M\",HLOOKUP(F601,males2,A587,FALSE),\"\")))","v":"Josh Holden"},"Linc W",0,null,0,null,0,null,0,null,0,0,null,0,null,0,null,0,null,0,{"$f":"IF(X601=P587,\"LR=\",IF(X601>P587,\"LR\",\"\"))","v":""}]
[null,{"$f":"IF(T(B599)=\"\",B599*11,CONCATENATE(B599,B599))","v":33},null,0,5,33,{"$f":"IF(OR(F602=0,F602=\"\"),\"\",IF(A586=\"F\",HLOOKUP(F602,females2,A587,FALSE),IF(A586=\"M\",HLOOKUP(F602,males2,A587,FALSE),\"\")))","v":"-"},"Hallam",0,null,0,null,0,null,0,null,0,0,null,0,null,0,null,0,null,0,{"$f":"IF(X602=P587,\"LR=\",IF(X602>P587,\"LR\",\"\"))","v":""}]
[null,{"$f":"IF(T(B600)=\"\",B600*11,CONCATENATE(B600,B600))","v":11},null,0,6,11,{"$f":"IF(OR(F603=0,F603=\"\"),\"\",IF(A586=\"F\",HLOOKUP(F603,females2,A587,FALSE),IF(A586=\"M\",HLOOKUP(F603,males2,A587,FALSE),\"\")))","v":"James Smith"},"DASH",0,null,0,null,0,null,0,null,0,0,null,0,null,0,null,0,null,0,{"$f":"IF(X603=P587,\"LR=\",IF(X603>P587,\"LR\",\"\"))","v":""}]
[null,0,null,0,7,"",{"$f":"IF(OR(F604=0,F604=\"\"),\"\",IF(A586=\"F\",HLOOKUP(F604,females2,A587,FALSE),IF(A586=\"M\",HLOOKUP(F604,males2,A587,FALSE),\"\")))","v":""},"",0,null,0,null,0,null,0,null,0,0,null,0,null,0,null,0,null,0,{"$f":"IF(X604=P587,\"LR=\",IF(X604>P587,\"LR\",\"\"))","v":""}]
[null,0,null,0,8,"",{"$f":"IF(OR(F605=0,F605=\"\"),\"\",IF(A586=\"F\",HLOOKUP(F605,females2,A587,FALSE),IF(A586=\"M\",HLOOKUP(F605,males2,A587,FALSE),\"\")))","v":""},"",0,null,0,null,0,null,0,null,0,0,null,0,null,0,null,0,null,0,{"$f":"IF(X605=P587,\"LR=\",IF(X605>P587,\"LR\",\"\"))","v":""}]
[]
[null,null,null,null,"MATCH 1 RESULT",null,null,null,null,null,"MATCH 2 RESULT",null,null,null,null,null,null,null,null,null,null,null,"JUDGES' SIGNATURES"]
[null,null,null,null,null,"No.","NAME","CLUB","DISTANCE",null,null,"No.","NAME",null,null,null,"CLUB",null,null,null,"DISTANCE"]
[null,null,1,null,1,{"$f":"IF(ISERROR(VLOOKUP(C609,$C$14:$Y$21,4,FALSE))=TRUE,0,IF(VLOOKUP(C609,$C$14:$Y$21,22,FALSE)=0,0,IF(VLOOKUP(C609,$C$14:$Y$21,22,FALSE)=99,99,IF(VLOOKUP(C609,$C$14:$Y$21,22,FALSE)=98,98,IF(VLOOKUP(C609,$C$14:$Y$21,22,FALSE)=96,96,IF(VLOOKUP(C609,$C$14:$Y$21,22,FALSE)=95,95,VLOOKUP(C609,$C$14:$Y$21,4,FALSE)))))))","v":0},{"$f":"IF(ISERROR(VLOOKUP(C609,$C$14:$Y$21,4,FALSE))=TRUE,0,VLOOKUP(C609,$C$14:$Y$21,5,FALSE))","v":0},{"$f":"IF(ISERROR(VLOOKUP(C609,$C$14:$Y$21,4,FALSE))=TRUE,0,VLOOKUP(C609,$C$14:$Y$21,6,FALSE))","v":0},{"$f":"IF(ISERROR(VLOOKUP(C609,$C$14:$Y$21,4,FALSE))=TRUE,0,IF(VLOOKUP(C609,$C$14:$Y$21,22,FALSE)=0,\"\",IF(VLOOKUP(C609,$C$14:$Y$21,22,FALSE)>95.99,\"\",VLOOKUP(C609,$C$14:$Y$21,22,FALSE))))","v":0},null,1,{"$f":"IF(ISERROR(VLOOKUP(C609,$D$22:$Y$29,4,FALSE))=TRUE,0,IF(VLOOKUP(C609,D$22:Y$29,21,FALSE)=0,\"\",VLOOKUP(C609,D$22:Y$29,3,FALSE)))","v":0},{"$f":"IF(ISERROR(VLOOKUP(C609,$D$22:$Y$29,4,FALSE))=TRUE,0,VLOOKUP(C609,D$22:Y$29,4,FALSE))","v":0},null,null,null,{"$f":"IF(ISERROR(VLOOKUP(C609,$D$22:$Y$29,4,FALSE))=TRUE,0,VLOOKUP(C609,$D$22:$Y$29,5,FALSE))","v":0},null,null,null,{"$f":"IF(ISERROR(VLOOKUP(C609,$D$22:$Y$29,3,FALSE))=TRUE,0,IF(VLOOKUP(C609,$D$22:$Y$29,21,FALSE)=0,\"\",VLOOKUP(C609,$D$22:$Y$29,21,FALSE)))","v":0}]
[null,null,2,null,2,{"$f":"IF(ISERROR(VLOOKUP(C610,$C$14:$Y$21,4,FALSE))=TRUE,0,IF(VLOOKUP(C610,$C$14:$Y$21,22,FALSE)=0,\"\",IF(VLOOKUP(C610,$C$14:$Y$21,22,FALSE)=99,99,IF(VLOOKUP(C610,$C$14:$Y$21,22,FALSE)=98,98,IF(VLOOKUP(C610,$C$14:$Y$21,22,FALSE)=96,96,VLOOKUP(C610,$C$14:$Y$21,4,FALSE))))))","v":0},0,0,0,null,2,0,0,null,null,null,0,null,null,null,0]
[null,null,3,null,3,0,0,0,0,null,3,0,0,null,null,null,0,null,null,null,0]
[null,null,4,null,4,0,0,0,0,null,4,0,0,null,null,null,0,null,null,null,0]
[null,null,5,null,5,0,0,0,0,null,5,0,0,null,null,null,0,null,null,null,0]
[null,null,6,null,6,0,0,0,0,null,6,0,0,null,null,null,0,null,null,null,0,null,"REFEREE'S SIGNATURE"]
[null,null,7,null,7,0,0,0,0,null,7,0,0,null,null,null,0,null,null,null,0]
[null,null,8,null,8,0,0,0,0,null,8,0,0,null,null,null,0,null,null,null,0]
["F30",null,null,null,"UK ATHLETICS: DISTANCE CARD"]
[{"$f":"VLOOKUP(A617,eventno,5,FALSE)","v":"M"},null,null,null,"MEETING ",null,{"$f":"CONCATENATE(MatchDay!$C$3,\"/\",MatchDay!$I$3)","v":"Northern Premier East/Northern 1 SE"},null,"VENUE ",null,null,{"$f":"MatchDay!$C$7","v":"Thornes Park Stadium, Wakefield"},null,null,null,null,null,"DATE ",null,{"$f":"MatchDay!$C$5","v":"Sunday 8th May 2011"}]
[{"$f":"IF(A618=\"M\",VLOOKUP(A617,males,15,FALSE),VLOOKUP(A617,females,15,FALSE))","v":48},null,null,null,"EVENT",null,{"$f":"CONCATENATE(A617,\" \",VLOOKUP(A617,eventno,4,FALSE))","v":"F30 U17M Shot"},null,"TIME",null,null,{"$f":"VLOOKUP(A617,eventno,12,FALSE)","v":"16:00:00"},null,"Record",null,{"$f":"VLOOKUP(A617,eventno,7,FALSE)","v":20.350000000000001},null,"Duty",null,{"$f":"VLOOKUP(VLOOKUP(A617,eventno,13,FALSE),teamorder2,3,FALSE)","v":"Hallamshire Harr"}]
[null,null,null,null,"Order","No","NAME","CLUB","1st Trial",null,"2nd Trial",null,"3rd Trial",null,"Best of 3",null,"Position after\n3 Trials","4th Trial",null,"5th Trial",null,"6th Trial",null,"Best of All",null,"Final\nPositionn","A or B"]
[{"$f":"VLOOKUP(A617,eventno,6,FALSE)","v":0},null,null,null,null,null,null,null,"Metres",null,"Metres",null,"Metres",null,"Metres",null,null,"Metres",null,"Metres",null,"Metres",null,"Metres",null,null,null,"A","B"]
[1,{"$f":"IF(OR(A622=0,A622=\"\"),\"\",VLOOKUP(A622,teamorder,2,FALSE))","v":9},{"$f":"Q622","v":0},null,1,{"$f":"IF(B622=0,\"\",B622)","v":9},{"$f":"IF(OR(F622=0,F622=\"\"),\"\",IF(A618=\"F\",HLOOKUP(F622,females,A619,FALSE),IF(A618=\"M\",HLOOKUP(F622,males,A619,FALSE),\"\")))","v":"Kieran Thackray"},{"$f":"IF(OR(F622=0,F622=\"\"),\"\",VLOOKUP(F622,match_teams,4,FALSE))","v":"Wake"},0,null,0,null,0,null,{"$f":"IF(AND(T(I622)<>\"\",T(K622)<>\"\",T(M622)<>\"\"),0,LARGE(I622:N622,1))","v":0},null,{"$f":"IF(OR(O622=\"\",O622=0),0,RANK(O622,$O$14:$P$21,0))","v":0},0,null,0,null,0,null,{"$f":"IF(AND(T(R622)<>\"\",T(T622)<>\"\",T(V622)<>\"\"),0,IF(O622>LARGE(R622:W622,1),O622,LARGE(R622:W622,1)))","v":0},null,{"$f":"IF(OR(X622=\"\",X622=0),0,RANK(X622,$X$14:$Y$29,0))","v":0},{"$f":"IF(X622=P619,\"LR=\",IF(X622>P619,\"LR\",\"\"))","v":""}]
[2,{"$f":"IF(OR(A623=0,A623=\"\"),\"\",VLOOKUP(A623,teamorder,2,FALSE))","v":8},{"$f":"Q623","v":0},null,2,8,{"$f":"IF(OR(F623=0,F623=\"\"),\"\",IF(A618=\"F\",HLOOKUP(F623,females,A619,FALSE),IF(A618=\"M\",HLOOKUP(F623,males,A619,FALSE),\"\")))","v":"-"},"York",0,null,0,null,0,null,{"$f":"IF(AND(T(I623)<>\"\",T(K623)<>\"\",T(M623)<>\"\"),0,LARGE(I623:N623,1))","v":0},null,0,0,null,0,null,0,null,{"$f":"IF(AND(T(R623)<>\"\",T(T623)<>\"\",T(V623)<>\"\"),0,IF(O623>LARGE(R623:W623,1),O623,LARGE(R623:W623,1)))","v":0},null,0,{"$f":"IF(X623=P619,\"LR=\",IF(X623>P619,\"LR\",\"\"))","v":""}]
[3,{"$f":"IF(OR(A624=0,A624=\"\"),\"\",VLOOKUP(A624,teamorder,2,FALSE))","v":7},0,null,3,7,{"$f":"IF(OR(F624=0,F624=\"\"),\"\",IF(A618=\"F\",HLOOKUP(F624,females,A619,FALSE),IF(A618=\"M\",HLOOKUP(F624,males,A619,FALSE),\"\")))","v":"Dylan Bradley"},"Leeds C",0,null,0,null,0,null,0,null,0,0,null,0,null,0,null,0,null,0,{"$f":"IF(X624=P619,\"LR=\",IF(X624>P619,\"LR\",\"\"))","v":""}]
[null,{"$f":"IF(T(B622)=\"\",B622*11,CONCATENATE(B622,B622))","v":99},0,null,4,99,{"$f":"IF(OR(F625=0,F625=\"\"),\"\",IF(A618=\"F\",HLOOKUP(F625,females,A619,FALSE),IF(A618=\"M\",HLOOKUP(F625,males,A619,FALSE),\"\")))","v":"Andrew Lorkins"},"Wake",0,null,0,null,0,null,0,null,0,0,null,0,null,0,null,0,null,0,{"$f":"IF(X625=P619,\"LR=\",IF(X625>P619,\"LR\",\"\"))","v":""}]
[null,{"$f":"IF(T(B623)=\"\",B623*11,CONCATENATE(B623,B623))","v":88},0,null,5,88,{"$f":"IF(OR(F626=0,F626=\"\"),\"\",IF(A618=\"F\",HLOOKUP(F626,females,A619,FALSE),IF(A618=\"M\",HLOOKUP(F626,males,A619,FALSE),\"\")))","v":"-"},"York",0,null,0,null,0,null,0,null,0,0,null,0,null,0,null,0,null,0,{"$f":"IF(X626=P619,\"LR=\",IF(X626>P619,\"LR\",\"\"))","v":""}]
[null,{"$f":"IF(T(B624)=\"\",B624*11,CONCATENATE(B624,B624))","v":77},0,null,6,77,{"$f":"IF(OR(F627=0,F627=\"\"),\"\",IF(A618=\"F\",HLOOKUP(F627,females,A619,FALSE),IF(A618=\"M\",HLOOKUP(F627,males,A619,FALSE),\"\")))","v":"-"},"Leeds C",0,null,0,null,0,null,0,null,0,0,null,0,null,0,null,0,null,0,{"$f":"IF(X627=P619,\"LR=\",IF(X627>P619,\"LR\",\"\"))","v":""}]
[null,null,0,null,7,"",{"$f":"IF(OR(F628=0,F628=\"\"),\"\",IF(A618=\"F\",HLOOKUP(F628,females,A619,FALSE),IF(A618=\"M\",HLOOKUP(F628,males,A619,FALSE),\"\")))","v":""},"",0,null,0,null,0,null,0,null,0,0,null,0,null,0,null,0,null,0,{"$f":"IF(X628=P619,\"LR=\",IF(X628>P619,\"LR\",\"\"))","v":""}]
[null,null,0,null,8,"",{"$f":"IF(OR(F629=0,F629=\"\"),\"\",IF(A618=\"F\",HLOOKUP(F629,females,A619,FALSE),IF(A618=\"M\",HLOOKUP(F629,males,A619,FALSE),\"\")))","v":""},"",0,null,0,null,0,null,0,null,0,0,null,0,null,0,null,0,null,0,{"$f":"IF(X629=P619,\"LR=\",IF(X629>P619,\"LR\",\"\"))","v":""}]
[{"$f":"A622+3","v":4},{"$f":"IF(OR(A630=0,A630=\"\"),\"\",VLOOKUP(A630,teamorder2,2,FALSE))","v":1},null,{"$f":"Q630","v":0},1,1,{"$f":"IF(OR(F630=0,F630=\"\"),\"\",IF(A618=\"F\",HLOOKUP(F630,females2,A619,FALSE),IF(A618=\"M\",HLOOKUP(F630,males2,A619,FALSE),\"\")))","v":"Niall Hunt"},{"$f":"IF(OR(F630=0,F630=\"\"),\"\",VLOOKUP(F630,match_teams2,4,FALSE))","v":"DASH"},0,null,0,null,0,null,0,null,{"$f":"IF(OR(O630=\"\",O630=0),0,RANK(O630,$O$22:$P$29,0))","v":0},0,null,0,null,0,null,0,null,0,{"$f":"IF(X630=P619,\"LR=\",IF(X630>P619,\"LR\",\"\"))","v":""}]
[{"$f":"A623+3","v":5},{"$f":"IF(OR(A631=0,A631=\"\"),\"\",VLOOKUP(A631,teamorder2,2,FALSE))","v":2},null,{"$f":"Q631","v":0},2,2,{"$f":"IF(OR(F631=0,F631=\"\"),\"\",IF(A618=\"F\",HLOOKUP(F631,females2,A619,FALSE),IF(A618=\"M\",HLOOKUP(F631,males2,A619,FALSE),\"\")))","v":"Dominic Sykes"},"Linc W",0,null,0,null,0,null,0,null,0,0,null,0,null,0,null,0,null,0,{"$f":"IF(X631=P619,\"LR=\",IF(X631>P619,\"LR\",\"\"))","v":""}]
[{"$f":"A624+3","v":6},{"$f":"IF(OR(A632=0,A632=\"\"),\"\",VLOOKUP(A632,teamorder2,2,FALSE))","v":3},null,0,3,3,{"$f":"IF(OR(F632=0,F632=\"\"),\"\",IF(A618=\"F\",HLOOKUP(F632,females2,A619,FALSE),IF(A618=\"M\",HLOOKUP(F632,males2,A619,FALSE),\"\")))","v":"-"},"Hallam",0,null,0,null,0,null,0,null,0,0,null,0,null,0,null,0,null,0,{"$f":"IF(X632=P619,\"LR=\",IF(X632>P619,\"LR\",\"\"))","v":""}]
[null,{"$f":"IF(T(B630)=\"\",B630*11,CONCATENATE(B630,B630))","v":11},null,0,4,11,{"$f":"IF(OR(F633=0,F633=\"\"),\"\",IF(A618=\"F\",HLOOKUP(F633,females2,A619,FALSE),IF(A618=\"M\",HLOOKUP(F633,males2,A619,FALSE),\"\")))","v":"James Smith"},"DASH",0,null,0,null,0,null,0,null,0,0,null,0,null,0,null,0,null,0,{"$f":"IF(X633=P619,\"LR=\",IF(X633>P619,\"LR\",\"\"))","v":""}]
[null,{"$f":"IF(T(B631)=\"\",B631*11,CONCATENATE(B631,B631))","v":22},null,0,5,22,{"$f":"IF(OR(F634=0,F634=\"\"),\"\",IF(A618=\"F\",HLOOKUP(F634,females2,A619,FALSE),IF(A618=\"M\",HLOOKUP(F634,males2,A619,FALSE),\"\")))","v":"Sam Shuttleworth"},"Linc W",0,null,0,null,0,null,0,null,0,0,null,0,null,0,null,0,null,0,{"$f":"IF(X634=P619,\"LR=\",IF(X634>P619,\"LR\",\"\"))","v":""}]
[null,{"$f":"IF(T(B632)=\"\",B632*11,CONCATENATE(B632,B632))","v":33},null,0,6,33,{"$f":"IF(OR(F635=0,F635=\"\"),\"\",IF(A618=\"F\",HLOOKUP(F635,females2,A619,FALSE),IF(A618=\"M\",HLOOKUP(F635,males2,A619,FALSE),\"\")))","v":"-"},"Hallam",0,null,0,null,0,null,0,null,0,0,null,0,null,0,null,0,null,0,{"$f":"IF(X635=P619,\"LR=\",IF(X635>P619,\"LR\",\"\"))","v":""}]
[null,0,null,0,7,"",{"$f":"IF(OR(F636=0,F636=\"\"),\"\",IF(A618=\"F\",HLOOKUP(F636,females2,A619,FALSE),IF(A618=\"M\",HLOOKUP(F636,males2,A619,FALSE),\"\")))","v":""},"",0,null,0,null,0,null,0,null,0,0,null,0,null,0,null,0,null,0,{"$f":"IF(X636=P619,\"LR=\",IF(X636>P619,\"LR\",\"\"))","v":""}]
[null,0,null,0,8,"",{"$f":"IF(OR(F637=0,F637=\"\"),\"\",IF(A618=\"F\",HLOOKUP(F637,females2,A619,FALSE),IF(A618=\"M\",HLOOKUP(F637,males2,A619,FALSE),\"\")))","v":""},"",0,null,0,null,0,null,0,null,0,0,null,0,null,0,null,0,null,0,{"$f":"IF(X637=P619,\"LR=\",IF(X637>P619,\"LR\",\"\"))","v":""}]
[]
[null,null,null,null,"MATCH 1 RESULT",null,null,null,null,null,"MATCH 2 RESULT",null,null,null,null,null,null,null,null,null,null,null,"JUDGES' SIGNATURES"]
[null,null,null,null,null,"No.","NAME","CLUB","DISTANCE",null,null,"No.","NAME",null,null,null,"CLUB",null,null,null,"DISTANCE"]
[null,null,1,null,1,{"$f":"IF(ISERROR(VLOOKUP(C641,$C$14:$Y$21,4,FALSE))=TRUE,0,IF(VLOOKUP(C641,$C$14:$Y$21,22,FALSE)=0,0,IF(VLOOKUP(C641,$C$14:$Y$21,22,FALSE)=99,99,IF(VLOOKUP(C641,$C$14:$Y$21,22,FALSE)=98,98,IF(VLOOKUP(C641,$C$14:$Y$21,22,FALSE)=96,96,IF(VLOOKUP(C641,$C$14:$Y$21,22,FALSE)=95,95,VLOOKUP(C641,$C$14:$Y$21,4,FALSE)))))))","v":0},{"$f":"IF(ISERROR(VLOOKUP(C641,$C$14:$Y$21,4,FALSE))=TRUE,0,VLOOKUP(C641,$C$14:$Y$21,5,FALSE))","v":0},{"$f":"IF(ISERROR(VLOOKUP(C641,$C$14:$Y$21,4,FALSE))=TRUE,0,VLOOKUP(C641,$C$14:$Y$21,6,FALSE))","v":0},{"$f":"IF(ISERROR(VLOOKUP(C641,$C$14:$Y$21,4,FALSE))=TRUE,0,IF(VLOOKUP(C641,$C$14:$Y$21,22,FALSE)=0,\"\",IF(VLOOKUP(C641,$C$14:$Y$21,22,FALSE)>95.99,\"\",VLOOKUP(C641,$C$14:$Y$21,22,FALSE))))","v":0},null,1,{"$f":"IF(ISERROR(VLOOKUP(C641,$D$22:$Y$29,4,FALSE))=TRUE,0,IF(VLOOKUP(C641,D$22:Y$29,21,FALSE)=0,\"\",VLOOKUP(C641,D$22:Y$29,3,FALSE)))","v":0},{"$f":"IF(ISERROR(VLOOKUP(C641,$D$22:$Y$29,4,FALSE))=TRUE,0,VLOOKUP(C641,D$22:Y$29,4,FALSE))","v":0},null,null,null,{"$f":"IF(ISERROR(VLOOKUP(C641,$D$22:$Y$29,4,FALSE))=TRUE,0,VLOOKUP(C641,$D$22:$Y$29,5,FALSE))","v":0},null,null,null,{"$f":"IF(ISERROR(VLOOKUP(C641,$D$22:$Y$29,3,FALSE))=TRUE,0,IF(VLOOKUP(C641,$D$22:$Y$29,21,FALSE)=0,\"\",VLOOKUP(C641,$D$22:$Y$29,21,FALSE)))","v":0}]
[null,null,2,null,2,{"$f":"IF(ISERROR(VLOOKUP(C642,$C$14:$Y$21,4,FALSE))=TRUE,0,IF(VLOOKUP(C642,$C$14:$Y$21,22,FALSE)=0,\"\",IF(VLOOKUP(C642,$C$14:$Y$21,22,FALSE)=99,99,IF(VLOOKUP(C642,$C$14:$Y$21,22,FALSE)=98,98,IF(VLOOKUP(C642,$C$14:$Y$21,22,FALSE)=96,96,VLOOKUP(C642,$C$14:$Y$21,4,FALSE))))))","v":0},0,0,0,null,2,0,0,null,null,null,0,null,null,null,0]
[null,null,3,null,3,0,0,0,0,null,3,0,0,null,null,null,0,null,null,null,0]
[null,null,4,null,4,0,0,0,0,null,4,0,0,null,null,null,0,null,null,null,0]
[null,null,5,null,5,0,0,0,0,null,5,0,0,null,null,null,0,null,null,null,0]
[null,null,6,null,6,0,0,0,0,null,6,0,0,null,null,null,0,null,null,null,0,null,"REFEREE'S SIGNATURE"]
[null,null,7,null,7,0,0,0,0,null,7,0,0,null,null,null,0,null,null,null,0]
[null,null,8,null,8,0,0,0,0,null,8,0,0,null,null,null,0,null,null,null,0]
["F31",null,null,null,"UK ATHLETICS: DISTANCE CARD"]
[{"$f":"VLOOKUP(A649,eventno,5,FALSE)","v":"M"},null,null,null,"MEETING ",null,{"$f":"CONCATENATE(MatchDay!$C$3,\"/\",MatchDay!$I$3)","v":"Northern Premier East/Northern 1 SE"},null,"VENUE ",null,null,{"$f":"MatchDay!$C$7","v":"Thornes Park Stadium, Wakefield"},null,null,null,null,null,"DATE ",null,{"$f":"MatchDay!$C$5","v":"Sunday 8th May 2011"}]
[{"$f":"IF(A650=\"M\",VLOOKUP(A649,males,15,FALSE),VLOOKUP(A649,females,15,FALSE))","v":49},null,null,null,"EVENT",null,{"$f":"CONCATENATE(A649,\" \",VLOOKUP(A649,eventno,4,FALSE))","v":"F31 U17M Triple Jump"},null,"TIME",null,null,{"$f":"VLOOKUP(A649,eventno,12,FALSE)","v":"16:30:00"},null,"Record",null,{"$f":"VLOOKUP(A649,eventno,7,FALSE)","v":15.58},null,"Duty",null,{"$f":"VLOOKUP(VLOOKUP(A649,eventno,13,FALSE),teamorder2,3,FALSE)","v":"2DASH"}]
[null,null,null,null,"Order","No","NAME","CLUB","1st Trial",null,"2nd Trial",null,"3rd Trial",null,"Best of 3",null,"Position after\n3 Trials","4th Trial",null,"5th Trial",null,"6th Trial",null,"Best of All",null,"Final\nPositionn","A or B"]
[{"$f":"VLOOKUP(A649,eventno,6,FALSE)","v":0},null,null,null,null,null,null,null,"Metres",null,"Metres",null,"Metres",null,"Metres",null,null,"Metres",null,"Metres",null,"Metres",null,"Metres",null,null,null,"A","B"]
[2,{"$f":"IF(OR(A654=0,A654=\"\"),\"\",VLOOKUP(A654,teamorder,2,FALSE))","v":8},{"$f":"Q654","v":0},null,1,{"$f":"IF(B654=0,\"\",B654)","v":8},{"$f":"IF(OR(F654=0,F654=\"\"),\"\",IF(A650=\"F\",HLOOKUP(F654,females,A651,FALSE),IF(A650=\"M\",HLOOKUP(F654,males,A651,FALSE),\"\")))","v":"James Stanton"},{"$f":"IF(OR(F654=0,F654=\"\"),\"\",VLOOKUP(F654,match_teams,4,FALSE))","v":"York"},0,null,0,null,0,null,{"$f":"IF(AND(T(I654)<>\"\",T(K654)<>\"\",T(M654)<>\"\"),0,LARGE(I654:N654,1))","v":0},null,{"$f":"IF(OR(O654=\"\",O654=0),0,RANK(O654,$O$14:$P$21,0))","v":0},0,null,0,null,0,null,{"$f":"IF(AND(T(R654)<>\"\",T(T654)<>\"\",T(V654)<>\"\"),0,IF(O654>LARGE(R654:W654,1),O654,LARGE(R654:W654,1)))","v":0},null,{"$f":"IF(OR(X654=\"\",X654=0),0,RANK(X654,$X$14:$Y$29,0))","v":0},{"$f":"IF(X654=P651,\"LR=\",IF(X654>P651,\"LR\",\"\"))","v":""}]
[3,{"$f":"IF(OR(A655=0,A655=\"\"),\"\",VLOOKUP(A655,teamorder,2,FALSE))","v":7},{"$f":"Q655","v":0},null,2,7,{"$f":"IF(OR(F655=0,F655=\"\"),\"\",IF(A650=\"F\",HLOOKUP(F655,females,A651,FALSE),IF(A650=\"M\",HLOOKUP(F655,males,A651,FALSE),\"\")))","v":"Max Ansell-Wood"},"Leeds C",0,null,0,null,0,null,{"$f":"IF(AND(T(I655)<>\"\",T(K655)<>\"\",T(M655)<>\"\"),0,LARGE(I655:N655,1))","v":0},null,0,0,null,0,null,0,null,{"$f":"IF(AND(T(R655)<>\"\",T(T655)<>\"\",T(V655)<>\"\"),0,IF(O655>LARGE(R655:W655,1),O655,LARGE(R655:W655,1)))","v":0},null,0,{"$f":"IF(X655=P651,\"LR=\",IF(X655>P651,\"LR\",\"\"))","v":""}]
[1,{"$f":"IF(OR(A656=0,A656=\"\"),\"\",VLOOKUP(A656,teamorder,2,FALSE))","v":9},0,null,3,9,{"$f":"IF(OR(F656=0,F656=\"\"),\"\",IF(A650=\"F\",HLOOKUP(F656,females,A651,FALSE),IF(A650=\"M\",HLOOKUP(F656,males,A651,FALSE),\"\")))","v":"George Brown"},"Wake",0,null,0,null,0,null,0,null,0,0,null,0,null,0,null,0,null,0,{"$f":"IF(X656=P651,\"LR=\",IF(X656>P651,\"LR\",\"\"))","v":""}]
[null,{"$f":"IF(T(B654)=\"\",B654*11,CONCATENATE(B654,B654))","v":88},0,null,4,88,{"$f":"IF(OR(F657=0,F657=\"\"),\"\",IF(A650=\"F\",HLOOKUP(F657,females,A651,FALSE),IF(A650=\"M\",HLOOKUP(F657,males,A651,FALSE),\"\")))","v":"-"},"York",0,null,0,null,0,null,0,null,0,0,null,0,null,0,null,0,null,0,{"$f":"IF(X657=P651,\"LR=\",IF(X657>P651,\"LR\",\"\"))","v":""}]
[null,{"$f":"IF(T(B655)=\"\",B655*11,CONCATENATE(B655,B655))","v":77},0,null,5,77,{"$f":"IF(OR(F658=0,F658=\"\"),\"\",IF(A650=\"F\",HLOOKUP(F658,females,A651,FALSE),IF(A650=\"M\",HLOOKUP(F658,males,A651,FALSE),\"\")))","v":"-"},"Leeds C",0,null,0,null,0,null,0,null,0,0,null,0,null,0,null,0,null,0,{"$f":"IF(X658=P651,\"LR=\",IF(X658>P651,\"LR\",\"\"))","v":""}]
[null,{"$f":"IF(T(B656)=\"\",B656*11,CONCATENATE(B656,B656))","v":99},0,null,6,99,{"$f":"IF(OR(F659=0,F659=\"\"),\"\",IF(A650=\"F\",HLOOKUP(F659,females,A651,FALSE),IF(A650=\"M\",HLOOKUP(F659,males,A651,FALSE),\"\")))","v":"-"},"Wake",0,null,0,null,0,null,0,null,0,0,null,0,null,0,null,0,null,0,{"$f":"IF(X659=P651,\"LR=\",IF(X659>P651,\"LR\",\"\"))","v":""}]
[null,null,0,null,7,"",{"$f":"IF(OR(F660=0,F660=\"\"),\"\",IF(A650=\"F\",HLOOKUP(F660,females,A651,FALSE),IF(A650=\"M\",HLOOKUP(F660,males,A651,FALSE),\"\")))","v":""},"",0,null,0,null,0,null,0,null,0,0,null,0,null,0,null,0,null,0,{"$f":"IF(X660=P651,\"LR=\",IF(X660>P651,\"LR\",\"\"))","v":""}]
[null,null,0,null,8,"",{"$f":"IF(OR(F661=0,F661=\"\"),\"\",IF(A650=\"F\",HLOOKUP(F661,females,A651,FALSE),IF(A650=\"M\",HLOOKUP(F661,males,A651,FALSE),\"\")))","v":""},"",0,null,0,null,0,null,0,null,0,0,null,0,null,0,null,0,null,0,{"$f":"IF(X661=P651,\"LR=\",IF(X661>P651,\"LR\",\"\"))","v":""}]
[{"$f":"A654+3","v":5},{"$f":"IF(OR(A662=0,A662=\"\"),\"\",VLOOKUP(A662,teamorder2,2,FALSE))","v":2},null,{"$f":"Q662","v":0},1,2,{"$f":"IF(OR(F662=0,F662=\"\"),\"\",IF(A650=\"F\",HLOOKUP(F662,females2,A651,FALSE),IF(A650=\"M\",HLOOKUP(F662,males2,A651,FALSE),\"\")))","v":"Joshua Asbrey"},{"$f":"IF(OR(F662=0,F662=\"\"),\"\",VLOOKUP(F662,match_teams2,4,FALSE))","v":"Linc W"},0,null,0,null,0,null,0,null,{"$f":"IF(OR(O662=\"\",O662=0),0,RANK(O662,$O$22:$P$29,0))","v":0},0,null,0,null,0,null,0,null,0,{"$f":"IF(X662=P651,\"LR=\",IF(X662>P651,\"LR\",\"\"))","v":""}]
[{"$f":"A655+3","v":6},{"$f":"IF(OR(A663=0,A663=\"\"),\"\",VLOOKUP(A663,teamorder2,2,FALSE))","v":3},null,{"$f":"Q663","v":0},2,3,{"$f":"IF(OR(F663=0,F663=\"\"),\"\",IF(A650=\"F\",HLOOKUP(F663,females2,A651,FALSE),IF(A650=\"M\",HLOOKUP(F663,males2,A651,FALSE),\"\")))","v":"-"},"Hallam",0,null,0,null,0,null,0,null,0,0,null,0,null,0,null,0,null,0,{"$f":"IF(X663=P651,\"LR=\",IF(X663>P651,\"LR\",\"\"))","v":""}]
[{"$f":"A656+3","v":4},{"$f":"IF(OR(A664=0,A664=\"\"),\"\",VLOOKUP(A664,teamorder2,2,FALSE))","v":1},null,0,3,1,{"$f":"IF(OR(F664=0,F664=\"\"),\"\",IF(A650=\"F\",HLOOKUP(F664,females2,A651,FALSE),IF(A650=\"M\",HLOOKUP(F664,males2,A651,FALSE),\"\")))","v":"Aidon Sahni"},"DASH",0,null,0,null,0,null,0,null,0,0,null,0,null,0,null,0,null,0,{"$f":"IF(X664=P651,\"LR=\",IF(X664>P651,\"LR\",\"\"))","v":""}]
[null,{"$f":"IF(T(B662)=\"\",B662*11,CONCATENATE(B662,B662))","v":22},null,0,4,22,{"$f":"IF(OR(F665=0,F665=\"\"),\"\",IF(A650=\"F\",HLOOKUP(F665,females2,A651,FALSE),IF(A650=\"M\",HLOOKUP(F665,males2,A651,FALSE),\"\")))","v":"Joe Wilkinson"},"Linc W",0,null,0,null,0,null,0,null,0,0,null,0,null,0,null,0,null,0,{"$f":"IF(X665=P651,\"LR=\",IF(X665>P651,\"LR\",\"\"))","v":""}]
[null,{"$f":"IF(T(B663)=\"\",B663*11,CONCATENATE(B663,B663))","v":33},null,0,5,33,{"$f":"IF(OR(F666=0,F666=\"\"),\"\",IF(A650=\"F\",HLOOKUP(F666,females2,A651,FALSE),IF(A650=\"M\",HLOOKUP(F666,males2,A651,FALSE),\"\")))","v":"-"},"Hallam",0,null,0,null,0,null,0,null,0,0,null,0,null,0,null,0,null,0,{"$f":"IF(X666=P651,\"LR=\",IF(X666>P651,\"LR\",\"\"))","v":""}]
[null,{"$f":"IF(T(B664)=\"\",B664*11,CONCATENATE(B664,B664))","v":11},null,0,6,11,{"$f":"IF(OR(F667=0,F667=\"\"),\"\",IF(A650=\"F\",HLOOKUP(F667,females2,A651,FALSE),IF(A650=\"M\",HLOOKUP(F667,males2,A651,FALSE),\"\")))","v":"-"},"DASH",0,null,0,null,0,null,0,null,0,0,null,0,null,0,null,0,null,0,{"$f":"IF(X667=P651,\"LR=\",IF(X667>P651,\"LR\",\"\"))","v":""}]
[null,0,null,0,7,"",{"$f":"IF(OR(F668=0,F668=\"\"),\"\",IF(A650=\"F\",HLOOKUP(F668,females2,A651,FALSE),IF(A650=\"M\",HLOOKUP(F668,males2,A651,FALSE),\"\")))","v":""},"",0,null,0,null,0,null,0,null,0,0,null,0,null,0,null,0,null,0,{"$f":"IF(X668=P651,\"LR=\",IF(X668>P651,\"LR\",\"\"))","v":""}]
[null,0,null,0,8,"",{"$f":"IF(OR(F669=0,F669=\"\"),\"\",IF(A650=\"F\",HLOOKUP(F669,females2,A651,FALSE),IF(A650=\"M\",HLOOKUP(F669,males2,A651,FALSE),\"\")))","v":""},"",0,null,0,null,0,null,0,null,0,0,null,0,null,0,null,0,null,0,{"$f":"IF(X669=P651,\"LR=\",IF(X669>P651,\"LR\",\"\"))","v":""}]
[]
[null,null,null,null,"MATCH 1 RESULT",null,null,null,null,null,"MATCH 2 RESULT",null,null,null,null,null,null,null,null,null,null,null,"JUDGES' SIGNATURES"]
[null,null,null,null,null,"No.","NAME","CLUB","DISTANCE",null,null,"No.","NAME",null,null,null,"CLUB",null,null,null,"DISTANCE"]
[null,null,1,null,1,{"$f":"IF(ISERROR(VLOOKUP(C673,$C$14:$Y$21,4,FALSE))=TRUE,0,IF(VLOOKUP(C673,$C$14:$Y$21,22,FALSE)=0,0,IF(VLOOKUP(C673,$C$14:$Y$21,22,FALSE)=99,99,IF(VLOOKUP(C673,$C$14:$Y$21,22,FALSE)=98,98,IF(VLOOKUP(C673,$C$14:$Y$21,22,FALSE)=96,96,IF(VLOOKUP(C673,$C$14:$Y$21,22,FALSE)=95,95,VLOOKUP(C673,$C$14:$Y$21,4,FALSE)))))))","v":0},{"$f":"IF(ISERROR(VLOOKUP(C673,$C$14:$Y$21,4,FALSE))=TRUE,0,VLOOKUP(C673,$C$14:$Y$21,5,FALSE))","v":0},{"$f":"IF(ISERROR(VLOOKUP(C673,$C$14:$Y$21,4,FALSE))=TRUE,0,VLOOKUP(C673,$C$14:$Y$21,6,FALSE))","v":0},{"$f":"IF(ISERROR(VLOOKUP(C673,$C$14:$Y$21,4,FALSE))=TRUE,0,IF(VLOOKUP(C673,$C$14:$Y$21,22,FALSE)=0,\"\",IF(VLOOKUP(C673,$C$14:$Y$21,22,FALSE)>95.99,\"\",VLOOKUP(C673,$C$14:$Y$21,22,FALSE))))","v":0},null,1,{"$f":"IF(ISERROR(VLOOKUP(C673,$D$22:$Y$29,4,FALSE))=TRUE,0,IF(VLOOKUP(C673,D$22:Y$29,21,FALSE)=0,\"\",VLOOKUP(C673,D$22:Y$29,3,FALSE)))","v":0},{"$f":"IF(ISERROR(VLOOKUP(C673,$D$22:$Y$29,4,FALSE))=TRUE,0,VLOOKUP(C673,D$22:Y$29,4,FALSE))","v":0},null,null,null,{"$f":"IF(ISERROR(VLOOKUP(C673,$D$22:$Y$29,4,FALSE))=TRUE,0,VLOOKUP(C673,$D$22:$Y$29,5,FALSE))","v":0},null,null,null,{"$f":"IF(ISERROR(VLOOKUP(C673,$D$22:$Y$29,3,FALSE))=TRUE,0,IF(VLOOKUP(C673,$D$22:$Y$29,21,FALSE)=0,\"\",VLOOKUP(C673,$D$22:$Y$29,21,FALSE)))","v":0}]
[null,null,2,null,2,{"$f":"IF(ISERROR(VLOOKUP(C674,$C$14:$Y$21,4,FALSE))=TRUE,0,IF(VLOOKUP(C674,$C$14:$Y$21,22,FALSE)=0,\"\",IF(VLOOKUP(C674,$C$14:$Y$21,22,FALSE)=99,99,IF(VLOOKUP(C674,$C$14:$Y$21,22,FALSE)=98,98,IF(VLOOKUP(C674,$C$14:$Y$21,22,FALSE)=96,96,VLOOKUP(C674,$C$14:$Y$21,4,FALSE))))))","v":0},0,0,0,null,2,0,0,null,null,null,0,null,null,null,0]
[null,null,3,null,3,0,0,0,0,null,3,0,0,null,null,null,0,null,null,null,0]
[null,null,4,null,4,0,0,0,0,null,4,0,0,null,null,null,0,null,null,null,0]
[null,null,5,null,5,0,0,0,0,null,5,0,0,null,null,null,0,null,null,null,0]
[null,null,6,null,6,0,0,0,0,null,6,0,0,null,null,null,0,null,null,null,0,null,"REFEREE'S SIGNATURE"]
[null,null,7,null,7,0,0,0,0,null,7,0,0,null,null,null,0,null,null,null,0]
[null,null,8,null,8,0,0,0,0,null,8,0,0,null,null,null,0,null,null,null,0]
["F32",null,null,null,"UK ATHLETICS: DISTANCE CARD"]
[{"$f":"VLOOKUP(A681,eventno,5,FALSE)","v":"F"},null,null,null,"MEETING ",null,{"$f":"CONCATENATE(MatchDay!$C$3,\"/\",MatchDay!$I$3)","v":"Northern Premier East/Northern 1 SE"},null,"VENUE ",null,null,{"$f":"MatchDay!$C$7","v":"Thornes Park Stadium, Wakefield"},null,null,null,null,null,"DATE ",null,{"$f":"MatchDay!$C$5","v":"Sunday 8th May 2011"}]
[{"$f":"IF(A682=\"M\",VLOOKUP(A681,males,15,FALSE),VLOOKUP(A681,females,15,FALSE))","v":49},null,null,null,"EVENT",null,{"$f":"CONCATENATE(A681,\" \",VLOOKUP(A681,eventno,4,FALSE))","v":"F32 U17W Triple Jump"},null,"TIME",null,null,{"$f":"VLOOKUP(A681,eventno,12,FALSE)","v":"16:30:00"},null,"Record",null,{"$f":"VLOOKUP(A681,eventno,7,FALSE)","v":11.84},null,"Duty",null,{"$f":"VLOOKUP(VLOOKUP(A681,eventno,13,FALSE),teamorder2,3,FALSE)","v":"2DASH"}]
[null,null,null,null,"Order","No","NAME","CLUB","1st Trial",null,"2nd Trial",null,"3rd Trial",null,"Best of 3",null,"Position after\n3 Trials","4th Trial",null,"5th Trial",null,"6th Trial",null,"Best of All",null,"Final\nPositionn","A or B"]
[{"$f":"VLOOKUP(A681,eventno,6,FALSE)","v":0},null,null,null,null,null,null,null,"Metres",null,"Metres",null,"Metres",null,"Metres",null,null,"Metres",null,"Metres",null,"Metres",null,"Metres",null,null,null,"A","B"]
[1,{"$f":"IF(OR(A686=0,A686=\"\"),\"\",VLOOKUP(A686,teamorder,2,FALSE))","v":9},{"$f":"Q686","v":0},null,1,{"$f":"IF(B686=0,\"\",B686)","v":9},{"$f":"IF(OR(F686=0,F686=\"\"),\"\",IF(A682=\"F\",HLOOKUP(F686,females,A683,FALSE),IF(A682=\"M\",HLOOKUP(F686,males,A683,FALSE),\"\")))","v":"Dannielle Anderson"},{"$f":"IF(OR(F686=0,F686=\"\"),\"\",VLOOKUP(F686,match_teams,4,FALSE))","v":"Wake"},0,null,0,null,0,null,{"$f":"IF(AND(T(I686)<>\"\",T(K686)<>\"\",T(M686)<>\"\"),0,LARGE(I686:N686,1))","v":0},null,{"$f":"IF(OR(O686=\"\",O686=0),0,RANK(O686,$O$14:$P$21,0))","v":0},0,null,0,null,0,null,{"$f":"IF(AND(T(R686)<>\"\",T(T686)<>\"\",T(V686)<>\"\"),0,IF(O686>LARGE(R686:W686,1),O686,LARGE(R686:W686,1)))","v":0},null,{"$f":"IF(OR(X686=\"\",X686=0),0,RANK(X686,$X$14:$Y$29,0))","v":0},{"$f":"IF(X686=P683,\"LR=\",IF(X686>P683,\"LR\",\"\"))","v":""}]
[3,{"$f":"IF(OR(A687=0,A687=\"\"),\"\",VLOOKUP(A687,teamorder,2,FALSE))","v":7},{"$f":"Q687","v":0},null,2,7,{"$f":"IF(OR(F687=0,F687=\"\"),\"\",IF(A682=\"F\",HLOOKUP(F687,females,A683,FALSE),IF(A682=\"M\",HLOOKUP(F687,males,A683,FALSE),\"\")))","v":"Katie Ward"},"Leeds C",0,null,0,null,0,null,{"$f":"IF(AND(T(I687)<>\"\",T(K687)<>\"\",T(M687)<>\"\"),0,LARGE(I687:N687,1))","v":0},null,0,0,null,0,null,0,null,{"$f":"IF(AND(T(R687)<>\"\",T(T687)<>\"\",T(V687)<>\"\"),0,IF(O687>LARGE(R687:W687,1),O687,LARGE(R687:W687,1)))","v":0},null,0,{"$f":"IF(X687=P683,\"LR=\",IF(X687>P683,\"LR\",\"\"))","v":""}]
[2,{"$f":"IF(OR(A688=0,A688=\"\"),\"\",VLOOKUP(A688,teamorder,2,FALSE))","v":8},0,null,3,8,{"$f":"IF(OR(F688=0,F688=\"\"),\"\",IF(A682=\"F\",HLOOKUP(F688,females,A683,FALSE),IF(A682=\"M\",HLOOKUP(F688,males,A683,FALSE),\"\")))","v":"Olivia Swain"},"York",0,null,0,null,0,null,0,null,0,0,null,0,null,0,null,0,null,0,{"$f":"IF(X688=P683,\"LR=\",IF(X688>P683,\"LR\",\"\"))","v":""}]
[null,{"$f":"IF(T(B686)=\"\",B686*11,CONCATENATE(B686,B686))","v":99},0,null,4,99,{"$f":"IF(OR(F689=0,F689=\"\"),\"\",IF(A682=\"F\",HLOOKUP(F689,females,A683,FALSE),IF(A682=\"M\",HLOOKUP(F689,males,A683,FALSE),\"\")))","v":"Leanne Barraclough"},"Wake",0,null,0,null,0,null,0,null,0,0,null,0,null,0,null,0,null,0,{"$f":"IF(X689=P683,\"LR=\",IF(X689>P683,\"LR\",\"\"))","v":""}]
[null,{"$f":"IF(T(B687)=\"\",B687*11,CONCATENATE(B687,B687))","v":77},0,null,5,77,{"$f":"IF(OR(F690=0,F690=\"\"),\"\",IF(A682=\"F\",HLOOKUP(F690,females,A683,FALSE),IF(A682=\"M\",HLOOKUP(F690,males,A683,FALSE),\"\")))","v":"-"},"Leeds C",0,null,0,null,0,null,0,null,0,0,null,0,null,0,null,0,null,0,{"$f":"IF(X690=P683,\"LR=\",IF(X690>P683,\"LR\",\"\"))","v":""}]
[null,{"$f":"IF(T(B688)=\"\",B688*11,CONCATENATE(B688,B688))","v":88},0,null,6,88,{"$f":"IF(OR(F691=0,F691=\"\"),\"\",IF(A682=\"F\",HLOOKUP(F691,females,A683,FALSE),IF(A682=\"M\",HLOOKUP(F691,males,A683,FALSE),\"\")))","v":"-"},"York",0,null,0,null,0,null,0,null,0,0,null,0,null,0,null,0,null,0,{"$f":"IF(X691=P683,\"LR=\",IF(X691>P683,\"LR\",\"\"))","v":""}]
[null,null,0,null,7,"",{"$f":"IF(OR(F692=0,F692=\"\"),\"\",IF(A682=\"F\",HLOOKUP(F692,females,A683,FALSE),IF(A682=\"M\",HLOOKUP(F692,males,A683,FALSE),\"\")))","v":""},"",0,null,0,null,0,null,0,null,0,0,null,0,null,0,null,0,null,0,{"$f":"IF(X692=P683,\"LR=\",IF(X692>P683,\"LR\",\"\"))","v":""}]
[null,null,0,null,8,"",{"$f":"IF(OR(F693=0,F693=\"\"),\"\",IF(A682=\"F\",HLOOKUP(F693,females,A683,FALSE),IF(A682=\"M\",HLOOKUP(F693,males,A683,FALSE),\"\")))","v":""},"",0,null,0,null,0,null,0,null,0,0,null,0,null,0,null,0,null,0,{"$f":"IF(X693=P683,\"LR=\",IF(X693>P683,\"LR\",\"\"))","v":""}]
[{"$f":"A686+3","v":4},{"$f":"IF(OR(A694=0,A694=\"\"),\"\",VLOOKUP(A694,teamorder2,2,FALSE))","v":1},null,{"$f":"Q694","v":0},1,1,{"$f":"IF(OR(F694=0,F694=\"\"),\"\",IF(A682=\"F\",HLOOKUP(F694,females2,A683,FALSE),IF(A682=\"M\",HLOOKUP(F694,males2,A683,FALSE),\"\")))","v":"-"},{"$f":"IF(OR(F694=0,F694=\"\"),\"\",VLOOKUP(F694,match_teams2,4,FALSE))","v":"DASH"},0,null,0,null,0,null,0,null,{"$f":"IF(OR(O694=\"\",O694=0),0,RANK(O694,$O$22:$P$29,0))","v":0},0,null,0,null,0,null,0,null,0,{"$f":"IF(X694=P683,\"LR=\",IF(X694>P683,\"LR\",\"\"))","v":""}]
[{"$f":"A687+3","v":6},{"$f":"IF(OR(A695=0,A695=\"\"),\"\",VLOOKUP(A695,teamorder2,2,FALSE))","v":3},null,{"$f":"Q695","v":0},2,3,{"$f":"IF(OR(F695=0,F695=\"\"),\"\",IF(A682=\"F\",HLOOKUP(F695,females2,A683,FALSE),IF(A682=\"M\",HLOOKUP(F695,males2,A683,FALSE),\"\")))","v":"-"},"Hallam",0,null,0,null,0,null,0,null,0,0,null,0,null,0,null,0,null,0,{"$f":"IF(X695=P683,\"LR=\",IF(X695>P683,\"LR\",\"\"))","v":""}]
[{"$f":"A688+3","v":5},{"$f":"IF(OR(A696=0,A696=\"\"),\"\",VLOOKUP(A696,teamorder2,2,FALSE))","v":2},null,0,3,2,{"$f":"IF(OR(F696=0,F696=\"\"),\"\",IF(A682=\"F\",HLOOKUP(F696,females2,A683,FALSE),IF(A682=\"M\",HLOOKUP(F696,males2,A683,FALSE),\"\")))","v":"Rhiannon Philps"},"Linc W",0,null,0,null,0,null,0,null,0,0,null,0,null,0,null,0,null,0,{"$f":"IF(X696=P683,\"LR=\",IF(X696>P683,\"LR\",\"\"))","v":""}]
[null,{"$f":"IF(T(B694)=\"\",B694*11,CONCATENATE(B694,B694))","v":11},null,0,4,11,{"$f":"IF(OR(F697=0,F697=\"\"),\"\",IF(A682=\"F\",HLOOKUP(F697,females2,A683,FALSE),IF(A682=\"M\",HLOOKUP(F697,males2,A683,FALSE),\"\")))","v":"-"},"DASH",0,null,0,null,0,null,0,null,0,0,null,0,null,0,null,0,null,0,{"$f":"IF(X697=P683,\"LR=\",IF(X697>P683,\"LR\",\"\"))","v":""}]
[null,{"$f":"IF(T(B695)=\"\",B695*11,CONCATENATE(B695,B695))","v":33},null,0,5,33,{"$f":"IF(OR(F698=0,F698=\"\"),\"\",IF(A682=\"F\",HLOOKUP(F698,females2,A683,FALSE),IF(A682=\"M\",HLOOKUP(F698,males2,A683,FALSE),\"\")))","v":"-"},"Hallam",0,null,0,null,0,null,0,null,0,0,null,0,null,0,null,0,null,0,{"$f":"IF(X698=P683,\"LR=\",IF(X698>P683,\"LR\",\"\"))","v":""}]
[null,{"$f":"IF(T(B696)=\"\",B696*11,CONCATENATE(B696,B696))","v":22},null,0,6,22,{"$f":"IF(OR(F699=0,F699=\"\"),\"\",IF(A682=\"F\",HLOOKUP(F699,females2,A683,FALSE),IF(A682=\"M\",HLOOKUP(F699,males2,A683,FALSE),\"\")))","v":"-"},"Linc W",0,null,0,null,0,null,0,null,0,0,null,0,null,0,null,0,null,0,{"$f":"IF(X699=P683,\"LR=\",IF(X699>P683,\"LR\",\"\"))","v":""}]
[null,0,null,0,7,"",{"$f":"IF(OR(F700=0,F700=\"\"),\"\",IF(A682=\"F\",HLOOKUP(F700,females2,A683,FALSE),IF(A682=\"M\",HLOOKUP(F700,males2,A683,FALSE),\"\")))","v":""},"",0,null,0,null,0,null,0,null,0,0,null,0,null,0,null,0,null,0,{"$f":"IF(X700=P683,\"LR=\",IF(X700>P683,\"LR\",\"\"))","v":""}]
[null,0,null,0,8,"",{"$f":"IF(OR(F701=0,F701=\"\"),\"\",IF(A682=\"F\",HLOOKUP(F701,females2,A683,FALSE),IF(A682=\"M\",HLOOKUP(F701,males2,A683,FALSE),\"\")))","v":""},"",0,null,0,null,0,null,0,null,0,0,null,0,null,0,null,0,null,0,{"$f":"IF(X701=P683,\"LR=\",IF(X701>P683,\"LR\",\"\"))","v":""}]
[]
[null,null,null,null,"MATCH 1 RESULT",null,null,null,null,null,"MATCH 2 RESULT",null,null,null,null,null,null,null,null,null,null,null,"JUDGES' SIGNATURES"]
[null,null,null,null,null,"No.","NAME","CLUB","DISTANCE",null,null,"No.","NAME",null,null,null,"CLUB",null,null,null,"DISTANCE"]
[null,null,1,null,1,{"$f":"IF(ISERROR(VLOOKUP(C705,$C$14:$Y$21,4,FALSE))=TRUE,0,IF(VLOOKUP(C705,$C$14:$Y$21,22,FALSE)=0,0,IF(VLOOKUP(C705,$C$14:$Y$21,22,FALSE)=99,99,IF(VLOOKUP(C705,$C$14:$Y$21,22,FALSE)=98,98,IF(VLOOKUP(C705,$C$14:$Y$21,22,FALSE)=96,96,IF(VLOOKUP(C705,$C$14:$Y$21,22,FALSE)=95,95,VLOOKUP(C705,$C$14:$Y$21,4,FALSE)))))))","v":0},{"$f":"IF(ISERROR(VLOOKUP(C705,$C$14:$Y$21,4,FALSE))=TRUE,0,VLOOKUP(C705,$C$14:$Y$21,5,FALSE))","v":0},{"$f":"IF(ISERROR(VLOOKUP(C705,$C$14:$Y$21,4,FALSE))=TRUE,0,VLOOKUP(C705,$C$14:$Y$21,6,FALSE))","v":0},{"$f":"IF(ISERROR(VLOOKUP(C705,$C$14:$Y$21,4,FALSE))=TRUE,0,IF(VLOOKUP(C705,$C$14:$Y$21,22,FALSE)=0,\"\",IF(VLOOKUP(C705,$C$14:$Y$21,22,FALSE)>95.99,\"\",VLOOKUP(C705,$C$14:$Y$21,22,FALSE))))","v":0},null,1,{"$f":"IF(ISERROR(VLOOKUP(C705,$D$22:$Y$29,4,FALSE))=TRUE,0,IF(VLOOKUP(C705,D$22:Y$29,21,FALSE)=0,\"\",VLOOKUP(C705,D$22:Y$29,3,FALSE)))","v":0},{"$f":"IF(ISERROR(VLOOKUP(C705,$D$22:$Y$29,4,FALSE))=TRUE,0,VLOOKUP(C705,D$22:Y$29,4,FALSE))","v":0},null,null,null,{"$f":"IF(ISERROR(VLOOKUP(C705,$D$22:$Y$29,4,FALSE))=TRUE,0,VLOOKUP(C705,$D$22:$Y$29,5,FALSE))","v":0},null,null,null,{"$f":"IF(ISERROR(VLOOKUP(C705,$D$22:$Y$29,3,FALSE))=TRUE,0,IF(VLOOKUP(C705,$D$22:$Y$29,21,FALSE)=0,\"\",VLOOKUP(C705,$D$22:$Y$29,21,FALSE)))","v":0}]
[null,null,2,null,2,{"$f":"IF(ISERROR(VLOOKUP(C706,$C$14:$Y$21,4,FALSE))=TRUE,0,IF(VLOOKUP(C706,$C$14:$Y$21,22,FALSE)=0,\"\",IF(VLOOKUP(C706,$C$14:$Y$21,22,FALSE)=99,99,IF(VLOOKUP(C706,$C$14:$Y$21,22,FALSE)=98,98,IF(VLOOKUP(C706,$C$14:$Y$21,22,FALSE)=96,96,VLOOKUP(C706,$C$14:$Y$21,4,FALSE))))))","v":0},0,0,0,null,2,0,0,null,null,null,0,null,null,null,0]
[null,null,3,null,3,0,0,0,0,null,3,0,0,null,null,null,0,null,null,null,0]
[null,null,4,null,4,0,0,0,0,null,4,0,0,null,null,null,0,null,null,null,0]
[null,null,5,null,5,0,0,0,0,null,5,0,0,null,null,null,0,null,null,null,0]
[null,null,6,null,6,0,0,0,0,null,6,0,0,null,null,null,0,null,null,null,0,null,"REFEREE'S SIGNATURE"]
[null,null,7,null,7,0,0,0,0,null,7,0,0,null,null,null,0,null,null,null,0]
[null,null,8,null,8,0,0,0,0,null,8,0,0,null,null,null,0,null,null,null,0]
["F33",null,null,null,"UK ATHLETICS: DISTANCE CARD"]
[{"$f":"VLOOKUP(A713,eventno,5,FALSE)","v":"F"},null,null,null,"MEETING ",null,{"$f":"CONCATENATE(MatchDay!$C$3,\"/\",MatchDay!$I$3)","v":"Northern Premier East/Northern 1 SE"},null,"VENUE ",null,null,{"$f":"MatchDay!$C$7","v":"Thornes Park Stadium, Wakefield"},null,null,null,null,null,"DATE ",null,{"$f":"MatchDay!$C$5","v":"Sunday 8th May 2011"}]
[{"$f":"IF(A714=\"M\",VLOOKUP(A713,males,15,FALSE),VLOOKUP(A713,females,15,FALSE))","v":38},null,null,null,"EVENT",null,{"$f":"CONCATENATE(A713,\" \",VLOOKUP(A713,eventno,4,FALSE))","v":"F33 U15G Javelin"},null,"TIME",null,null,{"$f":"VLOOKUP(A713,eventno,12,FALSE)","v":"16:35:00"},null,"Record",null,{"$f":"VLOOKUP(A713,eventno,7,FALSE)","v":42.31},null,"Duty",null,{"$f":"VLOOKUP(VLOOKUP(A713,eventno,13,FALSE),teamorder,3,FALSE)","v":"Wakefield"}]
[null,null,null,null,"Order","No","NAME","CLUB","1st Trial",null,"2nd Trial",null,"3rd Trial",null,"Best of 3",null,"Position after\n3 Trials","4th Trial",null,"5th Trial",null,"6th Trial",null,"Best of All",null,"Final\nPositionn","A or B"]
[{"$f":"VLOOKUP(A713,eventno,6,FALSE)","v":0},null,null,null,null,null,null,null,"Metres",null,"Metres",null,"Metres",null,"Metres",null,null,"Metres",null,"Metres",null,"Metres",null,"Metres",null,null,null,"A","B"]
[1,{"$f":"IF(OR(A718=0,A718=\"\"),\"\",VLOOKUP(A718,teamorder,2,FALSE))","v":9},{"$f":"Q718","v":0},null,1,{"$f":"IF(B718=0,\"\",B718)","v":9},{"$f":"IF(OR(F718=0,F718=\"\"),\"\",IF(A714=\"F\",HLOOKUP(F718,females,A715,FALSE),IF(A714=\"M\",HLOOKUP(F718,males,A715,FALSE),\"\")))","v":"Abigail Roberts"},{"$f":"IF(OR(F718=0,F718=\"\"),\"\",VLOOKUP(F718,match_teams,4,FALSE))","v":"Wake"},0,null,0,null,0,null,{"$f":"IF(AND(T(I718)<>\"\",T(K718)<>\"\",T(M718)<>\"\"),0,LARGE(I718:N718,1))","v":0},null,{"$f":"IF(OR(O718=\"\",O718=0),0,RANK(O718,$O$14:$P$21,0))","v":0},0,null,0,null,0,null,{"$f":"IF(AND(T(R718)<>\"\",T(T718)<>\"\",T(V718)<>\"\"),0,IF(O718>LARGE(R718:W718,1),O718,LARGE(R718:W718,1)))","v":0},null,{"$f":"IF(OR(X718=\"\",X718=0),0,RANK(X718,$X$14:$Y$29,0))","v":0},{"$f":"IF(X718=P715,\"LR=\",IF(X718>P715,\"LR\",\"\"))","v":""}]
[3,{"$f":"IF(OR(A719=0,A719=\"\"),\"\",VLOOKUP(A719,teamorder,2,FALSE))","v":7},{"$f":"Q719","v":0},null,2,7,{"$f":"IF(OR(F719=0,F719=\"\"),\"\",IF(A714=\"F\",HLOOKUP(F719,females,A715,FALSE),IF(A714=\"M\",HLOOKUP(F719,males,A715,FALSE),\"\")))","v":"Nicola Sawyer"},"Leeds C",0,null,0,null,0,null,{"$f":"IF(AND(T(I719)<>\"\",T(K719)<>\"\",T(M719)<>\"\"),0,LARGE(I719:N719,1))","v":0},null,0,0,null,0,null,0,null,{"$f":"IF(AND(T(R719)<>\"\",T(T719)<>\"\",T(V719)<>\"\"),0,IF(O719>LARGE(R719:W719,1),O719,LARGE(R719:W719,1)))","v":0},null,0,{"$f":"IF(X719=P715,\"LR=\",IF(X719>P715,\"LR\",\"\"))","v":""}]
[2,{"$f":"IF(OR(A720=0,A720=\"\"),\"\",VLOOKUP(A720,teamorder,2,FALSE))","v":8},0,null,3,8,{"$f":"IF(OR(F720=0,F720=\"\"),\"\",IF(A714=\"F\",HLOOKUP(F720,females,A715,FALSE),IF(A714=\"M\",HLOOKUP(F720,males,A715,FALSE),\"\")))","v":"Georgie Fenny"},"York",0,null,0,null,0,null,0,null,0,0,null,0,null,0,null,0,null,0,{"$f":"IF(X720=P715,\"LR=\",IF(X720>P715,\"LR\",\"\"))","v":""}]
[null,{"$f":"IF(T(B718)=\"\",B718*11,CONCATENATE(B718,B718))","v":99},0,null,4,99,{"$f":"IF(OR(F721=0,F721=\"\"),\"\",IF(A714=\"F\",HLOOKUP(F721,females,A715,FALSE),IF(A714=\"M\",HLOOKUP(F721,males,A715,FALSE),\"\")))","v":"Alyce McCurdie"},"Wake",0,null,0,null,0,null,0,null,0,0,null,0,null,0,null,0,null,0,{"$f":"IF(X721=P715,\"LR=\",IF(X721>P715,\"LR\",\"\"))","v":""}]
[null,{"$f":"IF(T(B719)=\"\",B719*11,CONCATENATE(B719,B719))","v":77},0,null,5,77,{"$f":"IF(OR(F722=0,F722=\"\"),\"\",IF(A714=\"F\",HLOOKUP(F722,females,A715,FALSE),IF(A714=\"M\",HLOOKUP(F722,males,A715,FALSE),\"\")))","v":"Gemma Keir"},"Leeds C",0,null,0,null,0,null,0,null,0,0,null,0,null,0,null,0,null,0,{"$f":"IF(X722=P715,\"LR=\",IF(X722>P715,\"LR\",\"\"))","v":""}]
[null,{"$f":"IF(T(B720)=\"\",B720*11,CONCATENATE(B720,B720))","v":88},0,null,6,88,{"$f":"IF(OR(F723=0,F723=\"\"),\"\",IF(A714=\"F\",HLOOKUP(F723,females,A715,FALSE),IF(A714=\"M\",HLOOKUP(F723,males,A715,FALSE),\"\")))","v":"Jenny Harrison"},"York",0,null,0,null,0,null,0,null,0,0,null,0,null,0,null,0,null,0,{"$f":"IF(X723=P715,\"LR=\",IF(X723>P715,\"LR\",\"\"))","v":""}]
[null,null,0,null,7,"",{"$f":"IF(OR(F724=0,F724=\"\"),\"\",IF(A714=\"F\",HLOOKUP(F724,females,A715,FALSE),IF(A714=\"M\",HLOOKUP(F724,males,A715,FALSE),\"\")))","v":""},"",0,null,0,null,0,null,0,null,0,0,null,0,null,0,null,0,null,0,{"$f":"IF(X724=P715,\"LR=\",IF(X724>P715,\"LR\",\"\"))","v":""}]
[null,null,0,null,8,"",{"$f":"IF(OR(F725=0,F725=\"\"),\"\",IF(A714=\"F\",HLOOKUP(F725,females,A715,FALSE),IF(A714=\"M\",HLOOKUP(F725,males,A715,FALSE),\"\")))","v":""},"",0,null,0,null,0,null,0,null,0,0,null,0,null,0,null,0,null,0,{"$f":"IF(X725=P715,\"LR=\",IF(X725>P715,\"LR\",\"\"))","v":""}]
[{"$f":"A718+3","v":4},{"$f":"IF(OR(A726=0,A726=\"\"),\"\",VLOOKUP(A726,teamorder2,2,FALSE))","v":1},null,{"$f":"Q726","v":0},1,1,{"$f":"IF(OR(F726=0,F726=\"\"),\"\",IF(A714=\"F\",HLOOKUP(F726,females2,A715,FALSE),IF(A714=\"M\",HLOOKUP(F726,males2,A715,FALSE),\"\")))","v":"Emma Clarkson"},{"$f":"IF(OR(F726=0,F726=\"\"),\"\",VLOOKUP(F726,match_teams2,4,FALSE))","v":"DASH"},0,null,0,null,0,null,0,null,{"$f":"IF(OR(O726=\"\",O726=0),0,RANK(O726,$O$22:$P$29,0))","v":0},0,null,0,null,0,null,0,null,0,{"$f":"IF(X726=P715,\"LR=\",IF(X726>P715,\"LR\",\"\"))","v":""}]
[{"$f":"A719+3","v":6},{"$f":"IF(OR(A727=0,A727=\"\"),\"\",VLOOKUP(A727,teamorder2,2,FALSE))","v":3},null,{"$f":"Q727","v":0},2,3,{"$f":"IF(OR(F727=0,F727=\"\"),\"\",IF(A714=\"F\",HLOOKUP(F727,females2,A715,FALSE),IF(A714=\"M\",HLOOKUP(F727,males2,A715,FALSE),\"\")))","v":"Charlotte Mather"},"Hallam",0,null,0,null,0,null,0,null,0,0,null,0,null,0,null,0,null,0,{"$f":"IF(X727=P715,\"LR=\",IF(X727>P715,\"LR\",\"\"))","v":""}]
[{"$f":"A720+3","v":5},{"$f":"IF(OR(A728=0,A728=\"\"),\"\",VLOOKUP(A728,teamorder2,2,FALSE))","v":2},null,0,3,2,{"$f":"IF(OR(F728=0,F728=\"\"),\"\",IF(A714=\"F\",HLOOKUP(F728,females2,A715,FALSE),IF(A714=\"M\",HLOOKUP(F728,males2,A715,FALSE),\"\")))","v":"India Freeman"},"Linc W",0,null,0,null,0,null,0,null,0,0,null,0,null,0,null,0,null,0,{"$f":"IF(X728=P715,\"LR=\",IF(X728>P715,\"LR\",\"\"))","v":""}]
[null,{"$f":"IF(T(B726)=\"\",B726*11,CONCATENATE(B726,B726))","v":11},null,0,4,11,{"$f":"IF(OR(F729=0,F729=\"\"),\"\",IF(A714=\"F\",HLOOKUP(F729,females2,A715,FALSE),IF(A714=\"M\",HLOOKUP(F729,males2,A715,FALSE),\"\")))","v":"Eleanor Rawson"},"DASH",0,null,0,null,0,null,0,null,0,0,null,0,null,0,null,0,null,0,{"$f":"IF(X729=P715,\"LR=\",IF(X729>P715,\"LR\",\"\"))","v":""}]
[null,{"$f":"IF(T(B727)=\"\",B727*11,CONCATENATE(B727,B727))","v":33},null,0,5,33,{"$f":"IF(OR(F730=0,F730=\"\"),\"\",IF(A714=\"F\",HLOOKUP(F730,females2,A715,FALSE),IF(A714=\"M\",HLOOKUP(F730,males2,A715,FALSE),\"\")))","v":"Emily Malmgren"},"Hallam",0,null,0,null,0,null,0,null,0,0,null,0,null,0,null,0,null,0,{"$f":"IF(X730=P715,\"LR=\",IF(X730>P715,\"LR\",\"\"))","v":""}]
[null,{"$f":"IF(T(B728)=\"\",B728*11,CONCATENATE(B728,B728))","v":22},null,0,6,22,{"$f":"IF(OR(F731=0,F731=\"\"),\"\",IF(A714=\"F\",HLOOKUP(F731,females2,A715,FALSE),IF(A714=\"M\",HLOOKUP(F731,males2,A715,FALSE),\"\")))","v":"Allison Mouzon"},"Linc W",0,null,0,null,0,null,0,null,0,0,null,0,null,0,null,0,null,0,{"$f":"IF(X731=P715,\"LR=\",IF(X731>P715,\"LR\",\"\"))","v":""}]
[null,0,null,0,7,"",{"$f":"IF(OR(F732=0,F732=\"\"),\"\",IF(A714=\"F\",HLOOKUP(F732,females2,A715,FALSE),IF(A714=\"M\",HLOOKUP(F732,males2,A715,FALSE),\"\")))","v":""},"",0,null,0,null,0,null,0,null,0,0,null,0,null,0,null,0,null,0,{"$f":"IF(X732=P715,\"LR=\",IF(X732>P715,\"LR\",\"\"))","v":""}]
[null,0,null,0,8,"",{"$f":"IF(OR(F733=0,F733=\"\"),\"\",IF(A714=\"F\",HLOOKUP(F733,females2,A715,FALSE),IF(A714=\"M\",HLOOKUP(F733,males2,A715,FALSE),\"\")))","v":""},"",0,null,0,null,0,null,0,null,0,0,null,0,null,0,null,0,null,0,{"$f":"IF(X733=P715,\"LR=\",IF(X733>P715,\"LR\",\"\"))","v":""}]
[]
[null,null,null,null,"MATCH 1 RESULT",null,null,null,null,null,"MATCH 2 RESULT",null,null,null,null,null,null,null,null,null,null,null,"JUDGES' SIGNATURES"]
[null,null,null,null,null,"No.","NAME","CLUB","DISTANCE",null,null,"No.","NAME",null,null,null,"CLUB",null,null,null,"DISTANCE"]
[null,null,1,null,1,{"$f":"IF(ISERROR(VLOOKUP(C737,$C$14:$Y$21,4,FALSE))=TRUE,0,IF(VLOOKUP(C737,$C$14:$Y$21,22,FALSE)=0,0,IF(VLOOKUP(C737,$C$14:$Y$21,22,FALSE)=99,99,IF(VLOOKUP(C737,$C$14:$Y$21,22,FALSE)=98,98,IF(VLOOKUP(C737,$C$14:$Y$21,22,FALSE)=96,96,IF(VLOOKUP(C737,$C$14:$Y$21,22,FALSE)=95,95,VLOOKUP(C737,$C$14:$Y$21,4,FALSE)))))))","v":0},{"$f":"IF(ISERROR(VLOOKUP(C737,$C$14:$Y$21,4,FALSE))=TRUE,0,VLOOKUP(C737,$C$14:$Y$21,5,FALSE))","v":0},{"$f":"IF(ISERROR(VLOOKUP(C737,$C$14:$Y$21,4,FALSE))=TRUE,0,VLOOKUP(C737,$C$14:$Y$21,6,FALSE))","v":0},{"$f":"IF(ISERROR(VLOOKUP(C737,$C$14:$Y$21,4,FALSE))=TRUE,0,IF(VLOOKUP(C737,$C$14:$Y$21,22,FALSE)=0,\"\",IF(VLOOKUP(C737,$C$14:$Y$21,22,FALSE)>95.99,\"\",VLOOKUP(C737,$C$14:$Y$21,22,FALSE))))","v":0},null,1,{"$f":"IF(ISERROR(VLOOKUP(C737,$D$22:$Y$29,4,FALSE))=TRUE,0,IF(VLOOKUP(C737,D$22:Y$29,21,FALSE)=0,\"\",VLOOKUP(C737,D$22:Y$29,3,FALSE)))","v":0},{"$f":"IF(ISERROR(VLOOKUP(C737,$D$22:$Y$29,4,FALSE))=TRUE,0,VLOOKUP(C737,D$22:Y$29,4,FALSE))","v":0},null,null,null,{"$f":"IF(ISERROR(VLOOKUP(C737,$D$22:$Y$29,4,FALSE))=TRUE,0,VLOOKUP(C737,$D$22:$Y$29,5,FALSE))","v":0},null,null,null,{"$f":"IF(ISERROR(VLOOKUP(C737,$D$22:$Y$29,3,FALSE))=TRUE,0,IF(VLOOKUP(C737,$D$22:$Y$29,21,FALSE)=0,\"\",VLOOKUP(C737,$D$22:$Y$29,21,FALSE)))","v":0}]
[null,null,2,null,2,{"$f":"IF(ISERROR(VLOOKUP(C738,$C$14:$Y$21,4,FALSE))=TRUE,0,IF(VLOOKUP(C738,$C$14:$Y$21,22,FALSE)=0,\"\",IF(VLOOKUP(C738,$C$14:$Y$21,22,FALSE)=99,99,IF(VLOOKUP(C738,$C$14:$Y$21,22,FALSE)=98,98,IF(VLOOKUP(C738,$C$14:$Y$21,22,FALSE)=96,96,VLOOKUP(C738,$C$14:$Y$21,4,FALSE))))))","v":0},0,0,0,null,2,0,0,null,null,null,0,null,null,null,0]
[null,null,3,null,3,0,0,0,0,null,3,0,0,null,null,null,0,null,null,null,0]
[null,null,4,null,4,0,0,0,0,null,4,0,0,null,null,null,0,null,null,null,0]
[null,null,5,null,5,0,0,0,0,null,5,0,0,null,null,null,0,null,null,null,0]
[null,null,6,null,6,0,0,0,0,null,6,0,0,null,null,null,0,null,null,null,0,null,"REFEREE'S SIGNATURE"]
[null,null,7,null,7,0,0,0,0,null,7,0,0,null,null,null,0,null,null,null,0]
[null,null,8,null,8,0,0,0,0,null,8,0,0,null,null,null,0,null,null,null,0]
["F34",null,null,null,"UK ATHLETICS: DISTANCE CARD"]
[{"$f":"VLOOKUP(A745,eventno,5,FALSE)","v":"F"},null,null,null,"MEETING ",null,{"$f":"CONCATENATE(MatchDay!$C$3,\"/\",MatchDay!$I$3)","v":"Northern Premier East/Northern 1 SE"},null,"VENUE ",null,null,{"$f":"MatchDay!$C$7","v":"Thornes Park Stadium, Wakefield"},null,null,null,null,null,"DATE ",null,{"$f":"MatchDay!$C$5","v":"Sunday 8th May 2011"}]
[{"$f":"IF(A746=\"M\",VLOOKUP(A745,males,15,FALSE),VLOOKUP(A745,females,15,FALSE))","v":39},null,null,null,"EVENT",null,{"$f":"CONCATENATE(A745,\" \",VLOOKUP(A745,eventno,4,FALSE))","v":"F34 U17W Javelin"},null,"TIME",null,null,{"$f":"VLOOKUP(A745,eventno,12,FALSE)","v":"16:35:00"},null,"Record",null,{"$f":"VLOOKUP(A745,eventno,7,FALSE)","v":44.36},null,"Duty",null,{"$f":"VLOOKUP(VLOOKUP(A745,eventno,13,FALSE),teamorder,3,FALSE)","v":"Wakefield"}]
[null,null,null,null,"Order","No","NAME","CLUB","1st Trial",null,"2nd Trial",null,"3rd Trial",null,"Best of 3",null,"Position after\n3 Trials","4th Trial",null,"5th Trial",null,"6th Trial",null,"Best of All",null,"Final\nPositionn","A or B"]
[{"$f":"VLOOKUP(A745,eventno,6,FALSE)","v":0},null,null,null,null,null,null,null,"Metres",null,"Metres",null,"Metres",null,"Metres",null,null,"Metres",null,"Metres",null,"Metres",null,"Metres",null,null,null,"A","B"]
[2,{"$f":"IF(OR(A750=0,A750=\"\"),\"\",VLOOKUP(A750,teamorder,2,FALSE))","v":8},{"$f":"Q750","v":0},null,1,{"$f":"IF(B750=0,\"\",B750)","v":8},{"$f":"IF(OR(F750=0,F750=\"\"),\"\",IF(A746=\"F\",HLOOKUP(F750,females,A747,FALSE),IF(A746=\"M\",HLOOKUP(F750,males,A747,FALSE),\"\")))","v":"Becky Tunnicliffe"},{"$f":"IF(OR(F750=0,F750=\"\"),\"\",VLOOKUP(F750,match_teams,4,FALSE))","v":"York"},0,null,0,null,0,null,{"$f":"IF(AND(T(I750)<>\"\",T(K750)<>\"\",T(M750)<>\"\"),0,LARGE(I750:N750,1))","v":0},null,{"$f":"IF(OR(O750=\"\",O750=0),0,RANK(O750,$O$14:$P$21,0))","v":0},0,null,0,null,0,null,{"$f":"IF(AND(T(R750)<>\"\",T(T750)<>\"\",T(V750)<>\"\"),0,IF(O750>LARGE(R750:W750,1),O750,LARGE(R750:W750,1)))","v":0},null,{"$f":"IF(OR(X750=\"\",X750=0),0,RANK(X750,$X$14:$Y$29,0))","v":0},{"$f":"IF(X750=P747,\"LR=\",IF(X750>P747,\"LR\",\"\"))","v":""}]
[3,{"$f":"IF(OR(A751=0,A751=\"\"),\"\",VLOOKUP(A751,teamorder,2,FALSE))","v":7},{"$f":"Q751","v":0},null,2,7,{"$f":"IF(OR(F751=0,F751=\"\"),\"\",IF(A746=\"F\",HLOOKUP(F751,females,A747,FALSE),IF(A746=\"M\",HLOOKUP(F751,males,A747,FALSE),\"\")))","v":"Amena Abdelaziz"},"Leeds C",0,null,0,null,0,null,{"$f":"IF(AND(T(I751)<>\"\",T(K751)<>\"\",T(M751)<>\"\"),0,LARGE(I751:N751,1))","v":0},null,0,0,null,0,null,0,null,{"$f":"IF(AND(T(R751)<>\"\",T(T751)<>\"\",T(V751)<>\"\"),0,IF(O751>LARGE(R751:W751,1),O751,LARGE(R751:W751,1)))","v":0},null,0,{"$f":"IF(X751=P747,\"LR=\",IF(X751>P747,\"LR\",\"\"))","v":""}]
[1,{"$f":"IF(OR(A752=0,A752=\"\"),\"\",VLOOKUP(A752,teamorder,2,FALSE))","v":9},0,null,3,9,{"$f":"IF(OR(F752=0,F752=\"\"),\"\",IF(A746=\"F\",HLOOKUP(F752,females,A747,FALSE),IF(A746=\"M\",HLOOKUP(F752,males,A747,FALSE),\"\")))","v":"Bethany Porter"},"Wake",0,null,0,null,0,null,0,null,0,0,null,0,null,0,null,0,null,0,{"$f":"IF(X752=P747,\"LR=\",IF(X752>P747,\"LR\",\"\"))","v":""}]
[null,{"$f":"IF(T(B750)=\"\",B750*11,CONCATENATE(B750,B750))","v":88},0,null,4,88,{"$f":"IF(OR(F753=0,F753=\"\"),\"\",IF(A746=\"F\",HLOOKUP(F753,females,A747,FALSE),IF(A746=\"M\",HLOOKUP(F753,males,A747,FALSE),\"\")))","v":"Katy Wood"},"York",0,null,0,null,0,null,0,null,0,0,null,0,null,0,null,0,null,0,{"$f":"IF(X753=P747,\"LR=\",IF(X753>P747,\"LR\",\"\"))","v":""}]
[null,{"$f":"IF(T(B751)=\"\",B751*11,CONCATENATE(B751,B751))","v":77},0,null,5,77,{"$f":"IF(OR(F754=0,F754=\"\"),\"\",IF(A746=\"F\",HLOOKUP(F754,females,A747,FALSE),IF(A746=\"M\",HLOOKUP(F754,males,A747,FALSE),\"\")))","v":"Katie Ward"},"Leeds C",0,null,0,null,0,null,0,null,0,0,null,0,null,0,null,0,null,0,{"$f":"IF(X754=P747,\"LR=\",IF(X754>P747,\"LR\",\"\"))","v":""}]
[null,{"$f":"IF(T(B752)=\"\",B752*11,CONCATENATE(B752,B752))","v":99},0,null,6,99,{"$f":"IF(OR(F755=0,F755=\"\"),\"\",IF(A746=\"F\",HLOOKUP(F755,females,A747,FALSE),IF(A746=\"M\",HLOOKUP(F755,males,A747,FALSE),\"\")))","v":"Bethany Sharp"},"Wake",0,null,0,null,0,null,0,null,0,0,null,0,null,0,null,0,null,0,{"$f":"IF(X755=P747,\"LR=\",IF(X755>P747,\"LR\",\"\"))","v":""}]
[null,null,0,null,7,"",{"$f":"IF(OR(F756=0,F756=\"\"),\"\",IF(A746=\"F\",HLOOKUP(F756,females,A747,FALSE),IF(A746=\"M\",HLOOKUP(F756,males,A747,FALSE),\"\")))","v":""},"",0,null,0,null,0,null,0,null,0,0,null,0,null,0,null,0,null,0,{"$f":"IF(X756=P747,\"LR=\",IF(X756>P747,\"LR\",\"\"))","v":""}]
[null,null,0,null,8,"",{"$f":"IF(OR(F757=0,F757=\"\"),\"\",IF(A746=\"F\",HLOOKUP(F757,females,A747,FALSE),IF(A746=\"M\",HLOOKUP(F757,males,A747,FALSE),\"\")))","v":""},"",0,null,0,null,0,null,0,null,0,0,null,0,null,0,null,0,null,0,{"$f":"IF(X757=P747,\"LR=\",IF(X757>P747,\"LR\",\"\"))","v":""}]
[{"$f":"A750+3","v":5},{"$f":"IF(OR(A758=0,A758=\"\"),\"\",VLOOKUP(A758,teamorder2,2,FALSE))","v":2},null,{"$f":"Q758","v":0},1,2,{"$f":"IF(OR(F758=0,F758=\"\"),\"\",IF(A746=\"F\",HLOOKUP(F758,females2,A747,FALSE),IF(A746=\"M\",HLOOKUP(F758,males2,A747,FALSE),\"\")))","v":"Elsie Dawes"},{"$f":"IF(OR(F758=0,F758=\"\"),\"\",VLOOKUP(F758,match_teams2,4,FALSE))","v":"Linc W"},0,null,0,null,0,null,0,null,{"$f":"IF(OR(O758=\"\",O758=0),0,RANK(O758,$O$22:$P$29,0))","v":0},0,null,0,null,0,null,0,null,0,{"$f":"IF(X758=P747,\"LR=\",IF(X758>P747,\"LR\",\"\"))","v":""}]
[{"$f":"A751+3","v":6},{"$f":"IF(OR(A759=0,A759=\"\"),\"\",VLOOKUP(A759,teamorder2,2,FALSE))","v":3},null,{"$f":"Q759","v":0},2,3,{"$f":"IF(OR(F759=0,F759=\"\"),\"\",IF(A746=\"F\",HLOOKUP(F759,females2,A747,FALSE),IF(A746=\"M\",HLOOKUP(F759,males2,A747,FALSE),\"\")))","v":"Emily Fox"},"Hallam",0,null,0,null,0,null,0,null,0,0,null,0,null,0,null,0,null,0,{"$f":"IF(X759=P747,\"LR=\",IF(X759>P747,\"LR\",\"\"))","v":""}]
[{"$f":"A752+3","v":4},{"$f":"IF(OR(A760=0,A760=\"\"),\"\",VLOOKUP(A760,teamorder2,2,FALSE))","v":1},null,0,3,1,{"$f":"IF(OR(F760=0,F760=\"\"),\"\",IF(A746=\"F\",HLOOKUP(F760,females2,A747,FALSE),IF(A746=\"M\",HLOOKUP(F760,males2,A747,FALSE),\"\")))","v":"Hannah Short"},"DASH",0,null,0,null,0,null,0,null,0,0,null,0,null,0,null,0,null,0,{"$f":"IF(X760=P747,\"LR=\",IF(X760>P747,\"LR\",\"\"))","v":""}]
[null,{"$f":"IF(T(B758)=\"\",B758*11,CONCATENATE(B758,B758))","v":22},null,0,4,22,{"$f":"IF(OR(F761=0,F761=\"\"),\"\",IF(A746=\"F\",HLOOKUP(F761,females2,A747,FALSE),IF(A746=\"M\",HLOOKUP(F761,males2,A747,FALSE),\"\")))","v":"-"},"Linc W",0,null,0,null,0,null,0,null,0,0,null,0,null,0,null,0,null,0,{"$f":"IF(X761=P747,\"LR=\",IF(X761>P747,\"LR\",\"\"))","v":""}]
[null,{"$f":"IF(T(B759)=\"\",B759*11,CONCATENATE(B759,B759))","v":33},null,0,5,33,{"$f":"IF(OR(F762=0,F762=\"\"),\"\",IF(A746=\"F\",HLOOKUP(F762,females2,A747,FALSE),IF(A746=\"M\",HLOOKUP(F762,males2,A747,FALSE),\"\")))","v":"Fiona Bell"},"Hallam",0,null,0,null,0,null,0,null,0,0,null,0,null,0,null,0,null,0,{"$f":"IF(X762=P747,\"LR=\",IF(X762>P747,\"LR\",\"\"))","v":""}]
[null,{"$f":"IF(T(B760)=\"\",B760*11,CONCATENATE(B760,B760))","v":11},null,0,6,11,{"$f":"IF(OR(F763=0,F763=\"\"),\"\",IF(A746=\"F\",HLOOKUP(F763,females2,A747,FALSE),IF(A746=\"M\",HLOOKUP(F763,males2,A747,FALSE),\"\")))","v":"-"},"DASH",0,null,0,null,0,null,0,null,0,0,null,0,null,0,null,0,null,0,{"$f":"IF(X763=P747,\"LR=\",IF(X763>P747,\"LR\",\"\"))","v":""}]
[null,0,null,0,7,"",{"$f":"IF(OR(F764=0,F764=\"\"),\"\",IF(A746=\"F\",HLOOKUP(F764,females2,A747,FALSE),IF(A746=\"M\",HLOOKUP(F764,males2,A747,FALSE),\"\")))","v":""},"",0,null,0,null,0,null,0,null,0,0,null,0,null,0,null,0,null,0,{"$f":"IF(X764=P747,\"LR=\",IF(X764>P747,\"LR\",\"\"))","v":""}]
[null,0,null,0,8,"",{"$f":"IF(OR(F765=0,F765=\"\"),\"\",IF(A746=\"F\",HLOOKUP(F765,females2,A747,FALSE),IF(A746=\"M\",HLOOKUP(F765,males2,A747,FALSE),\"\")))","v":""},"",0,null,0,null,0,null,0,null,0,0,null,0,null,0,null,0,null,0,{"$f":"IF(X765=P747,\"LR=\",IF(X765>P747,\"LR\",\"\"))","v":""}]
[]
[null,null,null,null,"MATCH 1 RESULT",null,null,null,null,null,"MATCH 2 RESULT",null,null,null,null,null,null,null,null,null,null,null,"JUDGES' SIGNATURES"]
[null,null,null,null,null,"No.","NAME","CLUB","DISTANCE",null,null,"No.","NAME",null,null,null,"CLUB",null,null,null,"DISTANCE"]
[null,null,1,null,1,{"$f":"IF(ISERROR(VLOOKUP(C769,$C$14:$Y$21,4,FALSE))=TRUE,0,IF(VLOOKUP(C769,$C$14:$Y$21,22,FALSE)=0,0,IF(VLOOKUP(C769,$C$14:$Y$21,22,FALSE)=99,99,IF(VLOOKUP(C769,$C$14:$Y$21,22,FALSE)=98,98,IF(VLOOKUP(C769,$C$14:$Y$21,22,FALSE)=96,96,IF(VLOOKUP(C769,$C$14:$Y$21,22,FALSE)=95,95,VLOOKUP(C769,$C$14:$Y$21,4,FALSE)))))))","v":0},{"$f":"IF(ISERROR(VLOOKUP(C769,$C$14:$Y$21,4,FALSE))=TRUE,0,VLOOKUP(C769,$C$14:$Y$21,5,FALSE))","v":0},{"$f":"IF(ISERROR(VLOOKUP(C769,$C$14:$Y$21,4,FALSE))=TRUE,0,VLOOKUP(C769,$C$14:$Y$21,6,FALSE))","v":0},{"$f":"IF(ISERROR(VLOOKUP(C769,$C$14:$Y$21,4,FALSE))=TRUE,0,IF(VLOOKUP(C769,$C$14:$Y$21,22,FALSE)=0,\"\",IF(VLOOKUP(C769,$C$14:$Y$21,22,FALSE)>95.99,\"\",VLOOKUP(C769,$C$14:$Y$21,22,FALSE))))","v":0},null,1,{"$f":"IF(ISERROR(VLOOKUP(C769,$D$22:$Y$29,4,FALSE))=TRUE,0,IF(VLOOKUP(C769,D$22:Y$29,21,FALSE)=0,\"\",VLOOKUP(C769,D$22:Y$29,3,FALSE)))","v":0},{"$f":"IF(ISERROR(VLOOKUP(C769,$D$22:$Y$29,4,FALSE))=TRUE,0,VLOOKUP(C769,D$22:Y$29,4,FALSE))","v":0},null,null,null,{"$f":"IF(ISERROR(VLOOKUP(C769,$D$22:$Y$29,4,FALSE))=TRUE,0,VLOOKUP(C769,$D$22:$Y$29,5,FALSE))","v":0},null,null,null,{"$f":"IF(ISERROR(VLOOKUP(C769,$D$22:$Y$29,3,FALSE))=TRUE,0,IF(VLOOKUP(C769,$D$22:$Y$29,21,FALSE)=0,\"\",VLOOKUP(C769,$D$22:$Y$29,21,FALSE)))","v":0}]
[null,null,2,null,2,{"$f":"IF(ISERROR(VLOOKUP(C770,$C$14:$Y$21,4,FALSE))=TRUE,0,IF(VLOOKUP(C770,$C$14:$Y$21,22,FALSE)=0,\"\",IF(VLOOKUP(C770,$C$14:$Y$21,22,FALSE)=99,99,IF(VLOOKUP(C770,$C$14:$Y$21,22,FALSE)=98,98,IF(VLOOKUP(C770,$C$14:$Y$21,22,FALSE)=96,96,VLOOKUP(C770,$C$14:$Y$21,4,FALSE))))))","v":0},0,0,0,null,2,0,0,null,null,null,0,null,null,null,0]
[null,null,3,null,3,0,0,0,0,null,3,0,0,null,null,null,0,null,null,null,0]
[null,null,4,null,4,0,0,0,0,null,4,0,0,null,null,null,0,null,null,null,0]
[null,null,5,null,5,0,0,0,0,null,5,0,0,null,null,null,0,null,null,null,0]
[null,null,6,null,6,0,0,0,0,null,6,0,0,null,null,null,0,null,null,null,0,null,"REFEREE'S SIGNATURE"]
[null,null,7,null,7,0,0,0,0,null,7,0,0,null,null,null,0,null,null,null,0]
[null,null,8,null,8,0,0,0,0,null,8,0,0,null,null,null,0,null,null,null,0]
["F35",null,null,null,"UK ATHLETICS: DISTANCE CARD"]
[{"$f":"VLOOKUP(A777,eventno,5,FALSE)","v":"F"},null,null,null,"MEETING ",null,{"$f":"CONCATENATE(MatchDay!$C$3,\"/\",MatchDay!$I$3)","v":"Northern Premier East/Northern 1 SE"},null,"VENUE ",null,null,{"$f":"MatchDay!$C$7","v":"Thornes Park Stadium, Wakefield"},null,null,null,null,null,"DATE ",null,{"$f":"MatchDay!$C$5","v":"Sunday 8th May 2011"}]
[{"$f":"IF(A778=\"M\",VLOOKUP(A777,males,15,FALSE),VLOOKUP(A777,females,15,FALSE))","v":44},null,null,null,"EVENT",null,{"$f":"CONCATENATE(A777,\" \",VLOOKUP(A777,eventno,4,FALSE))","v":"F35 U13G Shot"},null,"TIME",null,null,{"$f":"VLOOKUP(A777,eventno,12,FALSE)","v":"16:45:00"},null,"Record",null,{"$f":"VLOOKUP(A777,eventno,7,FALSE)","v":12.31},null,"Duty",null,{"$f":"VLOOKUP(VLOOKUP(A777,eventno,13,FALSE),teamorder2,3,FALSE)","v":"Lincoln Wellington"}]
[null,null,null,null,"Order","No","NAME","CLUB","1st Trial",null,"2nd Trial",null,"3rd Trial",null,"Best of 3",null,"Position after\n3 Trials","4th Trial",null,"5th Trial",null,"6th Trial",null,"Best of All",null,"Final\nPositionn","A or B"]
[{"$f":"VLOOKUP(A777,eventno,6,FALSE)","v":0},null,null,null,null,null,null,null,"Metres",null,"Metres",null,"Metres",null,"Metres",null,null,"Metres",null,"Metres",null,"Metres",null,"Metres",null,null,null,"A","B"]
[1,{"$f":"IF(OR(A782=0,A782=\"\"),\"\",VLOOKUP(A782,teamorder,2,FALSE))","v":9},{"$f":"Q782","v":0},null,1,{"$f":"IF(B782=0,\"\",B782)","v":9},{"$f":"IF(OR(F782=0,F782=\"\"),\"\",IF(A778=\"F\",HLOOKUP(F782,females,A779,FALSE),IF(A778=\"M\",HLOOKUP(F782,males,A779,FALSE),\"\")))","v":"Jessica Matthews"},{"$f":"IF(OR(F782=0,F782=\"\"),\"\",VLOOKUP(F782,match_teams,4,FALSE))","v":"Wake"},0,null,0,null,0,null,{"$f":"IF(AND(T(I782)<>\"\",T(K782)<>\"\",T(M782)<>\"\"),0,LARGE(I782:N782,1))","v":0},null,{"$f":"IF(OR(O782=\"\",O782=0),0,RANK(O782,$O$14:$P$21,0))","v":0},0,null,0,null,0,null,{"$f":"IF(AND(T(R782)<>\"\",T(T782)<>\"\",T(V782)<>\"\"),0,IF(O782>LARGE(R782:W782,1),O782,LARGE(R782:W782,1)))","v":0},null,{"$f":"IF(OR(X782=\"\",X782=0),0,RANK(X782,$X$14:$Y$29,0))","v":0},{"$f":"IF(X782=P779,\"LR=\",IF(X782>P779,\"LR\",\"\"))","v":""}]
[2,{"$f":"IF(OR(A783=0,A783=\"\"),\"\",VLOOKUP(A783,teamorder,2,FALSE))","v":8},{"$f":"Q783","v":0},null,2,8,{"$f":"IF(OR(F783=0,F783=\"\"),\"\",IF(A778=\"F\",HLOOKUP(F783,females,A779,FALSE),IF(A778=\"M\",HLOOKUP(F783,males,A779,FALSE),\"\")))","v":"Rachel White"},"York",0,null,0,null,0,null,{"$f":"IF(AND(T(I783)<>\"\",T(K783)<>\"\",T(M783)<>\"\"),0,LARGE(I783:N783,1))","v":0},null,0,0,null,0,null,0,null,{"$f":"IF(AND(T(R783)<>\"\",T(T783)<>\"\",T(V783)<>\"\"),0,IF(O783>LARGE(R783:W783,1),O783,LARGE(R783:W783,1)))","v":0},null,0,{"$f":"IF(X783=P779,\"LR=\",IF(X783>P779,\"LR\",\"\"))","v":""}]
[3,{"$f":"IF(OR(A784=0,A784=\"\"),\"\",VLOOKUP(A784,teamorder,2,FALSE))","v":7},0,null,3,7,{"$f":"IF(OR(F784=0,F784=\"\"),\"\",IF(A778=\"F\",HLOOKUP(F784,females,A779,FALSE),IF(A778=\"M\",HLOOKUP(F784,males,A779,FALSE),\"\")))","v":"Lois Fish"},"Leeds C",0,null,0,null,0,null,0,null,0,0,null,0,null,0,null,0,null,0,{"$f":"IF(X784=P779,\"LR=\",IF(X784>P779,\"LR\",\"\"))","v":""}]
[null,{"$f":"IF(T(B782)=\"\",B782*11,CONCATENATE(B782,B782))","v":99},0,null,4,99,{"$f":"IF(OR(F785=0,F785=\"\"),\"\",IF(A778=\"F\",HLOOKUP(F785,females,A779,FALSE),IF(A778=\"M\",HLOOKUP(F785,males,A779,FALSE),\"\")))","v":"Abigail Cove-Mullins"},"Wake",0,null,0,null,0,null,0,null,0,0,null,0,null,0,null,0,null,0,{"$f":"IF(X785=P779,\"LR=\",IF(X785>P779,\"LR\",\"\"))","v":""}]
[null,{"$f":"IF(T(B783)=\"\",B783*11,CONCATENATE(B783,B783))","v":88},0,null,5,88,{"$f":"IF(OR(F786=0,F786=\"\"),\"\",IF(A778=\"F\",HLOOKUP(F786,females,A779,FALSE),IF(A778=\"M\",HLOOKUP(F786,males,A779,FALSE),\"\")))","v":"Felicity Edwards"},"York",0,null,0,null,0,null,0,null,0,0,null,0,null,0,null,0,null,0,{"$f":"IF(X786=P779,\"LR=\",IF(X786>P779,\"LR\",\"\"))","v":""}]
[null,{"$f":"IF(T(B784)=\"\",B784*11,CONCATENATE(B784,B784))","v":77},0,null,6,77,{"$f":"IF(OR(F787=0,F787=\"\"),\"\",IF(A778=\"F\",HLOOKUP(F787,females,A779,FALSE),IF(A778=\"M\",HLOOKUP(F787,males,A779,FALSE),\"\")))","v":"Millie Bradbury"},"Leeds C",0,null,0,null,0,null,0,null,0,0,null,0,null,0,null,0,null,0,{"$f":"IF(X787=P779,\"LR=\",IF(X787>P779,\"LR\",\"\"))","v":""}]
[null,null,0,null,7,"",{"$f":"IF(OR(F788=0,F788=\"\"),\"\",IF(A778=\"F\",HLOOKUP(F788,females,A779,FALSE),IF(A778=\"M\",HLOOKUP(F788,males,A779,FALSE),\"\")))","v":""},"",0,null,0,null,0,null,0,null,0,0,null,0,null,0,null,0,null,0,{"$f":"IF(X788=P779,\"LR=\",IF(X788>P779,\"LR\",\"\"))","v":""}]
[null,null,0,null,8,"",{"$f":"IF(OR(F789=0,F789=\"\"),\"\",IF(A778=\"F\",HLOOKUP(F789,females,A779,FALSE),IF(A778=\"M\",HLOOKUP(F789,males,A779,FALSE),\"\")))","v":""},"",0,null,0,null,0,null,0,null,0,0,null,0,null,0,null,0,null,0,{"$f":"IF(X789=P779,\"LR=\",IF(X789>P779,\"LR\",\"\"))","v":""}]
[{"$f":"A782+3","v":4},{"$f":"IF(OR(A790=0,A790=\"\"),\"\",VLOOKUP(A790,teamorder2,2,FALSE))","v":1},null,{"$f":"Q790","v":0},1,1,{"$f":"IF(OR(F790=0,F790=\"\"),\"\",IF(A778=\"F\",HLOOKUP(F790,females2,A779,FALSE),IF(A778=\"M\",HLOOKUP(F790,males2,A779,FALSE),\"\")))","v":"-"},{"$f":"IF(OR(F790=0,F790=\"\"),\"\",VLOOKUP(F790,match_teams2,4,FALSE))","v":"DASH"},0,null,0,null,0,null,0,null,{"$f":"IF(OR(O790=\"\",O790=0),0,RANK(O790,$O$22:$P$29,0))","v":0},0,null,0,null,0,null,0,null,0,{"$f":"IF(X790=P779,\"LR=\",IF(X790>P779,\"LR\",\"\"))","v":""}]
[{"$f":"A783+3","v":5},{"$f":"IF(OR(A791=0,A791=\"\"),\"\",VLOOKUP(A791,teamorder2,2,FALSE))","v":2},null,{"$f":"Q791","v":0},2,2,{"$f":"IF(OR(F791=0,F791=\"\"),\"\",IF(A778=\"F\",HLOOKUP(F791,females2,A779,FALSE),IF(A778=\"M\",HLOOKUP(F791,males2,A779,FALSE),\"\")))","v":"Laura Wilkinson"},"Linc W",0,null,0,null,0,null,0,null,0,0,null,0,null,0,null,0,null,0,{"$f":"IF(X791=P779,\"LR=\",IF(X791>P779,\"LR\",\"\"))","v":""}]
[{"$f":"A784+3","v":6},{"$f":"IF(OR(A792=0,A792=\"\"),\"\",VLOOKUP(A792,teamorder2,2,FALSE))","v":3},null,0,3,3,{"$f":"IF(OR(F792=0,F792=\"\"),\"\",IF(A778=\"F\",HLOOKUP(F792,females2,A779,FALSE),IF(A778=\"M\",HLOOKUP(F792,males2,A779,FALSE),\"\")))","v":"Mary McCarthy"},"Hallam",0,null,0,null,0,null,0,null,0,0,null,0,null,0,null,0,null,0,{"$f":"IF(X792=P779,\"LR=\",IF(X792>P779,\"LR\",\"\"))","v":""}]
[null,{"$f":"IF(T(B790)=\"\",B790*11,CONCATENATE(B790,B790))","v":11},null,0,4,11,{"$f":"IF(OR(F793=0,F793=\"\"),\"\",IF(A778=\"F\",HLOOKUP(F793,females2,A779,FALSE),IF(A778=\"M\",HLOOKUP(F793,males2,A779,FALSE),\"\")))","v":"Maria Masserella"},"DASH",0,null,0,null,0,null,0,null,0,0,null,0,null,0,null,0,null,0,{"$f":"IF(X793=P779,\"LR=\",IF(X793>P779,\"LR\",\"\"))","v":""}]
[null,{"$f":"IF(T(B791)=\"\",B791*11,CONCATENATE(B791,B791))","v":22},null,0,5,22,{"$f":"IF(OR(F794=0,F794=\"\"),\"\",IF(A778=\"F\",HLOOKUP(F794,females2,A779,FALSE),IF(A778=\"M\",HLOOKUP(F794,males2,A779,FALSE),\"\")))","v":"Holly Horton"},"Linc W",0,null,0,null,0,null,0,null,0,0,null,0,null,0,null,0,null,0,{"$f":"IF(X794=P779,\"LR=\",IF(X794>P779,\"LR\",\"\"))","v":""}]
[null,{"$f":"IF(T(B792)=\"\",B792*11,CONCATENATE(B792,B792))","v":33},null,0,6,33,{"$f":"IF(OR(F795=0,F795=\"\"),\"\",IF(A778=\"F\",HLOOKUP(F795,females2,A779,FALSE),IF(A778=\"M\",HLOOKUP(F795,males2,A779,FALSE),\"\")))","v":"Caitlin Tevendale"},"Hallam",0,null,0,null,0,null,0,null,0,0,null,0,null,0,null,0,null,0,{"$f":"IF(X795=P779,\"LR=\",IF(X795>P779,\"LR\",\"\"))","v":""}]
[null,0,null,0,7,"",{"$f":"IF(OR(F796=0,F796=\"\"),\"\",IF(A778=\"F\",HLOOKUP(F796,females2,A779,FALSE),IF(A778=\"M\",HLOOKUP(F796,males2,A779,FALSE),\"\")))","v":""},"",0,null,0,null,0,null,0,null,0,0,null,0,null,0,null,0,null,0,{"$f":"IF(X796=P779,\"LR=\",IF(X796>P779,\"LR\",\"\"))","v":""}]
[null,0,null,0,8,"",{"$f":"IF(OR(F797=0,F797=\"\"),\"\",IF(A778=\"F\",HLOOKUP(F797,females2,A779,FALSE),IF(A778=\"M\",HLOOKUP(F797,males2,A779,FALSE),\"\")))","v":""},"",0,null,0,null,0,null,0,null,0,0,null,0,null,0,null,0,null,0,{"$f":"IF(X797=P779,\"LR=\",IF(X797>P779,\"LR\",\"\"))","v":""}]
[]
[null,null,null,null,"MATCH 1 RESULT",null,null,null,null,null,"MATCH 2 RESULT",null,null,null,null,null,null,null,null,null,null,null,"JUDGES' SIGNATURES"]
[null,null,null,null,null,"No.","NAME","CLUB","DISTANCE",null,null,"No.","NAME",null,null,null,"CLUB",null,null,null,"DISTANCE"]
[null,null,1,null,1,{"$f":"IF(ISERROR(VLOOKUP(C801,$C$14:$Y$21,4,FALSE))=TRUE,0,IF(VLOOKUP(C801,$C$14:$Y$21,22,FALSE)=0,0,IF(VLOOKUP(C801,$C$14:$Y$21,22,FALSE)=99,99,IF(VLOOKUP(C801,$C$14:$Y$21,22,FALSE)=98,98,IF(VLOOKUP(C801,$C$14:$Y$21,22,FALSE)=96,96,IF(VLOOKUP(C801,$C$14:$Y$21,22,FALSE)=95,95,VLOOKUP(C801,$C$14:$Y$21,4,FALSE)))))))","v":0},{"$f":"IF(ISERROR(VLOOKUP(C801,$C$14:$Y$21,4,FALSE))=TRUE,0,VLOOKUP(C801,$C$14:$Y$21,5,FALSE))","v":0},{"$f":"IF(ISERROR(VLOOKUP(C801,$C$14:$Y$21,4,FALSE))=TRUE,0,VLOOKUP(C801,$C$14:$Y$21,6,FALSE))","v":0},{"$f":"IF(ISERROR(VLOOKUP(C801,$C$14:$Y$21,4,FALSE))=TRUE,0,IF(VLOOKUP(C801,$C$14:$Y$21,22,FALSE)=0,\"\",IF(VLOOKUP(C801,$C$14:$Y$21,22,FALSE)>95.99,\"\",VLOOKUP(C801,$C$14:$Y$21,22,FALSE))))","v":0},null,1,{"$f":"IF(ISERROR(VLOOKUP(C801,$D$22:$Y$29,4,FALSE))=TRUE,0,IF(VLOOKUP(C801,D$22:Y$29,21,FALSE)=0,\"\",VLOOKUP(C801,D$22:Y$29,3,FALSE)))","v":0},{"$f":"IF(ISERROR(VLOOKUP(C801,$D$22:$Y$29,4,FALSE))=TRUE,0,VLOOKUP(C801,D$22:Y$29,4,FALSE))","v":0},null,null,null,{"$f":"IF(ISERROR(VLOOKUP(C801,$D$22:$Y$29,4,FALSE))=TRUE,0,VLOOKUP(C801,$D$22:$Y$29,5,FALSE))","v":0},null,null,null,{"$f":"IF(ISERROR(VLOOKUP(C801,$D$22:$Y$29,3,FALSE))=TRUE,0,IF(VLOOKUP(C801,$D$22:$Y$29,21,FALSE)=0,\"\",VLOOKUP(C801,$D$22:$Y$29,21,FALSE)))","v":0}]
[null,null,2,null,2,{"$f":"IF(ISERROR(VLOOKUP(C802,$C$14:$Y$21,4,FALSE))=TRUE,0,IF(VLOOKUP(C802,$C$14:$Y$21,22,FALSE)=0,\"\",IF(VLOOKUP(C802,$C$14:$Y$21,22,FALSE)=99,99,IF(VLOOKUP(C802,$C$14:$Y$21,22,FALSE)=98,98,IF(VLOOKUP(C802,$C$14:$Y$21,22,FALSE)=96,96,VLOOKUP(C802,$C$14:$Y$21,4,FALSE))))))","v":0},0,0,0,null,2,0,0,null,null,null,0,null,null,null,0]
[null,null,3,null,3,0,0,0,0,null,3,0,0,null,null,null,0,null,null,null,0]
[null,null,4,null,4,0,0,0,0,null,4,0,0,null,null,null,0,null,null,null,0]
[null,null,5,null,5,0,0,0,0,null,5,0,0,null,null,null,0,null,null,null,0]
[null,null,6,null,6,0,0,0,0,null,6,0,0,null,null,null,0,null,null,null,0,null,"REFEREE'S SIGNATURE"]
[null,null,7,null,7,0,0,0,0,null,7,0,0,null,null,null,0,null,null,null,0]
[null,null,8,null,8,0,0,0,0,null,8,0,0,null,null,null,0,null,null,null,0]

{"sheet":"Height","index":13,"n_rows":324,"n_cols":62,"rows_kept":324,"cut":false,"hidden":false,"merged":[[2,20,2,21],[0,14,0,15],[2,8,2,9],[2,10,2,11],[2,12,2,13],[2,14,2,15],[2,16,2,17],[2,18,2,19],[0,20,0,21],[1,8,1,9],[1,10,1,11],[1,12,1,13],[1,14,1,15],[1,16,1,17],[1,18,1,19],[1,20,1,21],[6,23,6,28],[6,29,6,40],[7,22,7,23],[0,23,0,24],[1,23,1,24],[0,8,0,9],[0,10,0,11],[0,12,0,13],[0,16,0,17],[0,18,0,19],[4,4,4,40],[5,4,5,5],[5,6,5,7],[5,8,5,10],[5,11,5,25],[5,26,5,28],[5,29,5,40],[7,35,8,35],[7,36,8,36],[7,37,8,37],[7,8,7,9],[7,10,7,11],[7,12,7,13],[7,14,7,15],[7,16,7,17],[7,18,7,19],[7,20,7,21],[6,4,6,5],[6,6,6,7],[6,8,6,10],[6,11,6,13],[6,14,6,17],[6,18,6,22],[7,28,7,29],[7,30,7,31],[7,32,7,33],[7,34,8,34],[8,32,8,33],[8,20,8,21],[8,22,8,23],[9,8,9,9],[7,39,8,40],[8,8,8,9],[8,10,8,11],[8,12,8,13],[8,14,8,15],[8,16,8,17],[8,18,8,19],[7,24,7,25],[7,26,7,27],[9,20,9,21],[9,22,9,23],[9,24,9,25],[9,26,9,27],[9,28,9,29],[9,30,9,31],[9,32,9,33],[10,8,10,9],[10,10,10,11],[10,12,10,13],[10,14,10,15],[10,16,10,17],[10,18,10,19],[10,20,10,21],[10,30,10,31],[10,32,10,33],[8,24,8,25],[8,26,8,27],[8,28,8,29],[8,30,8,31],[10,24,10,25],[12,26,12,27],[12,28,12,29],[9,10,9,11],[9,12,9,13],[9,14,9,15],[9,16,9,17],[9,18,9,19],[10,26,10,27],[10,28,10,29],[10,22,10,23],[11,20,11,21],[11,22,11,23],[11,24,11,25],[11,26,11,27],[11,28,11,29],[11,30,11,31],[11,32,11,33],[12,8,12,9],[12,10,12,11],[12,12,12,13],[12,14,12,15],[12,16,12,17],[12,18,12,19],[12,20,12,21],[12,22,12,23],[12,24,12,25],[11,8,11,9],[11,10,11,11],[11,12,11,13],[11,14,11,15],[11,16,11,17],[11,18,11,19],[12,30,12,31],[12,32,12,33],[13,32,13,33],[13,20,13,21],[13,22,13,23],[13,24,13,25],[13,26,13,27],[13,28,13,29],[13,30,13,31],[13,8,13,9],[13,10,13,11],[13,12,13,13],[13,14,13,15],[13,16,13,17],[13,18,13,19],[14,8,14,9],[14,10,14,11],[14,12,14,13],[14,14,14,15],[14,16,14,17],[14,18,14,19],[14,32,14,33],[15,8,15,9],[15,10,15,11],[15,12,15,13],[15,14,15,15],[15,16,15,17],[15,18,15,19],[15,32,15,33],[15,20,15,21],[15,22,15,23],[14,26,14,27],[14,28,14,29],[14,30,14,31],[15,24,15,25],[15,26,15,27],[15,28,15,29],[15,30,15,31],[16,8,16,9],[16,10,16,11],[16,12,16,13],[16,14,16,15],[16,16,16,17],[16,18,16,19],[16,32,16,33],[14,20,14,21],[14,22,14,23],[14,24,14,25],[17,8,17,9],[17,10,17,11],[17,12,17,13],[17,14,17,15],[17,16,17,17],[17,18,17,19],[17,32,17,33],[17,20,17,21],[17,22,17,23],[18,20,18,21],[18,22,18,23],[18,24,18,25],[16,26,16,27],[16,28,16,29],[16,30,16,31],[17,24,17,25],[17,26,17,27],[17,28,17,29],[17,30,17,31],[18,8,18,9],[18,10,18,11],[18,12,18,13],[18,14,18,15],[18,16,18,17],[18,18,18,19],[18,32,18,33],[16,20,16,21],[16,22,16,23],[16,24,16,25],[19,8,19,9],[19,10,19,11],[19,12,19,13],[19,14,19,15],[19,16,19,17],[19,18,19,19],[19,32,19,33],[19,20,19,21],[19,22,19,23],[20,20,20,21],[20,22,20,23],[20,24,20,25],[18,26,18,27],[18,28,18,29],[18,30,18,31],[19,24,19,25],[19,26,19,27],[19,28,19,29],[19,30,19,31],[20,8,20,9],[20,10,20,11],[20,12,20,13],[20,14,20,15],[20,16,20,17],[20,18,20,19],[20,32,20,33],[21,8,21,9],[21,10,21,11],[21,12,21,13],[21,14,21,15],[21,16,21,17],[21,18,21,19],[21,32,21,33],[21,20,21,21],[21,22,21,23],[22,20,22,21],[22,22,22,23],[22,24,22,25],[20,26,20,27],[20,28,20,29],[20,30,20,31],[21,24,21,25],[21,26,21,27],[21,28,21,29],[21,30,21,31],[22,8,22,9],[22,10,22,11],[22,12,22,13],[22,14,22,15],[22,16,22,17],[22,18,22,19],[22,26,22,27],[22,28,22,29],[22,30,22,31],[22,32,22,33],[23,8,23,9],[23,10,23,11],[23,12,23,13],[23,14,23,15],[23,16,23,17],[23,18,23,19],[23,20,23,21],[23,22,23,23],[23,24,23,25],[23,26,23,27],[23,28,23,29],[23,30,23,31],[23,32,23,33],[24,8,24,9],[24,10,24,11],[24,12,24,13],[24,14,24,15],[24,16,24,17],[24,18,24,19],[24,20,24,21],[24,22,24,23],[24,24,24,25],[24,26,24,27],[24,28,24,29],[24,30,24,31],[24,32,24,33],[26,4,26,9],[26,10,26,27],[26,28,26,40],[27,8,27,9],[27,12,27,13],[27,14,27,19],[27,20,27,25],[27,26,27,27],[28,8,28,9],[28,10,28,11],[28,12,28,13],[28,14,28,19],[28,20,28,25],[28,26,28,27],[29,8,29,9],[29,10,29,11],[29,12,29,13],[29,14,29,19],[29,20,29,25],[29,26,29,27],[27,10,27,11],[30,8,30,9],[30,10,30,11],[30,12,30,13],[30,14,30,19],[30,20,30,25],[30,26,30,27],[31,8,31,9],[31,10,31,11],[31,12,31,13],[31,14,31,19],[31,20,31,25],[31,26,31,27],[32,8,32,9],[32,10,32,11],[32,12,32,13],[32,14,32,19],[32,20,32,25],[32,26,32,27],[33,8,33,9],[33,10,33,11],[33,12,33,13],[33,14,33,19],[33,20,33,25],[33,26,33,27],[35,14,35,19],[35,20,35,25],[35,26,35,27],[33,28,33,40],[34,8,34,9],[34,10,34,11],[34,12,34,13],[34,14,34,19],[34,20,34,25],[34,26,34,27],[40,8,40,9],[40,10,40,11],[40,12,40,13],[35,8,35,9],[35,10,35,11],[35,12,35,13],[37,29,37,40],[36,4,36,40],[37,4,37,5],[37,6,37,7],[37,8,37,10],[37,11,37,25],[37,26,37,28],[39,39,40,40],[40,26,40,27],[40,28,40,29],[42,20,42,21],[42,22,42,23],[42,24,42,25],[42,26,42,27],[42,28,42,29],[42,30,42,31],[42,8,42,9],[42,10,42,11],[42,12,42,13],[42,14,42,15],[40,30,40,31],[40,32,40,33],[39,8,39,9],[39,10,39,11],[39,12,39,13],[39,14,39,15],[39,16,39,17],[41,32,41,33],[39,26,39,27],[39,28,39,29],[39,30,39,31],[39,32,39,33],[40,14,40,15],[40,16,40,17],[40,18,40,19],[40,20,40,21],[40,22,40,23],[40,24,40,25],[38,4,38,5],[38,6,38,7],[38,8,38,10],[38,11,38,13],[38,14,38,17],[38,18,38,22],[38,23,38,28],[38,29,38,40],[39,18,39,19],[39,20,39,21],[39,22,39,23],[39,24,39,25],[41,8,41,9],[41,10,41,11],[41,12,41,13],[41,14,41,15],[41,16,41,17],[41,18,41,19],[41,20,41,21],[41,22,41,23],[41,24,41,25],[39,36,40,36],[39,37,40,37],[39,34,40,34],[39,35,40,35],[42,16,42,17],[42,18,42,19],[41,26,41,27],[41,28,41,29],[41,30,41,31],[44,32,44,33],[43,8,43,9],[43,10,43,11],[43,12,43,13],[43,14,43,15],[43,16,43,17],[43,18,43,19],[43,20,43,21],[43,22,43,23],[43,24,43,25],[44,20,44,21],[44,22,44,23],[44,24,44,25],[44,26,44,27],[44,28,44,29],[44,30,44,31],[43,26,43,27],[43,28,43,29],[43,30,43,31],[43,32,43,33],[44,8,44,9],[44,10,44,11],[44,12,44,13],[44,14,44,15],[44,16,44,17],[44,18,44,19],[42,32,42,33],[46,32,46,33],[45,8,45,9],[45,10,45,11],[45,12,45,13],[45,14,45,15],[45,16,45,17],[45,18,45,19],[45,20,45,21],[45,22,45,23],[45,24,45,25],[46,20,46,21],[46,22,46,23],[46,24,46,25],[46,26,46,27],[46,28,46,29],[46,30,46,31],[45,26,45,27],[45,28,45,29],[45,30,45,31],[45,32,45,33],[46,8,46,9],[46,10,46,11],[46,12,46,13],[46,14,46,15],[46,16,46,17],[46,18,46,19],[48,32,48,33],[47,8,47,9],[47,10,47,11],[47,12,47,13],[47,14,47,15],[47,16,47,17],[47,18,47,19],[47,20,47,21],[47,22,47,23],[47,24,47,25],[48,20,48,21],[48,22,48,23],[48,24,48,25],[48,26,48,27],[48,28,48,29],[48,30,48,31],[47,26,47,27],[47,28,47,29],[47,30,47,31],[47,32,47,33],[48,8,48,9],[48,10,48,11],[48,12,48,13],[48,14,48,15],[48,16,48,17],[48,18,48,19],[50,32,50,33],[49,8,49,9],[49,10,49,11],[49,12,49,13],[49,14,49,15],[49,16,49,17],[49,18,49,19],[49,20,49,21],[49,22,49,23],[49,24,49,25],[50,20,50,21],[50,22,50,23],[50,24,50,25],[50,26,50,27],[50,28,50,29],[50,30,50,31],[49,26,49,27],[49,28,49,29],[49,30,49,31],[49,32,49,33],[50,8,50,9],[50,10,50,11],[50,12,50,13],[50,14,50,15],[50,16,50,17],[50,18,50,19],[52,32,52,33],[51,8,51,9],[51,10,51,11],[51,12,51,13],[51,14,51,15],[51,16,51,17],[51,18,51,19],[51,20,51,21],[51,22,51,23],[51,24,51,25],[52,20,52,21],[52,22,52,23],[52,24,52,25],[52,26,52,27],[52,28,52,29],[52,30,52,31],[51,26,51,27],[51,28,51,29],[51,30,51,31],[51,32,51,33],[52,8,52,9],[52,10,52,11],[52,12,52,13],[52,14,52,15],[52,16,52,17],[52,18,52,19],[54,32,54,33],[53,8,53,9],[53,10,53,11],[53,12,53,13],[53,14,53,15],[53,16,53,17],[53,18,53,19],[53,20,53,21],[53,22,53,23],[53,24,53,25],[54,20,54,21],[54,22,54,23],[54,24,54,25],[54,26,54,27],[54,28,54,29],[54,30,54,31],[53,26,53,27],[53,28,53,29],[53,30,53,31],[53,32,53,33],[54,8,54,9],[54,10,54,11],[54,12,54,13],[54,14,54,15],[54,16,54,17],[54,18,54,19],[56,32,56,33],[55,8,55,9],[55,10,55,11],[55,12,55,13],[55,14,55,15],[55,16,55,17],[55,18,55,19],[55,20,55,21],[55,22,55,23],[55,24,55,25],[56,20,56,21],[56,22,56,23],[56,24,56,25],[56,26,56,27],[56,28,56,29],[56,30,56,31],[55,26,55,27],[55,28,55,29],[55,30,55,31],[55,32,55,33],[56,8,56,9],[56,10,56,11],[56,12,56,13],[56,14,56,15],[56,16,56,17],[56,18,56,19],[60,8,60,9],[60,10,60,11],[60,12,60,13],[60,14,60,19],[60,20,60,25],[60,26,60,27],[58,4,58,9],[58,10,58,27],[58,28,58,40],[59,8,59,9],[59,12,59,13],[59,14,59,19],[59,20,59,25],[59,26,59,27],[62,8,62,9],[62,10,62,11],[62,12,62,13],[62,14,62,19],[62,20,62,25],[62,26,62,27],[61,8,61,9],[61,10,61,11],[61,12,61,13],[61,14,61,19],[61,20,61,25],[61,26,61,27],[59,10,59,11],[64,8,64,9],[64,10,64,11],[64,12,64,13],[64,14,64,19],[64,20,64,25],[64,26,64,27],[63,8,63,9],[63,10,63,11],[63,12,63,13],[63,14,63,19],[63,20,63,25],[63,26,63,27],[65,28,65,40],[66,8,66,9],[66,10,66,11],[66,12,66,13],[66,14,66,19],[66,20,66,25],[66,26,66,27],[65,8,65,9],[65,10,65,11],[65,12,65,13],[65,14,65,19],[65,20,65,25],[65,26,65,27],[72,24,72,25],[72,26,72,27],[72,28,72,29],[72,30,72,31],[72,32,72,33],[70,4,70,5],[70,6,70,7],[70,8,70,10],[70,11,70,13],[71,37,72,37],[71,39,72,40],[72,8,72,9],[72,10,72,11],[72,12,72,13],[72,14,72,15],[72,16,72,17],[72,18,72,19],[72,20,72,21],[72,22,72,23],[71,18,71,19],[68,4,68,40],[69,4,69,5],[69,6,69,7],[69,8,69,10],[69,11,69,25],[69,26,69,28],[69,29,69,40],[71,32,71,33],[71,34,72,34],[71,35,72,35],[71,36,72,36],[67,8,67,9],[67,10,67,11],[67,12,67,13],[67,14,67,19],[67,20,67,25],[67,26,67,27],[71,20,71,21],[71,22,71,23],[71,24,71,25],[71,26,71,27],[71,28,71,29],[71,30,71,31],[70,14,70,17],[70,18,70,22],[70,23,70,28],[70,29,70,40],[71,8,71,9],[71,10,71,11],[71,12,71,13],[71,14,71,15],[71,16,71,17],[74,32,74,33],[73,8,73,9],[73,10,73,11],[73,12,73,13],[73,14,73,15],[73,16,73,17],[73,18,73,19],[73,20,73,21],[73,22,73,23],[73,24,73,25],[74,20,74,21],[74,22,74,23],[74,24,74,25],[74,26,74,27],[74,28,74,29],[74,30,74,31],[73,26,73,27],[73,28,73,29],[73,30,73,31],[73,32,73,33],[74,8,74,9],[74,10,74,11],[74,12,74,13],[74,14,74,15],[74,16,74,17],[74,18,74,19],[76,32,76,33],[75,8,75,9],[75,10,75,11],[75,12,75,13],[75,14,75,15],[75,16,75,17],[75,18,75,19],[75,20,75,21],[75,22,75,23],[75,24,75,25],[76,20,76,21],[76,22,76,23],[76,24,76,25],[76,26,76,27],[76,28,76,29],[76,30,76,31],[75,26,75,27],[75,28,75,29],[75,30,75,31],[75,32,75,33],[76,8,76,9],[76,10,76,11],[76,12,76,13],[76,14,76,15],[76,16,76,17],[76,18,76,19],[78,32,78,33],[77,8,77,9],[77,10,77,11],[77,12,77,13],[77,14,77,15],[77,16,77,17],[77,18,77,19],[77,20,77,21],[77,22,77,23],[77,24,77,25],[78,20,78,21],[78,22,78,23],[78,24,78,25],[78,26,78,27],[78,28,78,29],[78,30,78,31],[77,26,77,27],[77,28,77,29],[77,30,77,31],[77,32,77,33],[78,8,78,9],[78,10,78,11],[78,12,78,13],[78,14,78,15],[78,16,78,17],[78,18,78,19],[80,32,80,33],[79,8,79,9],[79,10,79,11],[79,12,79,13],[79,14,79,15],[79,16,79,17],[79,18,79,19],[79,20,79,21],[79,22,79,23],[79,24,79,25],[80,20,80,21],[80,22,80,23],[80,24,80,25],[80,26,80,27],[80,28,80,29],[80,30,80,31],[79,26,79,27],[79,28,79,29],[79,30,79,31],[79,32,79,33],[80,8,80,9],[80,10,80,11],[80,12,80,13],[80,14,80,15],[80,16,80,17],[80,18,80,19],[82,32,82,33],[81,8,81,9],[81,10,81,11],[81,12,81,13],[81,14,81,15],[81,16,81,17],[81,18,81,19],[81,20,81,21],[81,22,81,23],[81,24,81,25],[82,20,82,21],[82,22,82,23],[82,24,82,25],[82,26,82,27],[82,28,82,29],[82,30,82,31],[81,26,81,27],[81,28,81,29],[81,30,81,31],[81,32,81,33],[82,8,82,9],[82,10,82,11],[82,12,82,13],[82,14,82,15],[82,16,82,17],[82,18,82,19],[84,32,84,33],[83,8,83,9],[83,10,83,11],[83,12,83,13],[83,14,83,15],[83,16,83,17],[83,18,83,19],[83,20,83,21],[83,22,83,23],[83,24,83,25],[84,20,84,21],[84,22,84,23],[84,24,84,25],[84,26,84,27],[84,28,84,29],[84,30,84,31],[83,26,83,27],[83,28,83,29],[83,30,83,31],[83,32,83,33],[84,8,84,9],[84,10,84,11],[84,12,84,13],[84,14,84,15],[84,16,84,17],[84,18,84,19],[86,32,86,33],[85,8,85,9],[85,10,85,11],[85,12,85,13],[85,14,85,15],[85,16,85,17],[85,18,85,19],[85,20,85,21],[85,22,85,23],[85,24,85,25],[86,20,86,21],[86,22,86,23],[86,24,86,25],[86,26,86,27],[86,28,86,29],[86,30,86,31],[85,26,85,27],[85,28,85,29],[85,30,85,31],[85,32,85,33],[86,8,86,9],[86,10,86,11],[86,12,86,13],[86,14,86,15],[86,16,86,17],[86,18,86,19],[88,32,88,33],[87,8,87,9],[87,10,87,11],[87,12,87,13],[87,14,87,15],[87,16,87,17],[87,18,87,19],[87,20,87,21],[87,22,87,23],[87,24,87,25],[88,20,88,21],[88,22,88,23],[88,24,88,25],[88,26,88,27],[88,28,88,29],[88,30,88,31],[87,26,87,27],[87,28,87,29],[87,30,87,31],[87,32,87,33],[88,8,88,9],[88,10,88,11],[88,12,88,13],[88,14,88,15],[88,16,88,17],[88,18,88,19],[92,8,92,9],[92,10,92,11],[92,12,92,13],[92,14,92,19],[92,20,92,25],[92,26,92,27],[90,4,90,9],[90,10,90,27],[90,28,90,40],[91,8,91,9],[91,12,91,13],[91,14,91,19],[91,20,91,25],[91,26,91,27],[94,8,94,9],[94,10,94,11],[94,12,94,13],[94,14,94,19],[94,20,94,25],[94,26,94,27],[93,8,93,9],[93,10,93,11],[93,12,93,13],[93,14,93,19],[93,20,93,25],[93,26,93,27],[91,10,91,11],[96,8,96,9],[96,10,96,11],[96,12,96,13],[96,14,96,19],[96,20,96,25],[96,26,96,27],[95,8,95,9],[95,10,95,11],[95,12,95,13],[95,14,95,19],[95,20,95,25],[95,26,95,27],[97,28,97,40],[98,8,98,9],[98,10,98,11],[98,12,98,13],[98,14,98,19],[98,20,98,25],[98,26,98,27],[97,8,97,9],[97,10,97,11],[97,12,97,13],[97,14,97,19],[97,20,97,25],[97,26,97,27],[104,24,104,25],[104,26,104,27],[104,28,104,29],[104,30,104,31],[104,32,104,33],[102,4,102,5],[102,6,102,7],[102,8,102,10],[102,11,102,13],[103,37,104,37],[103,39,104,40],[104,8,104,9],[104,10,104,11],[104,12,104,13],[104,14,104,15],[104,16,104,17],[104,18,104,19],[104,20,104,21],[104,22,104,23],[103,18,103,19],[100,4,100,40],[101,4,101,5],[101,6,101,7],[101,8,101,10],[101,11,101,25],[101,26,101,28],[101,29,101,40],[103,32,103,33],[103,34,104,34],[103,35,104,35],[103,36,104,36],[99,8,99,9],[99,10,99,11],[99,12,99,13],[99,14,99,19],[99,20,99,25],[99,26,99,27],[103,20,103,21],[103,22,103,23],[103,24,103,25],[103,26,103,27],[103,28,103,29],[103,30,103,31],[102,14,102,17],[102,18,102,22],[102,23,102,28],[102,29,102,40]],"merged_total":3143,"flags":["merged_cut"]}
[null,null,null,null,null,null,null,null,"U13B",null,"U15B",null,"U17M",null,null,null,"U13G",null,"U15G",null,"U17W",null,null,"ALL",null,null,null,null,"Match 1",null,null,"Match 2"]
[null,null,null,null,null,null,null,"High Jump",null,null,null,null,null,null,null,null,null,null,null,null,null,null,null,null,null,null,null,null,"Track",null,null,"Track"]
[null,null,null,null,null,null,null,"Pole Vault",null,null,null,null,null,null,null,null,null,null,null,null,null,null,null,null,null,null,null,null,"Field",null,null,"Field"]
[null,null,null,null,null,null,null,null,null,null,null,null,null,null,null,null,null,null,null,null,null,null,null,null,null,null,null,null,"Relay",null,null,"Relay"]
["F2",null,null,null,"UK ATHLETICS: HEIGHT CARD"]
[{"$f":"VLOOKUP(A5,eventno,5,FALSE)","v":"M"},null,null,null,"MEETING ",null,{"$f":"CONCATENATE(MatchDay!$C$3,\"/\",MatchDay!$I$3)","v":"Northern Premier East/Northern 1 SE"},null,"VENUE ",null,null,{"$f":"MatchDay!$C$7","v":"Thornes Park Stadium, Wakefield"},null,null,null,null,null,null,null,null,null,null,null,null,null,null,"DATE ",null,null,{"$f":"MatchDay!$C$5","v":"Sunday 8th May 2011"}]
[{"$f":"IF(A6=\"M\",VLOOKUP(A5,males,15,FALSE),VLOOKUP(A5,females,15,FALSE))","v":33},null,null,null,"EVENT",null,{"$f":"CONCATENATE(A5,\" \",VLOOKUP(A5,eventno,4,FALSE))","v":"F2 U17M High Jump"},null,"TIME",null,null,{"$f":"VLOOKUP(A5,eventno,12,FALSE)","v":"11:30:00"},null,null,"Record",null,null,null,{"$f":"VLOOKUP(A5,eventno,7,FALSE)","v":2.1},null,null,null,null,"Duty",null,null,null,null,null,{"$f":"VLOOKUP(VLOOKUP(A5,eventno,13,FALSE),teamorder,3,FALSE)","v":"Leeds City"}]
[null,null,null,null,"Order","No","NAME","CLUB",{"$f":"VLOOKUP(A5,eventno,14,FALSE)","v":1.35},null,null,null,null,null,null,null,null,null,null,null,null,null,null,null,null,null,null,null,null,null,null,null,"Best of\nAll",null,"Trials at\nHt Cleared","Total \nFailures","Total\nTrials","Final\nPositionn",null,"A or B",null,"Tie"]
[null,null,null,null,null,null,null,null,"Metres",null,"Metres",null,"Metres",null,"Metres",null,"Metres",null,"Metres",null,"Metres",null,"Metres",null,"Metres",null,"Metres",null,"Metres",null,"Metres",null,"Metres",null,null,null,null,null,null,null,null,null,null,null,null,null,1,2,3,4,5,6,7,8,1,2,3,4,5,6,7,8]
[2,{"$f":"IF(OR(A10=0,A10=\"\"),\"\",VLOOKUP(A10,teamorder,2,FALSE))","v":8},{"$f":"IF(OR(AS10=0,AS10=\"\"),\"\",RANK(AS10,$AS$10:$AS$17,1))","v":""},null,1,{"$f":"IF(B10=0,\"\",B10)","v":8},{"$f":"IF(OR(F10=0,F10=\"\"),\"\",IF(A6=\"F\",HLOOKUP(F10,females,A7,FALSE),IF(A6=\"M\",HLOOKUP(F10,males,A7,FALSE),\"\")))","v":"-"},{"$f":"IF(OR(F10=0,F10=\"\"),\"\",VLOOKUP(F10,match_teams,4,FALSE))","v":"York"},null,null,null,null,null,null,null,null,null,null,null,null,null,null,null,null,null,null,null,null,null,null,null,null,0,null,null,null,null,0,{"$f":"IF(OR(AG10=0,AG10=\"\",AG10=\"NHC\"),\"\",IF(AG10=S7,\"LR=\",IF(AG10>S7,\"LR\",\"\")))","v":""},null,null,null,null,null,{"$f":"IF(OR(AL10=\"\",AL10=0),\"\",AL10+($AP10/10))","v":""},{"$f":"IF(OR(AL10=0,AL10=\"\"),\"\",HLOOKUP(AL10,$AU$9:$BB$26,18,FALSE))","v":""},{"$f":"IF($AL10=\"\",\"\",IF($AL10=AU$9,$AL10,\"\"))","v":""},{"$f":"IF($AL10=\"\",\"\",IF($AL10=AV$9,$AL10,\"\"))","v":""},"","","","","",""]
[3,{"$f":"IF(OR(A11=0,A11=\"\"),\"\",VLOOKUP(A11,teamorder,2,FALSE))","v":7},{"$f":"IF(OR(AS11=0,AS11=\"\"),\"\",RANK(AS11,$AS$10:$AS$17,1))","v":""},null,2,7,{"$f":"IF(OR(F11=0,F11=\"\"),\"\",IF(A6=\"F\",HLOOKUP(F11,females,A7,FALSE),IF(A6=\"M\",HLOOKUP(F11,males,A7,FALSE),\"\")))","v":"Connor Morley"},"Leeds C",null,null,null,null,null,null,null,null,null,null,null,null,null,null,null,null,null,null,null,null,null,null,null,null,0,null,null,null,null,0,{"$f":"IF(OR(AG11=0,AG11=\"\",AG11=\"NHC\"),\"\",IF(AG11=S7,\"LR=\",IF(AG11>S7,\"LR\",\"\")))","v":""},null,null,null,null,null,{"$f":"IF(OR(AL11=\"\",AL11=0),\"\",AL11+($AP11/10))","v":""},{"$f":"IF(OR(AL11=0,AL11=\"\"),\"\",HLOOKUP(AL11,$AU$9:$BB$26,18,FALSE))","v":""},{"$f":"IF($AL11=\"\",\"\",IF($AL11=AU$9,$AL11,\"\"))","v":""},"","","","","","",""]
[1,{"$f":"IF(OR(A12=0,A12=\"\"),\"\",VLOOKUP(A12,teamorder,2,FALSE))","v":9},"",null,3,9,{"$f":"IF(OR(F12=0,F12=\"\"),\"\",IF(A6=\"F\",HLOOKUP(F12,females,A7,FALSE),IF(A6=\"M\",HLOOKUP(F12,males,A7,FALSE),\"\")))","v":"Mark Stringer"},"Wake",null,null,null,null,null,null,null,null,null,null,null,null,null,null,null,null,null,null,null,null,null,null,null,null,0,null,null,null,null,0,{"$f":"IF(OR(AG12=0,AG12=\"\",AG12=\"NHC\"),\"\",IF(AG12=S7,\"LR=\",IF(AG12>S7,\"LR\",\"\")))","v":""},null,null,null,null,null,"","","","","","","","","",""]
[null,{"$f":"IF(T(B10)=\"\",B10*11,CONCATENATE(B10,B10))","v":88},"",null,4,88,{"$f":"IF(OR(F13=0,F13=\"\"),\"\",IF(A6=\"F\",HLOOKUP(F13,females,A7,FALSE),IF(A6=\"M\",HLOOKUP(F13,males,A7,FALSE),\"\")))","v":"-"},"York",null,null,null,null,null,null,null,null,null,null,null,null,null,null,null,null,null,null,null,null,null,null,null,null,0,null,null,null,null,0,{"$f":"IF(OR(AG13=0,AG13=\"\",AG13=\"NHC\"),\"\",IF(AG13=S7,\"LR=\",IF(AG13>S7,\"LR\",\"\")))","v":""},null,null,null,null,null,"","","","","","","","","",""]
[null,{"$f":"IF(T(B11)=\"\",B11*11,CONCATENATE(B11,B11))","v":77},"",null,5,77,{"$f":"IF(OR(F14=0,F14=\"\"),\"\",IF(A6=\"F\",HLOOKUP(F14,females,A7,FALSE),IF(A6=\"M\",HLOOKUP(F14,males,A7,FALSE),\"\")))","v":"Dylan Bradley"},"Leeds C",null,null,null,null,null,null,null,null,null,null,null,null,null,null,null,null,null,null,null,null,null,null,null,null,0,null,null,null,null,0,{"$f":"IF(OR(AG14=0,AG14=\"\",AG14=\"NHC\"),\"\",IF(AG14=S7,\"LR=\",IF(AG14>S7,\"LR\",\"\")))","v":""},null,null,null,null,null,"","","","","","","","","",""]
[null,{"$f":"IF(T(B12)=\"\",B12*11,CONCATENATE(B12,B12))","v":99},"",null,6,99,{"$f":"IF(OR(F15=0,F15=\"\"),\"\",IF(A6=\"F\",HLOOKUP(F15,females,A7,FALSE),IF(A6=\"M\",HLOOKUP(F15,males,A7,FALSE),\"\")))","v":"-"},"Wake",null,null,null,null,null,null,null,null,null,null,null,null,null,null,null,null,null,null,null,null,null,null,null,null,0,null,null,null,null,0,{"$f":"IF(OR(AG15=0,AG15=\"\",AG15=\"NHC\"),\"\",IF(AG15=S7,\"LR=\",IF(AG15>S7,\"LR\",\"\")))","v":""},null,null,null,null,null,"","","","","","","","","",""]
[null,null,"",null,7,"",{"$f":"IF(OR(F16=0,F16=\"\"),\"\",IF(A6=\"F\",HLOOKUP(F16,females,A7,FALSE),IF(A6=\"M\",HLOOKUP(F16,males,A7,FALSE),\"\")))","v":""},"",null,null,null,null,null,null,null,null,null,null,null,null,null,null,null,null,null,null,null,null,null,null,null,null,0,null,null,null,null,0,{"$f":"IF(OR(AG16=0,AG16=\"\",AG16=\"NHC\"),\"\",IF(AG16=S7,\"LR=\",IF(AG16>S7,\"LR\",\"\")))","v":""},null,null,null,null,null,"","","","","","","","","",""]
[null,null,"",null,8,"",{"$f":"IF(OR(F17=0,F17=\"\"),\"\",IF(A6=\"F\",HLOOKUP(F17,females,A7,FALSE),IF(A6=\"M\",HLOOKUP(F17,males,A7,FALSE),\"\")))","v":""},"",null,null,null,null,null,null,null,null,null,null,null,null,null,null,null,null,null,null,null,null,null,null,null,null,0,null,null,null,null,0,{"$f":"IF(OR(AG17=0,AG17=\"\",AG17=\"NHC\"),\"\",IF(AG17=S7,\"LR=\",IF(AG17>S7,\"LR\",\"\")))","v":""},null,null,null,null,null,"","","","","","","","","",""]
[{"$f":"A10+3","v":5},{"$f":"IF(OR(A18=0,A18=\"\"),\"\",VLOOKUP(A18,teamorder2,2,FALSE))","v":2},null,{"$f":"IF(OR(AS18=0,AS18=\"\"),\"\",RANK(AS18,$AS$18:$AS$25,1))","v":""},1,2,{"$f":"IF(OR(F18=0,F18=\"\"),\"\",IF(A6=\"F\",HLOOKUP(F18,females2,A7,FALSE),IF(A6=\"M\",HLOOKUP(F18,males2,A7,FALSE),\"\")))","v":"Josh Holden"},{"$f":"IF(OR(F18=0,F18=\"\"),\"\",VLOOKUP(F18,match_teams2,4,FALSE))","v":"Linc W"},null,null,null,null,null,null,null,null,null,null,null,null,null,null,null,null,null,null,null,null,null,null,null,null,0,null,null,null,null,0,{"$f":"IF(OR(AG18=0,AG18=\"\",AG18=\"NHC\"),\"\",IF(AG18=S7,\"LR=\",IF(AG18>S7,\"LR\",\"\")))","v":""},null,null,null,null,null,{"$f":"IF(OR(AL18=\"\",AL18=0),\"\",AL18+($AP18/10))","v":""},{"$f":"IF(OR(AL18=0,AL18=\"\"),\"\",HLOOKUP(AL18,$BC$9:$BJ$26,18,FALSE))","v":""},null,null,null,null,null,null,null,null,"","","","","","","",""]
[{"$f":"A11+3","v":6},{"$f":"IF(OR(A19=0,A19=\"\"),\"\",VLOOKUP(A19,teamorder2,2,FALSE))","v":3},null,{"$f":"IF(OR(AS19=0,AS19=\"\"),\"\",RANK(AS19,$AS$18:$AS$25,1))","v":""},2,3,{"$f":"IF(OR(F19=0,F19=\"\"),\"\",IF(A6=\"F\",HLOOKUP(F19,females2,A7,FALSE),IF(A6=\"M\",HLOOKUP(F19,males2,A7,FALSE),\"\")))","v":"Dipo Ola"},"Hallam",null,null,null,null,null,null,null,null,null,null,null,null,null,null,null,null,null,null,null,null,null,null,null,null,0,null,null,null,null,0,{"$f":"IF(OR(AG19=0,AG19=\"\",AG19=\"NHC\"),\"\",IF(AG19=S7,\"LR=\",IF(AG19>S7,\"LR\",\"\")))","v":""},null,null,null,null,null,{"$f":"IF(OR(AL19=\"\",AL19=0),\"\",AL19+($AP19/10))","v":""},{"$f":"IF(OR(AL19=0,AL19=\"\"),\"\",HLOOKUP(AL19,$BC$9:$BJ$26,18,FALSE))","v":""},null,null,null,null,null,null,null,null,"","","","","","","",""]
[{"$f":"A12+3","v":4},{"$f":"IF(OR(A20=0,A20=\"\"),\"\",VLOOKUP(A20,teamorder2,2,FALSE))","v":1},null,"",3,1,{"$f":"IF(OR(F20=0,F20=\"\"),\"\",IF(A6=\"F\",HLOOKUP(F20,females2,A7,FALSE),IF(A6=\"M\",HLOOKUP(F20,males2,A7,FALSE),\"\")))","v":"-"},"DASH",null,null,null,null,null,null,null,null,null,null,null,null,null,null,null,null,null,null,null,null,null,null,null,null,0,null,null,null,null,0,{"$f":"IF(OR(AG20=0,AG20=\"\",AG20=\"NHC\"),\"\",IF(AG20=S7,\"LR=\",IF(AG20>S7,\"LR\",\"\")))","v":""},null,null,null,null,null,"","",null,null,null,null,null,null,null,null,"","","","","","","",""]
[null,{"$f":"IF(T(B18)=\"\",B18*11,CONCATENATE(B18,B18))","v":22},null,"",4,22,{"$f":"IF(OR(F21=0,F21=\"\"),\"\",IF(A6=\"F\",HLOOKUP(F21,females2,A7,FALSE),IF(A6=\"M\",HLOOKUP(F21,males2,A7,FALSE),\"\")))","v":"Sam Chapman"},"Linc W",null,null,null,null,null,null,null,null,null,null,null,null,null,null,null,null,null,null,null,null,null,null,null,null,0,null,null,null,null,0,{"$f":"IF(OR(AG21=0,AG21=\"\",AG21=\"NHC\"),\"\",IF(AG21=S7,\"LR=\",IF(AG21>S7,\"LR\",\"\")))","v":""},null,null,null,null,null,"","",null,null,null,null,null,null,null,null,"","","","","","","",""]
[null,{"$f":"IF(T(B19)=\"\",B19*11,CONCATENATE(B19,B19))","v":33},null,"",5,33,{"$f":"IF(OR(F22=0,F22=\"\"),\"\",IF(A6=\"F\",HLOOKUP(F22,females2,A7,FALSE),IF(A6=\"M\",HLOOKUP(F22,males2,A7,FALSE),\"\")))","v":"-"},"Hallam",null,null,null,null,null,null,null,null,null,null,null,null,null,null,null,null,null,null,null,null,null,null,null,null,0,null,null,null,null,0,{"$f":"IF(OR(AG22=0,AG22=\"\",AG22=\"NHC\"),\"\",IF(AG22=S7,\"LR=\",IF(AG22>S7,\"LR\",\"\")))","v":""},null,null,null,null,null,"","",null,null,null,null,null,null,null,null,"","","","","","","",""]
[null,{"$f":"IF(T(B20)=\"\",B20*11,CONCATENATE(B20,B20))","v":11},null,"",6,11,{"$f":"IF(OR(F23=0,F23=\"\"),\"\",IF(A6=\"F\",HLOOKUP(F23,females2,A7,FALSE),IF(A6=\"M\",HLOOKUP(F23,males2,A7,FALSE),\"\")))","v":"-"},"DASH",null,null,null,null,null,null,null,null,null,null,null,null,null,null,null,null,null,null,null,null,null,null,null,null,0,null,null,null,null,0,{"$f":"IF(OR(AG23=0,AG23=\"\",AG23=\"NHC\"),\"\",IF(AG23=S7,\"LR=\",IF(AG23>S7,\"LR\",\"\")))","v":""},null,null,null,null,null,"","",null,null,null,null,null,null,null,null,"","","","","","","",""]
[null,0,null,"",7,"",{"$f":"IF(OR(F24=0,F24=\"\"),\"\",IF(A6=\"F\",HLOOKUP(F24,females2,A7,FALSE),IF(A6=\"M\",HLOOKUP(F24,males2,A7,FALSE),\"\")))","v":""},"",null,null,null,null,null,null,null,null,null,null,null,null,null,null,null,null,null,null,null,null,null,null,null,null,0,null,null,null,null,0,{"$f":"IF(OR(AG24=0,AG24=\"\",AG24=\"NHC\"),\"\",IF(AG24=S7,\"LR=\",IF(AG24>S7,\"LR\",\"\")))","v":""},null,null,null,null,null,"","",null,null,null,null,null,null,null,null,"","","","","","","",""]
[null,0,null,"",8,"",{"$f":"IF(OR(F25=0,F25=\"\"),\"\",IF(A6=\"F\",HLOOKUP(F25,females2,A7,FALSE),IF(A6=\"M\",HLOOKUP(F25,males2,A7,FALSE),\"\")))","v":""},"",null,null,null,null,null,null,null,null,null,null,null,null,null,null,null,null,null,null,null,null,null,null,null,null,0,null,null,null,null,0,{"$f":"IF(OR(AG25=0,AG25=\"\",AG25=\"NHC\"),\"\",IF(AG25=S7,\"LR=\",IF(AG25>S7,\"LR\",\"\")))","v":""},null,null,null,null,null,"","",null,null,null,null,null,null,null,null,"","","","","","","",""]
[null,null,null,null,null,null,null,null,null,null,null,null,null,null,null,null,null,null,null,null,null,null,null,null,null,null,null,null,null,null,null,null,null,null,null,null,null,null,null,null,null,null,null,null,null,null,{"$f":"IF(OR(COUNTIF(AU10:AU25,AU9)=0,COUNTIF(AU10:AU25,AU9)=\"\"),\"\",(REPT(\"=\",COUNTIF(AU10:AU25,AU9)-1)))","v":""},{"$f":"IF(OR(COUNTIF(AV10:AV25,AV9)=0,COUNTIF(AV10:AV25,AV9)=\"\"),\"\",(REPT(\"=\",COUNTIF(AV10:AV25,AV9)-1)))","v":""},"","","","","","","","","","","","","",""]
[null,null,null,null,"MATCH 1 RESULT",null,null,null,null,null,"MATCH 2 RESULT",null,null,null,null,null,null,null,null,null,null,null,null,null,null,null,null,null,"JUDGES' SIGNATURES"]
[null,null,null,null,"Posn","No.","NAME","CLUB","HEIGHT",null,"Posn",null,"No.",null,"NAME",null,null,null,null,null,"CLUB",null,null,null,null,null,"HEIGHT"]
[null,null,null,1,{"$f":"IF(ISERROR(VLOOKUP(D29,$C$10:$AT$17,31,FALSE))=TRUE,\"\",CONCATENATE(VLOOKUP(D29,$C$10:$AT$17,36,FALSE),VLOOKUP(D29,$C$10:$AT$17,44,FALSE)))","v":""},{"$f":"IF(ISERROR(VLOOKUP(D29,$C$10:$AH$17,31,FALSE))=TRUE,\"\",IF(VLOOKUP(D29,$C$10:$AH$17,31,FALSE)=0,\"\",IF(VLOOKUP(D29,$C$10:$AH$17,31,FALSE)=99,99,IF(VLOOKUP(D29,$C$10:$AH$17,31,FALSE)=97,97,IF(VLOOKUP(D29,$C$10:$AH$17,31,FALSE)=96,96,IF(VLOOKUP(D29,$C$10:$AH$17,31,FALSE)=95,95,VLOOKUP(D29,$C$10:$AH$17,4,FALSE)))))))","v":""},{"$f":"IF(ISERROR(VLOOKUP(D29,$C$10:$AH$17,31,FALSE))=TRUE,\"\",VLOOKUP(D29,$C$10:$AH$17,5,FALSE))","v":""},{"$f":"IF(ISERROR(VLOOKUP(D29,$C$10:$AH$17,31,FALSE))=TRUE,\"\",VLOOKUP(D29,$C$10:$AH$17,6,FALSE))","v":""},{"$f":"IF(ISERROR(VLOOKUP(D29,$C$10:$AH$17,31,FALSE))=TRUE,\"\",IF(VLOOKUP(D29,C$10:AH$17,31,FALSE)=0,0,IF(VLOOKUP(D29,C$10:AH$17,31,FALSE)>95.99,\"\",VLOOKUP(D29,C$10:AH$17,31,FALSE))))","v":""},null,{"$f":"IF(ISERROR(VLOOKUP(D29,$D$18:$AT$25,30,FALSE))=TRUE,\"\",CONCATENATE(VLOOKUP(D29,$D$18:$AT$25,35,FALSE),VLOOKUP(D29,$D$18:$AT$25,43,FALSE)))","v":""},{"$f":"IF(ISERROR(VLOOKUP(K29,$C$10:$AQ$25,31,FALSE))=TRUE,\"\",CONCATENATE(VLOOKUP(K29,$C$10:$AQ$25,38,FALSE),VLOOKUP(K29,$C$10:$AQ$25,42,FALSE)))","v":{"$error":"#REF!"}},{"$f":"IF(ISERROR(VLOOKUP(D29,$D$18:$AH$25,30,FALSE))=TRUE,\"\",IF(VLOOKUP(D29,$D$18:$AH$25,30,FALSE)=0,\"\",VLOOKUP(D29,$D$18:$AH$25,3,FALSE)))","v":""},null,{"$f":"IF(ISERROR(VLOOKUP(D29,$D$18:$AH$25,30,FALSE))=TRUE,\"\",VLOOKUP(D29,$D$18:$AH$25,4,FALSE))","v":""},null,null,null,null,null,{"$f":"IF(ISERROR(VLOOKUP(D29,$D$18:$AH$25,30,FALSE))=TRUE,\"\",VLOOKUP(D29,$D$18:$AH$25,5,FALSE))","v":""},null,null,null,null,null,{"$f":"IF(ISERROR(VLOOKUP(D29,$D$18:$AH$25,30,FALSE))=TRUE,\"\",IF(VLOOKUP(D29,$D$18:$AH$25,30,FALSE)=0,\"\",VLOOKUP(D29,$D$18:$AH$25,30,FALSE)))","v":""}]
[null,null,null,2,{"$f":"IF(ISERROR(VLOOKUP(D30,$C$10:$AT$17,31,FALSE))=TRUE,\"\",CONCATENATE(VLOOKUP(D30,$C$10:$AT$17,36,FALSE),VLOOKUP(D30,$C$10:$AT$17,44,FALSE)))","v":""},{"$f":"IF(ISERROR(VLOOKUP(D30,$C$10:$AH$17,31,FALSE))=TRUE,\"\",IF(VLOOKUP(D30,$C$10:$AH$17,31,FALSE)=0,\"\",IF(VLOOKUP(D30,$C$10:$AH$17,31,FALSE)=99,99,IF(VLOOKUP(D30,$C$10:$AH$17,31,FALSE)=97,97,IF(VLOOKUP(D30,$C$10:$AH$17,31,FALSE)=96,96,VLOOKUP(D30,$C$10:$AH$17,4,FALSE))))))","v":""},"","","",null,{"$f":"IF(ISERROR(VLOOKUP(D30,$D$18:$AT$25,30,FALSE))=TRUE,\"\",CONCATENATE(VLOOKUP(D30,$D$18:$AT$25,35,FALSE),VLOOKUP(D30,$D$18:$AT$25,43,FALSE)))","v":""},{"$f":"IF(ISERROR(VLOOKUP(K30,$C$10:$AQ$25,31,FALSE))=TRUE,\"\",CONCATENATE(VLOOKUP(K30,$C$10:$AQ$25,38,FALSE),VLOOKUP(K30,$C$10:$AQ$25,42,FALSE)))","v":{"$error":"#REF!"}},"",null,"",null,null,null,null,null,"",null,null,null,null,null,""]
[null,null,null,3,"","","","","",null,"",{"$error":"#REF!"},"",null,"",null,null,null,null,null,"",null,null,null,null,null,""]
[null,null,null,4,"","","","","",null,"",{"$error":"#REF!"},"",null,"",null,null,null,null,null,"",null,null,null,null,null,""]
[null,null,null,5,"","","","","",null,"",{"$error":"#REF!"},"",null,"",null,null,null,null,null,"",null,null,null,null,null,""]
[null,null,null,6,"","","","","",null,"",{"$error":"#REF!"},"",null,"",null,null,null,null,null,"",null,null,null,null,null,"",null,"REFEREE'S SIGNATURE"]
[null,null,null,7,"","","","","",null,"",{"$error":"#REF!"},"",null,"",null,null,null,null,null,"",null,null,null,null,null,""]
[null,null,null,8,"","","","","",null,"",{"$error":"#REF!"},"",null,"",null,null,null,null,null,"",null,null,null,null,null,""]
["F3",null,null,null,"UK ATHLETICS: HEIGHT CARD"]
[{"$f":"VLOOKUP(A37,eventno,5,FALSE)","v":"M"},null,null,null,"MEETING ",null,{"$f":"CONCATENATE(MatchDay!$C$3,\"/\",MatchDay!$I$3)","v":"Northern Premier East/Northern 1 SE"},null,"VENUE ",null,null,{"$f":"MatchDay!$C$7","v":"Thornes Park Stadium, Wakefield"},null,null,null,null,null,null,null,null,null,null,null,null,null,null,"DATE ",null,null,{"$f":"MatchDay!$C$5","v":"Sunday 8th May 2011"}]
[{"$f":"IF(A38=\"M\",VLOOKUP(A37,males,15,FALSE),VLOOKUP(A37,females,15,FALSE))","v":34},null,null,null,"EVENT",null,{"$f":"CONCATENATE(A37,\" \",VLOOKUP(A37,eventno,4,FALSE))","v":"F3 U15B High Jump"},null,"TIME",null,null,{"$f":"VLOOKUP(A37,eventno,12,FALSE)","v":"11:30:00"},null,null,"Record",null,null,null,{"$f":"VLOOKUP(A37,eventno,7,FALSE)","v":1.97},null,null,null,null,"Duty",null,null,null,null,null,{"$f":"VLOOKUP(VLOOKUP(A37,eventno,13,FALSE),teamorder,3,FALSE)","v":"Leeds City"}]
[null,null,null,null,"Order","No","NAME","CLUB",{"$f":"VLOOKUP(A37,eventno,14,FALSE)","v":1.25},null,null,null,null,null,null,null,null,null,null,null,null,null,null,null,null,null,null,null,null,null,null,null,"Best of\nAll",null,"Trials at\nHt Cleared","Total \nFailures","Total\nTrials","Final\nPositionn",null,"A or B",null,"Tie"]
[null,null,null,null,null,null,null,null,"Metres",null,"Metres",null,"Metres",null,"Metres",null,"Metres",null,"Metres",null,"Metres",null,"Metres",null,"Metres",null,"Metres",null,"Metres",null,"Metres",null,"Metres",null,null,null,null,null,null,null,null,null,null,null,null,null,1,2,3,4,5,6,7,8,1,2,3,4,5,6,7,8]
[3,{"$f":"IF(OR(A42=0,A42=\"\"),\"\",VLOOKUP(A42,teamorder,2,FALSE))","v":7},{"$f":"IF(OR(AS42=0,AS42=\"\"),\"\",RANK(AS42,$AS$10:$AS$17,1))","v":""},null,1,{"$f":"IF(B42=0,\"\",B42)","v":7},{"$f":"IF(OR(F42=0,F42=\"\"),\"\",IF(A38=\"F\",HLOOKUP(F42,females,A39,FALSE),IF(A38=\"M\",HLOOKUP(F42,males,A39,FALSE),\"\")))","v":"Jacob Fincham-Dukes"},{"$f":"IF(OR(F42=0,F42=\"\"),\"\",VLOOKUP(F42,match_teams,4,FALSE))","v":"Leeds C"},null,null,null,null,null,null,null,null,null,null,null,null,null,null,null,null,null,null,null,null,null,null,null,null,0,null,null,null,null,0,{"$f":"IF(OR(AG42=0,AG42=\"\",AG42=\"NHC\"),\"\",IF(AG42=S39,\"LR=\",IF(AG42>S39,\"LR\",\"\")))","v":""},null,null,null,null,null,{"$f":"IF(OR(AL42=\"\",AL42=0),\"\",AL42+($AP42/10))","v":""},{"$f":"IF(OR(AL42=0,AL42=\"\"),\"\",HLOOKUP(AL42,$AU$9:$BB$26,18,FALSE))","v":""},{"$f":"IF($AL42=\"\",\"\",IF($AL42=AU$9,$AL42,\"\"))","v":""},{"$f":"IF($AL42=\"\",\"\",IF($AL42=AV$9,$AL42,\"\"))","v":""},"","","","","",""]
[1,{"$f":"IF(OR(A43=0,A43=\"\"),\"\",VLOOKUP(A43,teamorder,2,FALSE))","v":9},{"$f":"IF(OR(AS43=0,AS43=\"\"),\"\",RANK(AS43,$AS$10:$AS$17,1))","v":""},null,2,9,{"$f":"IF(OR(F43=0,F43=\"\"),\"\",IF(A38=\"F\",HLOOKUP(F43,females,A39,FALSE),IF(A38=\"M\",HLOOKUP(F43,males,A39,FALSE),\"\")))","v":"-"},"Wake",null,null,null,null,null,null,null,null,null,null,null,null,null,null,null,null,null,null,null,null,null,null,null,null,0,null,null,null,null,0,{"$f":"IF(OR(AG43=0,AG43=\"\",AG43=\"NHC\"),\"\",IF(AG43=S39,\"LR=\",IF(AG43>S39,\"LR\",\"\")))","v":""},null,null,null,null,null,{"$f":"IF(OR(AL43=\"\",AL43=0),\"\",AL43+($AP43/10))","v":""},{"$f":"IF(OR(AL43=0,AL43=\"\"),\"\",HLOOKUP(AL43,$AU$9:$BB$26,18,FALSE))","v":""},{"$f":"IF($AL43=\"\",\"\",IF($AL43=AU$9,$AL43,\"\"))","v":""},"","","","","","",""]
[2,{"$f":"IF(OR(A44=0,A44=\"\"),\"\",VLOOKUP(A44,teamorder,2,FALSE))","v":8},"",null,3,8,{"$f":"IF(OR(F44=0,F44=\"\"),\"\",IF(A38=\"F\",HLOOKUP(F44,females,A39,FALSE),IF(A38=\"M\",HLOOKUP(F44,males,A39,FALSE),\"\")))","v":"James Wright"},"York",null,null,null,null,null,null,null,null,null,null,null,null,null,null,null,null,null,null,null,null,null,null,null,null,0,null,null,null,null,0,{"$f":"IF(OR(AG44=0,AG44=\"\",AG44=\"NHC\"),\"\",IF(AG44=S39,\"LR=\",IF(AG44>S39,\"LR\",\"\")))","v":""},null,null,null,null,null,"","","","","","","","","",""]
[null,{"$f":"IF(T(B42)=\"\",B42*11,CONCATENATE(B42,B42))","v":77},"",null,4,77,{"$f":"IF(OR(F45=0,F45=\"\"),\"\",IF(A38=\"F\",HLOOKUP(F45,females,A39,FALSE),IF(A38=\"M\",HLOOKUP(F45,males,A39,FALSE),\"\")))","v":"Jack Gape"},"Leeds C",null,null,null,null,null,null,null,null,null,null,null,null,null,null,null,null,null,null,null,null,null,null,null,null,0,null,null,null,null,0,{"$f":"IF(OR(AG45=0,AG45=\"\",AG45=\"NHC\"),\"\",IF(AG45=S39,\"LR=\",IF(AG45>S39,\"LR\",\"\")))","v":""},null,null,null,null,null,"","","","","","","","","",""]
[null,{"$f":"IF(T(B43)=\"\",B43*11,CONCATENATE(B43,B43))","v":99},"",null,5,99,{"$f":"IF(OR(F46=0,F46=\"\"),\"\",IF(A38=\"F\",HLOOKUP(F46,females,A39,FALSE),IF(A38=\"M\",HLOOKUP(F46,males,A39,FALSE),\"\")))","v":"George Heppinstall"},"Wake",null,null,null,null,null,null,null,null,null,null,null,null,null,null,null,null,null,null,null,null,null,null,null,null,0,null,null,null,null,0,{"$f":"IF(OR(AG46=0,AG46=\"\",AG46=\"NHC\"),\"\",IF(AG46=S39,\"LR=\",IF(AG46>S39,\"LR\",\"\")))","v":""},null,null,null,null,null,"","","","","","","","","",""]
[null,{"$f":"IF(T(B44)=\"\",B44*11,CONCATENATE(B44,B44))","v":88},"",null,6,88,{"$f":"IF(OR(F47=0,F47=\"\"),\"\",IF(A38=\"F\",HLOOKUP(F47,females,A39,FALSE),IF(A38=\"M\",HLOOKUP(F47,males,A39,FALSE),\"\")))","v":"Matthew Richardson"},"York",null,null,null,null,null,null,null,null,null,null,null,null,null,null,null,null,null,null,null,null,null,null,null,null,0,null,null,null,null,0,{"$f":"IF(OR(AG47=0,AG47=\"\",AG47=\"NHC\"),\"\",IF(AG47=S39,\"LR=\",IF(AG47>S39,\"LR\",\"\")))","v":""},null,null,null,null,null,"","","","","","","","","",""]
[null,null,"",null,7,"",{"$f":"IF(OR(F48=0,F48=\"\"),\"\",IF(A38=\"F\",HLOOKUP(F48,females,A39,FALSE),IF(A38=\"M\",HLOOKUP(F48,males,A39,FALSE),\"\")))","v":""},"",null,null,null,null,null,null,null,null,null,null,null,null,null,null,null,null,null,null,null,null,null,null,null,null,0,null,null,null,null,0,{"$f":"IF(OR(AG48=0,AG48=\"\",AG48=\"NHC\"),\"\",IF(AG48=S39,\"LR=\",IF(AG48>S39,\"LR\",\"\")))","v":""},null,null,null,null,null,"","","","","","","","","",""]
[null,null,"",null,8,"",{"$f":"IF(OR(F49=0,F49=\"\"),\"\",IF(A38=\"F\",HLOOKUP(F49,females,A39,FALSE),IF(A38=\"M\",HLOOKUP(F49,males,A39,FALSE),\"\")))","v":""},"",null,null,null,null,null,null,null,null,null,null,null,null,null,null,null,null,null,null,null,null,null,null,null,null,0,null,null,null,null,0,{"$f":"IF(OR(AG49=0,AG49=\"\",AG49=\"NHC\"),\"\",IF(AG49=S39,\"LR=\",IF(AG49>S39,\"LR\",\"\")))","v":""},null,null,null,null,null,"","","","","","","","","",""]
[{"$f":"A42+3","v":6},{"$f":"IF(OR(A50=0,A50=\"\"),\"\",VLOOKUP(A50,teamorder2,2,FALSE))","v":3},null,{"$f":"IF(OR(AS50=0,AS50=\"\"),\"\",RANK(AS50,$AS$18:$AS$25,1))","v":""},1,3,{"$f":"IF(OR(F50=0,F50=\"\"),\"\",IF(A38=\"F\",HLOOKUP(F50,females2,A39,FALSE),IF(A38=\"M\",HLOOKUP(F50,males2,A39,FALSE),\"\")))","v":"Elliott Payne"},{"$f":"IF(OR(F50=0,F50=\"\"),\"\",VLOOKUP(F50,match_teams2,4,FALSE))","v":"Hallam"},null,null,null,null,null,null,null,null,null,null,null,null,null,null,null,null,null,null,null,null,null,null,null,null,0,null,null,null,null,0,{"$f":"IF(OR(AG50=0,AG50=\"\",AG50=\"NHC\"),\"\",IF(AG50=S39,\"LR=\",IF(AG50>S39,\"LR\",\"\")))","v":""},null,null,null,null,null,{"$f":"IF(OR(AL50=\"\",AL50=0),\"\",AL50+($AP50/10))","v":""},{"$f":"IF(OR(AL50=0,AL50=\"\"),\"\",HLOOKUP(AL50,$BC$9:$BJ$26,18,FALSE))","v":""},null,null,null,null,null,null,null,null,"","","","","","","",""]
[{"$f":"A43+3","v":4},{"$f":"IF(OR(A51=0,A51=\"\"),\"\",VLOOKUP(A51,teamorder2,2,FALSE))","v":1},null,{"$f":"IF(OR(AS51=0,AS51=\"\"),\"\",RANK(AS51,$AS$18:$AS$25,1))","v":""},2,1,{"$f":"IF(OR(F51=0,F51=\"\"),\"\",IF(A38=\"F\",HLOOKUP(F51,females2,A39,FALSE),IF(A38=\"M\",HLOOKUP(F51,males2,A39,FALSE),\"\")))","v":"Josh Groggan"},"DASH",null,null,null,null,null,null,null,null,null,null,null,null,null,null,null,null,null,null,null,null,null,null,null,null,0,null,null,null,null,0,{"$f":"IF(OR(AG51=0,AG51=\"\",AG51=\"NHC\"),\"\",IF(AG51=S39,\"LR=\",IF(AG51>S39,\"LR\",\"\")))","v":""},null,null,null,null,null,{"$f":"IF(OR(AL51=\"\",AL51=0),\"\",AL51+($AP51/10))","v":""},{"$f":"IF(OR(AL51=0,AL51=\"\"),\"\",HLOOKUP(AL51,$BC$9:$BJ$26,18,FALSE))","v":""},null,null,null,null,null,null,null,null,"","","","","","","",""]
[{"$f":"A44+3","v":5},{"$f":"IF(OR(A52=0,A52=\"\"),\"\",VLOOKUP(A52,teamorder2,2,FALSE))","v":2},null,"",3,2,{"$f":"IF(OR(F52=0,F52=\"\"),\"\",IF(A38=\"F\",HLOOKUP(F52,females2,A39,FALSE),IF(A38=\"M\",HLOOKUP(F52,males2,A39,FALSE),\"\")))","v":"Joe Shuttleworth"},"Linc W",null,null,null,null,null,null,null,null,null,null,null,null,null,null,null,null,null,null,null,null,null,null,null,null,0,null,null,null,null,0,{"$f":"IF(OR(AG52=0,AG52=\"\",AG52=\"NHC\"),\"\",IF(AG52=S39,\"LR=\",IF(AG52>S39,\"LR\",\"\")))","v":""},null,null,null,null,null,"","",null,null,null,null,null,null,null,null,"","","","","","","",""]
[null,{"$f":"IF(T(B50)=\"\",B50*11,CONCATENATE(B50,B50))","v":33},null,"",4,33,{"$f":"IF(OR(F53=0,F53=\"\"),\"\",IF(A38=\"F\",HLOOKUP(F53,females2,A39,FALSE),IF(A38=\"M\",HLOOKUP(F53,males2,A39,FALSE),\"\")))","v":"Jack Jones"},"Hallam",null,null,null,null,null,null,null,null,null,null,null,null,null,null,null,null,null,null,null,null,null,null,null,null,0,null,null,null,null,0,{"$f":"IF(OR(AG53=0,AG53=\"\",AG53=\"NHC\"),\"\",IF(AG53=S39,\"LR=\",IF(AG53>S39,\"LR\",\"\")))","v":""},null,null,null,null,null,"","",null,null,null,null,null,null,null,null,"","","","","","","",""]
[null,{"$f":"IF(T(B51)=\"\",B51*11,CONCATENATE(B51,B51))","v":11},null,"",5,11,{"$f":"IF(OR(F54=0,F54=\"\"),\"\",IF(A38=\"F\",HLOOKUP(F54,females2,A39,FALSE),IF(A38=\"M\",HLOOKUP(F54,males2,A39,FALSE),\"\")))","v":"-"},"DASH",null,null,null,null,null,null,null,null,null,null,null,null,null,null,null,null,null,null,null,null,null,null,null,null,0,null,null,null,null,0,{"$f":"IF(OR(AG54=0,AG54=\"\",AG54=\"NHC\"),\"\",IF(AG54=S39,\"LR=\",IF(AG54>S39,\"LR\",\"\")))","v":""},null,null,null,null,null,"","",null,null,null,null,null,null,null,null,"","","","","","","",""]
[null,{"$f":"IF(T(B52)=\"\",B52*11,CONCATENATE(B52,B52))","v":22},null,"",6,22,{"$f":"IF(OR(F55=0,F55=\"\"),\"\",IF(A38=\"F\",HLOOKUP(F55,females2,A39,FALSE),IF(A38=\"M\",HLOOKUP(F55,males2,A39,FALSE),\"\")))","v":"Harry Cain"},"Linc W",null,null,null,null,null,null,null,null,null,null,null,null,null,null,null,null,null,null,null,null,null,null,null,null,0,null,null,null,null,0,{"$f":"IF(OR(AG55=0,AG55=\"\",AG55=\"NHC\"),\"\",IF(AG55=S39,\"LR=\",IF(AG55>S39,\"LR\",\"\")))","v":""},null,null,null,null,null,"","",null,null,null,null,null,null,null,null,"","","","","","","",""]
[null,0,null,"",7,"",{"$f":"IF(OR(F56=0,F56=\"\"),\"\",IF(A38=\"F\",HLOOKUP(F56,females2,A39,FALSE),IF(A38=\"M\",HLOOKUP(F56,males2,A39,FALSE),\"\")))","v":""},"",null,null,null,null,null,null,null,null,null,null,null,null,null,null,null,null,null,null,null,null,null,null,null,null,0,null,null,null,null,0,{"$f":"IF(OR(AG56=0,AG56=\"\",AG56=\"NHC\"),\"\",IF(AG56=S39,\"LR=\",IF(AG56>S39,\"LR\",\"\")))","v":""},null,null,null,null,null,"","",null,null,null,null,null,null,null,null,"","","","","","","",""]
[null,0,null,"",8,"",{"$f":"IF(OR(F57=0,F57=\"\"),\"\",IF(A38=\"F\",HLOOKUP(F57,females2,A39,FALSE),IF(A38=\"M\",HLOOKUP(F57,males2,A39,FALSE),\"\")))","v":""},"",null,null,null,null,null,null,null,null,null,null,null,null,null,null,null,null,null,null,null,null,null,null,null,null,0,null,null,null,null,0,{"$f":"IF(OR(AG57=0,AG57=\"\",AG57=\"NHC\"),\"\",IF(AG57=S39,\"LR=\",IF(AG57>S39,\"LR\",\"\")))","v":""},null,null,null,null,null,"","",null,null,null,null,null,null,null,null,"","","","","","","",""]
[null,null,null,null,null,null,null,null,null,null,null,null,null,null,null,null,null,null,null,null,null,null,null,null,null,null,null,null,null,null,null,null,null,null,null,null,null,null,null,null,null,null,null,null,null,null,{"$f":"IF(OR(COUNTIF(AU42:AU57,AU41)=0,COUNTIF(AU42:AU57,AU41)=\"\"),\"\",(REPT(\"=\",COUNTIF(AU42:AU57,AU41)-1)))","v":""},"","","","","","","","","","","","","","",""]
[null,null,null,null,"MATCH 1 RESULT",null,null,null,null,null,"MATCH 2 RESULT",null,null,null,null,null,null,null,null,null,null,null,null,null,null,null,null,null,"JUDGES' SIGNATURES"]
[null,null,null,null,"Posn","No.","NAME","CLUB","HEIGHT",null,"Posn",null,"No.",null,"NAME",null,null,null,null,null,"CLUB",null,null,null,null,null,"HEIGHT"]
[null,null,null,1,{"$f":"IF(ISERROR(VLOOKUP(D61,$C$10:$AT$17,31,FALSE))=TRUE,\"\",CONCATENATE(VLOOKUP(D61,$C$10:$AT$17,36,FALSE),VLOOKUP(D61,$C$10:$AT$17,44,FALSE)))","v":""},{"$f":"IF(ISERROR(VLOOKUP(D61,$C$10:$AH$17,31,FALSE))=TRUE,\"\",IF(VLOOKUP(D61,$C$10:$AH$17,31,FALSE)=0,\"\",IF(VLOOKUP(D61,$C$10:$AH$17,31,FALSE)=99,99,IF(VLOOKUP(D61,$C$10:$AH$17,31,FALSE)=97,97,IF(VLOOKUP(D61,$C$10:$AH$17,31,FALSE)=96,96,IF(VLOOKUP(D61,$C$10:$AH$17,31,FALSE)=95,95,VLOOKUP(D61,$C$10:$AH$17,4,FALSE)))))))","v":""},{"$f":"IF(ISERROR(VLOOKUP(D61,$C$10:$AH$17,31,FALSE))=TRUE,\"\",VLOOKUP(D61,$C$10:$AH$17,5,FALSE))","v":""},{"$f":"IF(ISERROR(VLOOKUP(D61,$C$10:$AH$17,31,FALSE))=TRUE,\"\",VLOOKUP(D61,$C$10:$AH$17,6,FALSE))","v":""},{"$f":"IF(ISERROR(VLOOKUP(D61,$C$10:$AH$17,31,FALSE))=TRUE,\"\",IF(VLOOKUP(D61,C$10:AH$17,31,FALSE)=0,0,IF(VLOOKUP(D61,C$10:AH$17,31,FALSE)>95.99,\"\",VLOOKUP(D61,C$10:AH$17,31,FALSE))))","v":""},null,{"$f":"IF(ISERROR(VLOOKUP(D61,$D$18:$AT$25,30,FALSE))=TRUE,\"\",CONCATENATE(VLOOKUP(D61,$D$18:$AT$25,35,FALSE),VLOOKUP(D61,$D$18:$AT$25,43,FALSE)))","v":""},{"$f":"IF(ISERROR(VLOOKUP(K61,$C$10:$AQ$25,31,FALSE))=TRUE,\"\",CONCATENATE(VLOOKUP(K61,$C$10:$AQ$25,38,FALSE),VLOOKUP(K61,$C$10:$AQ$25,42,FALSE)))","v":{"$error":"#REF!"}},{"$f":"IF(ISERROR(VLOOKUP(D61,$D$18:$AH$25,30,FALSE))=TRUE,\"\",IF(VLOOKUP(D61,$D$18:$AH$25,30,FALSE)=0,\"\",VLOOKUP(D61,$D$18:$AH$25,3,FALSE)))","v":""},null,{"$f":"IF(ISERROR(VLOOKUP(D61,$D$18:$AH$25,30,FALSE))=TRUE,\"\",VLOOKUP(D61,$D$18:$AH$25,4,FALSE))","v":""},null,null,null,null,null,{"$f":"IF(ISERROR(VLOOKUP(D61,$D$18:$AH$25,30,FALSE))=TRUE,\"\",VLOOKUP(D61,$D$18:$AH$25,5,FALSE))","v":""},null,null,null,null,null,{"$f":"IF(ISERROR(VLOOKUP(D61,$D$18:$AH$25,30,FALSE))=TRUE,\"\",IF(VLOOKUP(D61,$D$18:$AH$25,30,FALSE)=0,\"\",VLOOKUP(D61,$D$18:$AH$25,30,FALSE)))","v":""}]
[null,null,null,2,{"$f":"IF(ISERROR(VLOOKUP(D62,$C$10:$AT$17,31,FALSE))=TRUE,\"\",CONCATENATE(VLOOKUP(D62,$C$10:$AT$17,36,FALSE),VLOOKUP(D62,$C$10:$AT$17,44,FALSE)))","v":""},{"$f":"IF(ISERROR(VLOOKUP(D62,$C$10:$AH$17,31,FALSE))=TRUE,\"\",IF(VLOOKUP(D62,$C$10:$AH$17,31,FALSE)=0,\"\",IF(VLOOKUP(D62,$C$10:$AH$17,31,FALSE)=99,99,IF(VLOOKUP(D62,$C$10:$AH$17,31,FALSE)=97,97,IF(VLOOKUP(D62,$C$10:$AH$17,31,FALSE)=96,96,VLOOKUP(D62,$C$10:$AH$17,4,FALSE))))))","v":""},"","","",null,{"$f":"IF(ISERROR(VLOOKUP(D62,$D$18:$AT$25,30,FALSE))=TRUE,\"\",CONCATENATE(VLOOKUP(D62,$D$18:$AT$25,35,FALSE),VLOOKUP(D62,$D$18:$AT$25,43,FALSE)))","v":""},{"$f":"IF(ISERROR(VLOOKUP(K62,$C$10:$AQ$25,31,FALSE))=TRUE,\"\",CONCATENATE(VLOOKUP(K62,$C$10:$AQ$25,38,FALSE),VLOOKUP(K62,$C$10:$AQ$25,42,FALSE)))","v":{"$error":"#REF!"}},"",null,"",null,null,null,null,null,"",null,null,null,null,null,""]
[null,null,null,3,"","","","","",null,"",{"$error":"#REF!"},"",null,"",null,null,null,null,null,"",null,null,null,null,null,""]
[null,null,null,4,"","","","","",null,"",{"$error":"#REF!"},"",null,"",null,null,null,null,null,"",null,null,null,null,null,""]
[null,null,null,5,"","","","","",null,"",{"$error":"#REF!"},"",null,"",null,null,null,null,null,"",null,null,null,null,null,""]
[null,null,null,6,"","","","","",null,"",{"$error":"#REF!"},"",null,"",null,null,null,null,null,"",null,null,null,null,null,"",null,"REFEREE'S SIGNATURE"]
[null,null,null,7,"","","","","",null,"",{"$error":"#REF!"},"",null,"",null,null,null,null,null,"",null,null,null,null,null,""]
[null,null,null,8,"","","","","",null,"",{"$error":"#REF!"},"",null,"",null,null,null,null,null,"",null,null,null,null,null,""]
["F12",null,null,null,"UK ATHLETICS: HEIGHT CARD"]
[{"$f":"VLOOKUP(A69,eventno,5,FALSE)","v":"M"},null,null,null,"MEETING ",null,{"$f":"CONCATENATE(MatchDay!$C$3,\"/\",MatchDay!$I$3)","v":"Northern Premier East/Northern 1 SE"},null,"VENUE ",null,null,{"$f":"MatchDay!$C$7","v":"Thornes Park Stadium, Wakefield"},null,null,null,null,null,null,null,null,null,null,null,null,null,null,"DATE ",null,null,{"$f":"MatchDay!$C$5","v":"Sunday 8th May 2011"}]
[{"$f":"IF(A70=\"M\",VLOOKUP(A69,males,15,FALSE),VLOOKUP(A69,females,15,FALSE))","v":40},null,null,null,"EVENT",null,{"$f":"CONCATENATE(A69,\" \",VLOOKUP(A69,eventno,4,FALSE))","v":"F12 U13B High Jump"},null,"TIME",null,null,{"$f":"VLOOKUP(A69,eventno,12,FALSE)","v":"13:30:00"},null,null,"Record",null,null,null,{"$f":"VLOOKUP(A69,eventno,7,FALSE)","v":1.65},null,null,null,null,"Duty",null,null,null,null,null,{"$f":"VLOOKUP(VLOOKUP(A69,eventno,13,FALSE),teamorder,3,FALSE)","v":"Wakefield"}]
[null,null,null,null,"Order","No","NAME","CLUB",{"$f":"VLOOKUP(A69,eventno,14,FALSE)","v":1.05},null,null,null,null,null,null,null,null,null,null,null,null,null,null,null,null,null,null,null,null,null,null,null,"Best of\nAll",null,"Trials at\nHt Cleared","Total \nFailures","Total\nTrials","Final\nPositionn",null,"A or B",null,"Tie"]
[null,null,null,null,null,null,null,null,"Metres",null,"Metres",null,"Metres",null,"Metres",null,"Metres",null,"Metres",null,"Metres",null,"Metres",null,"Metres",null,"Metres",null,"Metres",null,"Metres",null,"Metres",null,null,null,null,null,null,null,null,null,null,null,null,null,1,2,3,4,5,6,7,8,1,2,3,4,5,6,7,8]
[2,{"$f":"IF(OR(A74=0,A74=\"\"),\"\",VLOOKUP(A74,teamorder,2,FALSE))","v":8},{"$f":"IF(OR(AS74=0,AS74=\"\"),\"\",RANK(AS74,$AS$10:$AS$17,1))","v":""},null,1,{"$f":"IF(B74=0,\"\",B74)","v":8},{"$f":"IF(OR(F74=0,F74=\"\"),\"\",IF(A70=\"F\",HLOOKUP(F74,females,A71,FALSE),IF(A70=\"M\",HLOOKUP(F74,males,A71,FALSE),\"\")))","v":"-"},{"$f":"IF(OR(F74=0,F74=\"\"),\"\",VLOOKUP(F74,match_teams,4,FALSE))","v":"York"},null,null,null,null,null,null,null,null,null,null,null,null,null,null,null,null,null,null,null,null,null,null,null,null,0,null,null,null,null,0,{"$f":"IF(OR(AG74=0,AG74=\"\",AG74=\"NHC\"),\"\",IF(AG74=S71,\"LR=\",IF(AG74>S71,\"LR\",\"\")))","v":""},null,null,null,null,null,{"$f":"IF(OR(AL74=\"\",AL74=0),\"\",AL74+($AP74/10))","v":""},{"$f":"IF(OR(AL74=0,AL74=\"\"),\"\",HLOOKUP(AL74,$AU$9:$BB$26,18,FALSE))","v":""},{"$f":"IF($AL74=\"\",\"\",IF($AL74=AU$9,$AL74,\"\"))","v":""},{"$f":"IF($AL74=\"\",\"\",IF($AL74=AV$9,$AL74,\"\"))","v":""},"","","","","",""]
[3,{"$f":"IF(OR(A75=0,A75=\"\"),\"\",VLOOKUP(A75,teamorder,2,FALSE))","v":7},{"$f":"IF(OR(AS75=0,AS75=\"\"),\"\",RANK(AS75,$AS$10:$AS$17,1))","v":""},null,2,7,{"$f":"IF(OR(F75=0,F75=\"\"),\"\",IF(A70=\"F\",HLOOKUP(F75,females,A71,FALSE),IF(A70=\"M\",HLOOKUP(F75,males,A71,FALSE),\"\")))","v":"Alex Booth"},"Leeds C",null,null,null,null,null,null,null,null,null,null,null,null,null,null,null,null,null,null,null,null,null,null,null,null,0,null,null,null,null,0,{"$f":"IF(OR(AG75=0,AG75=\"\",AG75=\"NHC\"),\"\",IF(AG75=S71,\"LR=\",IF(AG75>S71,\"LR\",\"\")))","v":""},null,null,null,null,null,{"$f":"IF(OR(AL75=\"\",AL75=0),\"\",AL75+($AP75/10))","v":""},{"$f":"IF(OR(AL75=0,AL75=\"\"),\"\",HLOOKUP(AL75,$AU$9:$BB$26,18,FALSE))","v":""},{"$f":"IF($AL75=\"\",\"\",IF($AL75=AU$9,$AL75,\"\"))","v":""},"","","","","","",""]
[1,{"$f":"IF(OR(A76=0,A76=\"\"),\"\",VLOOKUP(A76,teamorder,2,FALSE))","v":9},"",null,3,9,{"$f":"IF(OR(F76=0,F76=\"\"),\"\",IF(A70=\"F\",HLOOKUP(F76,females,A71,FALSE),IF(A70=\"M\",HLOOKUP(F76,males,A71,FALSE),\"\")))","v":"Dylan Roberts"},"Wake",null,null,null,null,null,null,null,null,null,null,null,null,null,null,null,null,null,null,null,null,null,null,null,null,0,null,null,null,null,0,{"$f":"IF(OR(AG76=0,AG76=\"\",AG76=\"NHC\"),\"\",IF(AG76=S71,\"LR=\",IF(AG76>S71,\"LR\",\"\")))","v":""},null,null,null,null,null,"","","","","","","","","",""]
[null,{"$f":"IF(T(B74)=\"\",B74*11,CONCATENATE(B74,B74))","v":88},"",null,4,88,{"$f":"IF(OR(F77=0,F77=\"\"),\"\",IF(A70=\"F\",HLOOKUP(F77,females,A71,FALSE),IF(A70=\"M\",HLOOKUP(F77,males,A71,FALSE),\"\")))","v":"-"},"York",null,null,null,null,null,null,null,null,null,null,null,null,null,null,null,null,null,null,null,null,null,null,null,null,0,null,null,null,null,0,{"$f":"IF(OR(AG77=0,AG77=\"\",AG77=\"NHC\"),\"\",IF(AG77=S71,\"LR=\",IF(AG77>S71,\"LR\",\"\")))","v":""},null,null,null,null,null,"","","","","","","","","",""]
[null,{"$f":"IF(T(B75)=\"\",B75*11,CONCATENATE(B75,B75))","v":77},"",null,5,77,{"$f":"IF(OR(F78=0,F78=\"\"),\"\",IF(A70=\"F\",HLOOKUP(F78,females,A71,FALSE),IF(A70=\"M\",HLOOKUP(F78,males,A71,FALSE),\"\")))","v":"-"},"Leeds C",null,null,null,null,null,null,null,null,null,null,null,null,null,null,null,null,null,null,null,null,null,null,null,null,0,null,null,null,null,0,{"$f":"IF(OR(AG78=0,AG78=\"\",AG78=\"NHC\"),\"\",IF(AG78=S71,\"LR=\",IF(AG78>S71,\"LR\",\"\")))","v":""},null,null,null,null,null,"","","","","","","","","",""]
[null,{"$f":"IF(T(B76)=\"\",B76*11,CONCATENATE(B76,B76))","v":99},"",null,6,99,{"$f":"IF(OR(F79=0,F79=\"\"),\"\",IF(A70=\"F\",HLOOKUP(F79,females,A71,FALSE),IF(A70=\"M\",HLOOKUP(F79,males,A71,FALSE),\"\")))","v":"Carter Bower-Stead"},"Wake",null,null,null,null,null,null,null,null,null,null,null,null,null,null,null,null,null,null,null,null,null,null,null,null,0,null,null,null,null,0,{"$f":"IF(OR(AG79=0,AG79=\"\",AG79=\"NHC\"),\"\",IF(AG79=S71,\"LR=\",IF(AG79>S71,\"LR\",\"\")))","v":""},null,null,null,null,null,"","","","","","","","","",""]
[null,null,"",null,7,"",{"$f":"IF(OR(F80=0,F80=\"\"),\"\",IF(A70=\"F\",HLOOKUP(F80,females,A71,FALSE),IF(A70=\"M\",HLOOKUP(F80,males,A71,FALSE),\"\")))","v":""},"",null,null,null,null,null,null,null,null,null,null,null,null,null,null,null,null,null,null,null,null,null,null,null,null,0,null,null,null,null,0,{"$f":"IF(OR(AG80=0,AG80=\"\",AG80=\"NHC\"),\"\",IF(AG80=S71,\"LR=\",IF(AG80>S71,\"LR\",\"\")))","v":""},null,null,null,null,null,"","","","","","","","","",""]
[null,null,"",null,8,"",{"$f":"IF(OR(F81=0,F81=\"\"),\"\",IF(A70=\"F\",HLOOKUP(F81,females,A71,FALSE),IF(A70=\"M\",HLOOKUP(F81,males,A71,FALSE),\"\")))","v":""},"",null,null,null,null,null,null,null,null,null,null,null,null,null,null,null,null,null,null,null,null,null,null,null,null,0,null,null,null,null,0,{"$f":"IF(OR(AG81=0,AG81=\"\",AG81=\"NHC\"),\"\",IF(AG81=S71,\"LR=\",IF(AG81>S71,\"LR\",\"\")))","v":""},null,null,null,null,null,"","","","","","","","","",""]
[{"$f":"A74+3","v":5},{"$f":"IF(OR(A82=0,A82=\"\"),\"\",VLOOKUP(A82,teamorder2,2,FALSE))","v":2},null,{"$f":"IF(OR(AS82=0,AS82=\"\"),\"\",RANK(AS82,$AS$18:$AS$25,1))","v":""},1,2,{"$f":"IF(OR(F82=0,F82=\"\"),\"\",IF(A70=\"F\",HLOOKUP(F82,females2,A71,FALSE),IF(A70=\"M\",HLOOKUP(F82,males2,A71,FALSE),\"\")))","v":"-"},{"$f":"IF(OR(F82=0,F82=\"\"),\"\",VLOOKUP(F82,match_teams2,4,FALSE))","v":"Linc W"},null,null,null,null,null,null,null,null,null,null,null,null,null,null,null,null,null,null,null,null,null,null,null,null,0,null,null,null,null,0,{"$f":"IF(OR(AG82=0,AG82=\"\",AG82=\"NHC\"),\"\",IF(AG82=S71,\"LR=\",IF(AG82>S71,\"LR\",\"\")))","v":""},null,null,null,null,null,{"$f":"IF(OR(AL82=\"\",AL82=0),\"\",AL82+($AP82/10))","v":""},{"$f":"IF(OR(AL82=0,AL82=\"\"),\"\",HLOOKUP(AL82,$BC$9:$BJ$26,18,FALSE))","v":""},null,null,null,null,null,null,null,null,"","","","","","","",""]
[{"$f":"A75+3","v":6},{"$f":"IF(OR(A83=0,A83=\"\"),\"\",VLOOKUP(A83,teamorder2,2,FALSE))","v":3},null,{"$f":"IF(OR(AS83=0,AS83=\"\"),\"\",RANK(AS83,$AS$18:$AS$25,1))","v":""},2,3,{"$f":"IF(OR(F83=0,F83=\"\"),\"\",IF(A70=\"F\",HLOOKUP(F83,females2,A71,FALSE),IF(A70=\"M\",HLOOKUP(F83,males2,A71,FALSE),\"\")))","v":"-"},"Hallam",null,null,null,null,null,null,null,null,null,null,null,null,null,null,null,null,null,null,null,null,null,null,null,null,0,null,null,null,null,0,{"$f":"IF(OR(AG83=0,AG83=\"\",AG83=\"NHC\"),\"\",IF(AG83=S71,\"LR=\",IF(AG83>S71,\"LR\",\"\")))","v":""},null,null,null,null,null,{"$f":"IF(OR(AL83=\"\",AL83=0),\"\",AL83+($AP83/10))","v":""},{"$f":"IF(OR(AL83=0,AL83=\"\"),\"\",HLOOKUP(AL83,$BC$9:$BJ$26,18,FALSE))","v":""},null,null,null,null,null,null,null,null,"","","","","","","",""]
[{"$f":"A76+3","v":4},{"$f":"IF(OR(A84=0,A84=\"\"),\"\",VLOOKUP(A84,teamorder2,2,FALSE))","v":1},null,"",3,1,{"$f":"IF(OR(F84=0,F84=\"\"),\"\",IF(A70=\"F\",HLOOKUP(F84,females2,A71,FALSE),IF(A70=\"M\",HLOOKUP(F84,males2,A71,FALSE),\"\")))","v":"-"},"DASH",null,null,null,null,null,null,null,null,null,null,null,null,null,null,null,null,null,null,null,null,null,null,null,null,0,null,null,null,null,0,{"$f":"IF(OR(AG84=0,AG84=\"\",AG84=\"NHC\"),\"\",IF(AG84=S71,\"LR=\",IF(AG84>S71,\"LR\",\"\")))","v":""},null,null,null,null,null,"","",null,null,null,null,null,null,null,null,"","","","","","","",""]
[null,{"$f":"IF(T(B82)=\"\",B82*11,CONCATENATE(B82,B82))","v":22},null,"",4,22,{"$f":"IF(OR(F85=0,F85=\"\"),\"\",IF(A70=\"F\",HLOOKUP(F85,females2,A71,FALSE),IF(A70=\"M\",HLOOKUP(F85,males2,A71,FALSE),\"\")))","v":"Luke Cherrie"},"Linc W",null,null,null,null,null,null,null,null,null,null,null,null,null,null,null,null,null,null,null,null,null,null,null,null,0,null,null,null,null,0,{"$f":"IF(OR(AG85=0,AG85=\"\",AG85=\"NHC\"),\"\",IF(AG85=S71,\"LR=\",IF(AG85>S71,\"LR\",\"\")))","v":""},null,null,null,null,null,"","",null,null,null,null,null,null,null,null,"","","","","","","",""]
[null,{"$f":"IF(T(B83)=\"\",B83*11,CONCATENATE(B83,B83))","v":33},null,"",5,33,{"$f":"IF(OR(F86=0,F86=\"\"),\"\",IF(A70=\"F\",HLOOKUP(F86,females2,A71,FALSE),IF(A70=\"M\",HLOOKUP(F86,males2,A71,FALSE),\"\")))","v":"-"},"Hallam",null,null,null,null,null,null,null,null,null,null,null,null,null,null,null,null,null,null,null,null,null,null,null,null,0,null,null,null,null,0,{"$f":"IF(OR(AG86=0,AG86=\"\",AG86=\"NHC\"),\"\",IF(AG86=S71,\"LR=\",IF(AG86>S71,\"LR\",\"\")))","v":""},null,null,null,null,null,"","",null,null,null,null,null,null,null,null,"","","","","","","",""]
[null,{"$f":"IF(T(B84)=\"\",B84*11,CONCATENATE(B84,B84))","v":11},null,"",6,11,{"$f":"IF(OR(F87=0,F87=\"\"),\"\",IF(A70=\"F\",HLOOKUP(F87,females2,A71,FALSE),IF(A70=\"M\",HLOOKUP(F87,males2,A71,FALSE),\"\")))","v":"-"},"DASH",null,null,null,null,null,null,null,null,null,null,null,null,null,null,null,null,null,null,null,null,null,null,null,null,0,null,null,null,null,0,{"$f":"IF(OR(AG87=0,AG87=\"\",AG87=\"NHC\"),\"\",IF(AG87=S71,\"LR=\",IF(AG87>S71,\"LR\",\"\")))","v":""},null,null,null,null,null,"","",null,null,null,null,null,null,null,null,"","","","","","","",""]
[null,0,null,"",7,"",{"$f":"IF(OR(F88=0,F88=\"\"),\"\",IF(A70=\"F\",HLOOKUP(F88,females2,A71,FALSE),IF(A70=\"M\",HLOOKUP(F88,males2,A71,FALSE),\"\")))","v":""},"",null,null,null,null,null,null,null,null,null,null,null,null,null,null,null,null,null,null,null,null,null,null,null,null,0,null,null,null,null,0,{"$f":"IF(OR(AG88=0,AG88=\"\",AG88=\"NHC\"),\"\",IF(AG88=S71,\"LR=\",IF(AG88>S71,\"LR\",\"\")))","v":""},null,null,null,null,null,"","",null,null,null,null,null,null,null,null,"","","","","","","",""]
[null,0,null,"",8,"",{"$f":"IF(OR(F89=0,F89=\"\"),\"\",IF(A70=\"F\",HLOOKUP(F89,females2,A71,FALSE),IF(A70=\"M\",HLOOKUP(F89,males2,A71,FALSE),\"\")))","v":""},"",null,null,null,null,null,null,null,null,null,null,null,null,null,null,null,null,null,null,null,null,null,null,null,null,0,null,null,null,null,0,{"$f":"IF(OR(AG89=0,AG89=\"\",AG89=\"NHC\"),\"\",IF(AG89=S71,\"LR=\",IF(AG89>S71,\"LR\",\"\")))","v":""},null,null,null,null,null,"","",null,null,null,null,null,null,null,null,"","","","","","","",""]
[null,null,null,null,null,null,null,null,null,null,null,null,null,null,null,null,null,null,null,null,null,null,null,null,null,null,null,null,null,null,null,null,null,null,null,null,null,null,null,null,null,null,null,null,null,null,{"$f":"IF(OR(COUNTIF(AU74:AU89,AU73)=0,COUNTIF(AU74:AU89,AU73)=\"\"),\"\",(REPT(\"=\",COUNTIF(AU74:AU89,AU73)-1)))","v":""},"","","","","","","","","","","","","","",""]
[null,null,null,null,"MATCH 1 RESULT",null,null,null,null,null,"MATCH 2 RESULT",null,null,null,null,null,null,null,null,null,null,null,null,null,null,null,null,null,"JUDGES' SIGNATURES"]
[null,null,null,null,"Posn","No.","NAME","CLUB","HEIGHT",null,"Posn",null,"No.",null,"NAME",null,null,null,null,null,"CLUB",null,null,null,null,null,"HEIGHT"]
[null,null,null,1,{"$f":"IF(ISERROR(VLOOKUP(D93,$C$10:$AT$17,31,FALSE))=TRUE,\"\",CONCATENATE(VLOOKUP(D93,$C$10:$AT$17,36,FALSE),VLOOKUP(D93,$C$10:$AT$17,44,FALSE)))","v":""},{"$f":"IF(ISERROR(VLOOKUP(D93,$C$10:$AH$17,31,FALSE))=TRUE,\"\",IF(VLOOKUP(D93,$C$10:$AH$17,31,FALSE)=0,\"\",IF(VLOOKUP(D93,$C$10:$AH$17,31,FALSE)=99,99,IF(VLOOKUP(D93,$C$10:$AH$17,31,FALSE)=97,97,IF(VLOOKUP(D93,$C$10:$AH$17,31,FALSE)=96,96,IF(VLOOKUP(D93,$C$10:$AH$17,31,FALSE)=95,95,VLOOKUP(D93,$C$10:$AH$17,4,FALSE)))))))","v":""},{"$f":"IF(ISERROR(VLOOKUP(D93,$C$10:$AH$17,31,FALSE))=TRUE,\"\",VLOOKUP(D93,$C$10:$AH$17,5,FALSE))","v":""},{"$f":"IF(ISERROR(VLOOKUP(D93,$C$10:$AH$17,31,FALSE))=TRUE,\"\",VLOOKUP(D93,$C$10:$AH$17,6,FALSE))","v":""},{"$f":"IF(ISERROR(VLOOKUP(D93,$C$10:$AH$17,31,FALSE))=TRUE,\"\",IF(VLOOKUP(D93,C$10:AH$17,31,FALSE)=0,0,IF(VLOOKUP(D93,C$10:AH$17,31,FALSE)>95.99,\"\",VLOOKUP(D93,C$10:AH$17,31,FALSE))))","v":""},null,{"$f":"IF(ISERROR(VLOOKUP(D93,$D$18:$AT$25,30,FALSE))=TRUE,\"\",CONCATENATE(VLOOKUP(D93,$D$18:$AT$25,35,FALSE),VLOOKUP(D93,$D$18:$AT$25,43,FALSE)))","v":""},{"$f":"IF(ISERROR(VLOOKUP(K93,$C$10:$AQ$25,31,FALSE))=TRUE,\"\",CONCATENATE(VLOOKUP(K93,$C$10:$AQ$25,38,FALSE),VLOOKUP(K93,$C$10:$AQ$25,42,FALSE)))","v":{"$error":"#REF!"}},{"$f":"IF(ISERROR(VLOOKUP(D93,$D$18:$AH$25,30,FALSE))=TRUE,\"\",IF(VLOOKUP(D93,$D$18:$AH$25,30,FALSE)=0,\"\",VLOOKUP(D93,$D$18:$AH$25,3,FALSE)))","v":""},null,{"$f":"IF(ISERROR(VLOOKUP(D93,$D$18:$AH$25,30,FALSE))=TRUE,\"\",VLOOKUP(D93,$D$18:$AH$25,4,FALSE))","v":""},null,null,null,null,null,{"$f":"IF(ISERROR(VLOOKUP(D93,$D$18:$AH$25,30,FALSE))=TRUE,\"\",VLOOKUP(D93,$D$18:$AH$25,5,FALSE))","v":""},null,null,null,null,null,{"$f":"IF(ISERROR(VLOOKUP(D93,$D$18:$AH$25,30,FALSE))=TRUE,\"\",IF(VLOOKUP(D93,$D$18:$AH$25,30,FALSE)=0,\"\",VLOOKUP(D93,$D$18:$AH$25,30,FALSE)))","v":""}]
[null,null,null,2,{"$f":"IF(ISERROR(VLOOKUP(D94,$C$10:$AT$17,31,FALSE))=TRUE,\"\",CONCATENATE(VLOOKUP(D94,$C$10:$AT$17,36,FALSE),VLOOKUP(D94,$C$10:$AT$17,44,FALSE)))","v":""},{"$f":"IF(ISERROR(VLOOKUP(D94,$C$10:$AH$17,31,FALSE))=TRUE,\"\",IF(VLOOKUP(D94,$C$10:$AH$17,31,FALSE)=0,\"\",IF(VLOOKUP(D94,$C$10:$AH$17,31,FALSE)=99,99,IF(VLOOKUP(D94,$C$10:$AH$17,31,FALSE)=97,97,IF(VLOOKUP(D94,$C$10:$AH$17,31,FALSE)=96,96,VLOOKUP(D94,$C$10:$AH$17,4,FALSE))))))","v":""},"","","",null,{"$f":"IF(ISERROR(VLOOKUP(D94,$D$18:$AT$25,30,FALSE))=TRUE,\"\",CONCATENATE(VLOOKUP(D94,$D$18:$AT$25,35,FALSE),VLOOKUP(D94,$D$18:$AT$25,43,FALSE)))","v":""},{"$f":"IF(ISERROR(VLOOKUP(K94,$C$10:$AQ$25,31,FALSE))=TRUE,\"\",CONCATENATE(VLOOKUP(K94,$C$10:$AQ$25,38,FALSE),VLOOKUP(K94,$C$10:$AQ$25,42,FALSE)))","v":{"$error":"#REF!"}},"",null,"",null,null,null,null,null,"",null,null,null,null,null,""]
[null,null,null,3,"","","","","",null,"",{"$error":"#REF!"},"",null,"",null,null,null,null,null,"",null,null,null,null,null,""]
[null,null,null,4,"","","","","",null,"",{"$error":"#REF!"},"",null,"",null,null,null,null,null,"",null,null,null,null,null,""]
[null,null,null,5,"","","","","",null,"",{"$error":"#REF!"},"",null,"",null,null,null,null,null,"",null,null,null,null,null,""]
[null,null,null,6,"","","","","",null,"",{"$error":"#REF!"},"",null,"",null,null,null,null,null,"",null,null,null,null,null,"",null,"REFEREE'S SIGNATURE"]
[null,null,null,7,"","","","","",null,"",{"$error":"#REF!"},"",null,"",null,null,null,null,null,"",null,null,null,null,null,""]
[null,null,null,8,"","","","","",null,"",{"$error":"#REF!"},"",null,"",null,null,null,null,null,"",null,null,null,null,null,""]
["F13",null,null,null,"UK ATHLETICS: HEIGHT CARD"]
[{"$f":"VLOOKUP(A101,eventno,5,FALSE)","v":"F"},null,null,null,"MEETING ",null,{"$f":"CONCATENATE(MatchDay!$C$3,\"/\",MatchDay!$I$3)","v":"Northern Premier East/Northern 1 SE"},null,"VENUE ",null,null,{"$f":"MatchDay!$C$7","v":"Thornes Park Stadium, Wakefield"},null,null,null,null,null,null,null,null,null,null,null,null,null,null,"DATE ",null,null,{"$f":"MatchDay!$C$5","v":"Sunday 8th May 2011"}]
[{"$f":"IF(A102=\"M\",VLOOKUP(A101,males,15,FALSE),VLOOKUP(A101,females,15,FALSE))","v":40},null,null,null,"EVENT",null,{"$f":"CONCATENATE(A101,\" \",VLOOKUP(A101,eventno,4,FALSE))","v":"F13 U13G High Jump"},null,"TIME",null,null,{"$f":"VLOOKUP(A101,eventno,12,FALSE)","v":"13:30:00"},null,null,"Record",null,null,null,{"$f":"VLOOKUP(A101,eventno,7,FALSE)","v":1.62},null,null,null,null,"Duty",null,null,null,null,null,{"$f":"VLOOKUP(VLOOKUP(A101,eventno,13,FALSE),teamorder,3,FALSE)","v":"Wakefield"}]
[null,null,null,null,"Order","No","NAME","CLUB",{"$f":"VLOOKUP(A101,eventno,14,FALSE)","v":1.05},null,null,null,null,null,null,null,null,null,null,null,null,null,null,null,null,null,null,null,null,null,null,null,"Best of\nAll",null,"Trials at\nHt Cleared","Total \nFailures","Total\nTrials","Final\nPositionn",null,"A or B",null,"Tie"]
[null,null,null,null,null,null,null,null,"Metres",null,"Metres",null,"Metres",null,"Metres",null,"Metres",null,"Metres",null,"Metres",null,"Metres",null,"Metres",null,"Metres",null,"Metres",null,"Metres",null,"Metres",null,null,null,null,null,null,null,null,null,null,null,null,null,1,2,3,4,5,6,7,8,1,2,3,4,5,6,7,8]
[3,{"$f":"IF(OR(A106=0,A106=\"\"),\"\",VLOOKUP(A106,teamorder,2,FALSE))","v":7},{"$f":"IF(OR(AS106=0,AS106=\"\"),\"\",RANK(AS106,$AS$10:$AS$17,1))","v":""},null,1,{"$f":"IF(B106=0,\"\",B106)","v":7},{"$f":"IF(OR(F106=0,F106=\"\"),\"\",IF(A102=\"F\",HLOOKUP(F106,females,A103,FALSE),IF(A102=\"M\",HLOOKUP(F106,males,A103,FALSE),\"\")))","v":"Megan Sanders"},{"$f":"IF(OR(F106=0,F106=\"\"),\"\",VLOOKUP(F106,match_teams,4,FALSE))","v":"Leeds C"},null,null,null,null,null,null,null,null,null,null,null,null,null,null,null,null,null,null,null,null,null,null,null,null,0,null,null,null,null,0,{"$f":"IF(OR(AG106=0,AG106=\"\",AG106=\"NHC\"),\"\",IF(AG106=S103,\"LR=\",IF(AG106>S103,\"LR\",\"\")))","v":""},null,null,null,null,null,{"$f":"IF(OR(AL106=\"\",AL106=0),\"\",AL106+($AP106/10))","v":""},{"$f":"IF(OR(AL106=0,AL106=\"\"),\"\",HLOOKUP(AL106,$AU$9:$BB$26,18,FALSE))","v":""},{"$f":"IF($AL106=\"\",\"\",IF($AL106=AU$9,$AL106,\"\"))","v":""},{"$f":"IF($AL106=\"\",\"\",IF($AL106=AV$9,$AL106,\"\"))","v":""},"","","","","",""]
[1,{"$f":"IF(OR(A107=0,A107=\"\"),\"\",VLOOKUP(A107,teamorder,2,FALSE))","v":9},{"$f":"IF(OR(AS107=0,AS107=\"\"),\"\",RANK(AS107,$AS$10:$AS$17,1))","v":""},null,2,9,{"$f":"IF(OR(F107=0,F107=\"\"),\"\",IF(A102=\"F\",HLOOKUP(F107,females,A103,FALSE),IF(A102=\"M\",HLOOKUP(F107,males,A103,FALSE),\"\")))","v":"-"},"Wake",null,null,null,null,null,null,null,null,null,null,null,null,null,null,null,null,null,null,null,null,null,null,null,null,0,null,null,null,null,0,{"$f":"IF(OR(AG107=0,AG107=\"\",AG107=\"NHC\"),\"\",IF(AG107=S103,\"LR=\",IF(AG107>S103,\"LR\",\"\")))","v":""},null,null,null,null,null,{"$f":"IF(OR(AL107=\"\",AL107=0),\"\",AL107+($AP107/10))","v":""},{"$f":"IF(OR(AL107=0,AL107=\"\"),\"\",HLOOKUP(AL107,$AU$9:$BB$26,18,FALSE))","v":""},{"$f":"IF($AL107=\"\",\"\",IF($AL107=AU$9,$AL107,\"\"))","v":""},"","","","","","",""]
[2,{"$f":"IF(OR(A108=0,A108=\"\"),\"\",VLOOKUP(A108,teamorder,2,FALSE))","v":8},"",null,3,8,{"$f":"IF(OR(F108=0,F108=\"\"),\"\",IF(A102=\"F\",HLOOKUP(F108,females,A103,FALSE),IF(A102=\"M\",HLOOKUP(F108,males,A103,FALSE),\"\")))","v":"Felicity Edwards"},"York",null,null,null,null,null,null,null,null,null,null,null,null,null,null,null,null,null,null,null,null,null,null,null,null,0,null,null,null,null,0,{"$f":"IF(OR(AG108=0,AG108=\"\",AG108=\"NHC\"),\"\",IF(AG108=S103,\"LR=\",IF(AG108>S103,\"LR\",\"\")))","v":""},null,null,null,null,null,"","","","","","","","","",""]
[null,{"$f":"IF(T(B106)=\"\",B106*11,CONCATENATE(B106,B106))","v":77},"",null,4,77,{"$f":"IF(OR(F109=0,F109=\"\"),\"\",IF(A102=\"F\",HLOOKUP(F109,females,A103,FALSE),IF(A102=\"M\",HLOOKUP(F109,males,A103,FALSE),\"\")))","v":"-"},"Leeds C",null,null,null,null,null,null,null,null,null,null,null,null,null,null,null,null,null,null,null,null,null,null,null,null,0,null,null,null,null,0,{"$f":"IF(OR(AG109=0,AG109=\"\",AG109=\"NHC\"),\"\",IF(AG109=S103,\"LR=\",IF(AG109>S103,\"LR\",\"\")))","v":""},null,null,null,null,null,"","","","","","","","","",""]
[null,{"$f":"IF(T(B107)=\"\",B107*11,CONCATENATE(B107,B107))","v":99},"",null,5,99,{"$f":"IF(OR(F110=0,F110=\"\"),\"\",IF(A102=\"F\",HLOOKUP(F110,females,A103,FALSE),IF(A102=\"M\",HLOOKUP(F110,males,A103,FALSE),\"\")))","v":"Ella Liefeith"},"Wake",null,null,null,null,null,null,null,null,null,null,null,null,null,null,null,null,null,null,null,null,null,null,null,null,0,null,null,null,null,0,{"$f":"IF(OR(AG110=0,AG110=\"\",AG110=\"NHC\"),\"\",IF(AG110=S103,\"LR=\",IF(AG110>S103,\"LR\",\"\")))","v":""},null,null,null,null,null,"","","","","","","","","",""]
[null,{"$f":"IF(T(B108)=\"\",B108*11,CONCATENATE(B108,B108))","v":88},"",null,6,88,{"$f":"IF(OR(F111=0,F111=\"\"),\"\",IF(A102=\"F\",HLOOKUP(F111,females,A103,FALSE),IF(A102=\"M\",HLOOKUP(F111,males,A103,FALSE),\"\")))","v":"Annabel Ashton"},"York",null,null,null,null,null,null,null,null,null,null,null,null,null,null,null,null,null,null,null,null,null,null,null,null,0,null,null,null,null,0,{"$f":"IF(OR(AG111=0,AG111=\"\",AG111=\"NHC\"),\"\",IF(AG111=S103,\"LR=\",IF(AG111>S103,\"LR\",\"\")))","v":""},null,null,null,null,null,"","","","","","","","","",""]
[null,null,"",null,7,"",{"$f":"IF(OR(F112=0,F112=\"\"),\"\",IF(A102=\"F\",HLOOKUP(F112,females,A103,FALSE),IF(A102=\"M\",HLOOKUP(F112,males,A103,FALSE),\"\")))","v":""},"",null,null,null,null,null,null,null,null,null,null,null,null,null,null,null,null,null,null,null,null,null,null,null,null,0,null,null,null,null,0,{"$f":"IF(OR(AG112=0,AG112=\"\",AG112=\"NHC\"),\"\",IF(AG112=S103,\"LR=\",IF(AG112>S103,\"LR\",\"\")))","v":""},null,null,null,null,null,"","","","","","","","","",""]
[null,null,"",null,8,"",{"$f":"IF(OR(F113=0,F113=\"\"),\"\",IF(A102=\"F\",HLOOKUP(F113,females,A103,FALSE),IF(A102=\"M\",HLOOKUP(F113,males,A103,FALSE),\"\")))","v":""},"",null,null,null,null,null,null,null,null,null,null,null,null,null,null,null,null,null,null,null,null,null,null,null,null,0,null,null,null,null,0,{"$f":"IF(OR(AG113=0,AG113=\"\",AG113=\"NHC\"),\"\",IF(AG113=S103,\"LR=\",IF(AG113>S103,\"LR\",\"\")))","v":""},null,null,null,null,null,"","","","","","","","","",""]
[{"$f":"A106+3","v":6},{"$f":"IF(OR(A114=0,A114=\"\"),\"\",VLOOKUP(A114,teamorder2,2,FALSE))","v":3},null,{"$f":"IF(OR(AS114=0,AS114=\"\"),\"\",RANK(AS114,$AS$18:$AS$25,1))","v":""},1,3,{"$f":"IF(OR(F114=0,F114=\"\"),\"\",IF(A102=\"F\",HLOOKUP(F114,females2,A103,FALSE),IF(A102=\"M\",HLOOKUP(F114,males2,A103,FALSE),\"\")))","v":"-"},{"$f":"IF(OR(F114=0,F114=\"\"),\"\",VLOOKUP(F114,match_teams2,4,FALSE))","v":"Hallam"},null,null,null,null,null,null,null,null,null,null,null,null,null,null,null,null,null,null,null,null,null,null,null,null,0,null,null,null,null,0,{"$f":"IF(OR(AG114=0,AG114=\"\",AG114=\"NHC\"),\"\",IF(AG114=S103,\"LR=\",IF(AG114>S103,\"LR\",\"\")))","v":""},null,null,null,null,null,{"$f":"IF(OR(AL114=\"\",AL114=0),\"\",AL114+($AP114/10))","v":""},{"$f":"IF(OR(AL114=0,AL114=\"\"),\"\",HLOOKUP(AL114,$BC$9:$BJ$26,18,FALSE))","v":""},null,null,null,null,null,null,null,null,"","","","","","","",""]
[{"$f":"A107+3","v":4},{"$f":"IF(OR(A115=0,A115=\"\"),\"\",VLOOKUP(A115,teamorder2,2,FALSE))","v":1},null,{"$f":"IF(OR(AS115=0,AS115=\"\"),\"\",RANK(AS115,$AS$18:$AS$25,1))","v":""},2,1,{"$f":"IF(OR(F115=0,F115=\"\"),\"\",IF(A102=\"F\",HLOOKUP(F115,females2,A103,FALSE),IF(A102=\"M\",HLOOKUP(F115,males2,A103,FALSE),\"\")))","v":"Talitha Thompson"},"DASH",null,null,null,null,null,null,null,null,null,null,null,null,null,null,null,null,null,null,null,null,null,null,null,null,0,null,null,null,null,0,{"$f":"IF(OR(AG115=0,AG115=\"\",AG115=\"NHC\"),\"\",IF(AG115=S103,\"LR=\",IF(AG115>S103,\"LR\",\"\")))","v":""},null,null,null,null,null,{"$f":"IF(OR(AL115=\"\",AL115=0),\"\",AL115+($AP115/10))","v":""},{"$f":"IF(OR(AL115=0,AL115=\"\"),\"\",HLOOKUP(AL115,$BC$9:$BJ$26,18,FALSE))","v":""},null,null,null,null,null,null,null,null,"","","","","","","",""]
[{"$f":"A108+3","v":5},{"$f":"IF(OR(A116=0,A116=\"\"),\"\",VLOOKUP(A116,teamorder2,2,FALSE))","v":2},null,"",3,2,{"$f":"IF(OR(F116=0,F116=\"\"),\"\",IF(A102=\"F\",HLOOKUP(F116,females2,A103,FALSE),IF(A102=\"M\",HLOOKUP(F116,males2,A103,FALSE),\"\")))","v":"Rhiannon Martin"},"Linc W",null,null,null,null,null,null,null,null,null,null,null,null,null,null,null,null,null,null,null,null,null,null,null,null,0,null,null,null,null,0,{"$f":"IF(OR(AG116=0,AG116=\"\",AG116=\"NHC\"),\"\",IF(AG116=S103,\"LR=\",IF(AG116>S103,\"LR\",\"\")))","v":""},null,null,null,null,null,"","",null,null,null,null,null,null,null,null,"","","","","","","",""]
[null,{"$f":"IF(T(B114)=\"\",B114*11,CONCATENATE(B114,B114))","v":33},null,"",4,33,{"$f":"IF(OR(F117=0,F117=\"\"),\"\",IF(A102=\"F\",HLOOKUP(F117,females2,A103,FALSE),IF(A102=\"M\",HLOOKUP(F117,males2,A103,FALSE),\"\")))","v":"-"},"Hallam",null,null,null,null,null,null,null,null,null,null,null,null,null,null,null,null,null,null,null,null,null,null,null,null,0,null,null,null,null,0,{"$f":"IF(OR(AG117=0,AG117=\"\",AG117=\"NHC\"),\"\",IF(AG117=S103,\"LR=\",IF(AG117>S103,\"LR\",\"\")))","v":""},null,null,null,null,null,"","",null,null,null,null,null,null,null,null,"","","","","","","",""]
[null,{"$f":"IF(T(B115)=\"\",B115*11,CONCATENATE(B115,B115))","v":11},null,"",5,11,{"$f":"IF(OR(F118=0,F118=\"\"),\"\",IF(A102=\"F\",HLOOKUP(F118,females2,A103,FALSE),IF(A102=\"M\",HLOOKUP(F118,males2,A103,FALSE),\"\")))","v":"Anna Manfred"},"DASH",null,null,null,null,null,null,null,null,null,null,null,null,null,null,null,null,null,null,null,null,null,null,null,null,0,null,null,null,null,0,{"$f":"IF(OR(AG118=0,AG118=\"\",AG118=\"NHC\"),\"\",IF(AG118=S103,\"LR=\",IF(AG118>S103,\"LR\",\"\")))","v":""},null,null,null,null,null,"","",null,null,null,null,null,null,null,null,"","","","","","","",""]
[null,{"$f":"IF(T(B116)=\"\",B116*11,CONCATENATE(B116,B116))","v":22},null,"",6,22,{"$f":"IF(OR(F119=0,F119=\"\"),\"\",IF(A102=\"F\",HLOOKUP(F119,females2,A103,FALSE),IF(A102=\"M\",HLOOKUP(F119,males2,A103,FALSE),\"\")))","v":"Megan Brockie"},"Linc W",null,null,null,null,null,null,null,null,null,null,null,null,null,null,null,null,null,null,null,null,null,null,null,null,0,null,null,null,null,0,{"$f":"IF(OR(AG119=0,AG119=\"\",AG119=\"NHC\"),\"\",IF(AG119=S103,\"LR=\",IF(AG119>S103,\"LR\",\"\")))","v":""},null,null,null,null,null,"","",null,null,null,null,null,null,null,null,"","","","","","","",""]
[null,0,null,"",7,"",{"$f":"IF(OR(F120=0,F120=\"\"),\"\",IF(A102=\"F\",HLOOKUP(F120,females2,A103,FALSE),IF(A102=\"M\",HLOOKUP(F120,males2,A103,FALSE),\"\")))","v":""},"",null,null,null,null,null,null,null,null,null,null,null,null,null,null,null,null,null,null,null,null,null,null,null,null,0,null,null,null,null,0,{"$f":"IF(OR(AG120=0,AG120=\"\",AG120=\"NHC\"),\"\",IF(AG120=S103,\"LR=\",IF(AG120>S103,\"LR\",\"\")))","v":""},null,null,null,null,null,"","",null,null,null,null,null,null,null,null,"","","","","","","",""]
[null,0,null,"",8,"",{"$f":"IF(OR(F121=0,F121=\"\"),\"\",IF(A102=\"F\",HLOOKUP(F121,females2,A103,FALSE),IF(A102=\"M\",HLOOKUP(F121,males2,A103,FALSE),\"\")))","v":""},"",null,null,null,null,null,null,null,null,null,null,null,null,null,null,null,null,null,null,null,null,null,null,null,null,0,null,null,null,null,0,{"$f":"IF(OR(AG121=0,AG121=\"\",AG121=\"NHC\"),\"\",IF(AG121=S103,\"LR=\",IF(AG121>S103,\"LR\",\"\")))","v":""},null,null,null,null,null,"","",null,null,null,null,null,null,null,null,"","","","","","","",""]
[null,null,null,null,null,null,null,null,null,null,null,null,null,null,null,null,null,null,null,null,null,null,null,null,null,null,null,null,null,null,null,null,null,null,null,null,null,null,null,null,null,null,null,null,null,null,{"$f":"IF(OR(COUNTIF(AU106:AU121,AU105)=0,COUNTIF(AU106:AU121,AU105)=\"\"),\"\",(REPT(\"=\",COUNTIF(AU106:AU121,AU105)-1)))","v":""},"","","","","","","","","","","","","","",""]
[null,null,null,null,"MATCH 1 RESULT",null,null,null,null,null,"MATCH 2 RESULT",null,null,null,null,null,null,null,null,null,null,null,null,null,null,null,null,null,"JUDGES' SIGNATURES"]
[null,null,null,null,"Posn","No.","NAME","CLUB","HEIGHT",null,"Posn",null,"No.",null,"NAME",null,null,null,null,null,"CLUB",null,null,null,null,null,"HEIGHT"]
[null,null,null,1,{"$f":"IF(ISERROR(VLOOKUP(D125,$C$10:$AT$17,31,FALSE))=TRUE,\"\",CONCATENATE(VLOOKUP(D125,$C$10:$AT$17,36,FALSE),VLOOKUP(D125,$C$10:$AT$17,44,FALSE)))","v":""},{"$f":"IF(ISERROR(VLOOKUP(D125,$C$10:$AH$17,31,FALSE))=TRUE,\"\",IF(VLOOKUP(D125,$C$10:$AH$17,31,FALSE)=0,\"\",IF(VLOOKUP(D125,$C$10:$AH$17,31,FALSE)=99,99,IF(VLOOKUP(D125,$C$10:$AH$17,31,FALSE)=97,97,IF(VLOOKUP(D125,$C$10:$AH$17,31,FALSE)=96,96,IF(VLOOKUP(D125,$C$10:$AH$17,31,FALSE)=95,95,VLOOKUP(D125,$C$10:$AH$17,4,FALSE)))))))","v":""},{"$f":"IF(ISERROR(VLOOKUP(D125,$C$10:$AH$17,31,FALSE))=TRUE,\"\",VLOOKUP(D125,$C$10:$AH$17,5,FALSE))","v":""},{"$f":"IF(ISERROR(VLOOKUP(D125,$C$10:$AH$17,31,FALSE))=TRUE,\"\",VLOOKUP(D125,$C$10:$AH$17,6,FALSE))","v":""},{"$f":"IF(ISERROR(VLOOKUP(D125,$C$10:$AH$17,31,FALSE))=TRUE,\"\",IF(VLOOKUP(D125,C$10:AH$17,31,FALSE)=0,0,IF(VLOOKUP(D125,C$10:AH$17,31,FALSE)>95.99,\"\",VLOOKUP(D125,C$10:AH$17,31,FALSE))))","v":""},null,{"$f":"IF(ISERROR(VLOOKUP(D125,$D$18:$AT$25,30,FALSE))=TRUE,\"\",CONCATENATE(VLOOKUP(D125,$D$18:$AT$25,35,FALSE),VLOOKUP(D125,$D$18:$AT$25,43,FALSE)))","v":""},{"$f":"IF(ISERROR(VLOOKUP(K125,$C$10:$AQ$25,31,FALSE))=TRUE,\"\",CONCATENATE(VLOOKUP(K125,$C$10:$AQ$25,38,FALSE),VLOOKUP(K125,$C$10:$AQ$25,42,FALSE)))","v":{"$error":"#REF!"}},{"$f":"IF(ISERROR(VLOOKUP(D125,$D$18:$AH$25,30,FALSE))=TRUE,\"\",IF(VLOOKUP(D125,$D$18:$AH$25,30,FALSE)=0,\"\",VLOOKUP(D125,$D$18:$AH$25,3,FALSE)))","v":""},null,{"$f":"IF(ISERROR(VLOOKUP(D125,$D$18:$AH$25,30,FALSE))=TRUE,\"\",VLOOKUP(D125,$D$18:$AH$25,4,FALSE))","v":""},null,null,null,null,null,{"$f":"IF(ISERROR(VLOOKUP(D125,$D$18:$AH$25,30,FALSE))=TRUE,\"\",VLOOKUP(D125,$D$18:$AH$25,5,FALSE))","v":""},null,null,null,null,null,{"$f":"IF(ISERROR(VLOOKUP(D125,$D$18:$AH$25,30,FALSE))=TRUE,\"\",IF(VLOOKUP(D125,$D$18:$AH$25,30,FALSE)=0,\"\",VLOOKUP(D125,$D$18:$AH$25,30,FALSE)))","v":""}]
[null,null,null,2,{"$f":"IF(ISERROR(VLOOKUP(D126,$C$10:$AT$17,31,FALSE))=TRUE,\"\",CONCATENATE(VLOOKUP(D126,$C$10:$AT$17,36,FALSE),VLOOKUP(D126,$C$10:$AT$17,44,FALSE)))","v":""},{"$f":"IF(ISERROR(VLOOKUP(D126,$C$10:$AH$17,31,FALSE))=TRUE,\"\",IF(VLOOKUP(D126,$C$10:$AH$17,31,FALSE)=0,\"\",IF(VLOOKUP(D126,$C$10:$AH$17,31,FALSE)=99,99,IF(VLOOKUP(D126,$C$10:$AH$17,31,FALSE)=97,97,IF(VLOOKUP(D126,$C$10:$AH$17,31,FALSE)=96,96,VLOOKUP(D126,$C$10:$AH$17,4,FALSE))))))","v":""},"","","",null,{"$f":"IF(ISERROR(VLOOKUP(D126,$D$18:$AT$25,30,FALSE))=TRUE,\"\",CONCATENATE(VLOOKUP(D126,$D$18:$AT$25,35,FALSE),VLOOKUP(D126,$D$18:$AT$25,43,FALSE)))","v":""},{"$f":"IF(ISERROR(VLOOKUP(K126,$C$10:$AQ$25,31,FALSE))=TRUE,\"\",CONCATENATE(VLOOKUP(K126,$C$10:$AQ$25,38,FALSE),VLOOKUP(K126,$C$10:$AQ$25,42,FALSE)))","v":{"$error":"#REF!"}},"",null,"",null,null,null,null,null,"",null,null,null,null,null,""]
[null,null,null,3,"","","","","",null,"",{"$error":"#REF!"},"",null,"",null,null,null,null,null,"",null,null,null,null,null,""]
[null,null,null,4,"","","","","",null,"",{"$error":"#REF!"},"",null,"",null,null,null,null,null,"",null,null,null,null,null,""]
[null,null,null,5,"","","","","",null,"",{"$error":"#REF!"},"",null,"",null,null,null,null,null,"",null,null,null,null,null,""]
[null,null,null,6,"","","","","",null,"",{"$error":"#REF!"},"",null,"",null,null,null,null,null,"",null,null,null,null,null,"",null,"REFEREE'S SIGNATURE"]
[null,null,null,7,"","","","","",null,"",{"$error":"#REF!"},"",null,"",null,null,null,null,null,"",null,null,null,null,null,""]
[null,null,null,8,"","","","","",null,"",{"$error":"#REF!"},"",null,"",null,null,null,null,null,"",null,null,null,null,null,""]
["F14",null,null,null,"UK ATHLETICS: HEIGHT CARD"]
[{"$f":"VLOOKUP(A133,eventno,5,FALSE)","v":"M"},null,null,null,"MEETING ",null,{"$f":"CONCATENATE(MatchDay!$C$3,\"/\",MatchDay!$I$3)","v":"Northern Premier East/Northern 1 SE"},null,"VENUE ",null,null,{"$f":"MatchDay!$C$7","v":"Thornes Park Stadium, Wakefield"},null,null,null,null,null,null,null,null,null,null,null,null,null,null,"DATE ",null,null,{"$f":"MatchDay!$C$5","v":"Sunday 8th May 2011"}]
[{"$f":"IF(A134=\"M\",VLOOKUP(A133,males,15,FALSE),VLOOKUP(A133,females,15,FALSE))","v":41},null,null,null,"EVENT",null,{"$f":"CONCATENATE(A133,\" \",VLOOKUP(A133,eventno,4,FALSE))","v":"F14 U15B Pole Vault"},null,"TIME",null,null,{"$f":"VLOOKUP(A133,eventno,12,FALSE)","v":"13:30:00"},null,null,"Record",null,null,null,{"$f":"VLOOKUP(A133,eventno,7,FALSE)","v":4.2},null,null,null,null,"Duty",null,null,null,null,null,{"$f":"VLOOKUP(VLOOKUP(A133,eventno,13,FALSE),teamorder2,3,FALSE)","v":"2DASH"}]
[null,null,null,null,"Order","No","NAME","CLUB",{"$f":"VLOOKUP(A133,eventno,14,FALSE)","v":1.7},null,null,null,null,null,null,null,null,null,null,null,null,null,null,null,null,null,null,null,null,null,null,null,"Best of\nAll",null,"Trials at\nHt Cleared","Total \nFailures","Total\nTrials","Final\nPositionn",null,"A or B",null,"Tie"]
[null,null,null,null,null,null,null,null,"Metres",null,"Metres",null,"Metres",null,"Metres",null,"Metres",null,"Metres",null,"Metres",null,"Metres",null,"Metres",null,"Metres",null,"Metres",null,"Metres",null,"Metres",null,null,null,null,null,null,null,null,null,null,null,null,null,1,2,3,4,5,6,7,8,1,2,3,4,5,6,7,8]
[2,{"$f":"IF(OR(A138=0,A138=\"\"),\"\",VLOOKUP(A138,teamorder,2,FALSE))","v":8},{"$f":"IF(OR(AS138=0,AS138=\"\"),\"\",RANK(AS138,$AS$10:$AS$17,1))","v":""},null,1,{"$f":"IF(B138=0,\"\",B138)","v":8},{"$f":"IF(OR(F138=0,F138=\"\"),\"\",IF(A134=\"F\",HLOOKUP(F138,females,A135,FALSE),IF(A134=\"M\",HLOOKUP(F138,males,A135,FALSE),\"\")))","v":"-"},{"$f":"IF(OR(F138=0,F138=\"\"),\"\",VLOOKUP(F138,match_teams,4,FALSE))","v":"York"},null,null,null,null,null,null,null,null,null,null,null,null,null,null,null,null,null,null,null,null,null,null,null,null,0,null,null,null,null,0,{"$f":"IF(OR(AG138=0,AG138=\"\",AG138=\"NHC\"),\"\",IF(AG138=S135,\"LR=\",IF(AG138>S135,\"LR\",\"\")))","v":""},null,null,null,null,null,{"$f":"IF(OR(AL138=\"\",AL138=0),\"\",AL138+($AP138/10))","v":""},{"$f":"IF(OR(AL138=0,AL138=\"\"),\"\",HLOOKUP(AL138,$AU$9:$BB$26,18,FALSE))","v":""},{"$f":"IF($AL138=\"\",\"\",IF($AL138=AU$9,$AL138,\"\"))","v":""},{"$f":"IF($AL138=\"\",\"\",IF($AL138=AV$9,$AL138,\"\"))","v":""},"","","","","",""]
[1,{"$f":"IF(OR(A139=0,A139=\"\"),\"\",VLOOKUP(A139,teamorder,2,FALSE))","v":9},{"$f":"IF(OR(AS139=0,AS139=\"\"),\"\",RANK(AS139,$AS$10:$AS$17,1))","v":""},null,2,9,{"$f":"IF(OR(F139=0,F139=\"\"),\"\",IF(A134=\"F\",HLOOKUP(F139,females,A135,FALSE),IF(A134=\"M\",HLOOKUP(F139,males,A135,FALSE),\"\")))","v":"Andrew Jones"},"Wake",null,null,null,null,null,null,null,null,null,null,null,null,null,null,null,null,null,null,null,null,null,null,null,null,0,null,null,null,null,0,{"$f":"IF(OR(AG139=0,AG139=\"\",AG139=\"NHC\"),\"\",IF(AG139=S135,\"LR=\",IF(AG139>S135,\"LR\",\"\")))","v":""},null,null,null,null,null,{"$f":"IF(OR(AL139=\"\",AL139=0),\"\",AL139+($AP139/10))","v":""},{"$f":"IF(OR(AL139=0,AL139=\"\"),\"\",HLOOKUP(AL139,$AU$9:$BB$26,18,FALSE))","v":""},{"$f":"IF($AL139=\"\",\"\",IF($AL139=AU$9,$AL139,\"\"))","v":""},"","","","","","",""]
[3,{"$f":"IF(OR(A140=0,A140=\"\"),\"\",VLOOKUP(A140,teamorder,2,FALSE))","v":7},"",null,3,7,{"$f":"IF(OR(F140=0,F140=\"\"),\"\",IF(A134=\"F\",HLOOKUP(F140,females,A135,FALSE),IF(A134=\"M\",HLOOKUP(F140,males,A135,FALSE),\"\")))","v":"Jonathan Webster"},"Leeds C",null,null,null,null,null,null,null,null,null,null,null,null,null,null,null,null,null,null,null,null,null,null,null,null,0,null,null,null,null,0,{"$f":"IF(OR(AG140=0,AG140=\"\",AG140=\"NHC\"),\"\",IF(AG140=S135,\"LR=\",IF(AG140>S135,\"LR\",\"\")))","v":""},null,null,null,null,null,"","","","","","","","","",""]
[null,{"$f":"IF(T(B138)=\"\",B138*11,CONCATENATE(B138,B138))","v":88},"",null,4,88,{"$f":"IF(OR(F141=0,F141=\"\"),\"\",IF(A134=\"F\",HLOOKUP(F141,females,A135,FALSE),IF(A134=\"M\",HLOOKUP(F141,males,A135,FALSE),\"\")))","v":"-"},"York",null,null,null,null,null,null,null,null,null,null,null,null,null,null,null,null,null,null,null,null,null,null,null,null,0,null,null,null,null,0,{"$f":"IF(OR(AG141=0,AG141=\"\",AG141=\"NHC\"),\"\",IF(AG141=S135,\"LR=\",IF(AG141>S135,\"LR\",\"\")))","v":""},null,null,null,null,null,"","","","","","","","","",""]
[null,{"$f":"IF(T(B139)=\"\",B139*11,CONCATENATE(B139,B139))","v":99},"",null,5,99,{"$f":"IF(OR(F142=0,F142=\"\"),\"\",IF(A134=\"F\",HLOOKUP(F142,females,A135,FALSE),IF(A134=\"M\",HLOOKUP(F142,males,A135,FALSE),\"\")))","v":"-"},"Wake",null,null,null,null,null,null,null,null,null,null,null,null,null,null,null,null,null,null,null,null,null,null,null,null,0,null,null,null,null,0,{"$f":"IF(OR(AG142=0,AG142=\"\",AG142=\"NHC\"),\"\",IF(AG142=S135,\"LR=\",IF(AG142>S135,\"LR\",\"\")))","v":""},null,null,null,null,null,"","","","","","","","","",""]
[null,{"$f":"IF(T(B140)=\"\",B140*11,CONCATENATE(B140,B140))","v":77},"",null,6,77,{"$f":"IF(OR(F143=0,F143=\"\"),\"\",IF(A134=\"F\",HLOOKUP(F143,females,A135,FALSE),IF(A134=\"M\",HLOOKUP(F143,males,A135,FALSE),\"\")))","v":"-"},"Leeds C",null,null,null,null,null,null,null,null,null,null,null,null,null,null,null,null,null,null,null,null,null,null,null,null,0,null,null,null,null,0,{"$f":"IF(OR(AG143=0,AG143=\"\",AG143=\"NHC\"),\"\",IF(AG143=S135,\"LR=\",IF(AG143>S135,\"LR\",\"\")))","v":""},null,null,null,null,null,"","","","","","","","","",""]
[null,null,"",null,7,"",{"$f":"IF(OR(F144=0,F144=\"\"),\"\",IF(A134=\"F\",HLOOKUP(F144,females,A135,FALSE),IF(A134=\"M\",HLOOKUP(F144,males,A135,FALSE),\"\")))","v":""},"",null,null,null,null,null,null,null,null,null,null,null,null,null,null,null,null,null,null,null,null,null,null,null,null,0,null,null,null,null,0,{"$f":"IF(OR(AG144=0,AG144=\"\",AG144=\"NHC\"),\"\",IF(AG144=S135,\"LR=\",IF(AG144>S135,\"LR\",\"\")))","v":""},null,null,null,null,null,"","","","","","","","","",""]
[null,null,"",null,8,"",{"$f":"IF(OR(F145=0,F145=\"\"),\"\",IF(A134=\"F\",HLOOKUP(F145,females,A135,FALSE),IF(A134=\"M\",HLOOKUP(F145,males,A135,FALSE),\"\")))","v":""},"",null,null,null,null,null,null,null,null,null,null,null,null,null,null,null,null,null,null,null,null,null,null,null,null,0,null,null,null,null,0,{"$f":"IF(OR(AG145=0,AG145=\"\",AG145=\"NHC\"),\"\",IF(AG145=S135,\"LR=\",IF(AG145>S135,\"LR\",\"\")))","v":""},null,null,null,null,null,"","","","","","","","","",""]
[{"$f":"A138+3","v":5},{"$f":"IF(OR(A146=0,A146=\"\"),\"\",VLOOKUP(A146,teamorder2,2,FALSE))","v":2},null,{"$f":"IF(OR(AS146=0,AS146=\"\"),\"\",RANK(AS146,$AS$18:$AS$25,1))","v":""},1,2,{"$f":"IF(OR(F146=0,F146=\"\"),\"\",IF(A134=\"F\",HLOOKUP(F146,females2,A135,FALSE),IF(A134=\"M\",HLOOKUP(F146,males2,A135,FALSE),\"\")))","v":"Daniel Flemming"},{"$f":"IF(OR(F146=0,F146=\"\"),\"\",VLOOKUP(F146,match_teams2,4,FALSE))","v":"Linc W"},null,null,null,null,null,null,null,null,null,null,null,null,null,null,null,null,null,null,null,null,null,null,null,null,0,null,null,null,null,0,{"$f":"IF(OR(AG146=0,AG146=\"\",AG146=\"NHC\"),\"\",IF(AG146=S135,\"LR=\",IF(AG146>S135,\"LR\",\"\")))","v":""},null,null,null,null,null,{"$f":"IF(OR(AL146=\"\",AL146=0),\"\",AL146+($AP146/10))","v":""},{"$f":"IF(OR(AL146=0,AL146=\"\"),\"\",HLOOKUP(AL146,$BC$9:$BJ$26,18,FALSE))","v":""},null,null,null,null,null,null,null,null,"","","","","","","",""]
[{"$f":"A139+3","v":4},{"$f":"IF(OR(A147=0,A147=\"\"),\"\",VLOOKUP(A147,teamorder2,2,FALSE))","v":1},null,{"$f":"IF(OR(AS147=0,AS147=\"\"),\"\",RANK(AS147,$AS$18:$AS$25,1))","v":""},2,1,{"$f":"IF(OR(F147=0,F147=\"\"),\"\",IF(A134=\"F\",HLOOKUP(F147,females2,A135,FALSE),IF(A134=\"M\",HLOOKUP(F147,males2,A135,FALSE),\"\")))","v":"Alistair Mclunty"},"DASH",null,null,null,null,null,null,null,null,null,null,null,null,null,null,null,null,null,null,null,null,null,null,null,null,0,null,null,null,null,0,{"$f":"IF(OR(AG147=0,AG147=\"\",AG147=\"NHC\"),\"\",IF(AG147=S135,\"LR=\",IF(AG147>S135,\"LR\",\"\")))","v":""},null,null,null,null,null,{"$f":"IF(OR(AL147=\"\",AL147=0),\"\",AL147+($AP147/10))","v":""},{"$f":"IF(OR(AL147=0,AL147=\"\"),\"\",HLOOKUP(AL147,$BC$9:$BJ$26,18,FALSE))","v":""},null,null,null,null,null,null,null,null,"","","","","","","",""]
[{"$f":"A140+3","v":6},{"$f":"IF(OR(A148=0,A148=\"\"),\"\",VLOOKUP(A148,teamorder2,2,FALSE))","v":3},null,"",3,3,{"$f":"IF(OR(F148=0,F148=\"\"),\"\",IF(A134=\"F\",HLOOKUP(F148,females2,A135,FALSE),IF(A134=\"M\",HLOOKUP(F148,males2,A135,FALSE),\"\")))","v":"Bob Walker"},"Hallam",null,null,null,null,null,null,null,null,null,null,null,null,null,null,null,null,null,null,null,null,null,null,null,null,0,null,null,null,null,0,{"$f":"IF(OR(AG148=0,AG148=\"\",AG148=\"NHC\"),\"\",IF(AG148=S135,\"LR=\",IF(AG148>S135,\"LR\",\"\")))","v":""},null,null,null,null,null,"","",null,null,null,null,null,null,null,null,"","","","","","","",""]
[null,{"$f":"IF(T(B146)=\"\",B146*11,CONCATENATE(B146,B146))","v":22},null,"",4,22,{"$f":"IF(OR(F149=0,F149=\"\"),\"\",IF(A134=\"F\",HLOOKUP(F149,females2,A135,FALSE),IF(A134=\"M\",HLOOKUP(F149,males2,A135,FALSE),\"\")))","v":"Bradley Kent"},"Linc W",null,null,null,null,null,null,null,null,null,null,null,null,null,null,null,null,null,null,null,null,null,null,null,null,0,null,null,null,null,0,{"$f":"IF(OR(AG149=0,AG149=\"\",AG149=\"NHC\"),\"\",IF(AG149=S135,\"LR=\",IF(AG149>S135,\"LR\",\"\")))","v":""},null,null,null,null,null,"","",null,null,null,null,null,null,null,null,"","","","","","","",""]
[null,{"$f":"IF(T(B147)=\"\",B147*11,CONCATENATE(B147,B147))","v":11},null,"",5,11,{"$f":"IF(OR(F150=0,F150=\"\"),\"\",IF(A134=\"F\",HLOOKUP(F150,females2,A135,FALSE),IF(A134=\"M\",HLOOKUP(F150,males2,A135,FALSE),\"\")))","v":"-"},"DASH",null,null,null,null,null,null,null,null,null,null,null,null,null,null,null,null,null,null,null,null,null,null,null,null,0,null,null,null,null,0,{"$f":"IF(OR(AG150=0,AG150=\"\",AG150=\"NHC\"),\"\",IF(AG150=S135,\"LR=\",IF(AG150>S135,\"LR\",\"\")))","v":""},null,null,null,null,null,"","",null,null,null,null,null,null,null,null,"","","","","","","",""]
[null,{"$f":"IF(T(B148)=\"\",B148*11,CONCATENATE(B148,B148))","v":33},null,"",6,33,{"$f":"IF(OR(F151=0,F151=\"\"),\"\",IF(A134=\"F\",HLOOKUP(F151,females2,A135,FALSE),IF(A134=\"M\",HLOOKUP(F151,males2,A135,FALSE),\"\")))","v":"-"},"Hallam",null,null,null,null,null,null,null,null,null,null,null,null,null,null,null,null,null,null,null,null,null,null,null,null,0,null,null,null,null,0,{"$f":"IF(OR(AG151=0,AG151=\"\",AG151=\"NHC\"),\"\",IF(AG151=S135,\"LR=\",IF(AG151>S135,\"LR\",\"\")))","v":""},null,null,null,null,null,"","",null,null,null,null,null,null,null,null,"","","","","","","",""]
[null,0,null,"",7,"",{"$f":"IF(OR(F152=0,F152=\"\"),\"\",IF(A134=\"F\",HLOOKUP(F152,females2,A135,FALSE),IF(A134=\"M\",HLOOKUP(F152,males2,A135,FALSE),\"\")))","v":""},"",null,null,null,null,null,null,null,null,null,null,null,null,null,null,null,null,null,null,null,null,null,null,null,null,0,null,null,null,null,0,{"$f":"IF(OR(AG152=0,AG152=\"\",AG152=\"NHC\"),\"\",IF(AG152=S135,\"LR=\",IF(AG152>S135,\"LR\",\"\")))","v":""},null,null,null,null,null,"","",null,null,null,null,null,null,null,null,"","","","","","","",""]
[null,0,null,"",8,"",{"$f":"IF(OR(F153=0,F153=\"\"),\"\",IF(A134=\"F\",HLOOKUP(F153,females2,A135,FALSE),IF(A134=\"M\",HLOOKUP(F153,males2,A135,FALSE),\"\")))","v":""},"",null,null,null,null,null,null,null,null,null,null,null,null,null,null,null,null,null,null,null,null,null,null,null,null,0,null,null,null,null,0,{"$f":"IF(OR(AG153=0,AG153=\"\",AG153=\"NHC\"),\"\",IF(AG153=S135,\"LR=\",IF(AG153>S135,\"LR\",\"\")))","v":""},null,null,null,null,null,"","",null,null,null,null,null,null,null,null,"","","","","","","",""]
[null,null,null,null,null,null,null,null,null,null,null,null,null,null,null,null,null,null,null,null,null,null,null,null,null,null,null,null,null,null,null,null,null,null,null,null,null,null,null,null,null,null,null,null,null,null,{"$f":"IF(OR(COUNTIF(AU138:AU153,AU137)=0,COUNTIF(AU138:AU153,AU137)=\"\"),\"\",(REPT(\"=\",COUNTIF(AU138:AU153,AU137)-1)))","v":""},"","","","","","","","","","","","","","",""]
[null,null,null,null,"MATCH 1 RESULT",null,null,null,null,null,"MATCH 2 RESULT",null,null,null,null,null,null,null,null,null,null,null,null,null,null,null,null,null,"JUDGES' SIGNATURES"]
[null,null,null,null,"Posn","No.","NAME","CLUB","HEIGHT",null,"Posn",null,"No.",null,"NAME",null,null,null,null,null,"CLUB",null,null,null,null,null,"HEIGHT"]
[null,null,null,1,{"$f":"IF(ISERROR(VLOOKUP(D157,$C$10:$AT$17,31,FALSE))=TRUE,\"\",CONCATENATE(VLOOKUP(D157,$C$10:$AT$17,36,FALSE),VLOOKUP(D157,$C$10:$AT$17,44,FALSE)))","v":""},{"$f":"IF(ISERROR(VLOOKUP(D157,$C$10:$AH$17,31,FALSE))=TRUE,\"\",IF(VLOOKUP(D157,$C$10:$AH$17,31,FALSE)=0,\"\",IF(VLOOKUP(D157,$C$10:$AH$17,31,FALSE)=99,99,IF(VLOOKUP(D157,$C$10:$AH$17,31,FALSE)=97,97,IF(VLOOKUP(D157,$C$10:$AH$17,31,FALSE)=96,96,IF(VLOOKUP(D157,$C$10:$AH$17,31,FALSE)=95,95,VLOOKUP(D157,$C$10:$AH$17,4,FALSE)))))))","v":""},{"$f":"IF(ISERROR(VLOOKUP(D157,$C$10:$AH$17,31,FALSE))=TRUE,\"\",VLOOKUP(D157,$C$10:$AH$17,5,FALSE))","v":""},{"$f":"IF(ISERROR(VLOOKUP(D157,$C$10:$AH$17,31,FALSE))=TRUE,\"\",VLOOKUP(D157,$C$10:$AH$17,6,FALSE))","v":""},{"$f":"IF(ISERROR(VLOOKUP(D157,$C$10:$AH$17,31,FALSE))=TRUE,\"\",IF(VLOOKUP(D157,C$10:AH$17,31,FALSE)=0,0,IF(VLOOKUP(D157,C$10:AH$17,31,FALSE)>95.99,\"\",VLOOKUP(D157,C$10:AH$17,31,FALSE))))","v":""},null,{"$f":"IF(ISERROR(VLOOKUP(D157,$D$18:$AT$25,30,FALSE))=TRUE,\"\",CONCATENATE(VLOOKUP(D157,$D$18:$AT$25,35,FALSE),VLOOKUP(D157,$D$18:$AT$25,43,FALSE)))","v":""},{"$f":"IF(ISERROR(VLOOKUP(K157,$C$10:$AQ$25,31,FALSE))=TRUE,\"\",CONCATENATE(VLOOKUP(K157,$C$10:$AQ$25,38,FALSE),VLOOKUP(K157,$C$10:$AQ$25,42,FALSE)))","v":{"$error":"#REF!"}},{"$f":"IF(ISERROR(VLOOKUP(D157,$D$18:$AH$25,30,FALSE))=TRUE,\"\",IF(VLOOKUP(D157,$D$18:$AH$25,30,FALSE)=0,\"\",VLOOKUP(D157,$D$18:$AH$25,3,FALSE)))","v":""},null,{"$f":"IF(ISERROR(VLOOKUP(D157,$D$18:$AH$25,30,FALSE))=TRUE,\"\",VLOOKUP(D157,$D$18:$AH$25,4,FALSE))","v":""},null,null,null,null,null,{"$f":"IF(ISERROR(VLOOKUP(D157,$D$18:$AH$25,30,FALSE))=TRUE,\"\",VLOOKUP(D157,$D$18:$AH$25,5,FALSE))","v":""},null,null,null,null,null,{"$f":"IF(ISERROR(VLOOKUP(D157,$D$18:$AH$25,30,FALSE))=TRUE,\"\",IF(VLOOKUP(D157,$D$18:$AH$25,30,FALSE)=0,\"\",VLOOKUP(D157,$D$18:$AH$25,30,FALSE)))","v":""}]
[null,null,null,2,{"$f":"IF(ISERROR(VLOOKUP(D158,$C$10:$AT$17,31,FALSE))=TRUE,\"\",CONCATENATE(VLOOKUP(D158,$C$10:$AT$17,36,FALSE),VLOOKUP(D158,$C$10:$AT$17,44,FALSE)))","v":""},{"$f":"IF(ISERROR(VLOOKUP(D158,$C$10:$AH$17,31,FALSE))=TRUE,\"\",IF(VLOOKUP(D158,$C$10:$AH$17,31,FALSE)=0,\"\",IF(VLOOKUP(D158,$C$10:$AH$17,31,FALSE)=99,99,IF(VLOOKUP(D158,$C$10:$AH$17,31,FALSE)=97,97,IF(VLOOKUP(D158,$C$10:$AH$17,31,FALSE)=96,96,VLOOKUP(D158,$C$10:$AH$17,4,FALSE))))))","v":""},"","","",null,{"$f":"IF(ISERROR(VLOOKUP(D158,$D$18:$AT$25,30,FALSE))=TRUE,\"\",CONCATENATE(VLOOKUP(D158,$D$18:$AT$25,35,FALSE),VLOOKUP(D158,$D$18:$AT$25,43,FALSE)))","v":""},{"$f":"IF(ISERROR(VLOOKUP(K158,$C$10:$AQ$25,31,FALSE))=TRUE,\"\",CONCATENATE(VLOOKUP(K158,$C$10:$AQ$25,38,FALSE),VLOOKUP(K158,$C$10:$AQ$25,42,FALSE)))","v":{"$error":"#REF!"}},"",null,"",null,null,null,null,null,"",null,null,null,null,null,""]
[null,null,null,3,"","","","","",null,"",{"$error":"#REF!"},"",null,"",null,null,null,null,null,"",null,null,null,null,null,""]
[null,null,null,4,"","","","","",null,"",{"$error":"#REF!"},"",null,"",null,null,null,null,null,"",null,null,null,null,null,""]
[null,null,null,5,"","","","","",null,"",{"$error":"#REF!"},"",null,"",null,null,null,null,null,"",null,null,null,null,null,""]
[null,null,null,6,"","","","","",null,"",{"$error":"#REF!"},"",null,"",null,null,null,null,null,"",null,null,null,null,null,"",null,"REFEREE'S SIGNATURE"]
[null,null,null,7,"","","","","",null,"",{"$error":"#REF!"},"",null,"",null,null,null,null,null,"",null,null,null,null,null,""]
[null,null,null,8,"","","","","",null,"",{"$error":"#REF!"},"",null,"",null,null,null,null,null,"",null,null,null,null,null,""]
["F15",null,null,null,"UK ATHLETICS: HEIGHT CARD"]
[{"$f":"VLOOKUP(A165,eventno,5,FALSE)","v":"M"},null,null,null,"MEETING ",null,{"$f":"CONCATENATE(MatchDay!$C$3,\"/\",MatchDay!$I$3)","v":"Northern Premier East/Northern 1 SE"},null,"VENUE ",null,null,{"$f":"MatchDay!$C$7","v":"Thornes Park Stadium, Wakefield"},null,null,null,null,null,null,null,null,null,null,null,null,null,null,"DATE ",null,null,{"$f":"MatchDay!$C$5","v":"Sunday 8th May 2011"}]
[{"$f":"IF(A166=\"M\",VLOOKUP(A165,males,15,FALSE),VLOOKUP(A165,females,15,FALSE))","v":42},null,null,null,"EVENT",null,{"$f":"CONCATENATE(A165,\" \",VLOOKUP(A165,eventno,4,FALSE))","v":"F15 U17M Pole Vault"},null,"TIME",null,null,{"$f":"VLOOKUP(A165,eventno,12,FALSE)","v":"13:30:00"},null,null,"Record",null,null,null,{"$f":"VLOOKUP(A165,eventno,7,FALSE)","v":5.2},null,null,null,null,"Duty",null,null,null,null,null,{"$f":"VLOOKUP(VLOOKUP(A165,eventno,13,FALSE),teamorder2,3,FALSE)","v":"2DASH"}]
[null,null,null,null,"Order","No","NAME","CLUB",{"$f":"VLOOKUP(A165,eventno,14,FALSE)","v":2},null,null,null,null,null,null,null,null,null,null,null,null,null,null,null,null,null,null,null,null,null,null,null,"Best of\nAll",null,"Trials at\nHt Cleared","Total \nFailures","Total\nTrials","Final\nPositionn",null,"A or B",null,"Tie"]
[null,null,null,null,null,null,null,null,"Metres",null,"Metres",null,"Metres",null,"Metres",null,"Metres",null,"Metres",null,"Metres",null,"Metres",null,"Metres",null,"Metres",null,"Metres",null,"Metres",null,"Metres",null,null,null,null,null,null,null,null,null,null,null,null,null,1,2,3,4,5,6,7,8,1,2,3,4,5,6,7,8]
[2,{"$f":"IF(OR(A170=0,A170=\"\"),\"\",VLOOKUP(A170,teamorder,2,FALSE))","v":8},{"$f":"IF(OR(AS170=0,AS170=\"\"),\"\",RANK(AS170,$AS$10:$AS$17,1))","v":""},null,1,{"$f":"IF(B170=0,\"\",B170)","v":8},{"$f":"IF(OR(F170=0,F170=\"\"),\"\",IF(A166=\"F\",HLOOKUP(F170,females,A167,FALSE),IF(A166=\"M\",HLOOKUP(F170,males,A167,FALSE),\"\")))","v":"-"},{"$f":"IF(OR(F170=0,F170=\"\"),\"\",VLOOKUP(F170,match_teams,4,FALSE))","v":"York"},null,null,null,null,null,null,null,null,null,null,null,null,null,null,null,null,null,null,null,null,null,null,null,null,0,null,null,null,null,0,{"$f":"IF(OR(AG170=0,AG170=\"\",AG170=\"NHC\"),\"\",IF(AG170=S167,\"LR=\",IF(AG170>S167,\"LR\",\"\")))","v":""},null,null,null,null,null,{"$f":"IF(OR(AL170=\"\",AL170=0),\"\",AL170+($AP170/10))","v":""},{"$f":"IF(OR(AL170=0,AL170=\"\"),\"\",HLOOKUP(AL170,$AU$9:$BB$26,18,FALSE))","v":""},{"$f":"IF($AL170=\"\",\"\",IF($AL170=AU$9,$AL170,\"\"))","v":""},{"$f":"IF($AL170=\"\",\"\",IF($AL170=AV$9,$AL170,\"\"))","v":""},"","","","","",""]
[3,{"$f":"IF(OR(A171=0,A171=\"\"),\"\",VLOOKUP(A171,teamorder,2,FALSE))","v":7},{"$f":"IF(OR(AS171=0,AS171=\"\"),\"\",RANK(AS171,$AS$10:$AS$17,1))","v":""},null,2,7,{"$f":"IF(OR(F171=0,F171=\"\"),\"\",IF(A166=\"F\",HLOOKUP(F171,females,A167,FALSE),IF(A166=\"M\",HLOOKUP(F171,males,A167,FALSE),\"\")))","v":"Andrew Russell"},"Leeds C",null,null,null,null,null,null,null,null,null,null,null,null,null,null,null,null,null,null,null,null,null,null,null,null,0,null,null,null,null,0,{"$f":"IF(OR(AG171=0,AG171=\"\",AG171=\"NHC\"),\"\",IF(AG171=S167,\"LR=\",IF(AG171>S167,\"LR\",\"\")))","v":""},null,null,null,null,null,{"$f":"IF(OR(AL171=\"\",AL171=0),\"\",AL171+($AP171/10))","v":""},{"$f":"IF(OR(AL171=0,AL171=\"\"),\"\",HLOOKUP(AL171,$AU$9:$BB$26,18,FALSE))","v":""},{"$f":"IF($AL171=\"\",\"\",IF($AL171=AU$9,$AL171,\"\"))","v":""},"","","","","","",""]
[1,{"$f":"IF(OR(A172=0,A172=\"\"),\"\",VLOOKUP(A172,teamorder,2,FALSE))","v":9},"",null,3,9,{"$f":"IF(OR(F172=0,F172=\"\"),\"\",IF(A166=\"F\",HLOOKUP(F172,females,A167,FALSE),IF(A166=\"M\",HLOOKUP(F172,males,A167,FALSE),\"\")))","v":"Michael Jones"},"Wake",null,null,null,null,null,null,null,null,null,null,null,null,null,null,null,null,null,null,null,null,null,null,null,null,0,null,null,null,null,0,{"$f":"IF(OR(AG172=0,AG172=\"\",AG172=\"NHC\"),\"\",IF(AG172=S167,\"LR=\",IF(AG172>S167,\"LR\",\"\")))","v":""},null,null,null,null,null,"","","","","","","","","",""]
[null,{"$f":"IF(T(B170)=\"\",B170*11,CONCATENATE(B170,B170))","v":88},"",null,4,88,{"$f":"IF(OR(F173=0,F173=\"\"),\"\",IF(A166=\"F\",HLOOKUP(F173,females,A167,FALSE),IF(A166=\"M\",HLOOKUP(F173,males,A167,FALSE),\"\")))","v":"-"},"York",null,null,null,null,null,null,null,null,null,null,null,null,null,null,null,null,null,null,null,null,null,null,null,null,0,null,null,null,null,0,{"$f":"IF(OR(AG173=0,AG173=\"\",AG173=\"NHC\"),\"\",IF(AG173=S167,\"LR=\",IF(AG173>S167,\"LR\",\"\")))","v":""},null,null,null,null,null,"","","","","","","","","",""]
[null,{"$f":"IF(T(B171)=\"\",B171*11,CONCATENATE(B171,B171))","v":77},"",null,5,77,{"$f":"IF(OR(F174=0,F174=\"\"),\"\",IF(A166=\"F\",HLOOKUP(F174,females,A167,FALSE),IF(A166=\"M\",HLOOKUP(F174,males,A167,FALSE),\"\")))","v":"-"},"Leeds C",null,null,null,null,null,null,null,null,null,null,null,null,null,null,null,null,null,null,null,null,null,null,null,null,0,null,null,null,null,0,{"$f":"IF(OR(AG174=0,AG174=\"\",AG174=\"NHC\"),\"\",IF(AG174=S167,\"LR=\",IF(AG174>S167,\"LR\",\"\")))","v":""},null,null,null,null,null,"","","","","","","","","",""]
[null,{"$f":"IF(T(B172)=\"\",B172*11,CONCATENATE(B172,B172))","v":99},"",null,6,99,{"$f":"IF(OR(F175=0,F175=\"\"),\"\",IF(A166=\"F\",HLOOKUP(F175,females,A167,FALSE),IF(A166=\"M\",HLOOKUP(F175,males,A167,FALSE),\"\")))","v":"-"},"Wake",null,null,null,null,null,null,null,null,null,null,null,null,null,null,null,null,null,null,null,null,null,null,null,null,0,null,null,null,null,0,{"$f":"IF(OR(AG175=0,AG175=\"\",AG175=\"NHC\"),\"\",IF(AG175=S167,\"LR=\",IF(AG175>S167,\"LR\",\"\")))","v":""},null,null,null,null,null,"","","","","","","","","",""]
[null,null,"",null,7,"",{"$f":"IF(OR(F176=0,F176=\"\"),\"\",IF(A166=\"F\",HLOOKUP(F176,females,A167,FALSE),IF(A166=\"M\",HLOOKUP(F176,males,A167,FALSE),\"\")))","v":""},"",null,null,null,null,null,null,null,null,null,null,null,null,null,null,null,null,null,null,null,null,null,null,null,null,0,null,null,null,null,0,{"$f":"IF(OR(AG176=0,AG176=\"\",AG176=\"NHC\"),\"\",IF(AG176=S167,\"LR=\",IF(AG176>S167,\"LR\",\"\")))","v":""},null,null,null,null,null,"","","","","","","","","",""]
[null,null,"",null,8,"",{"$f":"IF(OR(F177=0,F177=\"\"),\"\",IF(A166=\"F\",HLOOKUP(F177,females,A167,FALSE),IF(A166=\"M\",HLOOKUP(F177,males,A167,FALSE),\"\")))","v":""},"",null,null,null,null,null,null,null,null,null,null,null,null,null,null,null,null,null,null,null,null,null,null,null,null,0,null,null,null,null,0,{"$f":"IF(OR(AG177=0,AG177=\"\",AG177=\"NHC\"),\"\",IF(AG177=S167,\"LR=\",IF(AG177>S167,\"LR\",\"\")))","v":""},null,null,null,null,null,"","","","","","","","","",""]
[{"$f":"A170+3","v":5},{"$f":"IF(OR(A178=0,A178=\"\"),\"\",VLOOKUP(A178,teamorder2,2,FALSE))","v":2},null,{"$f":"IF(OR(AS178=0,AS178=\"\"),\"\",RANK(AS178,$AS$18:$AS$25,1))","v":""},1,2,{"$f":"IF(OR(F178=0,F178=\"\"),\"\",IF(A166=\"F\",HLOOKUP(F178,females2,A167,FALSE),IF(A166=\"M\",HLOOKUP(F178,males2,A167,FALSE),\"\")))","v":"-"},{"$f":"IF(OR(F178=0,F178=\"\"),\"\",VLOOKUP(F178,match_teams2,4,FALSE))","v":"Linc W"},null,null,null,null,null,null,null,null,null,null,null,null,null,null,null,null,null,null,null,null,null,null,null,null,0,null,null,null,null,0,{"$f":"IF(OR(AG178=0,AG178=\"\",AG178=\"NHC\"),\"\",IF(AG178=S167,\"LR=\",IF(AG178>S167,\"LR\",\"\")))","v":""},null,null,null,null,null,{"$f":"IF(OR(AL178=\"\",AL178=0),\"\",AL178+($AP178/10))","v":""},{"$f":"IF(OR(AL178=0,AL178=\"\"),\"\",HLOOKUP(AL178,$BC$9:$BJ$26,18,FALSE))","v":""},null,null,null,null,null,null,null,null,"","","","","","","",""]
[{"$f":"A171+3","v":6},{"$f":"IF(OR(A179=0,A179=\"\"),\"\",VLOOKUP(A179,teamorder2,2,FALSE))","v":3},null,{"$f":"IF(OR(AS179=0,AS179=\"\"),\"\",RANK(AS179,$AS$18:$AS$25,1))","v":""},2,3,{"$f":"IF(OR(F179=0,F179=\"\"),\"\",IF(A166=\"F\",HLOOKUP(F179,females2,A167,FALSE),IF(A166=\"M\",HLOOKUP(F179,males2,A167,FALSE),\"\")))","v":"-"},"Hallam",null,null,null,null,null,null,null,null,null,null,null,null,null,null,null,null,null,null,null,null,null,null,null,null,0,null,null,null,null,0,{"$f":"IF(OR(AG179=0,AG179=\"\",AG179=\"NHC\"),\"\",IF(AG179=S167,\"LR=\",IF(AG179>S167,\"LR\",\"\")))","v":""},null,null,null,null,null,{"$f":"IF(OR(AL179=\"\",AL179=0),\"\",AL179+($AP179/10))","v":""},{"$f":"IF(OR(AL179=0,AL179=\"\"),\"\",HLOOKUP(AL179,$BC$9:$BJ$26,18,FALSE))","v":""},null,null,null,null,null,null,null,null,"","","","","","","",""]
[{"$f":"A172+3","v":4},{"$f":"IF(OR(A180=0,A180=\"\"),\"\",VLOOKUP(A180,teamorder2,2,FALSE))","v":1},null,"",3,1,{"$f":"IF(OR(F180=0,F180=\"\"),\"\",IF(A166=\"F\",HLOOKUP(F180,females2,A167,FALSE),IF(A166=\"M\",HLOOKUP(F180,males2,A167,FALSE),\"\")))","v":"-"},"DASH",null,null,null,null,null,null,null,null,null,null,null,null,null,null,null,null,null,null,null,null,null,null,null,null,0,null,null,null,null,0,{"$f":"IF(OR(AG180=0,AG180=\"\",AG180=\"NHC\"),\"\",IF(AG180=S167,\"LR=\",IF(AG180>S167,\"LR\",\"\")))","v":""},null,null,null,null,null,"","",null,null,null,null,null,null,null,null,"","","","","","","",""]
[null,{"$f":"IF(T(B178)=\"\",B178*11,CONCATENATE(B178,B178))","v":22},null,"",4,22,{"$f":"IF(OR(F181=0,F181=\"\"),\"\",IF(A166=\"F\",HLOOKUP(F181,females2,A167,FALSE),IF(A166=\"M\",HLOOKUP(F181,males2,A167,FALSE),\"\")))","v":"-"},"Linc W",null,null,null,null,null,null,null,null,null,null,null,null,null,null,null,null,null,null,null,null,null,null,null,null,0,null,null,null,null,0,{"$f":"IF(OR(AG181=0,AG181=\"\",AG181=\"NHC\"),\"\",IF(AG181=S167,\"LR=\",IF(AG181>S167,\"LR\",\"\")))","v":""},null,null,null,null,null,"","",null,null,null,null,null,null,null,null,"","","","","","","",""]
[null,{"$f":"IF(T(B179)=\"\",B179*11,CONCATENATE(B179,B179))","v":33},null,"",5,33,{"$f":"IF(OR(F182=0,F182=\"\"),\"\",IF(A166=\"F\",HLOOKUP(F182,females2,A167,FALSE),IF(A166=\"M\",HLOOKUP(F182,males2,A167,FALSE),\"\")))","v":"-"},"Hallam",null,null,null,null,null,null,null,null,null,null,null,null,null,null,null,null,null,null,null,null,null,null,null,null,0,null,null,null,null,0,{"$f":"IF(OR(AG182=0,AG182=\"\",AG182=\"NHC\"),\"\",IF(AG182=S167,\"LR=\",IF(AG182>S167,\"LR\",\"\")))","v":""},null,null,null,null,null,"","",null,null,null,null,null,null,null,null,"","","","","","","",""]
[null,{"$f":"IF(T(B180)=\"\",B180*11,CONCATENATE(B180,B180))","v":11},null,"",6,11,{"$f":"IF(OR(F183=0,F183=\"\"),\"\",IF(A166=\"F\",HLOOKUP(F183,females2,A167,FALSE),IF(A166=\"M\",HLOOKUP(F183,males2,A167,FALSE),\"\")))","v":"-"},"DASH",null,null,null,null,null,null,null,null,null,null,null,null,null,null,null,null,null,null,null,null,null,null,null,null,0,null,null,null,null,0,{"$f":"IF(OR(AG183=0,AG183=\"\",AG183=\"NHC\"),\"\",IF(AG183=S167,\"LR=\",IF(AG183>S167,\"LR\",\"\")))","v":""},null,null,null,null,null,"","",null,null,null,null,null,null,null,null,"","","","","","","",""]
[null,0,null,"",7,"",{"$f":"IF(OR(F184=0,F184=\"\"),\"\",IF(A166=\"F\",HLOOKUP(F184,females2,A167,FALSE),IF(A166=\"M\",HLOOKUP(F184,males2,A167,FALSE),\"\")))","v":""},"",null,null,null,null,null,null,null,null,null,null,null,null,null,null,null,null,null,null,null,null,null,null,null,null,0,null,null,null,null,0,{"$f":"IF(OR(AG184=0,AG184=\"\",AG184=\"NHC\"),\"\",IF(AG184=S167,\"LR=\",IF(AG184>S167,\"LR\",\"\")))","v":""},null,null,null,null,null,"","",null,null,null,null,null,null,null,null,"","","","","","","",""]
[null,0,null,"",8,"",{"$f":"IF(OR(F185=0,F185=\"\"),\"\",IF(A166=\"F\",HLOOKUP(F185,females2,A167,FALSE),IF(A166=\"M\",HLOOKUP(F185,males2,A167,FALSE),\"\")))","v":""},"",null,null,null,null,null,null,null,null,null,null,null,null,null,null,null,null,null,null,null,null,null,null,null,null,0,null,null,null,null,0,{"$f":"IF(OR(AG185=0,AG185=\"\",AG185=\"NHC\"),\"\",IF(AG185=S167,\"LR=\",IF(AG185>S167,\"LR\",\"\")))","v":""},null,null,null,null,null,"","",null,null,null,null,null,null,null,null,"","","","","","","",""]
[null,null,null,null,null,null,null,null,null,null,null,null,null,null,null,null,null,null,null,null,null,null,null,null,null,null,null,null,null,null,null,null,null,null,null,null,null,null,null,null,null,null,null,null,null,null,{"$f":"IF(OR(COUNTIF(AU170:AU185,AU169)=0,COUNTIF(AU170:AU185,AU169)=\"\"),\"\",(REPT(\"=\",COUNTIF(AU170:AU185,AU169)-1)))","v":""},"","","","","","","","","","","","","","",""]
[null,null,null,null,"MATCH 1 RESULT",null,null,null,null,null,"MATCH 2 RESULT",null,null,null,null,null,null,null,null,null,null,null,null,null,null,null,null,null,"JUDGES' SIGNATURES"]
[null,null,null,null,"Posn","No.","NAME","CLUB","HEIGHT",null,"Posn",null,"No.",null,"NAME",null,null,null,null,null,"CLUB",null,null,null,null,null,"HEIGHT"]
[null,null,null,1,{"$f":"IF(ISERROR(VLOOKUP(D189,$C$10:$AT$17,31,FALSE))=TRUE,\"\",CONCATENATE(VLOOKUP(D189,$C$10:$AT$17,36,FALSE),VLOOKUP(D189,$C$10:$AT$17,44,FALSE)))","v":""},{"$f":"IF(ISERROR(VLOOKUP(D189,$C$10:$AH$17,31,FALSE))=TRUE,\"\",IF(VLOOKUP(D189,$C$10:$AH$17,31,FALSE)=0,\"\",IF(VLOOKUP(D189,$C$10:$AH$17,31,FALSE)=99,99,IF(VLOOKUP(D189,$C$10:$AH$17,31,FALSE)=97,97,IF(VLOOKUP(D189,$C$10:$AH$17,31,FALSE)=96,96,IF(VLOOKUP(D189,$C$10:$AH$17,31,FALSE)=95,95,VLOOKUP(D189,$C$10:$AH$17,4,FALSE)))))))","v":""},{"$f":"IF(ISERROR(VLOOKUP(D189,$C$10:$AH$17,31,FALSE))=TRUE,\"\",VLOOKUP(D189,$C$10:$AH$17,5,FALSE))","v":""},{"$f":"IF(ISERROR(VLOOKUP(D189,$C$10:$AH$17,31,FALSE))=TRUE,\"\",VLOOKUP(D189,$C$10:$AH$17,6,FALSE))","v":""},{"$f":"IF(ISERROR(VLOOKUP(D189,$C$10:$AH$17,31,FALSE))=TRUE,\"\",IF(VLOOKUP(D189,C$10:AH$17,31,FALSE)=0,0,IF(VLOOKUP(D189,C$10:AH$17,31,FALSE)>95.99,\"\",VLOOKUP(D189,C$10:AH$17,31,FALSE))))","v":""},null,{"$f":"IF(ISERROR(VLOOKUP(D189,$D$18:$AT$25,30,FALSE))=TRUE,\"\",CONCATENATE(VLOOKUP(D189,$D$18:$AT$25,35,FALSE),VLOOKUP(D189,$D$18:$AT$25,43,FALSE)))","v":""},{"$f":"IF(ISERROR(VLOOKUP(K189,$C$10:$AQ$25,31,FALSE))=TRUE,\"\",CONCATENATE(VLOOKUP(K189,$C$10:$AQ$25,38,FALSE),VLOOKUP(K189,$C$10:$AQ$25,42,FALSE)))","v":{"$error":"#REF!"}},{"$f":"IF(ISERROR(VLOOKUP(D189,$D$18:$AH$25,30,FALSE))=TRUE,\"\",IF(VLOOKUP(D189,$D$18:$AH$25,30,FALSE)=0,\"\",VLOOKUP(D189,$D$18:$AH$25,3,FALSE)))","v":""},null,{"$f":"IF(ISERROR(VLOOKUP(D189,$D$18:$AH$25,30,FALSE))=TRUE,\"\",VLOOKUP(D189,$D$18:$AH$25,4,FALSE))","v":""},null,null,null,null,null,{"$f":"IF(ISERROR(VLOOKUP(D189,$D$18:$AH$25,30,FALSE))=TRUE,\"\",VLOOKUP(D189,$D$18:$AH$25,5,FALSE))","v":""},null,null,null,null,null,{"$f":"IF(ISERROR(VLOOKUP(D189,$D$18:$AH$25,30,FALSE))=TRUE,\"\",IF(VLOOKUP(D189,$D$18:$AH$25,30,FALSE)=0,\"\",VLOOKUP(D189,$D$18:$AH$25,30,FALSE)))","v":""}]
[null,null,null,2,{"$f":"IF(ISERROR(VLOOKUP(D190,$C$10:$AT$17,31,FALSE))=TRUE,\"\",CONCATENATE(VLOOKUP(D190,$C$10:$AT$17,36,FALSE),VLOOKUP(D190,$C$10:$AT$17,44,FALSE)))","v":""},{"$f":"IF(ISERROR(VLOOKUP(D190,$C$10:$AH$17,31,FALSE))=TRUE,\"\",IF(VLOOKUP(D190,$C$10:$AH$17,31,FALSE)=0,\"\",IF(VLOOKUP(D190,$C$10:$AH$17,31,FALSE)=99,99,IF(VLOOKUP(D190,$C$10:$AH$17,31,FALSE)=97,97,IF(VLOOKUP(D190,$C$10:$AH$17,31,FALSE)=96,96,VLOOKUP(D190,$C$10:$AH$17,4,FALSE))))))","v":""},"","","",null,{"$f":"IF(ISERROR(VLOOKUP(D190,$D$18:$AT$25,30,FALSE))=TRUE,\"\",CONCATENATE(VLOOKUP(D190,$D$18:$AT$25,35,FALSE),VLOOKUP(D190,$D$18:$AT$25,43,FALSE)))","v":""},{"$f":"IF(ISERROR(VLOOKUP(K190,$C$10:$AQ$25,31,FALSE))=TRUE,\"\",CONCATENATE(VLOOKUP(K190,$C$10:$AQ$25,38,FALSE),VLOOKUP(K190,$C$10:$AQ$25,42,FALSE)))","v":{"$error":"#REF!"}},"",null,"",null,null,null,null,null,"",null,null,null,null,null,""]
[null,null,null,3,"","","","","",null,"",{"$error":"#REF!"},"",null,"",null,null,null,null,null,"",null,null,null,null,null,""]
[null,null,null,4,"","","","","",null,"",{"$error":"#REF!"},"",null,"",null,null,null,null,null,"",null,null,null,null,null,""]
[null,null,null,5,"","","","","",null,"",{"$error":"#REF!"},"",null,"",null,null,null,null,null,"",null,null,null,null,null,""]
[null,null,null,6,"","","","","",null,"",{"$error":"#REF!"},"",null,"",null,null,null,null,null,"",null,null,null,null,null,"",null,"REFEREE'S SIGNATURE"]
[null,null,null,7,"","","","","",null,"",{"$error":"#REF!"},"",null,"",null,null,null,null,null,"",null,null,null,null,null,""]
[null,null,null,8,"","","","","",null,"",{"$error":"#REF!"},"",null,"",null,null,null,null,null,"",null,null,null,null,null,""]
["F16",null,null,null,"UK ATHLETICS: HEIGHT CARD"]
[{"$f":"VLOOKUP(A197,eventno,5,FALSE)","v":"F"},null,null,null,"MEETING ",null,{"$f":"CONCATENATE(MatchDay!$C$3,\"/\",MatchDay!$I$3)","v":"Northern Premier East/Northern 1 SE"},null,"VENUE ",null,null,{"$f":"MatchDay!$C$7","v":"Thornes Park Stadium, Wakefield"},null,null,null,null,null,null,null,null,null,null,null,null,null,null,"DATE ",null,null,{"$f":"MatchDay!$C$5","v":"Sunday 8th May 2011"}]
[{"$f":"IF(A198=\"M\",VLOOKUP(A197,males,15,FALSE),VLOOKUP(A197,females,15,FALSE))","v":41},null,null,null,"EVENT",null,{"$f":"CONCATENATE(A197,\" \",VLOOKUP(A197,eventno,4,FALSE))","v":"F16 U15G Pole Vault"},null,"TIME",null,null,{"$f":"VLOOKUP(A197,eventno,12,FALSE)","v":"13:30:00"},null,null,"Record",null,null,null,{"$f":"VLOOKUP(A197,eventno,7,FALSE)","v":3.3},null,null,null,null,"Duty",null,null,null,null,null,{"$f":"VLOOKUP(VLOOKUP(A197,eventno,13,FALSE),teamorder2,3,FALSE)","v":"2DASH"}]
[null,null,null,null,"Order","No","NAME","CLUB",{"$f":"VLOOKUP(A197,eventno,14,FALSE)","v":1.7},null,null,null,null,null,null,null,null,null,null,null,null,null,null,null,null,null,null,null,null,null,null,null,"Best of\nAll",null,"Trials at\nHt Cleared","Total \nFailures","Total\nTrials","Final\nPositionn",null,"A or B",null,"Tie"]
[null,null,null,null,null,null,null,null,"Metres",null,"Metres",null,"Metres",null,"Metres",null,"Metres",null,"Metres",null,"Metres",null,"Metres",null,"Metres",null,"Metres",null,"Metres",null,"Metres",null,"Metres",null,null,null,null,null,null,null,null,null,null,null,null,null,1,2,3,4,5,6,7,8,1,2,3,4,5,6,7,8]
[3,{"$f":"IF(OR(A202=0,A202=\"\"),\"\",VLOOKUP(A202,teamorder,2,FALSE))","v":7},{"$f":"IF(OR(AS202=0,AS202=\"\"),\"\",RANK(AS202,$AS$10:$AS$17,1))","v":""},null,1,{"$f":"IF(B202=0,\"\",B202)","v":7},{"$f":"IF(OR(F202=0,F202=\"\"),\"\",IF(A198=\"F\",HLOOKUP(F202,females,A199,FALSE),IF(A198=\"M\",HLOOKUP(F202,males,A199,FALSE),\"\")))","v":"Vikki Adams"},{"$f":"IF(OR(F202=0,F202=\"\"),\"\",VLOOKUP(F202,match_teams,4,FALSE))","v":"Leeds C"},null,null,null,null,null,null,null,null,null,null,null,null,null,null,null,null,null,null,null,null,null,null,null,null,0,null,null,null,null,0,{"$f":"IF(OR(AG202=0,AG202=\"\",AG202=\"NHC\"),\"\",IF(AG202=S199,\"LR=\",IF(AG202>S199,\"LR\",\"\")))","v":""},null,null,null,null,null,{"$f":"IF(OR(AL202=\"\",AL202=0),\"\",AL202+($AP202/10))","v":""},{"$f":"IF(OR(AL202=0,AL202=\"\"),\"\",HLOOKUP(AL202,$AU$9:$BB$26,18,FALSE))","v":""},{"$f":"IF($AL202=\"\",\"\",IF($AL202=AU$9,$AL202,\"\"))","v":""},{"$f":"IF($AL202=\"\",\"\",IF($AL202=AV$9,$AL202,\"\"))","v":""},"","","","","",""]
[1,{"$f":"IF(OR(A203=0,A203=\"\"),\"\",VLOOKUP(A203,teamorder,2,FALSE))","v":9},{"$f":"IF(OR(AS203=0,AS203=\"\"),\"\",RANK(AS203,$AS$10:$AS$17,1))","v":""},null,2,9,{"$f":"IF(OR(F203=0,F203=\"\"),\"\",IF(A198=\"F\",HLOOKUP(F203,females,A199,FALSE),IF(A198=\"M\",HLOOKUP(F203,males,A199,FALSE),\"\")))","v":"Abigail Roberts"},"Wake",null,null,null,null,null,null,null,null,null,null,null,null,null,null,null,null,null,null,null,null,null,null,null,null,0,null,null,null,null,0,{"$f":"IF(OR(AG203=0,AG203=\"\",AG203=\"NHC\"),\"\",IF(AG203=S199,\"LR=\",IF(AG203>S199,\"LR\",\"\")))","v":""},null,null,null,null,null,{"$f":"IF(OR(AL203=\"\",AL203=0),\"\",AL203+($AP203/10))","v":""},{"$f":"IF(OR(AL203=0,AL203=\"\"),\"\",HLOOKUP(AL203,$AU$9:$BB$26,18,FALSE))","v":""},{"$f":"IF($AL203=\"\",\"\",IF($AL203=AU$9,$AL203,\"\"))","v":""},"","","","","","",""]
[2,{"$f":"IF(OR(A204=0,A204=\"\"),\"\",VLOOKUP(A204,teamorder,2,FALSE))","v":8},"",null,3,8,{"$f":"IF(OR(F204=0,F204=\"\"),\"\",IF(A198=\"F\",HLOOKUP(F204,females,A199,FALSE),IF(A198=\"M\",HLOOKUP(F204,males,A199,FALSE),\"\")))","v":"-"},"York",null,null,null,null,null,null,null,null,null,null,null,null,null,null,null,null,null,null,null,null,null,null,null,null,0,null,null,null,null,0,{"$f":"IF(OR(AG204=0,AG204=\"\",AG204=\"NHC\"),\"\",IF(AG204=S199,\"LR=\",IF(AG204>S199,\"LR\",\"\")))","v":""},null,null,null,null,null,"","","","","","","","","",""]
[null,{"$f":"IF(T(B202)=\"\",B202*11,CONCATENATE(B202,B202))","v":77},"",null,4,77,{"$f":"IF(OR(F205=0,F205=\"\"),\"\",IF(A198=\"F\",HLOOKUP(F205,females,A199,FALSE),IF(A198=\"M\",HLOOKUP(F205,males,A199,FALSE),\"\")))","v":"-"},"Leeds C",null,null,null,null,null,null,null,null,null,null,null,null,null,null,null,null,null,null,null,null,null,null,null,null,0,null,null,null,null,0,{"$f":"IF(OR(AG205=0,AG205=\"\",AG205=\"NHC\"),\"\",IF(AG205=S199,\"LR=\",IF(AG205>S199,\"LR\",\"\")))","v":""},null,null,null,null,null,"","","","","","","","","",""]
[null,{"$f":"IF(T(B203)=\"\",B203*11,CONCATENATE(B203,B203))","v":99},"",null,5,99,{"$f":"IF(OR(F206=0,F206=\"\"),\"\",IF(A198=\"F\",HLOOKUP(F206,females,A199,FALSE),IF(A198=\"M\",HLOOKUP(F206,males,A199,FALSE),\"\")))","v":"Bethany Taylor"},"Wake",null,null,null,null,null,null,null,null,null,null,null,null,null,null,null,null,null,null,null,null,null,null,null,null,0,null,null,null,null,0,{"$f":"IF(OR(AG206=0,AG206=\"\",AG206=\"NHC\"),\"\",IF(AG206=S199,\"LR=\",IF(AG206>S199,\"LR\",\"\")))","v":""},null,null,null,null,null,"","","","","","","","","",""]
[null,{"$f":"IF(T(B204)=\"\",B204*11,CONCATENATE(B204,B204))","v":88},"",null,6,88,{"$f":"IF(OR(F207=0,F207=\"\"),\"\",IF(A198=\"F\",HLOOKUP(F207,females,A199,FALSE),IF(A198=\"M\",HLOOKUP(F207,males,A199,FALSE),\"\")))","v":"-"},"York",null,null,null,null,null,null,null,null,null,null,null,null,null,null,null,null,null,null,null,null,null,null,null,null,0,null,null,null,null,0,{"$f":"IF(OR(AG207=0,AG207=\"\",AG207=\"NHC\"),\"\",IF(AG207=S199,\"LR=\",IF(AG207>S199,\"LR\",\"\")))","v":""},null,null,null,null,null,"","","","","","","","","",""]
[null,null,"",null,7,"",{"$f":"IF(OR(F208=0,F208=\"\"),\"\",IF(A198=\"F\",HLOOKUP(F208,females,A199,FALSE),IF(A198=\"M\",HLOOKUP(F208,males,A199,FALSE),\"\")))","v":""},"",null,null,null,null,null,null,null,null,null,null,null,null,null,null,null,null,null,null,null,null,null,null,null,null,0,null,null,null,null,0,{"$f":"IF(OR(AG208=0,AG208=\"\",AG208=\"NHC\"),\"\",IF(AG208=S199,\"LR=\",IF(AG208>S199,\"LR\",\"\")))","v":""},null,null,null,null,null,"","","","","","","","","",""]
[null,null,"",null,8,"",{"$f":"IF(OR(F209=0,F209=\"\"),\"\",IF(A198=\"F\",HLOOKUP(F209,females,A199,FALSE),IF(A198=\"M\",HLOOKUP(F209,males,A199,FALSE),\"\")))","v":""},"",null,null,null,null,null,null,null,null,null,null,null,null,null,null,null,null,null,null,null,null,null,null,null,null,0,null,null,null,null,0,{"$f":"IF(OR(AG209=0,AG209=\"\",AG209=\"NHC\"),\"\",IF(AG209=S199,\"LR=\",IF(AG209>S199,\"LR\",\"\")))","v":""},null,null,null,null,null,"","","","","","","","","",""]
[{"$f":"A202+3","v":6},{"$f":"IF(OR(A210=0,A210=\"\"),\"\",VLOOKUP(A210,teamorder2,2,FALSE))","v":3},null,{"$f":"IF(OR(AS210=0,AS210=\"\"),\"\",RANK(AS210,$AS$18:$AS$25,1))","v":""},1,3,{"$f":"IF(OR(F210=0,F210=\"\"),\"\",IF(A198=\"F\",HLOOKUP(F210,females2,A199,FALSE),IF(A198=\"M\",HLOOKUP(F210,males2,A199,FALSE),\"\")))","v":"-"},{"$f":"IF(OR(F210=0,F210=\"\"),\"\",VLOOKUP(F210,match_teams2,4,FALSE))","v":"Hallam"},null,null,null,null,null,null,null,null,null,null,null,null,null,null,null,null,null,null,null,null,null,null,null,null,0,null,null,null,null,0,{"$f":"IF(OR(AG210=0,AG210=\"\",AG210=\"NHC\"),\"\",IF(AG210=S199,\"LR=\",IF(AG210>S199,\"LR\",\"\")))","v":""},null,null,null,null,null,{"$f":"IF(OR(AL210=\"\",AL210=0),\"\",AL210+($AP210/10))","v":""},{"$f":"IF(OR(AL210=0,AL210=\"\"),\"\",HLOOKUP(AL210,$BC$9:$BJ$26,18,FALSE))","v":""},null,null,null,null,null,null,null,null,"","","","","","","",""]
[{"$f":"A203+3","v":4},{"$f":"IF(OR(A211=0,A211=\"\"),\"\",VLOOKUP(A211,teamorder2,2,FALSE))","v":1},null,{"$f":"IF(OR(AS211=0,AS211=\"\"),\"\",RANK(AS211,$AS$18:$AS$25,1))","v":""},2,1,{"$f":"IF(OR(F211=0,F211=\"\"),\"\",IF(A198=\"F\",HLOOKUP(F211,females2,A199,FALSE),IF(A198=\"M\",HLOOKUP(F211,males2,A199,FALSE),\"\")))","v":"-"},"DASH",null,null,null,null,null,null,null,null,null,null,null,null,null,null,null,null,null,null,null,null,null,null,null,null,0,null,null,null,null,0,{"$f":"IF(OR(AG211=0,AG211=\"\",AG211=\"NHC\"),\"\",IF(AG211=S199,\"LR=\",IF(AG211>S199,\"LR\",\"\")))","v":""},null,null,null,null,null,{"$f":"IF(OR(AL211=\"\",AL211=0),\"\",AL211+($AP211/10))","v":""},{"$f":"IF(OR(AL211=0,AL211=\"\"),\"\",HLOOKUP(AL211,$BC$9:$BJ$26,18,FALSE))","v":""},null,null,null,null,null,null,null,null,"","","","","","","",""]
[{"$f":"A204+3","v":5},{"$f":"IF(OR(A212=0,A212=\"\"),\"\",VLOOKUP(A212,teamorder2,2,FALSE))","v":2},null,"",3,2,{"$f":"IF(OR(F212=0,F212=\"\"),\"\",IF(A198=\"F\",HLOOKUP(F212,females2,A199,FALSE),IF(A198=\"M\",HLOOKUP(F212,males2,A199,FALSE),\"\")))","v":"-"},"Linc W",null,null,null,null,null,null,null,null,null,null,null,null,null,null,null,null,null,null,null,null,null,null,null,null,0,null,null,null,null,0,{"$f":"IF(OR(AG212=0,AG212=\"\",AG212=\"NHC\"),\"\",IF(AG212=S199,\"LR=\",IF(AG212>S199,\"LR\",\"\")))","v":""},null,null,null,null,null,"","",null,null,null,null,null,null,null,null,"","","","","","","",""]
[null,{"$f":"IF(T(B210)=\"\",B210*11,CONCATENATE(B210,B210))","v":33},null,"",4,33,{"$f":"IF(OR(F213=0,F213=\"\"),\"\",IF(A198=\"F\",HLOOKUP(F213,females2,A199,FALSE),IF(A198=\"M\",HLOOKUP(F213,males2,A199,FALSE),\"\")))","v":"-"},"Hallam",null,null,null,null,null,null,null,null,null,null,null,null,null,null,null,null,null,null,null,null,null,null,null,null,0,null,null,null,null,0,{"$f":"IF(OR(AG213=0,AG213=\"\",AG213=\"NHC\"),\"\",IF(AG213=S199,\"LR=\",IF(AG213>S199,\"LR\",\"\")))","v":""},null,null,null,null,null,"","",null,null,null,null,null,null,null,null,"","","","","","","",""]
[null,{"$f":"IF(T(B211)=\"\",B211*11,CONCATENATE(B211,B211))","v":11},null,"",5,11,{"$f":"IF(OR(F214=0,F214=\"\"),\"\",IF(A198=\"F\",HLOOKUP(F214,females2,A199,FALSE),IF(A198=\"M\",HLOOKUP(F214,males2,A199,FALSE),\"\")))","v":"-"},"DASH",null,null,null,null,null,null,null,null,null,null,null,null,null,null,null,null,null,null,null,null,null,null,null,null,0,null,null,null,null,0,{"$f":"IF(OR(AG214=0,AG214=\"\",AG214=\"NHC\"),\"\",IF(AG214=S199,\"LR=\",IF(AG214>S199,\"LR\",\"\")))","v":""},null,null,null,null,null,"","",null,null,null,null,null,null,null,null,"","","","","","","",""]
[null,{"$f":"IF(T(B212)=\"\",B212*11,CONCATENATE(B212,B212))","v":22},null,"",6,22,{"$f":"IF(OR(F215=0,F215=\"\"),\"\",IF(A198=\"F\",HLOOKUP(F215,females2,A199,FALSE),IF(A198=\"M\",HLOOKUP(F215,males2,A199,FALSE),\"\")))","v":"-"},"Linc W",null,null,null,null,null,null,null,null,null,null,null,null,null,null,null,null,null,null,null,null,null,null,null,null,0,null,null,null,null,0,{"$f":"IF(OR(AG215=0,AG215=\"\",AG215=\"NHC\"),\"\",IF(AG215=S199,\"LR=\",IF(AG215>S199,\"LR\",\"\")))","v":""},null,null,null,null,null,"","",null,null,null,null,null,null,null,null,"","","","","","","",""]
[null,0,null,"",7,"",{"$f":"IF(OR(F216=0,F216=\"\"),\"\",IF(A198=\"F\",HLOOKUP(F216,females2,A199,FALSE),IF(A198=\"M\",HLOOKUP(F216,males2,A199,FALSE),\"\")))","v":""},"",null,null,null,null,null,null,null,null,null,null,null,null,null,null,null,null,null,null,null,null,null,null,null,null,0,null,null,null,null,0,{"$f":"IF(OR(AG216=0,AG216=\"\",AG216=\"NHC\"),\"\",IF(AG216=S199,\"LR=\",IF(AG216>S199,\"LR\",\"\")))","v":""},null,null,null,null,null,"","",null,null,null,null,null,null,null,null,"","","","","","","",""]
[null,0,null,"",8,"",{"$f":"IF(OR(F217=0,F217=\"\"),\"\",IF(A198=\"F\",HLOOKUP(F217,females2,A199,FALSE),IF(A198=\"M\",HLOOKUP(F217,males2,A199,FALSE),\"\")))","v":""},"",null,null,null,null,null,null,null,null,null,null,null,null,null,null,null,null,null,null,null,null,null,null,null,null,0,null,null,null,null,0,{"$f":"IF(OR(AG217=0,AG217=\"\",AG217=\"NHC\"),\"\",IF(AG217=S199,\"LR=\",IF(AG217>S199,\"LR\",\"\")))","v":""},null,null,null,null,null,"","",null,null,null,null,null,null,null,null,"","","","","","","",""]
[null,null,null,null,null,null,null,null,null,null,null,null,null,null,null,null,null,null,null,null,null,null,null,null,null,null,null,null,null,null,null,null,null,null,null,null,null,null,null,null,null,null,null,null,null,null,{"$f":"IF(OR(COUNTIF(AU202:AU217,AU201)=0,COUNTIF(AU202:AU217,AU201)=\"\"),\"\",(REPT(\"=\",COUNTIF(AU202:AU217,AU201)-1)))","v":""},"","","","","","","","","","","","","","",""]
[null,null,null,null,"MATCH 1 RESULT",null,null,null,null,null,"MATCH 2 RESULT",null,null,null,null,null,null,null,null,null,null,null,null,null,null,null,null,null,"JUDGES' SIGNATURES"]
[null,null,null,null,"Posn","No.","NAME","CLUB","HEIGHT",null,"Posn",null,"No.",null,"NAME",null,null,null,null,null,"CLUB",null,null,null,null,null,"HEIGHT"]
[null,null,null,1,{"$f":"IF(ISERROR(VLOOKUP(D221,$C$10:$AT$17,31,FALSE))=TRUE,\"\",CONCATENATE(VLOOKUP(D221,$C$10:$AT$17,36,FALSE),VLOOKUP(D221,$C$10:$AT$17,44,FALSE)))","v":""},{"$f":"IF(ISERROR(VLOOKUP(D221,$C$10:$AH$17,31,FALSE))=TRUE,\"\",IF(VLOOKUP(D221,$C$10:$AH$17,31,FALSE)=0,\"\",IF(VLOOKUP(D221,$C$10:$AH$17,31,FALSE)=99,99,IF(VLOOKUP(D221,$C$10:$AH$17,31,FALSE)=97,97,IF(VLOOKUP(D221,$C$10:$AH$17,31,FALSE)=96,96,IF(VLOOKUP(D221,$C$10:$AH$17,31,FALSE)=95,95,VLOOKUP(D221,$C$10:$AH$17,4,FALSE)))))))","v":""},{"$f":"IF(ISERROR(VLOOKUP(D221,$C$10:$AH$17,31,FALSE))=TRUE,\"\",VLOOKUP(D221,$C$10:$AH$17,5,FALSE))","v":""},{"$f":"IF(ISERROR(VLOOKUP(D221,$C$10:$AH$17,31,FALSE))=TRUE,\"\",VLOOKUP(D221,$C$10:$AH$17,6,FALSE))","v":""},{"$f":"IF(ISERROR(VLOOKUP(D221,$C$10:$AH$17,31,FALSE))=TRUE,\"\",IF(VLOOKUP(D221,C$10:AH$17,31,FALSE)=0,0,IF(VLOOKUP(D221,C$10:AH$17,31,FALSE)>95.99,\"\",VLOOKUP(D221,C$10:AH$17,31,FALSE))))","v":""},null,{"$f":"IF(ISERROR(VLOOKUP(D221,$D$18:$AT$25,30,FALSE))=TRUE,\"\",CONCATENATE(VLOOKUP(D221,$D$18:$AT$25,35,FALSE),VLOOKUP(D221,$D$18:$AT$25,43,FALSE)))","v":""},{"$f":"IF(ISERROR(VLOOKUP(K221,$C$10:$AQ$25,31,FALSE))=TRUE,\"\",CONCATENATE(VLOOKUP(K221,$C$10:$AQ$25,38,FALSE),VLOOKUP(K221,$C$10:$AQ$25,42,FALSE)))","v":{"$error":"#REF!"}},{"$f":"IF(ISERROR(VLOOKUP(D221,$D$18:$AH$25,30,FALSE))=TRUE,\"\",IF(VLOOKUP(D221,$D$18:$AH$25,30,FALSE)=0,\"\",VLOOKUP(D221,$D$18:$AH$25,3,FALSE)))","v":""},null,{"$f":"IF(ISERROR(VLOOKUP(D221,$D$18:$AH$25,30,FALSE))=TRUE,\"\",VLOOKUP(D221,$D$18:$AH$25,4,FALSE))","v":""},null,null,null,null,null,{"$f":"IF(ISERROR(VLOOKUP(D221,$D$18:$AH$25,30,FALSE))=TRUE,\"\",VLOOKUP(D221,$D$18:$AH$25,5,FALSE))","v":""},null,null,null,null,null,{"$f":"IF(ISERROR(VLOOKUP(D221,$D$18:$AH$25,30,FALSE))=TRUE,\"\",IF(VLOOKUP(D221,$D$18:$AH$25,30,FALSE)=0,\"\",VLOOKUP(D221,$D$18:$AH$25,30,FALSE)))","v":""}]
[null,null,null,2,{"$f":"IF(ISERROR(VLOOKUP(D222,$C$10:$AT$17,31,FALSE))=TRUE,\"\",CONCATENATE(VLOOKUP(D222,$C$10:$AT$17,36,FALSE),VLOOKUP(D222,$C$10:$AT$17,44,FALSE)))","v":""},{"$f":"IF(ISERROR(VLOOKUP(D222,$C$10:$AH$17,31,FALSE))=TRUE,\"\",IF(VLOOKUP(D222,$C$10:$AH$17,31,FALSE)=0,\"\",IF(VLOOKUP(D222,$C$10:$AH$17,31,FALSE)=99,99,IF(VLOOKUP(D222,$C$10:$AH$17,31,FALSE)=97,97,IF(VLOOKUP(D222,$C$10:$AH$17,31,FALSE)=96,96,VLOOKUP(D222,$C$10:$AH$17,4,FALSE))))))","v":""},"","","",null,{"$f":"IF(ISERROR(VLOOKUP(D222,$D$18:$AT$25,30,FALSE))=TRUE,\"\",CONCATENATE(VLOOKUP(D222,$D$18:$AT$25,35,FALSE),VLOOKUP(D222,$D$18:$AT$25,43,FALSE)))","v":""},{"$f":"IF(ISERROR(VLOOKUP(K222,$C$10:$AQ$25,31,FALSE))=TRUE,\"\",CONCATENATE(VLOOKUP(K222,$C$10:$AQ$25,38,FALSE),VLOOKUP(K222,$C$10:$AQ$25,42,FALSE)))","v":{"$error":"#REF!"}},"",null,"",null,null,null,null,null,"",null,null,null,null,null,""]
[null,null,null,3,"","","","","",null,"",{"$error":"#REF!"},"",null,"",null,null,null,null,null,"",null,null,null,null,null,""]
[null,null,null,4,"","","","","",null,"",{"$error":"#REF!"},"",null,"",null,null,null,null,null,"",null,null,null,null,null,""]
[null,null,null,5,"","","","","",null,"",{"$error":"#REF!"},"",null,"",null,null,null,null,null,"",null,null,null,null,null,""]
[null,null,null,6,"","","","","",null,"",{"$error":"#REF!"},"",null,"",null,null,null,null,null,"",null,null,null,null,null,"",null,"REFEREE'S SIGNATURE"]
[null,null,null,7,"","","","","",null,"",{"$error":"#REF!"},"",null,"",null,null,null,null,null,"",null,null,null,null,null,""]
[null,null,null,8,"","","","","",null,"",{"$error":"#REF!"},"",null,"",null,null,null,null,null,"",null,null,null,null,null,""]
["F17",null,null,null,"UK ATHLETICS: HEIGHT CARD"]
[{"$f":"VLOOKUP(A229,eventno,5,FALSE)","v":"F"},null,null,null,"MEETING ",null,{"$f":"CONCATENATE(MatchDay!$C$3,\"/\",MatchDay!$I$3)","v":"Northern Premier East/Northern 1 SE"},null,"VENUE ",null,null,{"$f":"MatchDay!$C$7","v":"Thornes Park Stadium, Wakefield"},null,null,null,null,null,null,null,null,null,null,null,null,null,null,"DATE ",null,null,{"$f":"MatchDay!$C$5","v":"Sunday 8th May 2011"}]
[{"$f":"IF(A230=\"M\",VLOOKUP(A229,males,15,FALSE),VLOOKUP(A229,females,15,FALSE))","v":42},null,null,null,"EVENT",null,{"$f":"CONCATENATE(A229,\" \",VLOOKUP(A229,eventno,4,FALSE))","v":"F17 U17W Pole Vault"},null,"TIME",null,null,{"$f":"VLOOKUP(A229,eventno,12,FALSE)","v":"13:30:00"},null,null,"Record",null,null,null,{"$f":"VLOOKUP(A229,eventno,7,FALSE)","v":4.03},null,null,null,null,"Duty",null,null,null,null,null,{"$f":"VLOOKUP(VLOOKUP(A229,eventno,13,FALSE),teamorder2,3,FALSE)","v":"2DASH"}]
[null,null,null,null,"Order","No","NAME","CLUB",{"$f":"VLOOKUP(A229,eventno,14,FALSE)","v":1.7},null,null,null,null,null,null,null,null,null,null,null,null,null,null,null,null,null,null,null,null,null,null,null,"Best of\nAll",null,"Trials at\nHt Cleared","Total \nFailures","Total\nTrials","Final\nPositionn",null,"A or B",null,"Tie"]
[null,null,null,null,null,null,null,null,"Metres",null,"Metres",null,"Metres",null,"Metres",null,"Metres",null,"Metres",null,"Metres",null,"Metres",null,"Metres",null,"Metres",null,"Metres",null,"Metres",null,"Metres",null,null,null,null,null,null,null,null,null,null,null,null,null,1,2,3,4,5,6,7,8,1,2,3,4,5,6,7,8]
[2,{"$f":"IF(OR(A234=0,A234=\"\"),\"\",VLOOKUP(A234,teamorder,2,FALSE))","v":8},{"$f":"IF(OR(AS234=0,AS234=\"\"),\"\",RANK(AS234,$AS$10:$AS$17,1))","v":""},null,1,{"$f":"IF(B234=0,\"\",B234)","v":8},{"$f":"IF(OR(F234=0,F234=\"\"),\"\",IF(A230=\"F\",HLOOKUP(F234,females,A231,FALSE),IF(A230=\"M\",HLOOKUP(F234,males,A231,FALSE),\"\")))","v":"-"},{"$f":"IF(OR(F234=0,F234=\"\"),\"\",VLOOKUP(F234,match_teams,4,FALSE))","v":"York"},null,null,null,null,null,null,null,null,null,null,null,null,null,null,null,null,null,null,null,null,null,null,null,null,0,null,null,null,null,0,{"$f":"IF(OR(AG234=0,AG234=\"\",AG234=\"NHC\"),\"\",IF(AG234=S231,\"LR=\",IF(AG234>S231,\"LR\",\"\")))","v":""},null,null,null,null,null,{"$f":"IF(OR(AL234=\"\",AL234=0),\"\",AL234+($AP234/10))","v":""},{"$f":"IF(OR(AL234=0,AL234=\"\"),\"\",HLOOKUP(AL234,$AU$9:$BB$26,18,FALSE))","v":""},{"$f":"IF($AL234=\"\",\"\",IF($AL234=AU$9,$AL234,\"\"))","v":""},{"$f":"IF($AL234=\"\",\"\",IF($AL234=AV$9,$AL234,\"\"))","v":""},"","","","","",""]
[3,{"$f":"IF(OR(A235=0,A235=\"\"),\"\",VLOOKUP(A235,teamorder,2,FALSE))","v":7},{"$f":"IF(OR(AS235=0,AS235=\"\"),\"\",RANK(AS235,$AS$10:$AS$17,1))","v":""},null,2,7,{"$f":"IF(OR(F235=0,F235=\"\"),\"\",IF(A230=\"F\",HLOOKUP(F235,females,A231,FALSE),IF(A230=\"M\",HLOOKUP(F235,males,A231,FALSE),\"\")))","v":"-"},"Leeds C",null,null,null,null,null,null,null,null,null,null,null,null,null,null,null,null,null,null,null,null,null,null,null,null,0,null,null,null,null,0,{"$f":"IF(OR(AG235=0,AG235=\"\",AG235=\"NHC\"),\"\",IF(AG235=S231,\"LR=\",IF(AG235>S231,\"LR\",\"\")))","v":""},null,null,null,null,null,{"$f":"IF(OR(AL235=\"\",AL235=0),\"\",AL235+($AP235/10))","v":""},{"$f":"IF(OR(AL235=0,AL235=\"\"),\"\",HLOOKUP(AL235,$AU$9:$BB$26,18,FALSE))","v":""},{"$f":"IF($AL235=\"\",\"\",IF($AL235=AU$9,$AL235,\"\"))","v":""},"","","","","","",""]
[1,{"$f":"IF(OR(A236=0,A236=\"\"),\"\",VLOOKUP(A236,teamorder,2,FALSE))","v":9},"",null,3,9,{"$f":"IF(OR(F236=0,F236=\"\"),\"\",IF(A230=\"F\",HLOOKUP(F236,females,A231,FALSE),IF(A230=\"M\",HLOOKUP(F236,males,A231,FALSE),\"\")))","v":"Sally Spurr"},"Wake",null,null,null,null,null,null,null,null,null,null,null,null,null,null,null,null,null,null,null,null,null,null,null,null,0,null,null,null,null,0,{"$f":"IF(OR(AG236=0,AG236=\"\",AG236=\"NHC\"),\"\",IF(AG236=S231,\"LR=\",IF(AG236>S231,\"LR\",\"\")))","v":""},null,null,null,null,null,"","","","","","","","","",""]
[null,{"$f":"IF(T(B234)=\"\",B234*11,CONCATENATE(B234,B234))","v":88},"",null,4,88,{"$f":"IF(OR(F237=0,F237=\"\"),\"\",IF(A230=\"F\",HLOOKUP(F237,females,A231,FALSE),IF(A230=\"M\",HLOOKUP(F237,males,A231,FALSE),\"\")))","v":"-"},"York",null,null,null,null,null,null,null,null,null,null,null,null,null,null,null,null,null,null,null,null,null,null,null,null,0,null,null,null,null,0,{"$f":"IF(OR(AG237=0,AG237=\"\",AG237=\"NHC\"),\"\",IF(AG237=S231,\"LR=\",IF(AG237>S231,\"LR\",\"\")))","v":""},null,null,null,null,null,"","","","","","","","","",""]
[null,{"$f":"IF(T(B235)=\"\",B235*11,CONCATENATE(B235,B235))","v":77},"",null,5,77,{"$f":"IF(OR(F238=0,F238=\"\"),\"\",IF(A230=\"F\",HLOOKUP(F238,females,A231,FALSE),IF(A230=\"M\",HLOOKUP(F238,males,A231,FALSE),\"\")))","v":"-"},"Leeds C",null,null,null,null,null,null,null,null,null,null,null,null,null,null,null,null,null,null,null,null,null,null,null,null,0,null,null,null,null,0,{"$f":"IF(OR(AG238=0,AG238=\"\",AG238=\"NHC\"),\"\",IF(AG238=S231,\"LR=\",IF(AG238>S231,\"LR\",\"\")))","v":""},null,null,null,null,null,"","","","","","","","","",""]
[null,{"$f":"IF(T(B236)=\"\",B236*11,CONCATENATE(B236,B236))","v":99},"",null,6,99,{"$f":"IF(OR(F239=0,F239=\"\"),\"\",IF(A230=\"F\",HLOOKUP(F239,females,A231,FALSE),IF(A230=\"M\",HLOOKUP(F239,males,A231,FALSE),\"\")))","v":"Alice Cusworth"},"Wake",null,null,null,null,null,null,null,null,null,null,null,null,null,null,null,null,null,null,null,null,null,null,null,null,0,null,null,null,null,0,{"$f":"IF(OR(AG239=0,AG239=\"\",AG239=\"NHC\"),\"\",IF(AG239=S231,\"LR=\",IF(AG239>S231,\"LR\",\"\")))","v":""},null,null,null,null,null,"","","","","","","","","",""]
[null,null,"",null,7,"",{"$f":"IF(OR(F240=0,F240=\"\"),\"\",IF(A230=\"F\",HLOOKUP(F240,females,A231,FALSE),IF(A230=\"M\",HLOOKUP(F240,males,A231,FALSE),\"\")))","v":""},"",null,null,null,null,null,null,null,null,null,null,null,null,null,null,null,null,null,null,null,null,null,null,null,null,0,null,null,null,null,0,{"$f":"IF(OR(AG240=0,AG240=\"\",AG240=\"NHC\"),\"\",IF(AG240=S231,\"LR=\",IF(AG240>S231,\"LR\",\"\")))","v":""},null,null,null,null,null,"","","","","","","","","",""]
[null,null,"",null,8,"",{"$f":"IF(OR(F241=0,F241=\"\"),\"\",IF(A230=\"F\",HLOOKUP(F241,females,A231,FALSE),IF(A230=\"M\",HLOOKUP(F241,males,A231,FALSE),\"\")))","v":""},"",null,null,null,null,null,null,null,null,null,null,null,null,null,null,null,null,null,null,null,null,null,null,null,null,0,null,null,null,null,0,{"$f":"IF(OR(AG241=0,AG241=\"\",AG241=\"NHC\"),\"\",IF(AG241=S231,\"LR=\",IF(AG241>S231,\"LR\",\"\")))","v":""},null,null,null,null,null,"","","","","","","","","",""]
[{"$f":"A234+3","v":5},{"$f":"IF(OR(A242=0,A242=\"\"),\"\",VLOOKUP(A242,teamorder2,2,FALSE))","v":2},null,{"$f":"IF(OR(AS242=0,AS242=\"\"),\"\",RANK(AS242,$AS$18:$AS$25,1))","v":""},1,2,{"$f":"IF(OR(F242=0,F242=\"\"),\"\",IF(A230=\"F\",HLOOKUP(F242,females2,A231,FALSE),IF(A230=\"M\",HLOOKUP(F242,males2,A231,FALSE),\"\")))","v":"-"},{"$f":"IF(OR(F242=0,F242=\"\"),\"\",VLOOKUP(F242,match_teams2,4,FALSE))","v":"Linc W"},null,null,null,null,null,null,null,null,null,null,null,null,null,null,null,null,null,null,null,null,null,null,null,null,0,null,null,null,null,0,{"$f":"IF(OR(AG242=0,AG242=\"\",AG242=\"NHC\"),\"\",IF(AG242=S231,\"LR=\",IF(AG242>S231,\"LR\",\"\")))","v":""},null,null,null,null,null,{"$f":"IF(OR(AL242=\"\",AL242=0),\"\",AL242+($AP242/10))","v":""},{"$f":"IF(OR(AL242=0,AL242=\"\"),\"\",HLOOKUP(AL242,$BC$9:$BJ$26,18,FALSE))","v":""},null,null,null,null,null,null,null,null,"","","","","","","",""]
[{"$f":"A235+3","v":6},{"$f":"IF(OR(A243=0,A243=\"\"),\"\",VLOOKUP(A243,teamorder2,2,FALSE))","v":3},null,{"$f":"IF(OR(AS243=0,AS243=\"\"),\"\",RANK(AS243,$AS$18:$AS$25,1))","v":""},2,3,{"$f":"IF(OR(F243=0,F243=\"\"),\"\",IF(A230=\"F\",HLOOKUP(F243,females2,A231,FALSE),IF(A230=\"M\",HLOOKUP(F243,males2,A231,FALSE),\"\")))","v":"-"},"Hallam",null,null,null,null,null,null,null,null,null,null,null,null,null,null,null,null,null,null,null,null,null,null,null,null,0,null,null,null,null,0,{"$f":"IF(OR(AG243=0,AG243=\"\",AG243=\"NHC\"),\"\",IF(AG243=S231,\"LR=\",IF(AG243>S231,\"LR\",\"\")))","v":""},null,null,null,null,null,{"$f":"IF(OR(AL243=\"\",AL243=0),\"\",AL243+($AP243/10))","v":""},{"$f":"IF(OR(AL243=0,AL243=\"\"),\"\",HLOOKUP(AL243,$BC$9:$BJ$26,18,FALSE))","v":""},null,null,null,null,null,null,null,null,"","","","","","","",""]
[{"$f":"A236+3","v":4},{"$f":"IF(OR(A244=0,A244=\"\"),\"\",VLOOKUP(A244,teamorder2,2,FALSE))","v":1},null,"",3,1,{"$f":"IF(OR(F244=0,F244=\"\"),\"\",IF(A230=\"F\",HLOOKUP(F244,females2,A231,FALSE),IF(A230=\"M\",HLOOKUP(F244,males2,A231,FALSE),\"\")))","v":"-"},"DASH",null,null,null,null,null,null,null,null,null,null,null,null,null,null,null,null,null,null,null,null,null,null,null,null,0,null,null,null,null,0,{"$f":"IF(OR(AG244=0,AG244=\"\",AG244=\"NHC\"),\"\",IF(AG244=S231,\"LR=\",IF(AG244>S231,\"LR\",\"\")))","v":""},null,null,null,null,null,"","",null,null,null,null,null,null,null,null,"","","","","","","",""]
[null,{"$f":"IF(T(B242)=\"\",B242*11,CONCATENATE(B242,B242))","v":22},null,"",4,22,{"$f":"IF(OR(F245=0,F245=\"\"),\"\",IF(A230=\"F\",HLOOKUP(F245,females2,A231,FALSE),IF(A230=\"M\",HLOOKUP(F245,males2,A231,FALSE),\"\")))","v":"-"},"Linc W",null,null,null,null,null,null,null,null,null,null,null,null,null,null,null,null,null,null,null,null,null,null,null,null,0,null,null,null,null,0,{"$f":"IF(OR(AG245=0,AG245=\"\",AG245=\"NHC\"),\"\",IF(AG245=S231,\"LR=\",IF(AG245>S231,\"LR\",\"\")))","v":""},null,null,null,null,null,"","",null,null,null,null,null,null,null,null,"","","","","","","",""]
[null,{"$f":"IF(T(B243)=\"\",B243*11,CONCATENATE(B243,B243))","v":33},null,"",5,33,{"$f":"IF(OR(F246=0,F246=\"\"),\"\",IF(A230=\"F\",HLOOKUP(F246,females2,A231,FALSE),IF(A230=\"M\",HLOOKUP(F246,males2,A231,FALSE),\"\")))","v":"-"},"Hallam",null,null,null,null,null,null,null,null,null,null,null,null,null,null,null,null,null,null,null,null,null,null,null,null,0,null,null,null,null,0,{"$f":"IF(OR(AG246=0,AG246=\"\",AG246=\"NHC\"),\"\",IF(AG246=S231,\"LR=\",IF(AG246>S231,\"LR\",\"\")))","v":""},null,null,null,null,null,"","",null,null,null,null,null,null,null,null,"","","","","","","",""]
[null,{"$f":"IF(T(B244)=\"\",B244*11,CONCATENATE(B244,B244))","v":11},null,"",6,11,{"$f":"IF(OR(F247=0,F247=\"\"),\"\",IF(A230=\"F\",HLOOKUP(F247,females2,A231,FALSE),IF(A230=\"M\",HLOOKUP(F247,males2,A231,FALSE),\"\")))","v":"-"},"DASH",null,null,null,null,null,null,null,null,null,null,null,null,null,null,null,null,null,null,null,null,null,null,null,null,0,null,null,null,null,0,{"$f":"IF(OR(AG247=0,AG247=\"\",AG247=\"NHC\"),\"\",IF(AG247=S231,\"LR=\",IF(AG247>S231,\"LR\",\"\")))","v":""},null,null,null,null,null,"","",null,null,null,null,null,null,null,null,"","","","","","","",""]
[null,0,null,"",7,"",{"$f":"IF(OR(F248=0,F248=\"\"),\"\",IF(A230=\"F\",HLOOKUP(F248,females2,A231,FALSE),IF(A230=\"M\",HLOOKUP(F248,males2,A231,FALSE),\"\")))","v":""},"",null,null,null,null,null,null,null,null,null,null,null,null,null,null,null,null,null,null,null,null,null,null,null,null,0,null,null,null,null,0,{"$f":"IF(OR(AG248=0,AG248=\"\",AG248=\"NHC\"),\"\",IF(AG248=S231,\"LR=\",IF(AG248>S231,\"LR\",\"\")))","v":""},null,null,null,null,null,"","",null,null,null,null,null,null,null,null,"","","","","","","",""]
[null,0,null,"",8,"",{"$f":"IF(OR(F249=0,F249=\"\"),\"\",IF(A230=\"F\",HLOOKUP(F249,females2,A231,FALSE),IF(A230=\"M\",HLOOKUP(F249,males2,A231,FALSE),\"\")))","v":""},"",null,null,null,null,null,null,null,null,null,null,null,null,null,null,null,null,null,null,null,null,null,null,null,null,0,null,null,null,null,0,{"$f":"IF(OR(AG249=0,AG249=\"\",AG249=\"NHC\"),\"\",IF(AG249=S231,\"LR=\",IF(AG249>S231,\"LR\",\"\")))","v":""},null,null,null,null,null,"","",null,null,null,null,null,null,null,null,"","","","","","","",""]
[null,null,null,null,null,null,null,null,null,null,null,null,null,null,null,null,null,null,null,null,null,null,null,null,null,null,null,null,null,null,null,null,null,null,null,null,null,null,null,null,null,null,null,null,null,null,{"$f":"IF(OR(COUNTIF(AU234:AU249,AU233)=0,COUNTIF(AU234:AU249,AU233)=\"\"),\"\",(REPT(\"=\",COUNTIF(AU234:AU249,AU233)-1)))","v":""},"","","","","","","","","","","","","","",""]
[null,null,null,null,"MATCH 1 RESULT",null,null,null,null,null,"MATCH 2 RESULT",null,null,null,null,null,null,null,null,null,null,null,null,null,null,null,null,null,"JUDGES' SIGNATURES"]
[null,null,null,null,"Posn","No.","NAME","CLUB","HEIGHT",null,"Posn",null,"No.",null,"NAME",null,null,null,null,null,"CLUB",null,null,null,null,null,"HEIGHT"]
[null,null,null,1,{"$f":"IF(ISERROR(VLOOKUP(D253,$C$10:$AT$17,31,FALSE))=TRUE,\"\",CONCATENATE(VLOOKUP(D253,$C$10:$AT$17,36,FALSE),VLOOKUP(D253,$C$10:$AT$17,44,FALSE)))","v":""},{"$f":"IF(ISERROR(VLOOKUP(D253,$C$10:$AH$17,31,FALSE))=TRUE,\"\",IF(VLOOKUP(D253,$C$10:$AH$17,31,FALSE)=0,\"\",IF(VLOOKUP(D253,$C$10:$AH$17,31,FALSE)=99,99,IF(VLOOKUP(D253,$C$10:$AH$17,31,FALSE)=97,97,IF(VLOOKUP(D253,$C$10:$AH$17,31,FALSE)=96,96,IF(VLOOKUP(D253,$C$10:$AH$17,31,FALSE)=95,95,VLOOKUP(D253,$C$10:$AH$17,4,FALSE)))))))","v":""},{"$f":"IF(ISERROR(VLOOKUP(D253,$C$10:$AH$17,31,FALSE))=TRUE,\"\",VLOOKUP(D253,$C$10:$AH$17,5,FALSE))","v":""},{"$f":"IF(ISERROR(VLOOKUP(D253,$C$10:$AH$17,31,FALSE))=TRUE,\"\",VLOOKUP(D253,$C$10:$AH$17,6,FALSE))","v":""},{"$f":"IF(ISERROR(VLOOKUP(D253,$C$10:$AH$17,31,FALSE))=TRUE,\"\",IF(VLOOKUP(D253,C$10:AH$17,31,FALSE)=0,0,IF(VLOOKUP(D253,C$10:AH$17,31,FALSE)>95.99,\"\",VLOOKUP(D253,C$10:AH$17,31,FALSE))))","v":""},null,{"$f":"IF(ISERROR(VLOOKUP(D253,$D$18:$AT$25,30,FALSE))=TRUE,\"\",CONCATENATE(VLOOKUP(D253,$D$18:$AT$25,35,FALSE),VLOOKUP(D253,$D$18:$AT$25,43,FALSE)))","v":""},{"$f":"IF(ISERROR(VLOOKUP(K253,$C$10:$AQ$25,31,FALSE))=TRUE,\"\",CONCATENATE(VLOOKUP(K253,$C$10:$AQ$25,38,FALSE),VLOOKUP(K253,$C$10:$AQ$25,42,FALSE)))","v":{"$error":"#REF!"}},{"$f":"IF(ISERROR(VLOOKUP(D253,$D$18:$AH$25,30,FALSE))=TRUE,\"\",IF(VLOOKUP(D253,$D$18:$AH$25,30,FALSE)=0,\"\",VLOOKUP(D253,$D$18:$AH$25,3,FALSE)))","v":""},null,{"$f":"IF(ISERROR(VLOOKUP(D253,$D$18:$AH$25,30,FALSE))=TRUE,\"\",VLOOKUP(D253,$D$18:$AH$25,4,FALSE))","v":""},null,null,null,null,null,{"$f":"IF(ISERROR(VLOOKUP(D253,$D$18:$AH$25,30,FALSE))=TRUE,\"\",VLOOKUP(D253,$D$18:$AH$25,5,FALSE))","v":""},null,null,null,null,null,{"$f":"IF(ISERROR(VLOOKUP(D253,$D$18:$AH$25,30,FALSE))=TRUE,\"\",IF(VLOOKUP(D253,$D$18:$AH$25,30,FALSE)=0,\"\",VLOOKUP(D253,$D$18:$AH$25,30,FALSE)))","v":""}]
[null,null,null,2,{"$f":"IF(ISERROR(VLOOKUP(D254,$C$10:$AT$17,31,FALSE))=TRUE,\"\",CONCATENATE(VLOOKUP(D254,$C$10:$AT$17,36,FALSE),VLOOKUP(D254,$C$10:$AT$17,44,FALSE)))","v":""},{"$f":"IF(ISERROR(VLOOKUP(D254,$C$10:$AH$17,31,FALSE))=TRUE,\"\",IF(VLOOKUP(D254,$C$10:$AH$17,31,FALSE)=0,\"\",IF(VLOOKUP(D254,$C$10:$AH$17,31,FALSE)=99,99,IF(VLOOKUP(D254,$C$10:$AH$17,31,FALSE)=97,97,IF(VLOOKUP(D254,$C$10:$AH$17,31,FALSE)=96,96,VLOOKUP(D254,$C$10:$AH$17,4,FALSE))))))","v":""},"","","",null,{"$f":"IF(ISERROR(VLOOKUP(D254,$D$18:$AT$25,30,FALSE))=TRUE,\"\",CONCATENATE(VLOOKUP(D254,$D$18:$AT$25,35,FALSE),VLOOKUP(D254,$D$18:$AT$25,43,FALSE)))","v":""},{"$f":"IF(ISERROR(VLOOKUP(K254,$C$10:$AQ$25,31,FALSE))=TRUE,\"\",CONCATENATE(VLOOKUP(K254,$C$10:$AQ$25,38,FALSE),VLOOKUP(K254,$C$10:$AQ$25,42,FALSE)))","v":{"$error":"#REF!"}},"",null,"",null,null,null,null,null,"",null,null,null,null,null,""]
[null,null,null,3,"","","","","",null,"",{"$error":"#REF!"},"",null,"",null,null,null,null,null,"",null,null,null,null,null,""]
[null,null,null,4,"","","","","",null,"",{"$error":"#REF!"},"",null,"",null,null,null,null,null,"",null,null,null,null,null,""]
[null,null,null,5,"","","","","",null,"",{"$error":"#REF!"},"",null,"",null,null,null,null,null,"",null,null,null,null,null,""]
[null,null,null,6,"","","","","",null,"",{"$error":"#REF!"},"",null,"",null,null,null,null,null,"",null,null,null,null,null,"",null,"REFEREE'S SIGNATURE"]
[null,null,null,7,"","","","","",null,"",{"$error":"#REF!"},"",null,"",null,null,null,null,null,"",null,null,null,null,null,""]
[null,null,null,8,"","","","","",null,"",{"$error":"#REF!"},"",null,"",null,null,null,null,null,"",null,null,null,null,null,""]
["F28",null,null,null,"UK ATHLETICS: HEIGHT CARD"]
[{"$f":"VLOOKUP(A261,eventno,5,FALSE)","v":"F"},null,null,null,"MEETING ",null,{"$f":"CONCATENATE(MatchDay!$C$3,\"/\",MatchDay!$I$3)","v":"Northern Premier East/Northern 1 SE"},null,"VENUE ",null,null,{"$f":"MatchDay!$C$7","v":"Thornes Park Stadium, Wakefield"},null,null,null,null,null,null,null,null,null,null,null,null,null,null,"DATE ",null,null,{"$f":"MatchDay!$C$5","v":"Sunday 8th May 2011"}]
[{"$f":"IF(A262=\"M\",VLOOKUP(A261,males,15,FALSE),VLOOKUP(A261,females,15,FALSE))","v":34},null,null,null,"EVENT",null,{"$f":"CONCATENATE(A261,\" \",VLOOKUP(A261,eventno,4,FALSE))","v":"F28 U15G High Jump"},null,"TIME",null,null,{"$f":"VLOOKUP(A261,eventno,12,FALSE)","v":"15:30:00"},null,null,"Record",null,null,null,{"$f":"VLOOKUP(A261,eventno,7,FALSE)","v":1.76},null,null,null,null,"Duty",null,null,null,null,null,{"$f":"VLOOKUP(VLOOKUP(A261,eventno,13,FALSE),teamorder,3,FALSE)","v":"City of York"}]
[null,null,null,null,"Order","No","NAME","CLUB",{"$f":"VLOOKUP(A261,eventno,14,FALSE)","v":1.1499999999999999},null,null,null,null,null,null,null,null,null,null,null,null,null,null,null,null,null,null,null,null,null,null,null,"Best of\nAll",null,"Trials at\nHt Cleared","Total \nFailures","Total\nTrials","Final\nPositionn",null,"A or B",null,"Tie"]
[null,null,null,null,null,null,null,null,"Metres",null,"Metres",null,"Metres",null,"Metres",null,"Metres",null,"Metres",null,"Metres",null,"Metres",null,"Metres",null,"Metres",null,"Metres",null,"Metres",null,"Metres",null,null,null,null,null,null,null,null,null,null,null,null,null,1,2,3,4,5,6,7,8,1,2,3,4,5,6,7,8]
[3,{"$f":"IF(OR(A266=0,A266=\"\"),\"\",VLOOKUP(A266,teamorder,2,FALSE))","v":7},{"$f":"IF(OR(AS266=0,AS266=\"\"),\"\",RANK(AS266,$AS$10:$AS$17,1))","v":""},null,1,{"$f":"IF(B266=0,\"\",B266)","v":7},{"$f":"IF(OR(F266=0,F266=\"\"),\"\",IF(A262=\"F\",HLOOKUP(F266,females,A263,FALSE),IF(A262=\"M\",HLOOKUP(F266,males,A263,FALSE),\"\")))","v":"Melissa Fletcher"},{"$f":"IF(OR(F266=0,F266=\"\"),\"\",VLOOKUP(F266,match_teams,4,FALSE))","v":"Leeds C"},null,null,null,null,null,null,null,null,null,null,null,null,null,null,null,null,null,null,null,null,null,null,null,null,0,null,null,null,null,0,{"$f":"IF(OR(AG266=0,AG266=\"\",AG266=\"NHC\"),\"\",IF(AG266=S263,\"LR=\",IF(AG266>S263,\"LR\",\"\")))","v":""},null,null,null,null,null,{"$f":"IF(OR(AL266=\"\",AL266=0),\"\",AL266+($AP266/10))","v":""},{"$f":"IF(OR(AL266=0,AL266=\"\"),\"\",HLOOKUP(AL266,$AU$9:$BB$26,18,FALSE))","v":""},{"$f":"IF($AL266=\"\",\"\",IF($AL266=AU$9,$AL266,\"\"))","v":""},{"$f":"IF($AL266=\"\",\"\",IF($AL266=AV$9,$AL266,\"\"))","v":""},"","","","","",""]
[1,{"$f":"IF(OR(A267=0,A267=\"\"),\"\",VLOOKUP(A267,teamorder,2,FALSE))","v":9},{"$f":"IF(OR(AS267=0,AS267=\"\"),\"\",RANK(AS267,$AS$10:$AS$17,1))","v":""},null,2,9,{"$f":"IF(OR(F267=0,F267=\"\"),\"\",IF(A262=\"F\",HLOOKUP(F267,females,A263,FALSE),IF(A262=\"M\",HLOOKUP(F267,males,A263,FALSE),\"\")))","v":"Abigail Roberts"},"Wake",null,null,null,null,null,null,null,null,null,null,null,null,null,null,null,null,null,null,null,null,null,null,null,null,0,null,null,null,null,0,{"$f":"IF(OR(AG267=0,AG267=\"\",AG267=\"NHC\"),\"\",IF(AG267=S263,\"LR=\",IF(AG267>S263,\"LR\",\"\")))","v":""},null,null,null,null,null,{"$f":"IF(OR(AL267=\"\",AL267=0),\"\",AL267+($AP267/10))","v":""},{"$f":"IF(OR(AL267=0,AL267=\"\"),\"\",HLOOKUP(AL267,$AU$9:$BB$26,18,FALSE))","v":""},{"$f":"IF($AL267=\"\",\"\",IF($AL267=AU$9,$AL267,\"\"))","v":""},"","","","","","",""]
[2,{"$f":"IF(OR(A268=0,A268=\"\"),\"\",VLOOKUP(A268,teamorder,2,FALSE))","v":8},"",null,3,8,{"$f":"IF(OR(F268=0,F268=\"\"),\"\",IF(A262=\"F\",HLOOKUP(F268,females,A263,FALSE),IF(A262=\"M\",HLOOKUP(F268,males,A263,FALSE),\"\")))","v":"Anna Richardson"},"York",null,null,null,null,null,null,null,null,null,null,null,null,null,null,null,null,null,null,null,null,null,null,null,null,0,null,null,null,null,0,{"$f":"IF(OR(AG268=0,AG268=\"\",AG268=\"NHC\"),\"\",IF(AG268=S263,\"LR=\",IF(AG268>S263,\"LR\",\"\")))","v":""},null,null,null,null,null,"","","","","","","","","",""]
[null,{"$f":"IF(T(B266)=\"\",B266*11,CONCATENATE(B266,B266))","v":77},"",null,4,77,{"$f":"IF(OR(F269=0,F269=\"\"),\"\",IF(A262=\"F\",HLOOKUP(F269,females,A263,FALSE),IF(A262=\"M\",HLOOKUP(F269,males,A263,FALSE),\"\")))","v":"Sian Gilmartin-Green"},"Leeds C",null,null,null,null,null,null,null,null,null,null,null,null,null,null,null,null,null,null,null,null,null,null,null,null,0,null,null,null,null,0,{"$f":"IF(OR(AG269=0,AG269=\"\",AG269=\"NHC\"),\"\",IF(AG269=S263,\"LR=\",IF(AG269>S263,\"LR\",\"\")))","v":""},null,null,null,null,null,"","","","","","","","","",""]
[null,{"$f":"IF(T(B267)=\"\",B267*11,CONCATENATE(B267,B267))","v":99},"",null,5,99,{"$f":"IF(OR(F270=0,F270=\"\"),\"\",IF(A262=\"F\",HLOOKUP(F270,females,A263,FALSE),IF(A262=\"M\",HLOOKUP(F270,males,A263,FALSE),\"\")))","v":"-"},"Wake",null,null,null,null,null,null,null,null,null,null,null,null,null,null,null,null,null,null,null,null,null,null,null,null,0,null,null,null,null,0,{"$f":"IF(OR(AG270=0,AG270=\"\",AG270=\"NHC\"),\"\",IF(AG270=S263,\"LR=\",IF(AG270>S263,\"LR\",\"\")))","v":""},null,null,null,null,null,"","","","","","","","","",""]
[null,{"$f":"IF(T(B268)=\"\",B268*11,CONCATENATE(B268,B268))","v":88},"",null,6,88,{"$f":"IF(OR(F271=0,F271=\"\"),\"\",IF(A262=\"F\",HLOOKUP(F271,females,A263,FALSE),IF(A262=\"M\",HLOOKUP(F271,males,A263,FALSE),\"\")))","v":"Jade Kerrison"},"York",null,null,null,null,null,null,null,null,null,null,null,null,null,null,null,null,null,null,null,null,null,null,null,null,0,null,null,null,null,0,{"$f":"IF(OR(AG271=0,AG271=\"\",AG271=\"NHC\"),\"\",IF(AG271=S263,\"LR=\",IF(AG271>S263,\"LR\",\"\")))","v":""},null,null,null,null,null,"","","","","","","","","",""]
[null,null,"",null,7,"",{"$f":"IF(OR(F272=0,F272=\"\"),\"\",IF(A262=\"F\",HLOOKUP(F272,females,A263,FALSE),IF(A262=\"M\",HLOOKUP(F272,males,A263,FALSE),\"\")))","v":""},"",null,null,null,null,null,null,null,null,null,null,null,null,null,null,null,null,null,null,null,null,null,null,null,null,0,null,null,null,null,0,{"$f":"IF(OR(AG272=0,AG272=\"\",AG272=\"NHC\"),\"\",IF(AG272=S263,\"LR=\",IF(AG272>S263,\"LR\",\"\")))","v":""},null,null,null,null,null,"","","","","","","","","",""]
[null,null,"",null,8,"",{"$f":"IF(OR(F273=0,F273=\"\"),\"\",IF(A262=\"F\",HLOOKUP(F273,females,A263,FALSE),IF(A262=\"M\",HLOOKUP(F273,males,A263,FALSE),\"\")))","v":""},"",null,null,null,null,null,null,null,null,null,null,null,null,null,null,null,null,null,null,null,null,null,null,null,null,0,null,null,null,null,0,{"$f":"IF(OR(AG273=0,AG273=\"\",AG273=\"NHC\"),\"\",IF(AG273=S263,\"LR=\",IF(AG273>S263,\"LR\",\"\")))","v":""},null,null,null,null,null,"","","","","","","","","",""]
[{"$f":"A266+3","v":6},{"$f":"IF(OR(A274=0,A274=\"\"),\"\",VLOOKUP(A274,teamorder2,2,FALSE))","v":3},null,{"$f":"IF(OR(AS274=0,AS274=\"\"),\"\",RANK(AS274,$AS$18:$AS$25,1))","v":""},1,3,{"$f":"IF(OR(F274=0,F274=\"\"),\"\",IF(A262=\"F\",HLOOKUP(F274,females2,A263,FALSE),IF(A262=\"M\",HLOOKUP(F274,males2,A263,FALSE),\"\")))","v":"Emily Malmgren"},{"$f":"IF(OR(F274=0,F274=\"\"),\"\",VLOOKUP(F274,match_teams2,4,FALSE))","v":"Hallam"},null,null,null,null,null,null,null,null,null,null,null,null,null,null,null,null,null,null,null,null,null,null,null,null,0,null,null,null,null,0,{"$f":"IF(OR(AG274=0,AG274=\"\",AG274=\"NHC\"),\"\",IF(AG274=S263,\"LR=\",IF(AG274>S263,\"LR\",\"\")))","v":""},null,null,null,null,null,{"$f":"IF(OR(AL274=\"\",AL274=0),\"\",AL274+($AP274/10))","v":""},{"$f":"IF(OR(AL274=0,AL274=\"\"),\"\",HLOOKUP(AL274,$BC$9:$BJ$26,18,FALSE))","v":""},null,null,null,null,null,null,null,null,"","","","","","","",""]
[{"$f":"A267+3","v":4},{"$f":"IF(OR(A275=0,A275=\"\"),\"\",VLOOKUP(A275,teamorder2,2,FALSE))","v":1},null,{"$f":"IF(OR(AS275=0,AS275=\"\"),\"\",RANK(AS275,$AS$18:$AS$25,1))","v":""},2,1,{"$f":"IF(OR(F275=0,F275=\"\"),\"\",IF(A262=\"F\",HLOOKUP(F275,females2,A263,FALSE),IF(A262=\"M\",HLOOKUP(F275,males2,A263,FALSE),\"\")))","v":"-"},"DASH",null,null,null,null,null,null,null,null,null,null,null,null,null,null,null,null,null,null,null,null,null,null,null,null,0,null,null,null,null,0,{"$f":"IF(OR(AG275=0,AG275=\"\",AG275=\"NHC\"),\"\",IF(AG275=S263,\"LR=\",IF(AG275>S263,\"LR\",\"\")))","v":""},null,null,null,null,null,{"$f":"IF(OR(AL275=\"\",AL275=0),\"\",AL275+($AP275/10))","v":""},{"$f":"IF(OR(AL275=0,AL275=\"\"),\"\",HLOOKUP(AL275,$BC$9:$BJ$26,18,FALSE))","v":""},null,null,null,null,null,null,null,null,"","","","","","","",""]
[{"$f":"A268+3","v":5},{"$f":"IF(OR(A276=0,A276=\"\"),\"\",VLOOKUP(A276,teamorder2,2,FALSE))","v":2},null,"",3,2,{"$f":"IF(OR(F276=0,F276=\"\"),\"\",IF(A262=\"F\",HLOOKUP(F276,females2,A263,FALSE),IF(A262=\"M\",HLOOKUP(F276,males2,A263,FALSE),\"\")))","v":"Allison Mouzon"},"Linc W",null,null,null,null,null,null,null,null,null,null,null,null,null,null,null,null,null,null,null,null,null,null,null,null,0,null,null,null,null,0,{"$f":"IF(OR(AG276=0,AG276=\"\",AG276=\"NHC\"),\"\",IF(AG276=S263,\"LR=\",IF(AG276>S263,\"LR\",\"\")))","v":""},null,null,null,null,null,"","",null,null,null,null,null,null,null,null,"","","","","","","",""]
[null,{"$f":"IF(T(B274)=\"\",B274*11,CONCATENATE(B274,B274))","v":33},null,"",4,33,{"$f":"IF(OR(F277=0,F277=\"\"),\"\",IF(A262=\"F\",HLOOKUP(F277,females2,A263,FALSE),IF(A262=\"M\",HLOOKUP(F277,males2,A263,FALSE),\"\")))","v":"Kate DeSouza"},"Hallam",null,null,null,null,null,null,null,null,null,null,null,null,null,null,null,null,null,null,null,null,null,null,null,null,0,null,null,null,null,0,{"$f":"IF(OR(AG277=0,AG277=\"\",AG277=\"NHC\"),\"\",IF(AG277=S263,\"LR=\",IF(AG277>S263,\"LR\",\"\")))","v":""},null,null,null,null,null,"","",null,null,null,null,null,null,null,null,"","","","","","","",""]
[null,{"$f":"IF(T(B275)=\"\",B275*11,CONCATENATE(B275,B275))","v":11},null,"",5,11,{"$f":"IF(OR(F278=0,F278=\"\"),\"\",IF(A262=\"F\",HLOOKUP(F278,females2,A263,FALSE),IF(A262=\"M\",HLOOKUP(F278,males2,A263,FALSE),\"\")))","v":"-"},"DASH",null,null,null,null,null,null,null,null,null,null,null,null,null,null,null,null,null,null,null,null,null,null,null,null,0,null,null,null,null,0,{"$f":"IF(OR(AG278=0,AG278=\"\",AG278=\"NHC\"),\"\",IF(AG278=S263,\"LR=\",IF(AG278>S263,\"LR\",\"\")))","v":""},null,null,null,null,null,"","",null,null,null,null,null,null,null,null,"","","","","","","",""]
[null,{"$f":"IF(T(B276)=\"\",B276*11,CONCATENATE(B276,B276))","v":22},null,"",6,22,{"$f":"IF(OR(F279=0,F279=\"\"),\"\",IF(A262=\"F\",HLOOKUP(F279,females2,A263,FALSE),IF(A262=\"M\",HLOOKUP(F279,males2,A263,FALSE),\"\")))","v":"-"},"Linc W",null,null,null,null,null,null,null,null,null,null,null,null,null,null,null,null,null,null,null,null,null,null,null,null,0,null,null,null,null,0,{"$f":"IF(OR(AG279=0,AG279=\"\",AG279=\"NHC\"),\"\",IF(AG279=S263,\"LR=\",IF(AG279>S263,\"LR\",\"\")))","v":""},null,null,null,null,null,"","",null,null,null,null,null,null,null,null,"","","","","","","",""]
[null,0,null,"",7,"",{"$f":"IF(OR(F280=0,F280=\"\"),\"\",IF(A262=\"F\",HLOOKUP(F280,females2,A263,FALSE),IF(A262=\"M\",HLOOKUP(F280,males2,A263,FALSE),\"\")))","v":""},"",null,null,null,null,null,null,null,null,null,null,null,null,null,null,null,null,null,null,null,null,null,null,null,null,0,null,null,null,null,0,{"$f":"IF(OR(AG280=0,AG280=\"\",AG280=\"NHC\"),\"\",IF(AG280=S263,\"LR=\",IF(AG280>S263,\"LR\",\"\")))","v":""},null,null,null,null,null,"","",null,null,null,null,null,null,null,null,"","","","","","","",""]
[null,0,null,"",8,"",{"$f":"IF(OR(F281=0,F281=\"\"),\"\",IF(A262=\"F\",HLOOKUP(F281,females2,A263,FALSE),IF(A262=\"M\",HLOOKUP(F281,males2,A263,FALSE),\"\")))","v":""},"",null,null,null,null,null,null,null,null,null,null,null,null,null,null,null,null,null,null,null,null,null,null,null,null,0,null,null,null,null,0,{"$f":"IF(OR(AG281=0,AG281=\"\",AG281=\"NHC\"),\"\",IF(AG281=S263,\"LR=\",IF(AG281>S263,\"LR\",\"\")))","v":""},null,null,null,null,null,"","",null,null,null,null,null,null,null,null,"","","","","","","",""]
[null,null,null,null,null,null,null,null,null,null,null,null,null,null,null,null,null,null,null,null,null,null,null,null,null,null,null,null,null,null,null,null,null,null,null,null,null,null,null,null,null,null,null,null,null,null,{"$f":"IF(OR(COUNTIF(AU266:AU281,AU265)=0,COUNTIF(AU266:AU281,AU265)=\"\"),\"\",(REPT(\"=\",COUNTIF(AU266:AU281,AU265)-1)))","v":""},"","","","","","","","","","","","","","",""]
[null,null,null,null,"MATCH 1 RESULT",null,null,null,null,null,"MATCH 2 RESULT",null,null,null,null,null,null,null,null,null,null,null,null,null,null,null,null,null,"JUDGES' SIGNATURES"]
[null,null,null,null,"Posn","No.","NAME","CLUB","HEIGHT",null,"Posn",null,"No.",null,"NAME",null,null,null,null,null,"CLUB",null,null,null,null,null,"HEIGHT"]
[null,null,null,1,{"$f":"IF(ISERROR(VLOOKUP(D285,$C$10:$AT$17,31,FALSE))=TRUE,\"\",CONCATENATE(VLOOKUP(D285,$C$10:$AT$17,36,FALSE),VLOOKUP(D285,$C$10:$AT$17,44,FALSE)))","v":""},{"$f":"IF(ISERROR(VLOOKUP(D285,$C$10:$AH$17,31,FALSE))=TRUE,\"\",IF(VLOOKUP(D285,$C$10:$AH$17,31,FALSE)=0,\"\",IF(VLOOKUP(D285,$C$10:$AH$17,31,FALSE)=99,99,IF(VLOOKUP(D285,$C$10:$AH$17,31,FALSE)=97,97,IF(VLOOKUP(D285,$C$10:$AH$17,31,FALSE)=96,96,IF(VLOOKUP(D285,$C$10:$AH$17,31,FALSE)=95,95,VLOOKUP(D285,$C$10:$AH$17,4,FALSE)))))))","v":""},{"$f":"IF(ISERROR(VLOOKUP(D285,$C$10:$AH$17,31,FALSE))=TRUE,\"\",VLOOKUP(D285,$C$10:$AH$17,5,FALSE))","v":""},{"$f":"IF(ISERROR(VLOOKUP(D285,$C$10:$AH$17,31,FALSE))=TRUE,\"\",VLOOKUP(D285,$C$10:$AH$17,6,FALSE))","v":""},{"$f":"IF(ISERROR(VLOOKUP(D285,$C$10:$AH$17,31,FALSE))=TRUE,\"\",IF(VLOOKUP(D285,C$10:AH$17,31,FALSE)=0,0,IF(VLOOKUP(D285,C$10:AH$17,31,FALSE)>95.99,\"\",VLOOKUP(D285,C$10:AH$17,31,FALSE))))","v":""},null,{"$f":"IF(ISERROR(VLOOKUP(D285,$D$18:$AT$25,30,FALSE))=TRUE,\"\",CONCATENATE(VLOOKUP(D285,$D$18:$AT$25,35,FALSE),VLOOKUP(D285,$D$18:$AT$25,43,FALSE)))","v":""},{"$f":"IF(ISERROR(VLOOKUP(K285,$C$10:$AQ$25,31,FALSE))=TRUE,\"\",CONCATENATE(VLOOKUP(K285,$C$10:$AQ$25,38,FALSE),VLOOKUP(K285,$C$10:$AQ$25,42,FALSE)))","v":{"$error":"#REF!"}},{"$f":"IF(ISERROR(VLOOKUP(D285,$D$18:$AH$25,30,FALSE))=TRUE,\"\",IF(VLOOKUP(D285,$D$18:$AH$25,30,FALSE)=0,\"\",VLOOKUP(D285,$D$18:$AH$25,3,FALSE)))","v":""},null,{"$f":"IF(ISERROR(VLOOKUP(D285,$D$18:$AH$25,30,FALSE))=TRUE,\"\",VLOOKUP(D285,$D$18:$AH$25,4,FALSE))","v":""},null,null,null,null,null,{"$f":"IF(ISERROR(VLOOKUP(D285,$D$18:$AH$25,30,FALSE))=TRUE,\"\",VLOOKUP(D285,$D$18:$AH$25,5,FALSE))","v":""},null,null,null,null,null,{"$f":"IF(ISERROR(VLOOKUP(D285,$D$18:$AH$25,30,FALSE))=TRUE,\"\",IF(VLOOKUP(D285,$D$18:$AH$25,30,FALSE)=0,\"\",VLOOKUP(D285,$D$18:$AH$25,30,FALSE)))","v":""}]
[null,null,null,2,{"$f":"IF(ISERROR(VLOOKUP(D286,$C$10:$AT$17,31,FALSE))=TRUE,\"\",CONCATENATE(VLOOKUP(D286,$C$10:$AT$17,36,FALSE),VLOOKUP(D286,$C$10:$AT$17,44,FALSE)))","v":""},{"$f":"IF(ISERROR(VLOOKUP(D286,$C$10:$AH$17,31,FALSE))=TRUE,\"\",IF(VLOOKUP(D286,$C$10:$AH$17,31,FALSE)=0,\"\",IF(VLOOKUP(D286,$C$10:$AH$17,31,FALSE)=99,99,IF(VLOOKUP(D286,$C$10:$AH$17,31,FALSE)=97,97,IF(VLOOKUP(D286,$C$10:$AH$17,31,FALSE)=96,96,VLOOKUP(D286,$C$10:$AH$17,4,FALSE))))))","v":""},"","","",null,{"$f":"IF(ISERROR(VLOOKUP(D286,$D$18:$AT$25,30,FALSE))=TRUE,\"\",CONCATENATE(VLOOKUP(D286,$D$18:$AT$25,35,FALSE),VLOOKUP(D286,$D$18:$AT$25,43,FALSE)))","v":""},{"$f":"IF(ISERROR(VLOOKUP(K286,$C$10:$AQ$25,31,FALSE))=TRUE,\"\",CONCATENATE(VLOOKUP(K286,$C$10:$AQ$25,38,FALSE),VLOOKUP(K286,$C$10:$AQ$25,42,FALSE)))","v":{"$error":"#REF!"}},"",null,"",null,null,null,null,null,"",null,null,null,null,null,""]
[null,null,null,3,"","","","","",null,"",{"$error":"#REF!"},"",null,"",null,null,null,null,null,"",null,null,null,null,null,""]
[null,null,null,4,"","","","","",null,"",{"$error":"#REF!"},"",null,"",null,null,null,null,null,"",null,null,null,null,null,""]
[null,null,null,5,"","","","","",null,"",{"$error":"#REF!"},"",null,"",null,null,null,null,null,"",null,null,null,null,null,""]
[null,null,null,6,"","","","","",null,"",{"$error":"#REF!"},"",null,"",null,null,null,null,null,"",null,null,null,null,null,"",null,"REFEREE'S SIGNATURE"]
[null,null,null,7,"","","","","",null,"",{"$error":"#REF!"},"",null,"",null,null,null,null,null,"",null,null,null,null,null,""]
[null,null,null,8,"","","","","",null,"",{"$error":"#REF!"},"",null,"",null,null,null,null,null,"",null,null,null,null,null,""]
["F29",null,null,null,"UK ATHLETICS: HEIGHT CARD"]
[{"$f":"VLOOKUP(A293,eventno,5,FALSE)","v":"F"},null,null,null,"MEETING ",null,{"$f":"CONCATENATE(MatchDay!$C$3,\"/\",MatchDay!$I$3)","v":"Northern Premier East/Northern 1 SE"},null,"VENUE ",null,null,{"$f":"MatchDay!$C$7","v":"Thornes Park Stadium, Wakefield"},null,null,null,null,null,null,null,null,null,null,null,null,null,null,"DATE ",null,null,{"$f":"MatchDay!$C$5","v":"Sunday 8th May 2011"}]
[{"$f":"IF(A294=\"M\",VLOOKUP(A293,males,15,FALSE),VLOOKUP(A293,females,15,FALSE))","v":33},null,null,null,"EVENT",null,{"$f":"CONCATENATE(A293,\" \",VLOOKUP(A293,eventno,4,FALSE))","v":"F29 U17W High Jump"},null,"TIME",null,null,{"$f":"VLOOKUP(A293,eventno,12,FALSE)","v":"15:30:00"},null,null,"Record",null,null,null,{"$f":"VLOOKUP(A293,eventno,7,FALSE)","v":1.78},null,null,null,null,"Duty",null,null,null,null,null,{"$f":"VLOOKUP(VLOOKUP(A293,eventno,13,FALSE),teamorder,3,FALSE)","v":"City of York"}]
[null,null,null,null,"Order","No","NAME","CLUB",{"$f":"VLOOKUP(A293,eventno,14,FALSE)","v":1.25},null,null,null,null,null,null,null,null,null,null,null,null,null,null,null,null,null,null,null,null,null,null,null,"Best of\nAll",null,"Trials at\nHt Cleared","Total \nFailures","Total\nTrials","Final\nPositionn",null,"A or B",null,"Tie"]
[null,null,null,null,null,null,null,null,"Metres",null,"Metres",null,"Metres",null,"Metres",null,"Metres",null,"Metres",null,"Metres",null,"Metres",null,"Metres",null,"Metres",null,"Metres",null,"Metres",null,"Metres",null,null,null,null,null,null,null,null,null,null,null,null,null,1,2,3,4,5,6,7,8,1,2,3,4,5,6,7,8]
[2,{"$f":"IF(OR(A298=0,A298=\"\"),\"\",VLOOKUP(A298,teamorder,2,FALSE))","v":8},{"$f":"IF(OR(AS298=0,AS298=\"\"),\"\",RANK(AS298,$AS$10:$AS$17,1))","v":""},null,1,{"$f":"IF(B298=0,\"\",B298)","v":8},{"$f":"IF(OR(F298=0,F298=\"\"),\"\",IF(A294=\"F\",HLOOKUP(F298,females,A295,FALSE),IF(A294=\"M\",HLOOKUP(F298,males,A295,FALSE),\"\")))","v":"Katy Wood"},{"$f":"IF(OR(F298=0,F298=\"\"),\"\",VLOOKUP(F298,match_teams,4,FALSE))","v":"York"},null,null,null,null,null,null,null,null,null,null,null,null,null,null,null,null,null,null,null,null,null,null,null,null,0,null,null,null,null,0,{"$f":"IF(OR(AG298=0,AG298=\"\",AG298=\"NHC\"),\"\",IF(AG298=S295,\"LR=\",IF(AG298>S295,\"LR\",\"\")))","v":""},null,null,null,null,null,{"$f":"IF(OR(AL298=\"\",AL298=0),\"\",AL298+($AP298/10))","v":""},{"$f":"IF(OR(AL298=0,AL298=\"\"),\"\",HLOOKUP(AL298,$AU$9:$BB$26,18,FALSE))","v":""},{"$f":"IF($AL298=\"\",\"\",IF($AL298=AU$9,$AL298,\"\"))","v":""},{"$f":"IF($AL298=\"\",\"\",IF($AL298=AV$9,$AL298,\"\"))","v":""},"","","","","",""]
[3,{"$f":"IF(OR(A299=0,A299=\"\"),\"\",VLOOKUP(A299,teamorder,2,FALSE))","v":7},{"$f":"IF(OR(AS299=0,AS299=\"\"),\"\",RANK(AS299,$AS$10:$AS$17,1))","v":""},null,2,7,{"$f":"IF(OR(F299=0,F299=\"\"),\"\",IF(A294=\"F\",HLOOKUP(F299,females,A295,FALSE),IF(A294=\"M\",HLOOKUP(F299,males,A295,FALSE),\"\")))","v":"Hannah Ukandu"},"Leeds C",null,null,null,null,null,null,null,null,null,null,null,null,null,null,null,null,null,null,null,null,null,null,null,null,0,null,null,null,null,0,{"$f":"IF(OR(AG299=0,AG299=\"\",AG299=\"NHC\"),\"\",IF(AG299=S295,\"LR=\",IF(AG299>S295,\"LR\",\"\")))","v":""},null,null,null,null,null,{"$f":"IF(OR(AL299=\"\",AL299=0),\"\",AL299+($AP299/10))","v":""},{"$f":"IF(OR(AL299=0,AL299=\"\"),\"\",HLOOKUP(AL299,$AU$9:$BB$26,18,FALSE))","v":""},{"$f":"IF($AL299=\"\",\"\",IF($AL299=AU$9,$AL299,\"\"))","v":""},"","","","","","",""]
[1,{"$f":"IF(OR(A300=0,A300=\"\"),\"\",VLOOKUP(A300,teamorder,2,FALSE))","v":9},"",null,3,9,{"$f":"IF(OR(F300=0,F300=\"\"),\"\",IF(A294=\"F\",HLOOKUP(F300,females,A295,FALSE),IF(A294=\"M\",HLOOKUP(F300,males,A295,FALSE),\"\")))","v":"Dannielle Anderson"},"Wake",null,null,null,null,null,null,null,null,null,null,null,null,null,null,null,null,null,null,null,null,null,null,null,null,0,null,null,null,null,0,{"$f":"IF(OR(AG300=0,AG300=\"\",AG300=\"NHC\"),\"\",IF(AG300=S295,\"LR=\",IF(AG300>S295,\"LR\",\"\")))","v":""},null,null,null,null,null,"","","","","","","","","",""]
[null,{"$f":"IF(T(B298)=\"\",B298*11,CONCATENATE(B298,B298))","v":88},"",null,4,88,{"$f":"IF(OR(F301=0,F301=\"\"),\"\",IF(A294=\"F\",HLOOKUP(F301,females,A295,FALSE),IF(A294=\"M\",HLOOKUP(F301,males,A295,FALSE),\"\")))","v":"Polly Morris"},"York",null,null,null,null,null,null,null,null,null,null,null,null,null,null,null,null,null,null,null,null,null,null,null,null,0,null,null,null,null,0,{"$f":"IF(OR(AG301=0,AG301=\"\",AG301=\"NHC\"),\"\",IF(AG301=S295,\"LR=\",IF(AG301>S295,\"LR\",\"\")))","v":""},null,null,null,null,null,"","","","","","","","","",""]
[null,{"$f":"IF(T(B299)=\"\",B299*11,CONCATENATE(B299,B299))","v":77},"",null,5,77,{"$f":"IF(OR(F302=0,F302=\"\"),\"\",IF(A294=\"F\",HLOOKUP(F302,females,A295,FALSE),IF(A294=\"M\",HLOOKUP(F302,males,A295,FALSE),\"\")))","v":"-"},"Leeds C",null,null,null,null,null,null,null,null,null,null,null,null,null,null,null,null,null,null,null,null,null,null,null,null,0,null,null,null,null,0,{"$f":"IF(OR(AG302=0,AG302=\"\",AG302=\"NHC\"),\"\",IF(AG302=S295,\"LR=\",IF(AG302>S295,\"LR\",\"\")))","v":""},null,null,null,null,null,"","","","","","","","","",""]
[null,{"$f":"IF(T(B300)=\"\",B300*11,CONCATENATE(B300,B300))","v":99},"",null,6,99,{"$f":"IF(OR(F303=0,F303=\"\"),\"\",IF(A294=\"F\",HLOOKUP(F303,females,A295,FALSE),IF(A294=\"M\",HLOOKUP(F303,males,A295,FALSE),\"\")))","v":"Bethany Porter"},"Wake",null,null,null,null,null,null,null,null,null,null,null,null,null,null,null,null,null,null,null,null,null,null,null,null,0,null,null,null,null,0,{"$f":"IF(OR(AG303=0,AG303=\"\",AG303=\"NHC\"),\"\",IF(AG303=S295,\"LR=\",IF(AG303>S295,\"LR\",\"\")))","v":""},null,null,null,null,null,"","","","","","","","","",""]
[null,null,"",null,7,"",{"$f":"IF(OR(F304=0,F304=\"\"),\"\",IF(A294=\"F\",HLOOKUP(F304,females,A295,FALSE),IF(A294=\"M\",HLOOKUP(F304,males,A295,FALSE),\"\")))","v":""},"",null,null,null,null,null,null,null,null,null,null,null,null,null,null,null,null,null,null,null,null,null,null,null,null,0,null,null,null,null,0,{"$f":"IF(OR(AG304=0,AG304=\"\",AG304=\"NHC\"),\"\",IF(AG304=S295,\"LR=\",IF(AG304>S295,\"LR\",\"\")))","v":""},null,null,null,null,null,"","","","","","","","","",""]
[null,null,"",null,8,"",{"$f":"IF(OR(F305=0,F305=\"\"),\"\",IF(A294=\"F\",HLOOKUP(F305,females,A295,FALSE),IF(A294=\"M\",HLOOKUP(F305,males,A295,FALSE),\"\")))","v":""},"",null,null,null,null,null,null,null,null,null,null,null,null,null,null,null,null,null,null,null,null,null,null,null,null,0,null,null,null,null,0,{"$f":"IF(OR(AG305=0,AG305=\"\",AG305=\"NHC\"),\"\",IF(AG305=S295,\"LR=\",IF(AG305>S295,\"LR\",\"\")))","v":""},null,null,null,null,null,"","","","","","","","","",""]
[{"$f":"A298+3","v":5},{"$f":"IF(OR(A306=0,A306=\"\"),\"\",VLOOKUP(A306,teamorder2,2,FALSE))","v":2},null,{"$f":"IF(OR(AS306=0,AS306=\"\"),\"\",RANK(AS306,$AS$18:$AS$25,1))","v":""},1,2,{"$f":"IF(OR(F306=0,F306=\"\"),\"\",IF(A294=\"F\",HLOOKUP(F306,females2,A295,FALSE),IF(A294=\"M\",HLOOKUP(F306,males2,A295,FALSE),\"\")))","v":"Katie McMunn"},{"$f":"IF(OR(F306=0,F306=\"\"),\"\",VLOOKUP(F306,match_teams2,4,FALSE))","v":"Linc W"},null,null,null,null,null,null,null,null,null,null,null,null,null,null,null,null,null,null,null,null,null,null,null,null,0,null,null,null,null,0,{"$f":"IF(OR(AG306=0,AG306=\"\",AG306=\"NHC\"),\"\",IF(AG306=S295,\"LR=\",IF(AG306>S295,\"LR\",\"\")))","v":""},null,null,null,null,null,{"$f":"IF(OR(AL306=\"\",AL306=0),\"\",AL306+($AP306/10))","v":""},{"$f":"IF(OR(AL306=0,AL306=\"\"),\"\",HLOOKUP(AL306,$BC$9:$BJ$26,18,FALSE))","v":""},null,null,null,null,null,null,null,null,"","","","","","","",""]
[{"$f":"A299+3","v":6},{"$f":"IF(OR(A307=0,A307=\"\"),\"\",VLOOKUP(A307,teamorder2,2,FALSE))","v":3},null,{"$f":"IF(OR(AS307=0,AS307=\"\"),\"\",RANK(AS307,$AS$18:$AS$25,1))","v":""},2,3,{"$f":"IF(OR(F307=0,F307=\"\"),\"\",IF(A294=\"F\",HLOOKUP(F307,females2,A295,FALSE),IF(A294=\"M\",HLOOKUP(F307,males2,A295,FALSE),\"\")))","v":"-"},"Hallam",null,null,null,null,null,null,null,null,null,null,null,null,null,null,null,null,null,null,null,null,null,null,null,null,0,null,null,null,null,0,{"$f":"IF(OR(AG307=0,AG307=\"\",AG307=\"NHC\"),\"\",IF(AG307=S295,\"LR=\",IF(AG307>S295,\"LR\",\"\")))","v":""},null,null,null,null,null,{"$f":"IF(OR(AL307=\"\",AL307=0),\"\",AL307+($AP307/10))","v":""},{"$f":"IF(OR(AL307=0,AL307=\"\"),\"\",HLOOKUP(AL307,$BC$9:$BJ$26,18,FALSE))","v":""},null,null,null,null,null,null,null,null,"","","","","","","",""]
[{"$f":"A300+3","v":4},{"$f":"IF(OR(A308=0,A308=\"\"),\"\",VLOOKUP(A308,teamorder2,2,FALSE))","v":1},null,"",3,1,{"$f":"IF(OR(F308=0,F308=\"\"),\"\",IF(A294=\"F\",HLOOKUP(F308,females2,A295,FALSE),IF(A294=\"M\",HLOOKUP(F308,males2,A295,FALSE),\"\")))","v":"-"},"DASH",null,null,null,null,null,null,null,null,null,null,null,null,null,null,null,null,null,null,null,null,null,null,null,null,0,null,null,null,null,0,{"$f":"IF(OR(AG308=0,AG308=\"\",AG308=\"NHC\"),\"\",IF(AG308=S295,\"LR=\",IF(AG308>S295,\"LR\",\"\")))","v":""},null,null,null,null,null,"","",null,null,null,null,null,null,null,null,"","","","","","","",""]
[null,{"$f":"IF(T(B306)=\"\",B306*11,CONCATENATE(B306,B306))","v":22},null,"",4,22,{"$f":"IF(OR(F309=0,F309=\"\"),\"\",IF(A294=\"F\",HLOOKUP(F309,females2,A295,FALSE),IF(A294=\"M\",HLOOKUP(F309,males2,A295,FALSE),\"\")))","v":"-"},"Linc W",null,null,null,null,null,null,null,null,null,null,null,null,null,null,null,null,null,null,null,null,null,null,null,null,0,null,null,null,null,0,{"$f":"IF(OR(AG309=0,AG309=\"\",AG309=\"NHC\"),\"\",IF(AG309=S295,\"LR=\",IF(AG309>S295,\"LR\",\"\")))","v":""},null,null,null,null,null,"","",null,null,null,null,null,null,null,null,"","","","","","","",""]
[null,{"$f":"IF(T(B307)=\"\",B307*11,CONCATENATE(B307,B307))","v":33},null,"",5,33,{"$f":"IF(OR(F310=0,F310=\"\"),\"\",IF(A294=\"F\",HLOOKUP(F310,females2,A295,FALSE),IF(A294=\"M\",HLOOKUP(F310,males2,A295,FALSE),\"\")))","v":"-"},"Hallam",null,null,null,null,null,null,null,null,null,null,null,null,null,null,null,null,null,null,null,null,null,null,null,null,0,null,null,null,null,0,{"$f":"IF(OR(AG310=0,AG310=\"\",AG310=\"NHC\"),\"\",IF(AG310=S295,\"LR=\",IF(AG310>S295,\"LR\",\"\")))","v":""},null,null,null,null,null,"","",null,null,null,null,null,null,null,null,"","","","","","","",""]
[null,{"$f":"IF(T(B308)=\"\",B308*11,CONCATENATE(B308,B308))","v":11},null,"",6,11,{"$f":"IF(OR(F311=0,F311=\"\"),\"\",IF(A294=\"F\",HLOOKUP(F311,females2,A295,FALSE),IF(A294=\"M\",HLOOKUP(F311,males2,A295,FALSE),\"\")))","v":"-"},"DASH",null,null,null,null,null,null,null,null,null,null,null,null,null,null,null,null,null,null,null,null,null,null,null,null,0,null,null,null,null,0,{"$f":"IF(OR(AG311=0,AG311=\"\",AG311=\"NHC\"),\"\",IF(AG311=S295,\"LR=\",IF(AG311>S295,\"LR\",\"\")))","v":""},null,null,null,null,null,"","",null,null,null,null,null,null,null,null,"","","","","","","",""]
[null,0,null,"",7,"",{"$f":"IF(OR(F312=0,F312=\"\"),\"\",IF(A294=\"F\",HLOOKUP(F312,females2,A295,FALSE),IF(A294=\"M\",HLOOKUP(F312,males2,A295,FALSE),\"\")))","v":""},"",null,null,null,null,null,null,null,null,null,null,null,null,null,null,null,null,null,null,null,null,null,null,null,null,0,null,null,null,null,0,{"$f":"IF(OR(AG312=0,AG312=\"\",AG312=\"NHC\"),\"\",IF(AG312=S295,\"LR=\",IF(AG312>S295,\"LR\",\"\")))","v":""},null,null,null,null,null,"","",null,null,null,null,null,null,null,null,"","","","","","","",""]
[null,0,null,"",8,"",{"$f":"IF(OR(F313=0,F313=\"\"),\"\",IF(A294=\"F\",HLOOKUP(F313,females2,A295,FALSE),IF(A294=\"M\",HLOOKUP(F313,males2,A295,FALSE),\"\")))","v":""},"",null,null,null,null,null,null,null,null,null,null,null,null,null,null,null,null,null,null,null,null,null,null,null,null,0,null,null,null,null,0,{"$f":"IF(OR(AG313=0,AG313=\"\",AG313=\"NHC\"),\"\",IF(AG313=S295,\"LR=\",IF(AG313>S295,\"LR\",\"\")))","v":""},null,null,null,null,null,"","",null,null,null,null,null,null,null,null,"","","","","","","",""]
[null,null,null,null,null,null,null,null,null,null,null,null,null,null,null,null,null,null,null,null,null,null,null,null,null,null,null,null,null,null,null,null,null,null,null,null,null,null,null,null,null,null,null,null,null,null,{"$f":"IF(OR(COUNTIF(AU298:AU313,AU297)=0,COUNTIF(AU298:AU313,AU297)=\"\"),\"\",(REPT(\"=\",COUNTIF(AU298:AU313,AU297)-1)))","v":""},"","","","","","","","","","","","","","",""]
[null,null,null,null,"MATCH 1 RESULT",null,null,null,null,null,"MATCH 2 RESULT",null,null,null,null,null,null,null,null,null,null,null,null,null,null,null,null,null,"JUDGES' SIGNATURES"]
[null,null,null,null,"Posn","No.","NAME","CLUB","HEIGHT",null,"Posn",null,"No.",null,"NAME",null,null,null,null,null,"CLUB",null,null,null,null,null,"HEIGHT"]
[null,null,null,1,{"$f":"IF(ISERROR(VLOOKUP(D317,$C$10:$AT$17,31,FALSE))=TRUE,\"\",CONCATENATE(VLOOKUP(D317,$C$10:$AT$17,36,FALSE),VLOOKUP(D317,$C$10:$AT$17,44,FALSE)))","v":""},{"$f":"IF(ISERROR(VLOOKUP(D317,$C$10:$AH$17,31,FALSE))=TRUE,\"\",IF(VLOOKUP(D317,$C$10:$AH$17,31,FALSE)=0,\"\",IF(VLOOKUP(D317,$C$10:$AH$17,31,FALSE)=99,99,IF(VLOOKUP(D317,$C$10:$AH$17,31,FALSE)=97,97,IF(VLOOKUP(D317,$C$10:$AH$17,31,FALSE)=96,96,IF(VLOOKUP(D317,$C$10:$AH$17,31,FALSE)=95,95,VLOOKUP(D317,$C$10:$AH$17,4,FALSE)))))))","v":""},{"$f":"IF(ISERROR(VLOOKUP(D317,$C$10:$AH$17,31,FALSE))=TRUE,\"\",VLOOKUP(D317,$C$10:$AH$17,5,FALSE))","v":""},{"$f":"IF(ISERROR(VLOOKUP(D317,$C$10:$AH$17,31,FALSE))=TRUE,\"\",VLOOKUP(D317,$C$10:$AH$17,6,FALSE))","v":""},{"$f":"IF(ISERROR(VLOOKUP(D317,$C$10:$AH$17,31,FALSE))=TRUE,\"\",IF(VLOOKUP(D317,C$10:AH$17,31,FALSE)=0,0,IF(VLOOKUP(D317,C$10:AH$17,31,FALSE)>95.99,\"\",VLOOKUP(D317,C$10:AH$17,31,FALSE))))","v":""},null,{"$f":"IF(ISERROR(VLOOKUP(D317,$D$18:$AT$25,30,FALSE))=TRUE,\"\",CONCATENATE(VLOOKUP(D317,$D$18:$AT$25,35,FALSE),VLOOKUP(D317,$D$18:$AT$25,43,FALSE)))","v":""},{"$f":"IF(ISERROR(VLOOKUP(K317,$C$10:$AQ$25,31,FALSE))=TRUE,\"\",CONCATENATE(VLOOKUP(K317,$C$10:$AQ$25,38,FALSE),VLOOKUP(K317,$C$10:$AQ$25,42,FALSE)))","v":{"$error":"#REF!"}},{"$f":"IF(ISERROR(VLOOKUP(D317,$D$18:$AH$25,30,FALSE))=TRUE,\"\",IF(VLOOKUP(D317,$D$18:$AH$25,30,FALSE)=0,\"\",VLOOKUP(D317,$D$18:$AH$25,3,FALSE)))","v":""},null,{"$f":"IF(ISERROR(VLOOKUP(D317,$D$18:$AH$25,30,FALSE))=TRUE,\"\",VLOOKUP(D317,$D$18:$AH$25,4,FALSE))","v":""},null,null,null,null,null,{"$f":"IF(ISERROR(VLOOKUP(D317,$D$18:$AH$25,30,FALSE))=TRUE,\"\",VLOOKUP(D317,$D$18:$AH$25,5,FALSE))","v":""},null,null,null,null,null,{"$f":"IF(ISERROR(VLOOKUP(D317,$D$18:$AH$25,30,FALSE))=TRUE,\"\",IF(VLOOKUP(D317,$D$18:$AH$25,30,FALSE)=0,\"\",VLOOKUP(D317,$D$18:$AH$25,30,FALSE)))","v":""}]
[null,null,null,2,{"$f":"IF(ISERROR(VLOOKUP(D318,$C$10:$AT$17,31,FALSE))=TRUE,\"\",CONCATENATE(VLOOKUP(D318,$C$10:$AT$17,36,FALSE),VLOOKUP(D318,$C$10:$AT$17,44,FALSE)))","v":""},{"$f":"IF(ISERROR(VLOOKUP(D318,$C$10:$AH$17,31,FALSE))=TRUE,\"\",IF(VLOOKUP(D318,$C$10:$AH$17,31,FALSE)=0,\"\",IF(VLOOKUP(D318,$C$10:$AH$17,31,FALSE)=99,99,IF(VLOOKUP(D318,$C$10:$AH$17,31,FALSE)=97,97,IF(VLOOKUP(D318,$C$10:$AH$17,31,FALSE)=96,96,VLOOKUP(D318,$C$10:$AH$17,4,FALSE))))))","v":""},"","","",null,{"$f":"IF(ISERROR(VLOOKUP(D318,$D$18:$AT$25,30,FALSE))=TRUE,\"\",CONCATENATE(VLOOKUP(D318,$D$18:$AT$25,35,FALSE),VLOOKUP(D318,$D$18:$AT$25,43,FALSE)))","v":""},{"$f":"IF(ISERROR(VLOOKUP(K318,$C$10:$AQ$25,31,FALSE))=TRUE,\"\",CONCATENATE(VLOOKUP(K318,$C$10:$AQ$25,38,FALSE),VLOOKUP(K318,$C$10:$AQ$25,42,FALSE)))","v":{"$error":"#REF!"}},"",null,"",null,null,null,null,null,"",null,null,null,null,null,""]
[null,null,null,3,"","","","","",null,"",{"$error":"#REF!"},"",null,"",null,null,null,null,null,"",null,null,null,null,null,""]
[null,null,null,4,"","","","","",null,"",{"$error":"#REF!"},"",null,"",null,null,null,null,null,"",null,null,null,null,null,""]
[null,null,null,5,"","","","","",null,"",{"$error":"#REF!"},"",null,"",null,null,null,null,null,"",null,null,null,null,null,""]
[null,null,null,6,"","","","","",null,"",{"$error":"#REF!"},"",null,"",null,null,null,null,null,"",null,null,null,null,null,"",null,"REFEREE'S SIGNATURE"]
[null,null,null,7,"","","","","",null,"",{"$error":"#REF!"},"",null,"",null,null,null,null,null,"",null,null,null,null,null,""]
[null,null,null,8,"","","","","",null,"",{"$error":"#REF!"},"",null,"",null,null,null,null,null,"",null,null,null,null,null,""]